Workbook
Name Distrito: Formulas!$K$17:$K$112
Name LISTA1: #REF!
Name Pontos: #REF!
Name Subprefeitura: Formulas!$G$17:$G$48
Name Tipologia: Formulas!$M$17:$M$65

Sheet Rel_Parc_Exec_Obj_1º_sem
B1: RELATÓRIO DE EXECUÇÃO DO OBJETO DA PARCERIA – PARCIAL
B2: DADOS DA ORGANIZAÇÃO DA SOCIEDADE CIVIL PARCEIRA (OSC)
B3: Nome da OSC | E3: Número do Processo | G3: SAS
B4: Nome Fantasia | E4: Número do Termo de Parceria | G4: Distrito
B5: Tipologia | E5: Início do Termo de Parceria | G5: Capacidade Contratada
B6: CNPJ | E6: Vigência do Termo de Parceria | G6: Semestre avaliado | H6: 1º SEMESTRE
B7: =IF(C5="NPJ - Núcleo de Proteção Jurídico Social e Apoio Psicológico","Para esta tipologia de serviço não se aplicam os seguintes Indicadores Semestrais: 1.1 e 1.3",IF(C5="Família em Foco","O Indicador Semestral 3.2 não se aplica a esta tipologia de serviço.",IF(C5="Autonomia em Foco","O Indicador Semestral 3.2 não se aplica a esta tipologia de serviço.",IF(C5="República","O Indicador Semestral 3.2 não se aplica a esta tipologia de serviço.",IF(C5="Bagageiro","Para esta tipologia de serviço não se aplicam os seguintes Indicadores Semestrais: 1.2, 2.1, 3.2, 3.3 e 3.4",IF(C5="Serviço de Inclusão Social e Produtiva","O Indicador Semestral 1.2 não se aplica a esta tipologia de serviço.",IF(C5="SEAS - Serviço de Abordagem Social à População de Rua","Para esta tipologia de serviço não se aplicam os seguintes Indicadores Semestrais: 1.2, 3.2, 3.4.",IF(C5="Família Acolhedora","Para esta tipologia de serviço não se aplicam os seguintes Indicadores Semestrais: 1.1 e 3.2.",IF(C5="Serviço de Alimentação Domiciliar para a Pessoa Idosa","O Indicador Semestral 1.3 não se aplica a esta tipologia de serviço.",IF(C5="Serviço Proteção Social Básica no Domicílio para Pessoas com Deficiência e Idosas","Para esta tipologia de serviço não se aplicam os seguintes Indicadores Semestrais: 1.3 e 3.2.","ATENÇÃO: Para esta tipologia de serviço, todos os Indicadores Semestrais devem ser pontuados com valores entre ''1 - Insuficiente'' a ''4 - Superior''.")))))))))) -> ATENÇÃO: Para esta tipologia de serviço, todos os Indicadores Semestrais devem ser pontuados com valores entre ''1 - Insuficiente'' a ''4 - Superior''.
B8: DEMONSTRAÇÃO DO ALCANCE DAS METAS
B9: RESULTADO FINAL | F9: Média: | G9: =(Formulas!G9)*0.01 -> 0 | H9: =Formulas!G11 -> Insuficiente
B10: DIMENSÃO | D10: INDICADORES SEMESTRAIS | F10: RESULTADO DA META | G10: JUSTIFICATIVAS PARA METAS NÃO ATINGIDAS
B11: Estrutura física e administrativa | D11: 1.1 Cômodos e mobiliários estão sendo utilizados no semestre conforme o aprovado no Plano de Trabalho
B12: Estrutura física e administrativa | D12: 1.2 Disponibilidade de materiais e artigos socioeducativos, pedagógicos, lúdicos e esportivos para realização das atividades, bem como de insumos que garantam as ofertas específicas da tipologia do serviço, previstos no Plano de Trabalho
B13: Estrutura física e administrativa | D13: 1.3 Cômodos e mobiliários se encontram em perfeitas condições de uso
B14: Serviços, processos ou atividades | D14: 2.1 Percentual de Relatórios, Prontuários, Plano de Desenvolvimento do Usuário- PDU (usuários da PSB) / Plano Individual de Atendimento - PIA (usuários da PSE) / Plano de Desenvolvimento Familiar - PDF elaborados ou atualizados no semestre
B15: Produtos ou resultados | D15: 3.1 Número de usuários atendidos / capacidade parceirizada do serviço
B16: Produtos ou resultados | D16: 3.2 Cardápio elaborado nos termos do Manual Prático de Alimentação da SMADS e com participação dos usuários do serviço
B17: Produtos ou resultados | D17: 3.3 Execução das atividades previstas no Plano de Ação Semestral, compreendendo todas as suas dimensões.
B18: Produtos ou resultados | D18: 3.4 Implantação de mecanismos de apuração da satisfação dos usuários do serviço e de canais de participação dos usuários na elaboração do Plano de Ação
B19: Recursos humanos | D19: 4.1 Percentual de profissionais que participaram de ao menos uma capacitação/ atualização de conhecimento no semestre, ofertada pela OSC, pela SMADS ou outras instituições
B20: Recursos humanos | D20: 4.2 Adequação da força de trabalho, no semestre, ao quadro de recursos humanos previsto na legislação concernente à tipificação
B21: PRINCIPAIS AÇÕES EFETUADAS PARA ATINGIMENTO DAS METAS E DO OBJETO DA PARCERIA
B22: DIMENSÃO | D22: INDICADORES SEMESTRAIS | F22: Descreva as ações desenvolvidas para adequação ao Plano de Trabalho.
B23: Estrutura física e administrativa | D23: Cômodos e mobiliários estão sendo utilizados no semestre conforme o aprovado no Plano de Trabalho
B24: Estrutura física e administrativa | D24: Disponibilidade de materiais e artigos socioeducativos, pedagógicos, lúdicos e esportivos para realização das atividades, bem como de insumos que garantam as ofertas específicas da tipologia do serviço, previstos no Plano de Trabalho
B25: Estrutura física e administrativa | D25: Cômodos e mobiliários se encontram em perfeitas condições de uso
B26: Serviços, processos ou atividades | D26: Percentual de Relatórios, Prontuários, Plano de Desenvolvimento do Usuário- PDU (usuários da PSB) / Plano Individual de Atendimento - PIA (usuários da PSE) / Plano de Desenvolvimento Familiar - PDF elaborados ou atualizados no semestre
B27: Produtos ou resultados | D27: Número de usuários atendidos / capacidade parceirizada do serviço
B28: Produtos ou resultados | D28: Cardápio elaborado nos termos do Manual Prático de Alimentação da SMADS e com participação dos usuários do serviço
B29: Produtos ou resultados | D29: Execução das atividades previstas no Plano de Ação Semestral, compreendendo todas as suas dimensões.
B30: Produtos ou resultados | D30: Implantação de mecanismos de apuração da satisfação dos usuários do serviço e de canais de participação dos usuários na elaboração do Plano de Ação
B31: Recursos humanos | D31: Percentual de profissionais que participaram de ao menos uma capacitação/ atualização de conhecimento no semestre, ofertada pela OSC, pela SMADS ou outras instituições
B32: Recursos humanos | D32: Adequação da força de trabalho, no semestre, ao quadro de recursos humanos previsto na legislação concernente à tipificação
B33: LISTAGEM DE MATERIAIS COMPROBATÓRIOS DO CUMPRIMENTO DOS OBJETIVOS EM FOTOS, VÍDEOS OU OUTROS SUPORTES ENVIADOS EM ANEXO
B34: Liste o material comprobatório anexado, quando houver.
B35: 1.
B36: 2.
B37: 3.
B38: 4.
B39: 5.
B40: RELAÇÃO DE BENS PERMANENTES ADQUIRIDOS, PRODUZIDOS OU CONSTRUÍDOS COM RECURSOS DA PARCERIA
B41: Liste os bens permanentes adquidos, produzidos ou construídos no período, quando houver.
B42: 1.
B43: 2.
B44: 3.
... B47: RESPONSÁVEL PELA AVALIAÇÃO
B48: Nome do gerente do serviço | E48: Assinatura do gerente do serviço | G48: Data
B49: Informo que as informações prestadas por mim neste documento são fiéis às ações e atividades prestadas pelo serviço no período avaliado, estando à disposição da Prefeitura Municipal de São Paulo sempre que necessário.

Sheet Rel_Parc_Exec_Obj_2º_sem
B1: RELATÓRIO DE EXECUÇÃO DO OBJETO DA PARCERIA – PARCIAL
B2: DADOS DA ORGANIZAÇÃO DA SOCIEDADE CIVIL PARCEIRA (OSC)
B3: Nome da OSC | E3: Número do Processo | G3: SAS
B4: Nome Fantasia | E4: Número do Termo de Parceria | G4: Distrito
B5: Tipologia | E5: Início do Termo de Parceria | G5: Capacidade Contratada
B6: CNPJ | E6: Vigência do Termo de Parceria | G6: Semestre avaliado | H6: 2º SEMESTRE
B7: =IF(C5="NPJ - Núcleo de Proteção Jurídico Social e Apoio Psicológico","Para esta tipologia de serviço não se aplicam os seguintes Indicadores Semestrais: 1.1 e 1.3",IF(C5="Família em Foco","O Indicador Semestral 3.2 não se aplica a esta tipologia de serviço.",IF(C5="Autonomia em Foco","O Indicador Semestral 3.2 não se aplica a esta tipologia de serviço.",IF(C5="República","O Indicador Semestral 3.2 não se aplica a esta tipologia de serviço.",IF(C5="Bagageiro","Para esta tipologia de serviço não se aplicam os seguintes Indicadores Semestrais: 1.2, 2.1, 3.2, 3.3 e 3.4",IF(C5="Serviço de Inclusão Social e Produtiva","O Indicador Semestral 1.2 não se aplica a esta tipologia de serviço.",IF(C5="SEAS - Serviço de Abordagem Social à População de Rua","Para esta tipologia de serviço não se aplicam os seguintes Indicadores Semestrais: 1.2, 3.2, 3.4.",IF(C5="Família Acolhedora","Para esta tipologia de serviço não se aplicam os seguintes Indicadores Semestrais: 1.1 e 3.2.",IF(C5="Serviço de Alimentação Domiciliar para a Pessoa Idosa","O Indicador Semestral 1.3 não se aplica a esta tipologia de serviço.",IF(C5="Serviço Proteção Social Básica no Domicílio para Pessoas com Deficiência e Idosas","Para esta tipologia de serviço não se aplicam os seguintes Indicadores Semestrais: 1.3 e 3.2.","ATENÇÃO: Para esta tipologia de serviço, todos os Indicadores Semestrais devem ser pontuados com valores entre ''1 - Insuficiente'' a ''4 - Superior''.")))))))))) -> ATENÇÃO: Para esta tipologia de serviço, todos os Indicadores Semestrais devem ser pontuados com valores entre ''1 - Insuficiente'' a ''4 - Superior''.
B8: DEMONSTRAÇÃO DO ALCANCE DAS METAS
B9: RESULTADO FINAL | F9: Média: | G9: =(Formulas!K9)*0.01 -> 0 | H9: =Formulas!K11 -> Insuficiente
B10: DIMENSÃO | D10: INDICADORES SEMESTRAIS | F10: RESULTADO DA META | G10: JUSTIFICATIVAS PARA METAS NÃO ATINGIDAS
B11: Estrutura física e administrativa | D11: 1.1 Cômodos e mobiliários estão sendo utilizados no semestre conforme o aprovado no Plano de Trabalho
B12: Estrutura física e administrativa | D12: 1.2 Disponibilidade de materiais e artigos socioeducativos, pedagógicos, lúdicos e esportivos para realização das atividades, bem como de insumos que garantam as ofertas específicas da tipologia do serviço, previstos no Plano de Trabalho
B13: Estrutura física e administrativa | D13: 1.3 Cômodos e mobiliários se encontram em perfeitas condições de uso
B14: Serviços, processos ou atividades | D14: 2.1 Percentual de Relatórios, Prontuários, Plano de Desenvolvimento do Usuário- PDU (usuários da PSB) / Plano Individual de Atendimento - PIA (usuários da PSE) / Plano de Desenvolvimento Familiar - PDF elaborados ou atualizados no semestre
B15: Produtos ou resultados | D15: 3.1 Número de usuários atendidos / capacidade parceirizada do serviço
B16: Produtos ou resultados | D16: 3.2 Cardápio elaborado nos termos do Manual Prático de Alimentação da SMADS e com participação dos usuários do serviço
B17: Produtos ou resultados | D17: 3.3 Execução das atividades previstas no Plano de Ação Semestral, compreendendo todas as suas dimensões.
B18: Produtos ou resultados | D18: 3.4 Implantação de mecanismos de apuração da satisfação dos usuários do serviço e de canais de participação dos usuários na elaboração do Plano de Ação
B19: Recursos humanos | D19: 4.1 Percentual de profissionais que participaram de ao menos uma capacitação/ atualização de conhecimento no semestre, ofertada pela OSC, pela SMADS ou outras instituições
B20: Recursos humanos | D20: 4.2 Adequação da força de trabalho, no semestre, ao quadro de recursos humanos previsto na legislação concernente à tipificação
B21: PRINCIPAIS AÇÕES EFETUADAS PARA ATINGIMENTO DAS METAS E DO OBJETO DA PARCERIA
B22: DIMENSÃO | D22: INDICADORES SEMESTRAIS | F22: Descreva sucintamente as ações efetuadas com vistas à implantação do projeto, comparando-se o previsto no plano de trabalho aprovado com o efetivamente executado
B23: Estrutura física e administrativa | D23: Cômodos e mobiliários estão sendo utilizados no semestre conforme o aprovado no Plano de Trabalho
B24: Estrutura física e administrativa | D24: Disponibilidade de materiais e artigos socioeducativos, pedagógicos, lúdicos e esportivos para realização das atividades, bem como de insumos que garantam as ofertas específicas da tipologia do serviço, previstos no Plano de Trabalho
B25: Estrutura física e administrativa | D25: Cômodos e mobiliários se encontram em perfeitas condições de uso
B26: Serviços, processos ou atividades | D26: Percentual de Relatórios, Prontuários, Plano de Desenvolvimento do Usuário- PDU (usuários da PSB) / Plano Individual de Atendimento - PIA (usuários da PSE) / Plano de Desenvolvimento Familiar - PDF elaborados ou atualizados no semestre
B27: Produtos ou resultados | D27: Número de usuários atendidos / capacidade parceirizada do serviço
B28: Produtos ou resultados | D28: Cardápio elaborado nos termos do Manual Prático de Alimentação da SMADS e com participação dos usuários do serviço
B29: Produtos ou resultados | D29: Execução das atividades previstas no Plano de Ação Semestral, compreendendo todas as suas dimensões.
B30: Produtos ou resultados | D30: Implantação de mecanismos de apuração da satisfação dos usuários do serviço e de canais de participação dos usuários na elaboração do Plano de Ação
B31: Recursos humanos | D31: Percentual de profissionais que participaram de ao menos uma capacitação/ atualização de conhecimento no semestre, ofertada pela OSC, pela SMADS ou outras instituições
B32: Recursos humanos | D32: Adequação da força de trabalho, no semestre, ao quadro de recursos humanos previsto na legislação concernente à tipificação
B33: LISTAGEM DE MATERIAIS COMPROBATÓRIOS DO CUMPRIMENTO DOS OBJETIVOS EM FOTOS, VÍDEOS OU OUTROS SUPORTES ENVIADOS EM ANEXO
B34: Liste o material comprobatório anexado, quando houver.
B35: 1.
B36: 2.
B37: 3.
B38: 4.
B39: 5.
B40: RELAÇÃO DE BENS PERMANENTES ADQUIRIDOS, PRODUZIDOS OU CONSTRUÍDOS COM RECURSOS DA PARCERIA
B41: Liste os bens permanentes adquidos, produzidos ou construídos no período, quando houver.
B42: 1.
B43: 2.
B44: 3.
... B47: RESPONSÁVEL PELA AVALIAÇÃO
B48: Nome do gerente do serviço | E48: Assinatura do gerente do serviço | G48: Data
B49: Informo que as informações prestadas por mim neste documento são fiéis às ações e atividades prestadas pelo serviço no período avaliado, estando à disposição da Prefeitura Municipal de São Paulo sempre que necessário.

Sheet Rel_Parc_Exec_Obj_3º_sem
B1: RELATÓRIO DE EXECUÇÃO DO OBJETO DA PARCERIA – PARCIAL
B2: DADOS DA ORGANIZAÇÃO DA SOCIEDADE CIVIL PARCEIRA (OSC)
B3: Nome da OSC | E3: Número do Processo | G3: SAS
B4: Nome Fantasia | E4: Número do Termo de Parceria | G4: Distrito
B5: Tipologia | E5: Início do Termo de Parceria | G5: Capacidade Contratada
B6: CNPJ | E6: Vigência do Termo de Parceria | G6: Semestre avaliado | H6: 3º SEMESTRE
B7: =IF(C5="NPJ - Núcleo de Proteção Jurídico Social e Apoio Psicológico","Para esta tipologia de serviço não se aplicam os seguintes Indicadores Semestrais: 1.1 e 1.3",IF(C5="Família em Foco","O Indicador Semestral 3.2 não se aplica a esta tipologia de serviço.",IF(C5="Autonomia em Foco","O Indicador Semestral 3.2 não se aplica a esta tipologia de serviço.",IF(C5="República","O Indicador Semestral 3.2 não se aplica a esta tipologia de serviço.",IF(C5="Bagageiro","Para esta tipologia de serviço não se aplicam os seguintes Indicadores Semestrais: 1.2, 2.1, 3.2, 3.3 e 3.4",IF(C5="Serviço de Inclusão Social e Produtiva","O Indicador Semestral 1.2 não se aplica a esta tipologia de serviço.",IF(C5="SEAS - Serviço de Abordagem Social à População de Rua","Para esta tipologia de serviço não se aplicam os seguintes Indicadores Semestrais: 1.2, 3.2, 3.4.",IF(C5="Família Acolhedora","Para esta tipologia de serviço não se aplicam os seguintes Indicadores Semestrais: 1.1 e 3.2.",IF(C5="Serviço de Alimentação Domiciliar para a Pessoa Idosa","O Indicador Semestral 1.3 não se aplica a esta tipologia de serviço.",IF(C5="Serviço Proteção Social Básica no Domicílio para Pessoas com Deficiência e Idosas","Para esta tipologia de serviço não se aplicam os seguintes Indicadores Semestrais: 1.3 e 3.2.","ATENÇÃO: Para esta tipologia de serviço, todos os Indicadores Semestrais devem ser pontuados com valores entre ''1 - Insuficiente'' a ''4 - Superior''.")))))))))) -> ATENÇÃO: Para esta tipologia de serviço, todos os Indicadores Semestrais devem ser pontuados com valores entre ''1 - Insuficiente'' a ''4 - Superior''.
B8: DEMONSTRAÇÃO DO ALCANCE DAS METAS
B9: RESULTADO FINAL | F9: Média: | G9: =(Formulas!O9)*0.01 -> 0 | H9: =Formulas!O11 -> Insuficiente
B10: DIMENSÃO | D10: INDICADORES SEMESTRAIS | F10: RESULTADO DA META | G10: JUSTIFICATIVAS PARA METAS NÃO ATINGIDAS
B11: Estrutura física e administrativa | D11: 1.1 Cômodos e mobiliários estão sendo utilizados no semestre conforme o aprovado no Plano de Trabalho
B12: Estrutura física e administrativa | D12: 1.2 Disponibilidade de materiais e artigos socioeducativos, pedagógicos, lúdicos e esportivos para realização das atividades, bem como de insumos que garantam as ofertas específicas da tipologia do serviço, previstos no Plano de Trabalho
B13: Estrutura física e administrativa | D13: 1.3 Cômodos e mobiliários se encontram em perfeitas condições de uso
B14: Serviços, processos ou atividades | D14: 2.1 Percentual de Relatórios, Prontuários, Plano de Desenvolvimento do Usuário- PDU (usuários da PSB) / Plano Individual de Atendimento - PIA (usuários da PSE) / Plano de Desenvolvimento Familiar - PDF elaborados ou atualizados no semestre
B15: Produtos ou resultados | D15: 3.1 Número de usuários atendidos / capacidade parceirizada do serviço
B16: Produtos ou resultados | D16: 3.2 Cardápio elaborado nos termos do Manual Prático de Alimentação da SMADS e com participação dos usuários do serviço
B17: Produtos ou resultados | D17: 3.3 Execução das atividades previstas no Plano de Ação Semestral, compreendendo todas as suas dimensões.
B18: Produtos ou resultados | D18: 3.4 Implantação de mecanismos de apuração da satisfação dos usuários do serviço e de canais de participação dos usuários na elaboração do Plano de Ação
B19: Recursos humanos | D19: 4.1 Percentual de profissionais que participaram de ao menos uma capacitação/ atualização de conhecimento no semestre, ofertada pela OSC, pela SMADS ou outras instituições
B20: Recursos humanos | D20: 4.2 Adequação da força de trabalho, no semestre, ao quadro de recursos humanos previsto na legislação concernente à tipificação
B21: PRINCIPAIS AÇÕES EFETUADAS PARA ATINGIMENTO DAS METAS E DO OBJETO DA PARCERIA
B22: DIMENSÃO | D22: INDICADORES SEMESTRAIS | F22: Descreva sucintamente as ações efetuadas com vistas à implantação do projeto, comparando-se o previsto no plano de trabalho aprovado com o efetivamente executado
B23: Estrutura física e administrativa | D23: Cômodos e mobiliários estão sendo utilizados no semestre conforme o aprovado no Plano de Trabalho
B24: Estrutura física e administrativa | D24: Disponibilidade de materiais e artigos socioeducativos, pedagógicos, lúdicos e esportivos para realização das atividades, bem como de insumos que garantam as ofertas específicas da tipologia do serviço, previstos no Plano de Trabalho
B25: Estrutura física e administrativa | D25: Cômodos e mobiliários se encontram em perfeitas condições de uso
B26: Serviços, processos ou atividades | D26: Percentual de Relatórios, Prontuários, Plano de Desenvolvimento do Usuário- PDU (usuários da PSB) / Plano Individual de Atendimento - PIA (usuários da PSE) / Plano de Desenvolvimento Familiar - PDF elaborados ou atualizados no semestre
B27: Produtos ou resultados | D27: Número de usuários atendidos / capacidade parceirizada do serviço
B28: Produtos ou resultados | D28: Cardápio elaborado nos termos do Manual Prático de Alimentação da SMADS e com participação dos usuários do serviço
B29: Produtos ou resultados | D29: Execução das atividades previstas no Plano de Ação Semestral, compreendendo todas as suas dimensões.
B30: Produtos ou resultados | D30: Implantação de mecanismos de apuração da satisfação dos usuários do serviço e de canais de participação dos usuários na elaboração do Plano de Ação
B31: Recursos humanos | D31: Percentual de profissionais que participaram de ao menos uma capacitação/ atualização de conhecimento no semestre, ofertada pela OSC, pela SMADS ou outras instituições
B32: Recursos humanos | D32: Adequação da força de trabalho, no semestre, ao quadro de recursos humanos previsto na legislação concernente à tipificação
B33: LISTAGEM DE MATERIAIS COMPROBATÓRIOS DO CUMPRIMENTO DOS OBJETIVOS EM FOTOS, VÍDEOS OU OUTROS SUPORTES ENVIADOS EM ANEXO
B34: Liste o material comprobatório anexado, quando houver.
B35: 1.
B36: 2.
B37: 3.
B38: 4.
B39: 5.
B40: RELAÇÃO DE BENS PERMANENTES ADQUIRIDOS, PRODUZIDOS OU CONSTRUÍDOS COM RECURSOS DA PARCERIA
B41: Liste os bens permanentes adquidos, produzidos ou construídos no período, quando houver.
B42: 1.
B43: 2.
B44: 3.
... B47: RESPONSÁVEL PELA AVALIAÇÃO
B48: Nome do gerente do serviço | E48: Assinatura do gerente do serviço | G48: Data
B49: Informo que as informações prestadas por mim neste documento são fiéis às ações e atividades prestadas pelo serviço no período avaliado, estando à disposição da Prefeitura Municipal de São Paulo sempre que necessário.

Sheet Rel_Parc_Exec_Obj_4º_sem
B1: RELATÓRIO DE EXECUÇÃO DO OBJETO DA PARCERIA – PARCIAL
B2: DADOS DA ORGANIZAÇÃO DA SOCIEDADE CIVIL PARCEIRA (OSC)
B3: Nome da OSC | E3: Número do Processo | G3: SAS
B4: Nome Fantasia | E4: Número do Termo de Parceria | G4: Distrito
B5: Tipologia | E5: Início do Termo de Parceria | G5: Capacidade Contratada
B6: CNPJ | E6: Vigência do Termo de Parceria | G6: Semestre avaliado | H6: 4º SEMESTRE
B7: =IF(C5="NPJ - Núcleo de Proteção Jurídico Social e Apoio Psicológico","Para esta tipologia de serviço não se aplicam os seguintes Indicadores Semestrais: 1.1 e 1.3",IF(C5="Família em Foco","O Indicador Semestral 3.2 não se aplica a esta tipologia de serviço.",IF(C5="Autonomia em Foco","O Indicador Semestral 3.2 não se aplica a esta tipologia de serviço.",IF(C5="República","O Indicador Semestral 3.2 não se aplica a esta tipologia de serviço.",IF(C5="Bagageiro","Para esta tipologia de serviço não se aplicam os seguintes Indicadores Semestrais: 1.2, 2.1, 3.2, 3.3 e 3.4",IF(C5="Serviço de Inclusão Social e Produtiva","O Indicador Semestral 1.2 não se aplica a esta tipologia de serviço.",IF(C5="SEAS - Serviço de Abordagem Social à População de Rua","Para esta tipologia de serviço não se aplicam os seguintes Indicadores Semestrais: 1.2, 3.2, 3.4.",IF(C5="Família Acolhedora","Para esta tipologia de serviço não se aplicam os seguintes Indicadores Semestrais: 1.1 e 3.2.",IF(C5="Serviço de Alimentação Domiciliar para a Pessoa Idosa","O Indicador Semestral 1.3 não se aplica a esta tipologia de serviço.",IF(C5="Serviço Proteção Social Básica no Domicílio para Pessoas com Deficiência e Idosas","Para esta tipologia de serviço não se aplicam os seguintes Indicadores Semestrais: 1.3 e 3.2.","ATENÇÃO: Para esta tipologia de serviço, todos os Indicadores Semestrais devem ser pontuados com valores entre ''1 - Insuficiente'' a ''4 - Superior''.")))))))))) -> ATENÇÃO: Para esta tipologia de serviço, todos os Indicadores Semestrais devem ser pontuados com valores entre ''1 - Insuficiente'' a ''4 - Superior''.
B8: DEMONSTRAÇÃO DO ALCANCE DAS METAS
B9: RESULTADO FINAL | F9: Média: | G9: =(Formulas!S9)*0.01 -> 0 | H9: =Formulas!S11 -> Insuficiente
B10: DIMENSÃO | D10: INDICADORES SEMESTRAIS | F10: RESULTADO DA META | G10: JUSTIFICATIVAS PARA METAS NÃO ATINGIDAS
B11: Estrutura física e administrativa | D11: 1.1 Cômodos e mobiliários estão sendo utilizados no semestre conforme o aprovado no Plano de Trabalho
B12: Estrutura física e administrativa | D12: 1.2 Disponibilidade de materiais e artigos socioeducativos, pedagógicos, lúdicos e esportivos para realização das atividades, bem como de insumos que garantam as ofertas específicas da tipologia do serviço, previstos no Plano de Trabalho
B13: Estrutura física e administrativa | D13: 1.3 Cômodos e mobiliários se encontram em perfeitas condições de uso
B14: Serviços, processos ou atividades | D14: 2.1 Percentual de Relatórios, Prontuários, Plano de Desenvolvimento do Usuário- PDU (usuários da PSB) / Plano Individual de Atendimento - PIA (usuários da PSE) / Plano de Desenvolvimento Familiar - PDF elaborados ou atualizados no semestre
B15: Produtos ou resultados | D15: 3.1 Número de usuários atendidos / capacidade parceirizada do serviço
B16: Produtos ou resultados | D16: 3.2 Cardápio elaborado nos termos do Manual Prático de Alimentação da SMADS e com participação dos usuários do serviço
B17: Produtos ou resultados | D17: 3.3 Execução das atividades previstas no Plano de Ação Semestral, compreendendo todas as suas dimensões.
B18: Produtos ou resultados | D18: 3.4 Implantação de mecanismos de apuração da satisfação dos usuários do serviço e de canais de participação dos usuários na elaboração do Plano de Ação
B19: Recursos humanos | D19: 4.1 Percentual de profissionais que participaram de ao menos uma capacitação/ atualização de conhecimento no semestre, ofertada pela OSC, pela SMADS ou outras instituições
B20: Recursos humanos | D20: 4.2 Adequação da força de trabalho, no semestre, ao quadro de recursos humanos previsto na legislação concernente à tipificação
B21: PRINCIPAIS AÇÕES EFETUADAS PARA ATINGIMENTO DAS METAS E DO OBJETO DA PARCERIA
B22: DIMENSÃO | D22: INDICADORES SEMESTRAIS | F22: Descreva sucintamente as ações efetuadas com vistas à implantação do projeto, comparando-se o previsto no plano de trabalho aprovado com o efetivamente executado
B23: Estrutura física e administrativa | D23: Cômodos e mobiliários estão sendo utilizados no semestre conforme o aprovado no Plano de Trabalho
B24: Estrutura física e administrativa | D24: Disponibilidade de materiais e artigos socioeducativos, pedagógicos, lúdicos e esportivos para realização das atividades, bem como de insumos que garantam as ofertas específicas da tipologia do serviço, previstos no Plano de Trabalho
B25: Estrutura física e administrativa | D25: Cômodos e mobiliários se encontram em perfeitas condições de uso
B26: Serviços, processos ou atividades | D26: Percentual de Relatórios, Prontuários, Plano de Desenvolvimento do Usuário- PDU (usuários da PSB) / Plano Individual de Atendimento - PIA (usuários da PSE) / Plano de Desenvolvimento Familiar - PDF elaborados ou atualizados no semestre
B27: Produtos ou resultados | D27: Número de usuários atendidos / capacidade parceirizada do serviço
B28: Produtos ou resultados | D28: Cardápio elaborado nos termos do Manual Prático de Alimentação da SMADS e com participação dos usuários do serviço
B29: Produtos ou resultados | D29: Execução das atividades previstas no Plano de Ação Semestral, compreendendo todas as suas dimensões.
B30: Produtos ou resultados | D30: Implantação de mecanismos de apuração da satisfação dos usuários do serviço e de canais de participação dos usuários na elaboração do Plano de Ação
B31: Recursos humanos | D31: Percentual de profissionais que participaram de ao menos uma capacitação/ atualização de conhecimento no semestre, ofertada pela OSC, pela SMADS ou outras instituições
B32: Recursos humanos | D32: Adequação da força de trabalho, no semestre, ao quadro de recursos humanos previsto na legislação concernente à tipificação
B33: LISTAGEM DE MATERIAIS COMPROBATÓRIOS DO CUMPRIMENTO DOS OBJETIVOS EM FOTOS, VÍDEOS OU OUTROS SUPORTES ENVIADOS EM ANEXO
B34: Liste o material comprobatório anexado, quando houver.
B35: 1.
B36: 2.
B37: 3.
B38: 4.
B39: 5.
B40: RELAÇÃO DE BENS PERMANENTES ADQUIRIDOS, PRODUZIDOS OU CONSTRUÍDOS COM RECURSOS DA PARCERIA
B41: Liste os bens permanentes adquidos, produzidos ou construídos no período, quando houver.
B42: 1.
B43: 2.
B44: 3.
... B47: RESPONSÁVEL PELA AVALIAÇÃO
B48: Nome do gerente do serviço | E48: Assinatura do gerente do serviço | G48: Data
B49: Informo que as informações prestadas por mim neste documento são fiéis às ações e atividades prestadas pelo serviço no período avaliado, estando à disposição da Prefeitura Municipal de São Paulo sempre que necessário.

Sheet Rel_Parc_Exec_Obj_5º_sem
B1: RELATÓRIO DE EXECUÇÃO DO OBJETO DA PARCERIA – PARCIAL
B2: DADOS DA ORGANIZAÇÃO DA SOCIEDADE CIVIL PARCEIRA (OSC)
B3: Nome da OSC | E3: Número do Processo | G3: SAS
B4: Nome Fantasia | E4: Número do Termo de Parceria | G4: Distrito
B5: Tipologia | E5: Início do Termo de Parceria | G5: Capacidade Contratada
B6: CNPJ | E6: Vigência do Termo de Parceria | G6: Semestre avaliado | H6: 5º SEMESTRE
B7: =IF(C5="NPJ - Núcleo de Proteção Jurídico Social e Apoio Psicológico","Para esta tipologia de serviço não se aplicam os seguintes Indicadores Semestrais: 1.1 e 1.3",IF(C5="Família em Foco","O Indicador Semestral 3.2 não se aplica a esta tipologia de serviço.",IF(C5="Autonomia em Foco","O Indicador Semestral 3.2 não se aplica a esta tipologia de serviço.",IF(C5="República","O Indicador Semestral 3.2 não se aplica a esta tipologia de serviço.",IF(C5="Bagageiro","Para esta tipologia de serviço não se aplicam os seguintes Indicadores Semestrais: 1.2, 2.1, 3.2, 3.3 e 3.4",IF(C5="Serviço de Inclusão Social e Produtiva","O Indicador Semestral 1.2 não se aplica a esta tipologia de serviço.",IF(C5="SEAS - Serviço de Abordagem Social à População de Rua","Para esta tipologia de serviço não se aplicam os seguintes Indicadores Semestrais: 1.2, 3.2, 3.4.",IF(C5="Família Acolhedora","Para esta tipologia de serviço não se aplicam os seguintes Indicadores Semestrais: 1.1 e 3.2.",IF(C5="Serviço de Alimentação Domiciliar para a Pessoa Idosa","O Indicador Semestral 1.3 não se aplica a esta tipologia de serviço.",IF(C5="Serviço Proteção Social Básica no Domicílio para Pessoas com Deficiência e Idosas","Para esta tipologia de serviço não se aplicam os seguintes Indicadores Semestrais: 1.3 e 3.2.","ATENÇÃO: Para esta tipologia de serviço, todos os Indicadores Semestrais devem ser pontuados com valores entre ''1 - Insuficiente'' a ''4 - Superior''.")))))))))) -> ATENÇÃO: Para esta tipologia de serviço, todos os Indicadores Semestrais devem ser pontuados com valores entre ''1 - Insuficiente'' a ''4 - Superior''.
B8: DEMONSTRAÇÃO DO ALCANCE DAS METAS
B9: RESULTADO FINAL | F9: Média: | G9: =(Formulas!W9)*0.01 -> 0 | H9: =Formulas!W11 -> Insuficiente
B10: DIMENSÃO | D10: INDICADORES SEMESTRAIS | F10: RESULTADO DA META | G10: JUSTIFICATIVAS PARA METAS NÃO ATINGIDAS
B11: Estrutura física e administrativa | D11: 1.1 Cômodos e mobiliários estão sendo utilizados no semestre conforme o aprovado no Plano de Trabalho
B12: Estrutura física e administrativa | D12: 1.2 Disponibilidade de materiais e artigos socioeducativos, pedagógicos, lúdicos e esportivos para realização das atividades, bem como de insumos que garantam as ofertas específicas da tipologia do serviço, previstos no Plano de Trabalho
B13: Estrutura física e administrativa | D13: 1.3 Cômodos e mobiliários se encontram em perfeitas condições de uso
B14: Serviços, processos ou atividades | D14: 2.1 Percentual de Relatórios, Prontuários, Plano de Desenvolvimento do Usuário- PDU (usuários da PSB) / Plano Individual de Atendimento - PIA (usuários da PSE) / Plano de Desenvolvimento Familiar - PDF elaborados ou atualizados no semestre
B15: Produtos ou resultados | D15: 3.1 Número de usuários atendidos / capacidade parceirizada do serviço
B16: Produtos ou resultados | D16: 3.2 Cardápio elaborado nos termos do Manual Prático de Alimentação da SMADS e com participação dos usuários do serviço
B17: Produtos ou resultados | D17: 3.3 Execução das atividades previstas no Plano de Ação Semestral, compreendendo todas as suas dimensões.
B18: Produtos ou resultados | D18: 3.4 Implantação de mecanismos de apuração da satisfação dos usuários do serviço e de canais de participação dos usuários na elaboração do Plano de Ação
B19: Recursos humanos | D19: 4.1 Percentual de profissionais que participaram de ao menos uma capacitação/ atualização de conhecimento no semestre, ofertada pela OSC, pela SMADS ou outras instituições
B20: Recursos humanos | D20: 4.2 Adequação da força de trabalho, no semestre, ao quadro de recursos humanos previsto na legislação concernente à tipificação
B21: PRINCIPAIS AÇÕES EFETUADAS PARA ATINGIMENTO DAS METAS E DO OBJETO DA PARCERIA
B22: DIMENSÃO | D22: INDICADORES SEMESTRAIS | F22: Descreva sucintamente as ações efetuadas com vistas à implantação do projeto, comparando-se o previsto no plano de trabalho aprovado com o efetivamente executado
B23: Estrutura física e administrativa | D23: Cômodos e mobiliários estão sendo utilizados no semestre conforme o aprovado no Plano de Trabalho
B24: Estrutura física e administrativa | D24: Disponibilidade de materiais e artigos socioeducativos, pedagógicos, lúdicos e esportivos para realização das atividades, bem como de insumos que garantam as ofertas específicas da tipologia do serviço, previstos no Plano de Trabalho
B25: Estrutura física e administrativa | D25: Cômodos e mobiliários se encontram em perfeitas condições de uso
B26: Serviços, processos ou atividades | D26: Percentual de Relatórios, Prontuários, Plano de Desenvolvimento do Usuário- PDU (usuários da PSB) / Plano Individual de Atendimento - PIA (usuários da PSE) / Plano de Desenvolvimento Familiar - PDF elaborados ou atualizados no semestre
B27: Produtos ou resultados | D27: Número de usuários atendidos / capacidade parceirizada do serviço
B28: Produtos ou resultados | D28: Cardápio elaborado nos termos do Manual Prático de Alimentação da SMADS e com participação dos usuários do serviço
B29: Produtos ou resultados | D29: Execução das atividades previstas no Plano de Ação Semestral, compreendendo todas as suas dimensões.
B30: Produtos ou resultados | D30: Implantação de mecanismos de apuração da satisfação dos usuários do serviço e de canais de participação dos usuários na elaboração do Plano de Ação
B31: Recursos humanos | D31: Percentual de profissionais que participaram de ao menos uma capacitação/ atualização de conhecimento no semestre, ofertada pela OSC, pela SMADS ou outras instituições
B32: Recursos humanos | D32: Adequação da força de trabalho, no semestre, ao quadro de recursos humanos previsto na legislação concernente à tipificação
B33: LISTAGEM DE MATERIAIS COMPROBATÓRIOS DO CUMPRIMENTO DOS OBJETIVOS EM FOTOS, VÍDEOS OU OUTROS SUPORTES ENVIADOS EM ANEXO
B34: Liste o material comprobatório anexado, quando houver.
B35: 1.
B36: 2.
B37: 3.
B38: 4.
B39: 5.
B40: RELAÇÃO DE BENS PERMANENTES ADQUIRIDOS, PRODUZIDOS OU CONSTRUÍDOS COM RECURSOS DA PARCERIA
B41: Liste os bens permanentes adquidos, produzidos ou construídos no período, quando houver.
B42: 1.
B43: 2.
B44: 3.
... B47: RESPONSÁVEL PELA AVALIAÇÃO
B48: Nome do gerente do serviço | E48: Assinatura do gerente do serviço | G48: Data
B49: Informo que as informações prestadas por mim neste documento são fiéis às ações e atividades prestadas pelo serviço no período avaliado, estando à disposição da Prefeitura Municipal de São Paulo sempre que necessário.

Sheet Rel_Parc_Exec_Obj_6º_sem
B1: RELATÓRIO DE EXECUÇÃO DO OBJETO DA PARCERIA – PARCIAL
B2: DADOS DA ORGANIZAÇÃO DA SOCIEDADE CIVIL PARCEIRA (OSC)
B3: Nome da OSC | E3: Número do Processo | G3: SAS
B4: Nome Fantasia | E4: Número do Termo de Parceria | G4: Distrito
B5: Tipologia | E5: Início do Termo de Parceria | G5: Capacidade Contratada
B6: CNPJ | E6: Vigência do Termo de Parceria | G6: Semestre avaliado | H6: 6º SEMESTRE
B7: =IF(C5="NPJ - Núcleo de Proteção Jurídico Social e Apoio Psicológico","Para esta tipologia de serviço não se aplicam os seguintes Indicadores Semestrais: 1.1 e 1.3",IF(C5="Família em Foco","O Indicador Semestral 3.2 não se aplica a esta tipologia de serviço.",IF(C5="Autonomia em Foco","O Indicador Semestral 3.2 não se aplica a esta tipologia de serviço.",IF(C5="República","O Indicador Semestral 3.2 não se aplica a esta tipologia de serviço.",IF(C5="Bagageiro","Para esta tipologia de serviço não se aplicam os seguintes Indicadores Semestrais: 1.2, 2.1, 3.2, 3.3 e 3.4",IF(C5="Serviço de Inclusão Social e Produtiva","O Indicador Semestral 1.2 não se aplica a esta tipologia de serviço.",IF(C5="SEAS - Serviço de Abordagem Social à População de Rua","Para esta tipologia de serviço não se aplicam os seguintes Indicadores Semestrais: 1.2, 3.2, 3.4.",IF(C5="Família Acolhedora","Para esta tipologia de serviço não se aplicam os seguintes Indicadores Semestrais: 1.1 e 3.2.",IF(C5="Serviço de Alimentação Domiciliar para a Pessoa Idosa","O Indicador Semestral 1.3 não se aplica a esta tipologia de serviço.",IF(C5="Serviço Proteção Social Básica no Domicílio para Pessoas com Deficiência e Idosas","Para esta tipologia de serviço não se aplicam os seguintes Indicadores Semestrais: 1.3 e 3.2.","ATENÇÃO: Para esta tipologia de serviço, todos os Indicadores Semestrais devem ser pontuados com valores entre ''1 - Insuficiente'' a ''4 - Superior''.")))))))))) -> ATENÇÃO: Para esta tipologia de serviço, todos os Indicadores Semestrais devem ser pontuados com valores entre ''1 - Insuficiente'' a ''4 - Superior''.
B8: DEMONSTRAÇÃO DO ALCANCE DAS METAS
B9: RESULTADO FINAL | F9: Média: | G9: =(Formulas!AA9)*0.01 -> 0 | H9: =Formulas!AA11 -> Insuficiente
B10: DIMENSÃO | D10: INDICADORES SEMESTRAIS | F10: RESULTADO DA META | G10: JUSTIFICATIVAS PARA METAS NÃO ATINGIDAS
B11: Estrutura física e administrativa | D11: 1.1 Cômodos e mobiliários estão sendo utilizados no semestre conforme o aprovado no Plano de Trabalho
B12: Estrutura física e administrativa | D12: 1.2 Disponibilidade de materiais e artigos socioeducativos, pedagógicos, lúdicos e esportivos para realização das atividades, bem como de insumos que garantam as ofertas específicas da tipologia do serviço, previstos no Plano de Trabalho
B13: Estrutura física e administrativa | D13: 1.3 Cômodos e mobiliários se encontram em perfeitas condições de uso
B14: Serviços, processos ou atividades | D14: 2.1 Percentual de Relatórios, Prontuários, Plano de Desenvolvimento do Usuário- PDU (usuários da PSB) / Plano Individual de Atendimento - PIA (usuários da PSE) / Plano de Desenvolvimento Familiar - PDF elaborados ou atualizados no semestre
B15: Produtos ou resultados | D15: 3.1 Número de usuários atendidos / capacidade parceirizada do serviço
B16: Produtos ou resultados | D16: 3.2 Cardápio elaborado nos termos do Manual Prático de Alimentação da SMADS e com participação dos usuários do serviço
B17: Produtos ou resultados | D17: 3.3 Execução das atividades previstas no Plano de Ação Semestral, compreendendo todas as suas dimensões.
B18: Produtos ou resultados | D18: 3.4 Implantação de mecanismos de apuração da satisfação dos usuários do serviço e de canais de participação dos usuários na elaboração do Plano de Ação
B19: Recursos humanos | D19: 4.1 Percentual de profissionais que participaram de ao menos uma capacitação/ atualização de conhecimento no semestre, ofertada pela OSC, pela SMADS ou outras instituições
B20: Recursos humanos | D20: 4.2 Adequação da força de trabalho, no semestre, ao quadro de recursos humanos previsto na legislação concernente à tipificação
B21: PRINCIPAIS AÇÕES EFETUADAS PARA ATINGIMENTO DAS METAS E DO OBJETO DA PARCERIA
B22: DIMENSÃO | D22: INDICADORES SEMESTRAIS | F22: Descreva sucintamente as ações efetuadas com vistas à implantação do projeto, comparando-se o previsto no plano de trabalho aprovado com o efetivamente executado
B23: Estrutura física e administrativa | D23: Cômodos e mobiliários estão sendo utilizados no semestre conforme o aprovado no Plano de Trabalho
B24: Estrutura física e administrativa | D24: Disponibilidade de materiais e artigos socioeducativos, pedagógicos, lúdicos e esportivos para realização das atividades, bem como de insumos que garantam as ofertas específicas da tipologia do serviço, previstos no Plano de Trabalho
B25: Estrutura física e administrativa | D25: Cômodos e mobiliários se encontram em perfeitas condições de uso
B26: Serviços, processos ou atividades | D26: Percentual de Relatórios, Prontuários, Plano de Desenvolvimento do Usuário- PDU (usuários da PSB) / Plano Individual de Atendimento - PIA (usuários da PSE) / Plano de Desenvolvimento Familiar - PDF elaborados ou atualizados no semestre
B27: Produtos ou resultados | D27: Número de usuários atendidos / capacidade parceirizada do serviço
B28: Produtos ou resultados | D28: Cardápio elaborado nos termos do Manual Prático de Alimentação da SMADS e com participação dos usuários do serviço
B29: Produtos ou resultados | D29: Execução das atividades previstas no Plano de Ação Semestral, compreendendo todas as suas dimensões.
B30: Produtos ou resultados | D30: Implantação de mecanismos de apuração da satisfação dos usuários do serviço e de canais de participação dos usuários na elaboração do Plano de Ação
B31: Recursos humanos | D31: Percentual de profissionais que participaram de ao menos uma capacitação/ atualização de conhecimento no semestre, ofertada pela OSC, pela SMADS ou outras instituições
B32: Recursos humanos | D32: Adequação da força de trabalho, no semestre, ao quadro de recursos humanos previsto na legislação concernente à tipificação
B33: LISTAGEM DE MATERIAIS COMPROBATÓRIOS DO CUMPRIMENTO DOS OBJETIVOS EM FOTOS, VÍDEOS OU OUTROS SUPORTES ENVIADOS EM ANEXO
B34: Liste o material comprobatório anexado, quando houver.
B35: 1.
B36: 2.
B37: 3.
B38: 4.
B39: 5.
B40: RELAÇÃO DE BENS PERMANENTES ADQUIRIDOS, PRODUZIDOS OU CONSTRUÍDOS COM RECURSOS DA PARCERIA
B41: Liste os bens permanentes adquidos, produzidos ou construídos no período, quando houver.
B42: 1.
B43: 2.
B44: 3.
... B47: RESPONSÁVEL PELA AVALIAÇÃO
B48: Nome do gerente do serviço | E48: Assinatura do gerente do serviço | G48: Data
B49: Informo que as informações prestadas por mim neste documento são fiéis às ações e atividades prestadas pelo serviço no período avaliado, estando à disposição da Prefeitura Municipal de São Paulo sempre que necessário.

Sheet Rel_Parc_Exec_Obj_7º_sem
B1: RELATÓRIO DE EXECUÇÃO DO OBJETO DA PARCERIA – PARCIAL
B2: DADOS DA ORGANIZAÇÃO DA SOCIEDADE CIVIL PARCEIRA (OSC)
B3: Nome da OSC | E3: Número do Processo | G3: SAS
B4: Nome Fantasia | E4: Número do Termo de Parceria | G4: Distrito
B5: Tipologia | E5: Início do Termo de Parceria | G5: Capacidade Contratada
B6: CNPJ | E6: Vigência do Termo de Parceria | G6: Semestre avaliado | H6: 7º SEMESTRE
B7: =IF(C5="NPJ - Núcleo de Proteção Jurídico Social e Apoio Psicológico","Para esta tipologia de serviço não se aplicam os seguintes Indicadores Semestrais: 1.1 e 1.3",IF(C5="Família em Foco","O Indicador Semestral 3.2 não se aplica a esta tipologia de serviço.",IF(C5="Autonomia em Foco","O Indicador Semestral 3.2 não se aplica a esta tipologia de serviço.",IF(C5="República","O Indicador Semestral 3.2 não se aplica a esta tipologia de serviço.",IF(C5="Bagageiro","Para esta tipologia de serviço não se aplicam os seguintes Indicadores Semestrais: 1.2, 2.1, 3.2, 3.3 e 3.4",IF(C5="Serviço de Inclusão Social e Produtiva","O Indicador Semestral 1.2 não se aplica a esta tipologia de serviço.",IF(C5="SEAS - Serviço de Abordagem Social à População de Rua","Para esta tipologia de serviço não se aplicam os seguintes Indicadores Semestrais: 1.2, 3.2, 3.4.",IF(C5="Família Acolhedora","Para esta tipologia de serviço não se aplicam os seguintes Indicadores Semestrais: 1.1 e 3.2.",IF(C5="Serviço de Alimentação Domiciliar para a Pessoa Idosa","O Indicador Semestral 1.3 não se aplica a esta tipologia de serviço.",IF(C5="Serviço Proteção Social Básica no Domicílio para Pessoas com Deficiência e Idosas","Para esta tipologia de serviço não se aplicam os seguintes Indicadores Semestrais: 1.3 e 3.2.","ATENÇÃO: Para esta tipologia de serviço, todos os Indicadores Semestrais devem ser pontuados com valores entre ''1 - Insuficiente'' a ''4 - Superior''.")))))))))) -> ATENÇÃO: Para esta tipologia de serviço, todos os Indicadores Semestrais devem ser pontuados com valores entre ''1 - Insuficiente'' a ''4 - Superior''.
B8: DEMONSTRAÇÃO DO ALCANCE DAS METAS
B9: RESULTADO FINAL | F9: Média: | G9: =(Formulas!AE9)*0.01 -> 0 | H9: =Formulas!AE11 -> Insuficiente
B10: DIMENSÃO | D10: INDICADORES SEMESTRAIS | F10: RESULTADO DA META | G10: JUSTIFICATIVAS PARA METAS NÃO ATINGIDAS
B11: Estrutura física e administrativa | D11: 1.1 Cômodos e mobiliários estão sendo utilizados no semestre conforme o aprovado no Plano de Trabalho
B12: Estrutura física e administrativa | D12: 1.2 Disponibilidade de materiais e artigos socioeducativos, pedagógicos, lúdicos e esportivos para realização das atividades, bem como de insumos que garantam as ofertas específicas da tipologia do serviço, previstos no Plano de Trabalho
B13: Estrutura física e administrativa | D13: 1.3 Cômodos e mobiliários se encontram em perfeitas condições de uso
B14: Serviços, processos ou atividades | D14: 2.1 Percentual de Relatórios, Prontuários, Plano de Desenvolvimento do Usuário- PDU (usuários da PSB) / Plano Individual de Atendimento - PIA (usuários da PSE) / Plano de Desenvolvimento Familiar - PDF elaborados ou atualizados no semestre
B15: Produtos ou resultados | D15: 3.1 Número de usuários atendidos / capacidade parceirizada do serviço
B16: Produtos ou resultados | D16: 3.2 Cardápio elaborado nos termos do Manual Prático de Alimentação da SMADS e com participação dos usuários do serviço
B17: Produtos ou resultados | D17: 3.3 Execução das atividades previstas no Plano de Ação Semestral, compreendendo todas as suas dimensões.
B18: Produtos ou resultados | D18: 3.4 Implantação de mecanismos de apuração da satisfação dos usuários do serviço e de canais de participação dos usuários na elaboração do Plano de Ação
B19: Recursos humanos | D19: 4.1 Percentual de profissionais que participaram de ao menos uma capacitação/ atualização de conhecimento no semestre, ofertada pela OSC, pela SMADS ou outras instituições
B20: Recursos humanos | D20: 4.2 Adequação da força de trabalho, no semestre, ao quadro de recursos humanos previsto na legislação concernente à tipificação
B21: PRINCIPAIS AÇÕES EFETUADAS PARA ATINGIMENTO DAS METAS E DO OBJETO DA PARCERIA
B22: DIMENSÃO | D22: INDICADORES SEMESTRAIS | F22: Descreva sucintamente as ações efetuadas com vistas à implantação do projeto, comparando-se o previsto no plano de trabalho aprovado com o efetivamente executado
B23: Estrutura física e administrativa | D23: Cômodos e mobiliários estão sendo utilizados no semestre conforme o aprovado no Plano de Trabalho
B24: Estrutura física e administrativa | D24: Disponibilidade de materiais e artigos socioeducativos, pedagógicos, lúdicos e esportivos para realização das atividades, bem como de insumos que garantam as ofertas específicas da tipologia do serviço, previstos no Plano de Trabalho
B25: Estrutura física e administrativa | D25: Cômodos e mobiliários se encontram em perfeitas condições de uso
B26: Serviços, processos ou atividades | D26: Percentual de Relatórios, Prontuários, Plano de Desenvolvimento do Usuário- PDU (usuários da PSB) / Plano Individual de Atendimento - PIA (usuários da PSE) / Plano de Desenvolvimento Familiar - PDF elaborados ou atualizados no semestre
B27: Produtos ou resultados | D27: Número de usuários atendidos / capacidade parceirizada do serviço
B28: Produtos ou resultados | D28: Cardápio elaborado nos termos do Manual Prático de Alimentação da SMADS e com participação dos usuários do serviço
B29: Produtos ou resultados | D29: Execução das atividades previstas no Plano de Ação Semestral, compreendendo todas as suas dimensões.
B30: Produtos ou resultados | D30: Implantação de mecanismos de apuração da satisfação dos usuários do serviço e de canais de participação dos usuários na elaboração do Plano de Ação
B31: Recursos humanos | D31: Percentual de profissionais que participaram de ao menos uma capacitação/ atualização de conhecimento no semestre, ofertada pela OSC, pela SMADS ou outras instituições
B32: Recursos humanos | D32: Adequação da força de trabalho, no semestre, ao quadro de recursos humanos previsto na legislação concernente à tipificação
B33: LISTAGEM DE MATERIAIS COMPROBATÓRIOS DO CUMPRIMENTO DOS OBJETIVOS EM FOTOS, VÍDEOS OU OUTROS SUPORTES ENVIADOS EM ANEXO
B34: Liste o material comprobatório anexado, quando houver.
B35: 1.
B36: 2.
B37: 3.
B38: 4.
B39: 5.
B40: RELAÇÃO DE BENS PERMANENTES ADQUIRIDOS, PRODUZIDOS OU CONSTRUÍDOS COM RECURSOS DA PARCERIA
B41: Liste os bens permanentes adquidos, produzidos ou construídos no período, quando houver.
B42: 1.
B43: 2.
B44: 3.
... B47: RESPONSÁVEL PELA AVALIAÇÃO
B48: Nome do gerente do serviço | E48: Assinatura do gerente do serviço | G48: Data
B49: Informo que as informações prestadas por mim neste documento são fiéis às ações e atividades prestadas pelo serviço no período avaliado, estando à disposição da Prefeitura Municipal de São Paulo sempre que necessário.

Sheet Rel_Parc_Exec_Obj_8º_sem
B1: RELATÓRIO DE EXECUÇÃO DO OBJETO DA PARCERIA – PARCIAL
B2: DADOS DA ORGANIZAÇÃO DA SOCIEDADE CIVIL PARCEIRA (OSC)
B3: Nome da OSC | E3: Número do Processo | G3: SAS
B4: Nome Fantasia | E4: Número do Termo de Parceria | G4: Distrito
B5: Tipologia | E5: Início do Termo de Parceria | G5: Capacidade Contratada
B6: CNPJ | E6: Vigência do Termo de Parceria | G6: Semestre avaliado | H6: 8º SEMESTRE
B7: =IF(C5="NPJ - Núcleo de Proteção Jurídico Social e Apoio Psicológico","Para esta tipologia de serviço não se aplicam os seguintes Indicadores Semestrais: 1.1 e 1.3",IF(C5="Família em Foco","O Indicador Semestral 3.2 não se aplica a esta tipologia de serviço.",IF(C5="Autonomia em Foco","O Indicador Semestral 3.2 não se aplica a esta tipologia de serviço.",IF(C5="República","O Indicador Semestral 3.2 não se aplica a esta tipologia de serviço.",IF(C5="Bagageiro","Para esta tipologia de serviço não se aplicam os seguintes Indicadores Semestrais: 1.2, 2.1, 3.2, 3.3 e 3.4",IF(C5="Serviço de Inclusão Social e Produtiva","O Indicador Semestral 1.2 não se aplica a esta tipologia de serviço.",IF(C5="SEAS - Serviço de Abordagem Social à População de Rua","Para esta tipologia de serviço não se aplicam os seguintes Indicadores Semestrais: 1.2, 3.2, 3.4.",IF(C5="Família Acolhedora","Para esta tipologia de serviço não se aplicam os seguintes Indicadores Semestrais: 1.1 e 3.2.",IF(C5="Serviço de Alimentação Domiciliar para a Pessoa Idosa","O Indicador Semestral 1.3 não se aplica a esta tipologia de serviço.",IF(C5="Serviço Proteção Social Básica no Domicílio para Pessoas com Deficiência e Idosas","Para esta tipologia de serviço não se aplicam os seguintes Indicadores Semestrais: 1.3 e 3.2.","ATENÇÃO: Para esta tipologia de serviço, todos os Indicadores Semestrais devem ser pontuados com valores entre ''1 - Insuficiente'' a ''4 - Superior''.")))))))))) -> ATENÇÃO: Para esta tipologia de serviço, todos os Indicadores Semestrais devem ser pontuados com valores entre ''1 - Insuficiente'' a ''4 - Superior''.
B8: DEMONSTRAÇÃO DO ALCANCE DAS METAS
B9: RESULTADO FINAL | F9: Média: | G9: =(Formulas!AI9)*0.01 -> 0 | H9: =Formulas!AI11 -> Insuficiente
B10: DIMENSÃO | D10: INDICADORES SEMESTRAIS | F10: RESULTADO DA META | G10: JUSTIFICATIVAS PARA METAS NÃO ATINGIDAS
B11: Estrutura física e administrativa | D11: 1.1 Cômodos e mobiliários estão sendo utilizados no semestre conforme o aprovado no Plano de Trabalho
B12: Estrutura física e administrativa | D12: 1.2 Disponibilidade de materiais e artigos socioeducativos, pedagógicos, lúdicos e esportivos para realização das atividades, bem como de insumos que garantam as ofertas específicas da tipologia do serviço, previstos no Plano de Trabalho
B13: Estrutura física e administrativa | D13: 1.3 Cômodos e mobiliários se encontram em perfeitas condições de uso
B14: Serviços, processos ou atividades | D14: 2.1 Percentual de Relatórios, Prontuários, Plano de Desenvolvimento do Usuário- PDU (usuários da PSB) / Plano Individual de Atendimento - PIA (usuários da PSE) / Plano de Desenvolvimento Familiar - PDF elaborados ou atualizados no semestre
B15: Produtos ou resultados | D15: 3.1 Número de usuários atendidos / capacidade parceirizada do serviço
B16: Produtos ou resultados | D16: 3.2 Cardápio elaborado nos termos do Manual Prático de Alimentação da SMADS e com participação dos usuários do serviço
B17: Produtos ou resultados | D17: 3.3 Execução das atividades previstas no Plano de Ação Semestral, compreendendo todas as suas dimensões.
B18: Produtos ou resultados | D18: 3.4 Implantação de mecanismos de apuração da satisfação dos usuários do serviço e de canais de participação dos usuários na elaboração do Plano de Ação
B19: Recursos humanos | D19: 4.1 Percentual de profissionais que participaram de ao menos uma capacitação/ atualização de conhecimento no semestre, ofertada pela OSC, pela SMADS ou outras instituições
B20: Recursos humanos | D20: 4.2 Adequação da força de trabalho, no semestre, ao quadro de recursos humanos previsto na legislação concernente à tipificação
B21: PRINCIPAIS AÇÕES EFETUADAS PARA ATINGIMENTO DAS METAS E DO OBJETO DA PARCERIA
B22: DIMENSÃO | D22: INDICADORES SEMESTRAIS | F22: Descreva sucintamente as ações efetuadas com vistas à implantação do projeto, comparando-se o previsto no plano de trabalho aprovado com o efetivamente executado
B23: Estrutura física e administrativa | D23: Cômodos e mobiliários estão sendo utilizados no semestre conforme o aprovado no Plano de Trabalho
B24: Estrutura física e administrativa | D24: Disponibilidade de materiais e artigos socioeducativos, pedagógicos, lúdicos e esportivos para realização das atividades, bem como de insumos que garantam as ofertas específicas da tipologia do serviço, previstos no Plano de Trabalho
B25: Estrutura física e administrativa | D25: Cômodos e mobiliários se encontram em perfeitas condições de uso
B26: Serviços, processos ou atividades | D26: Percentual de Relatórios, Prontuários, Plano de Desenvolvimento do Usuário- PDU (usuários da PSB) / Plano Individual de Atendimento - PIA (usuários da PSE) / Plano de Desenvolvimento Familiar - PDF elaborados ou atualizados no semestre
B27: Produtos ou resultados | D27: Número de usuários atendidos / capacidade parceirizada do serviço
B28: Produtos ou resultados | D28: Cardápio elaborado nos termos do Manual Prático de Alimentação da SMADS e com participação dos usuários do serviço
B29: Produtos ou resultados | D29: Execução das atividades previstas no Plano de Ação Semestral, compreendendo todas as suas dimensões.
B30: Produtos ou resultados | D30: Implantação de mecanismos de apuração da satisfação dos usuários do serviço e de canais de participação dos usuários na elaboração do Plano de Ação
B31: Recursos humanos | D31: Percentual de profissionais que participaram de ao menos uma capacitação/ atualização de conhecimento no semestre, ofertada pela OSC, pela SMADS ou outras instituições
B32: Recursos humanos | D32: Adequação da força de trabalho, no semestre, ao quadro de recursos humanos previsto na legislação concernente à tipificação
B33: LISTAGEM DE MATERIAIS COMPROBATÓRIOS DO CUMPRIMENTO DOS OBJETIVOS EM FOTOS, VÍDEOS OU OUTROS SUPORTES ENVIADOS EM ANEXO
B34: Liste o material comprobatório anexado, quando houver.
B35: 1.
B36: 2.
B37: 3.
B38: 4.
B39: 5.
B40: RELAÇÃO DE BENS PERMANENTES ADQUIRIDOS, PRODUZIDOS OU CONSTRUÍDOS COM RECURSOS DA PARCERIA
B41: Liste os bens permanentes adquidos, produzidos ou construídos no período, quando houver.
B42: 1.
B43: 2.
B44: 3.
... B47: RESPONSÁVEL PELA AVALIAÇÃO
B48: Nome do gerente do serviço | E48: Assinatura do gerente do serviço | G48: Data
B49: Informo que as informações prestadas por mim neste documento são fiéis às ações e atividades prestadas pelo serviço no período avaliado, estando à disposição da Prefeitura Municipal de São Paulo sempre que necessário.

Sheet Rel_Parc_Exec_Obj_9º_sem
B1: RELATÓRIO DE EXECUÇÃO DO OBJETO DA PARCERIA – PARCIAL
B2: DADOS DA ORGANIZAÇÃO DA SOCIEDADE CIVIL PARCEIRA (OSC)
B3: Nome da OSC | E3: Número do Processo | G3: SAS
B4: Nome Fantasia | E4: Número do Termo de Parceria | G4: Distrito
B5: Tipologia | E5: Início do Termo de Parceria | G5: Capacidade Contratada
B6: CNPJ | E6: Vigência do Termo de Parceria | G6: Semestre avaliado | H6: 9º SEMESTRE
B7: =IF(C5="NPJ - Núcleo de Proteção Jurídico Social e Apoio Psicológico","Para esta tipologia de serviço não se aplicam os seguintes Indicadores Semestrais: 1.1 e 1.3",IF(C5="Família em Foco","O Indicador Semestral 3.2 não se aplica a esta tipologia de serviço.",IF(C5="Autonomia em Foco","O Indicador Semestral 3.2 não se aplica a esta tipologia de serviço.",IF(C5="República","O Indicador Semestral 3.2 não se aplica a esta tipologia de serviço.",IF(C5="Bagageiro","Para esta tipologia de serviço não se aplicam os seguintes Indicadores Semestrais: 1.2, 2.1, 3.2, 3.3 e 3.4",IF(C5="Serviço de Inclusão Social e Produtiva","O Indicador Semestral 1.2 não se aplica a esta tipologia de serviço.",IF(C5="SEAS - Serviço de Abordagem Social à População de Rua","Para esta tipologia de serviço não se aplicam os seguintes Indicadores Semestrais: 1.2, 3.2, 3.4.",IF(C5="Família Acolhedora","Para esta tipologia de serviço não se aplicam os seguintes Indicadores Semestrais: 1.1 e 3.2.",IF(C5="Serviço de Alimentação Domiciliar para a Pessoa Idosa","O Indicador Semestral 1.3 não se aplica a esta tipologia de serviço.",IF(C5="Serviço Proteção Social Básica no Domicílio para Pessoas com Deficiência e Idosas","Para esta tipologia de serviço não se aplicam os seguintes Indicadores Semestrais: 1.3 e 3.2.","ATENÇÃO: Para esta tipologia de serviço, todos os Indicadores Semestrais devem ser pontuados com valores entre ''1 - Insuficiente'' a ''4 - Superior''.")))))))))) -> ATENÇÃO: Para esta tipologia de serviço, todos os Indicadores Semestrais devem ser pontuados com valores entre ''1 - Insuficiente'' a ''4 - Superior''.
B8: DEMONSTRAÇÃO DO ALCANCE DAS METAS
B9: RESULTADO FINAL | F9: Média: | G9: =(Formulas!AM9)*0.01 -> 0 | H9: =Formulas!AM11 -> Insuficiente
B10: DIMENSÃO | D10: INDICADORES SEMESTRAIS | F10: RESULTADO DA META | G10: JUSTIFICATIVAS PARA METAS NÃO ATINGIDAS
B11: Estrutura física e administrativa | D11: 1.1 Cômodos e mobiliários estão sendo utilizados no semestre conforme o aprovado no Plano de Trabalho
B12: Estrutura física e administrativa | D12: 1.2 Disponibilidade de materiais e artigos socioeducativos, pedagógicos, lúdicos e esportivos para realização das atividades, bem como de insumos que garantam as ofertas específicas da tipologia do serviço, previstos no Plano de Trabalho
B13: Estrutura física e administrativa | D13: 1.3 Cômodos e mobiliários se encontram em perfeitas condições de uso
B14: Serviços, processos ou atividades | D14: 2.1 Percentual de Relatórios, Prontuários, Plano de Desenvolvimento do Usuário- PDU (usuários da PSB) / Plano Individual de Atendimento - PIA (usuários da PSE) / Plano de Desenvolvimento Familiar - PDF elaborados ou atualizados no semestre
B15: Produtos ou resultados | D15: 3.1 Número de usuários atendidos / capacidade parceirizada do serviço
B16: Produtos ou resultados | D16: 3.2 Cardápio elaborado nos termos do Manual Prático de Alimentação da SMADS e com participação dos usuários do serviço
B17: Produtos ou resultados | D17: 3.3 Execução das atividades previstas no Plano de Ação Semestral, compreendendo todas as suas dimensões.
B18: Produtos ou resultados | D18: 3.4 Implantação de mecanismos de apuração da satisfação dos usuários do serviço e de canais de participação dos usuários na elaboração do Plano de Ação
B19: Recursos humanos | D19: 4.1 Percentual de profissionais que participaram de ao menos uma capacitação/ atualização de conhecimento no semestre, ofertada pela OSC, pela SMADS ou outras instituições
B20: Recursos humanos | D20: 4.2 Adequação da força de trabalho, no semestre, ao quadro de recursos humanos previsto na legislação concernente à tipificação
B21: PRINCIPAIS AÇÕES EFETUADAS PARA ATINGIMENTO DAS METAS E DO OBJETO DA PARCERIA
B22: DIMENSÃO | D22: INDICADORES SEMESTRAIS | F22: Descreva sucintamente as ações efetuadas com vistas à implantação do projeto, comparando-se o previsto no plano de trabalho aprovado com o efetivamente executado
B23: Estrutura física e administrativa | D23: Cômodos e mobiliários estão sendo utilizados no semestre conforme o aprovado no Plano de Trabalho
B24: Estrutura física e administrativa | D24: Disponibilidade de materiais e artigos socioeducativos, pedagógicos, lúdicos e esportivos para realização das atividades, bem como de insumos que garantam as ofertas específicas da tipologia do serviço, previstos no Plano de Trabalho
B25: Estrutura física e administrativa | D25: Cômodos e mobiliários se encontram em perfeitas condições de uso
B26: Serviços, processos ou atividades | D26: Percentual de Relatórios, Prontuários, Plano de Desenvolvimento do Usuário- PDU (usuários da PSB) / Plano Individual de Atendimento - PIA (usuários da PSE) / Plano de Desenvolvimento Familiar - PDF elaborados ou atualizados no semestre
B27: Produtos ou resultados | D27: Número de usuários atendidos / capacidade parceirizada do serviço
B28: Produtos ou resultados | D28: Cardápio elaborado nos termos do Manual Prático de Alimentação da SMADS e com participação dos usuários do serviço
B29: Produtos ou resultados | D29: Execução das atividades previstas no Plano de Ação Semestral, compreendendo todas as suas dimensões.
B30: Produtos ou resultados | D30: Implantação de mecanismos de apuração da satisfação dos usuários do serviço e de canais de participação dos usuários na elaboração do Plano de Ação
B31: Recursos humanos | D31: Percentual de profissionais que participaram de ao menos uma capacitação/ atualização de conhecimento no semestre, ofertada pela OSC, pela SMADS ou outras instituições
B32: Recursos humanos | D32: Adequação da força de trabalho, no semestre, ao quadro de recursos humanos previsto na legislação concernente à tipificação
B33: LISTAGEM DE MATERIAIS COMPROBATÓRIOS DO CUMPRIMENTO DOS OBJETIVOS EM FOTOS, VÍDEOS OU OUTROS SUPORTES ENVIADOS EM ANEXO
B34: Liste o material comprobatório anexado, quando houver.
B35: 1.
B36: 2.
B37: 3.
B38: 4.
B39: 5.
B40: RELAÇÃO DE BENS PERMANENTES ADQUIRIDOS, PRODUZIDOS OU CONSTRUÍDOS COM RECURSOS DA PARCERIA
B41: Liste os bens permanentes adquidos, produzidos ou construídos no período, quando houver.
B42: 1.
B43: 2.
B44: 3.
... B47: RESPONSÁVEL PELA AVALIAÇÃO
B48: Nome do gerente do serviço | E48: Assinatura do gerente do serviço | G48: Data
B49: Informo que as informações prestadas por mim neste documento são fiéis às ações e atividades prestadas pelo serviço no período avaliado, estando à disposição da Prefeitura Municipal de São Paulo sempre que necessário.

Sheet Rel_Parc_Exec_Obj_10º_sem
B1: RELATÓRIO DE EXECUÇÃO DO OBJETO DA PARCERIA – PARCIAL
B2: DADOS DA ORGANIZAÇÃO DA SOCIEDADE CIVIL PARCEIRA (OSC)
B3: Nome da OSC | E3: Número do Processo | G3: SAS
B4: Nome Fantasia | E4: Número do Termo de Parceria | G4: Distrito
B5: Tipologia | E5: Início do Termo de Parceria | G5: Capacidade Contratada
B6: CNPJ | E6: Vigência do Termo de Parceria | G6: Semestre avaliado | H6: 10º SEMESTRE
B7: =IF(C5="NPJ - Núcleo de Proteção Jurídico Social e Apoio Psicológico","Para esta tipologia de serviço não se aplicam os seguintes Indicadores Semestrais: 1.1 e 1.3",IF(C5="Família em Foco","O Indicador Semestral 3.2 não se aplica a esta tipologia de serviço.",IF(C5="Autonomia em Foco","O Indicador Semestral 3.2 não se aplica a esta tipologia de serviço.",IF(C5="República","O Indicador Semestral 3.2 não se aplica a esta tipologia de serviço.",IF(C5="Bagageiro","Para esta tipologia de serviço não se aplicam os seguintes Indicadores Semestrais: 1.2, 2.1, 3.2, 3.3 e 3.4",IF(C5="Serviço de Inclusão Social e Produtiva","O Indicador Semestral 1.2 não se aplica a esta tipologia de serviço.",IF(C5="SEAS - Serviço de Abordagem Social à População de Rua","Para esta tipologia de serviço não se aplicam os seguintes Indicadores Semestrais: 1.2, 3.2, 3.4.",IF(C5="Família Acolhedora","Para esta tipologia de serviço não se aplicam os seguintes Indicadores Semestrais: 1.1 e 3.2.",IF(C5="Serviço de Alimentação Domiciliar para a Pessoa Idosa","O Indicador Semestral 1.3 não se aplica a esta tipologia de serviço.",IF(C5="Serviço Proteção Social Básica no Domicílio para Pessoas com Deficiência e Idosas","Para esta tipologia de serviço não se aplicam os seguintes Indicadores Semestrais: 1.3 e 3.2.","ATENÇÃO: Para esta tipologia de serviço, todos os Indicadores Semestrais devem ser pontuados com valores entre ''1 - Insuficiente'' a ''4 - Superior''.")))))))))) -> ATENÇÃO: Para esta tipologia de serviço, todos os Indicadores Semestrais devem ser pontuados com valores entre ''1 - Insuficiente'' a ''4 - Superior''.
B8: DEMONSTRAÇÃO DO ALCANCE DAS METAS
B9: RESULTADO FINAL | F9: Média: | G9: =(Formulas!AQ9)*0.01 -> 0 | H9: =Formulas!AQ11 -> Insuficiente
B10: DIMENSÃO | D10: INDICADORES SEMESTRAIS | F10: RESULTADO DA META | G10: JUSTIFICATIVAS PARA METAS NÃO ATINGIDAS
B11: Estrutura física e administrativa | D11: 1.1 Cômodos e mobiliários estão sendo utilizados no semestre conforme o aprovado no Plano de Trabalho
B12: Estrutura física e administrativa | D12: 1.2 Disponibilidade de materiais e artigos socioeducativos, pedagógicos, lúdicos e esportivos para realização das atividades, bem como de insumos que garantam as ofertas específicas da tipologia do serviço, previstos no Plano de Trabalho
B13: Estrutura física e administrativa | D13: 1.3 Cômodos e mobiliários se encontram em perfeitas condições de uso
B14: Serviços, processos ou atividades | D14: 2.1 Percentual de Relatórios, Prontuários, Plano de Desenvolvimento do Usuário- PDU (usuários da PSB) / Plano Individual de Atendimento - PIA (usuários da PSE) / Plano de Desenvolvimento Familiar - PDF elaborados ou atualizados no semestre
B15: Produtos ou resultados | D15: 3.1 Número de usuários atendidos / capacidade parceirizada do serviço
B16: Produtos ou resultados | D16: 3.2 Cardápio elaborado nos termos do Manual Prático de Alimentação da SMADS e com participação dos usuários do serviço
B17: Produtos ou resultados | D17: 3.3 Execução das atividades previstas no Plano de Ação Semestral, compreendendo todas as suas dimensões.
B18: Produtos ou resultados | D18: 3.4 Implantação de mecanismos de apuração da satisfação dos usuários do serviço e de canais de participação dos usuários na elaboração do Plano de Ação
B19: Recursos humanos | D19: 4.1 Percentual de profissionais que participaram de ao menos uma capacitação/ atualização de conhecimento no semestre, ofertada pela OSC, pela SMADS ou outras instituições
B20: Recursos humanos | D20: 4.2 Adequação da força de trabalho, no semestre, ao quadro de recursos humanos previsto na legislação concernente à tipificação
B21: PRINCIPAIS AÇÕES EFETUADAS PARA ATINGIMENTO DAS METAS E DO OBJETO DA PARCERIA
B22: DIMENSÃO | D22: INDICADORES SEMESTRAIS | F22: Descreva sucintamente as ações efetuadas com vistas à implantação do projeto, comparando-se o previsto no plano de trabalho aprovado com o efetivamente executado
B23: Estrutura física e administrativa | D23: Cômodos e mobiliários estão sendo utilizados no semestre conforme o aprovado no Plano de Trabalho
B24: Estrutura física e administrativa | D24: Disponibilidade de materiais e artigos socioeducativos, pedagógicos, lúdicos e esportivos para realização das atividades, bem como de insumos que garantam as ofertas específicas da tipologia do serviço, previstos no Plano de Trabalho
B25: Estrutura física e administrativa | D25: Cômodos e mobiliários se encontram em perfeitas condições de uso
B26: Serviços, processos ou atividades | D26: Percentual de Relatórios, Prontuários, Plano de Desenvolvimento do Usuário- PDU (usuários da PSB) / Plano Individual de Atendimento - PIA (usuários da PSE) / Plano de Desenvolvimento Familiar - PDF elaborados ou atualizados no semestre
B27: Produtos ou resultados | D27: Número de usuários atendidos / capacidade parceirizada do serviço
B28: Produtos ou resultados | D28: Cardápio elaborado nos termos do Manual Prático de Alimentação da SMADS e com participação dos usuários do serviço
B29: Produtos ou resultados | D29: Execução das atividades previstas no Plano de Ação Semestral, compreendendo todas as suas dimensões.
B30: Produtos ou resultados | D30: Implantação de mecanismos de apuração da satisfação dos usuários do serviço e de canais de participação dos usuários na elaboração do Plano de Ação
B31: Recursos humanos | D31: Percentual de profissionais que participaram de ao menos uma capacitação/ atualização de conhecimento no semestre, ofertada pela OSC, pela SMADS ou outras instituições
B32: Recursos humanos | D32: Adequação da força de trabalho, no semestre, ao quadro de recursos humanos previsto na legislação concernente à tipificação
B33: LISTAGEM DE MATERIAIS COMPROBATÓRIOS DO CUMPRIMENTO DOS OBJETIVOS EM FOTOS, VÍDEOS OU OUTROS SUPORTES ENVIADOS EM ANEXO
B34: Liste o material comprobatório anexado, quando houver.
B35: 1.
B36: 2.
B37: 3.
B38: 4.
B39: 5.
B40: RELAÇÃO DE BENS PERMANENTES ADQUIRIDOS, PRODUZIDOS OU CONSTRUÍDOS COM RECURSOS DA PARCERIA
B41: Liste os bens permanentes adquidos, produzidos ou construídos no período, quando houver.
B42: 1.
B43: 2.
B44: 3.
... B47: RESPONSÁVEL PELA AVALIAÇÃO
B48: Nome do gerente do serviço | E48: Assinatura do gerente do serviço | G48: Data
B49: Informo que as informações prestadas por mim neste documento são fiéis às ações e atividades prestadas pelo serviço no período avaliado, estando à disposição da Prefeitura Municipal de São Paulo sempre que necessário.

Sheet Rel_Final_Exec_Obj
B1: RELATÓRIO DE EXECUÇÃO DO OBJETO DA PARCERIA – FINAL
B2: DADOS DA ORGANIZAÇÃO DA SOCIEDADE CIVIL PARCEIRA (OSC)
B3: Nome da OSC | E3: Número do Processo | P3: SAS
B4: Nome Fantasia | E4: Número do Termo de Parceria | P4: Distrito
B5: Tipologia | E5: Início do Termo de Parceria | P5: Média da Capacidade Contratada
B6: CNPJ | E6: Vigência do Termo de Parceria | P6: RELATÓRIO FINAL
B7: DEMONSTRAÇÃO DO ALCANCE DAS METAS
B8: RESULTADO FINAL | O8: Média: | P8: =(Formulas!W23)/100 -> 0 | Q8: =Formulas!W25 -> Insuficiente
B9: DIMENSÃO | D9: INDICADORES SEMESTRAIS | F9: RESULTADO DA META | P9: JUSTIFICATIVAS PARA METAS NÃO ATINGIDAS
F10: 1º semestre | G10: 2º semestre | H10: 3º semestre | I10: 4º semestre | J10: 5º semestre | K10: 6º semestre | L10: 7º semestre | M10: 8º semestre | N10: 9º semestre | O10: 10º semestre
B11: Estrutura física e administrativa | D11: Cômodos e mobiliários estão sendo utilizados no semestre conforme o aprovado no Plano de Trabalho | F11: =Rel_Parc_Exec_Obj_1º_sem!$F$11 -> 0 | G11: =Rel_Parc_Exec_Obj_2º_sem!$F$11 -> 0 | H11: =Rel_Parc_Exec_Obj_3º_sem!$F$11 -> 0 | I11: =Rel_Parc_Exec_Obj_4º_sem!$F$11 -> 0 | J11: =Rel_Parc_Exec_Obj_5º_sem!$F$11 -> 0 | K11: =Rel_Parc_Exec_Obj_6º_sem!$F$11 -> 0 | L11: =Rel_Parc_Exec_Obj_7º_sem!$F$11 -> 0 | M11: =Rel_Parc_Exec_Obj_8º_sem!$F$11 -> 0 | N11: =Rel_Parc_Exec_Obj_9º_sem!$F$11 -> 0 | O11: =Rel_Parc_Exec_Obj_10º_sem!$F$11 -> 0
B12: Estrutura física e administrativa | D12: Disponibilidade de materiais e artigos socioeducativos, pedagógicos, lúdicos e esportivos para realização das atividades, bem como de insumos que garantam as ofertas específicas da tipologia do serviço, previstos no Plano de Trabalho | F12: =Rel_Parc_Exec_Obj_1º_sem!$F$12 -> 0 | G12: =Rel_Parc_Exec_Obj_2º_sem!$F$12 -> 0 | H12: =Rel_Parc_Exec_Obj_3º_sem!$F$12 -> 0 | I12: =Rel_Parc_Exec_Obj_4º_sem!$F$12 -> 0 | J12: =Rel_Parc_Exec_Obj_5º_sem!$F$12 -> 0 | K12: =Rel_Parc_Exec_Obj_6º_sem!$F$12 -> 0 | L12: =Rel_Parc_Exec_Obj_7º_sem!$F$12 -> 0 | M12: =Rel_Parc_Exec_Obj_8º_sem!$F$12 -> 0 | N12: =Rel_Parc_Exec_Obj_9º_sem!$F$12 -> 0 | O12: =Rel_Parc_Exec_Obj_10º_sem!$F$12 -> 0
B13: Estrutura física e administrativa | D13: Cômodos e mobiliários se encontram em perfeitas condições de uso | F13: =Rel_Parc_Exec_Obj_1º_sem!$F$13 -> 0 | G13: =Rel_Parc_Exec_Obj_2º_sem!$F$13 -> 0 | H13: =Rel_Parc_Exec_Obj_3º_sem!$F$13 -> 0 | I13: =Rel_Parc_Exec_Obj_4º_sem!$F$13 -> 0 | J13: =Rel_Parc_Exec_Obj_5º_sem!$F$13 -> 0 | K13: =Rel_Parc_Exec_Obj_6º_sem!$F$13 -> 0 | L13: =Rel_Parc_Exec_Obj_7º_sem!$F$13 -> 0 | M13: =Rel_Parc_Exec_Obj_8º_sem!$F$13 -> 0 | N13: =Rel_Parc_Exec_Obj_9º_sem!$F$13 -> 0 | O13: =Rel_Parc_Exec_Obj_10º_sem!$F$13 -> 0
B14: Serviços, processos ou atividades | D14: Percentual de Relatórios, Prontuários, Plano de Desenvolvimento do Usuário- PDU (usuários da PSB) / Plano Individual de Atendimento - PIA (usuários da PSE) / Plano de Desenvolvimento Familiar - PDF elaborados ou atualizados no semestre | F14: =Rel_Parc_Exec_Obj_1º_sem!$F$14 -> 0 | G14: =Rel_Parc_Exec_Obj_2º_sem!$F$14 -> 0 | H14: =Rel_Parc_Exec_Obj_3º_sem!$F$14 -> 0 | I14: =Rel_Parc_Exec_Obj_4º_sem!$F$14 -> 0 | J14: =Rel_Parc_Exec_Obj_5º_sem!$F$14 -> 0 | K14: =Rel_Parc_Exec_Obj_6º_sem!$F$14 -> 0 | L14: =Rel_Parc_Exec_Obj_7º_sem!$F$14 -> 0 | M14: =Rel_Parc_Exec_Obj_8º_sem!$F$14 -> 0 | N14: =Rel_Parc_Exec_Obj_9º_sem!$F$14 -> 0 | O14: =Rel_Parc_Exec_Obj_10º_sem!$F$14 -> 0
B15: Produtos ou resultados | D15: Número de usuários atendidos / capacidade parceirizada do serviço | F15: =Rel_Parc_Exec_Obj_1º_sem!$F$15 -> 0 | G15: =Rel_Parc_Exec_Obj_2º_sem!$F$15 -> 0 | H15: =Rel_Parc_Exec_Obj_3º_sem!$F$15 -> 0 | I15: =Rel_Parc_Exec_Obj_4º_sem!$F$15 -> 0 | J15: =Rel_Parc_Exec_Obj_5º_sem!$F$15 -> 0 | K15: =Rel_Parc_Exec_Obj_6º_sem!$F$15 -> 0 | L15: =Rel_Parc_Exec_Obj_7º_sem!$F$15 -> 0 | M15: =Rel_Parc_Exec_Obj_8º_sem!$F$15 -> 0 | N15: =Rel_Parc_Exec_Obj_9º_sem!$F$15 -> 0 | O15: =Rel_Parc_Exec_Obj_10º_sem!$F$15 -> 0
B16: Produtos ou resultados | D16: Cardápio elaborado nos termos do Manual Prático de Alimentação da SMADS e com participação dos usuários do serviço | F16: =Rel_Parc_Exec_Obj_1º_sem!$F$16 -> 0 | G16: =Rel_Parc_Exec_Obj_2º_sem!$F$16 -> 0 | H16: =Rel_Parc_Exec_Obj_3º_sem!$F$16 -> 0 | I16: =Rel_Parc_Exec_Obj_4º_sem!$F$16 -> 0 | J16: =Rel_Parc_Exec_Obj_5º_sem!$F$16 -> 0 | K16: =Rel_Parc_Exec_Obj_6º_sem!$F$16 -> 0 | L16: =Rel_Parc_Exec_Obj_7º_sem!$F$16 -> 0 | M16: =Rel_Parc_Exec_Obj_8º_sem!$F$16 -> 0 | N16: =Rel_Parc_Exec_Obj_9º_sem!$F$16 -> 0 | O16: =Rel_Parc_Exec_Obj_10º_sem!$F$16 -> 0
B17: Produtos ou resultados | D17: Execução das atividades previstas no Plano de Ação Semestral, compreendendo todas as suas dimensões. | F17: =Rel_Parc_Exec_Obj_1º_sem!$F$17 -> 0 | G17: =Rel_Parc_Exec_Obj_2º_sem!$F$17 -> 0 | H17: =Rel_Parc_Exec_Obj_3º_sem!$F$17 -> 0 | I17: =Rel_Parc_Exec_Obj_4º_sem!$F$17 -> 0 | J17: =Rel_Parc_Exec_Obj_5º_sem!$F$17 -> 0 | K17: =Rel_Parc_Exec_Obj_6º_sem!$F$17 -> 0 | L17: =Rel_Parc_Exec_Obj_7º_sem!$F$17 -> 0 | M17: =Rel_Parc_Exec_Obj_8º_sem!$F$17 -> 0 | N17: =Rel_Parc_Exec_Obj_9º_sem!$F$17 -> 0 | O17: =Rel_Parc_Exec_Obj_10º_sem!$F$17 -> 0
B18: Produtos ou resultados | D18: Implantação de mecanismos de apuração da satisfação dos usuários do serviço e de canais de participação dos usuários na elaboração do Plano de Ação | F18: =Rel_Parc_Exec_Obj_1º_sem!$F$18 -> 0 | G18: =Rel_Parc_Exec_Obj_2º_sem!$F$18 -> 0 | H18: =Rel_Parc_Exec_Obj_3º_sem!$F$18 -> 0 | I18: =Rel_Parc_Exec_Obj_4º_sem!$F$18 -> 0 | J18: =Rel_Parc_Exec_Obj_5º_sem!$F$18 -> 0 | K18: =Rel_Parc_Exec_Obj_6º_sem!$F$18 -> 0 | L18: =Rel_Parc_Exec_Obj_7º_sem!$F$18 -> 0 | M18: =Rel_Parc_Exec_Obj_8º_sem!$F$18 -> 0 | N18: =Rel_Parc_Exec_Obj_9º_sem!$F$18 -> 0 | O18: =Rel_Parc_Exec_Obj_10º_sem!$F$18 -> 0
B19: Recursos humanos | D19: Percentual de profissionais que participaram de ao menos uma capacitação/ atualização de conhecimento no semestre, ofertada pela OSC, pela SMADS ou outras instituições | F19: =Rel_Parc_Exec_Obj_1º_sem!$F$19 -> 0 | G19: =Rel_Parc_Exec_Obj_2º_sem!$F$19 -> 0 | H19: =Rel_Parc_Exec_Obj_3º_sem!$F$19 -> 0 | I19: =Rel_Parc_Exec_Obj_4º_sem!$F$19 -> 0 | J19: =Rel_Parc_Exec_Obj_5º_sem!$F$19 -> 0 | K19: =Rel_Parc_Exec_Obj_6º_sem!$F$19 -> 0 | L19: =Rel_Parc_Exec_Obj_7º_sem!$F$19 -> 0 | M19: =Rel_Parc_Exec_Obj_8º_sem!$F$19 -> 0 | N19: =Rel_Parc_Exec_Obj_9º_sem!$F$19 -> 0 | O19: =Rel_Parc_Exec_Obj_10º_sem!$F$19 -> 0
B20: Recursos humanos | D20: Adequação da força de trabalho, no semestre, ao quadro de recursos humanos previsto na legislação concernente à tipificação | F20: =Rel_Parc_Exec_Obj_1º_sem!$F$20 -> 0 | G20: =Rel_Parc_Exec_Obj_2º_sem!$F$20 -> 0 | H20: =Rel_Parc_Exec_Obj_3º_sem!$F$20 -> 0 | I20: =Rel_Parc_Exec_Obj_4º_sem!$F$20 -> 0 | J20: =Rel_Parc_Exec_Obj_5º_sem!$F$20 -> 0 | K20: =Rel_Parc_Exec_Obj_6º_sem!$F$20 -> 0 | L20: =Rel_Parc_Exec_Obj_7º_sem!$F$20 -> 0 | M20: =Rel_Parc_Exec_Obj_8º_sem!$F$20 -> 0 | N20: =Rel_Parc_Exec_Obj_9º_sem!$F$20 -> 0 | O20: =Rel_Parc_Exec_Obj_10º_sem!$F$20 -> 0
B21: PRINCIPAIS AÇÕES EFETUADAS PARA ATINGIMENTO DAS METAS E DO OBJETO DA PARCERIA
B22: Descreva sucintamente as ações efetuadas com vistas à implantação do serviço/projeto, comparando-se o previsto no plano de trabalho aprovado com o efetivamente executado
B23: 1.
B24: 2.
B25: 3.
B26: 4.
B27: 5.
B28: 6.
B29: 7.
B30: 8.
B31: 9.
B32: 10.
... B52: RESPONSÁVEL PELA AVALIAÇÃO
B53: Nome do gerente do serviço | E53: Assinatura do gerente do serviço | P53: Data
B54: Declaro que as informações prestadas por mim neste documento são fiéis às ações e atividades prestadas pelo serviço no período avaliado, estando à disposição da Prefeitura Municipal de São Paulo sempre que necessário.

Sheet Formulas
D1: 1º semestre | H1: 2º semestre | L1: 3º semestre | P1: 4º semestre | T1: 5º semestre | X1: 6º semestre | AB1: 7º semestre | AF1: 8º semestre | AJ1: 9º semestre | AN1: 10º semestre
D2: Cálculos | H2: Cálculos | L2: Cálculos | P2: Cálculos | T2: Cálculos | X2: Cálculos | AB2: Cálculos | AF2: Cálculos | AJ2: Cálculos | AN2: Cálculos
A3: Cômodos e mobiliários estão sendo utilizados no semestre conforme o aprovado no Plano de Trabalho | D3: =IF(Rel_Parc_Exec_Obj_1º_sem!$F11="4 - Superior",4,IF(Rel_Parc_Exec_Obj_1º_sem!$F11="1 - Insuficiente",1,IF(Rel_Parc_Exec_Obj_1º_sem!$F11="2 - Insatisfatório",2,IF(Rel_Parc_Exec_Obj_1º_sem!$F11="3 - Suficiente",3,0)))) -> 0 | F3: =IF(Rel_Parc_Exec_Obj_1º_sem!C5="Autonomia em Foco",36,IF(Rel_Parc_Exec_Obj_1º_sem!C5="Bagageiro",20,IF(Rel_Parc_Exec_Obj_1º_sem!C5="Família Acolhedora",32,IF(Rel_Parc_Exec_Obj_1º_sem!C5="Família em foco",36,IF(Rel_Parc_Exec_Obj_1º_sem!C5="NPJ - Núcleo de Proteção Jurídico Social e Apoio Psicológico",32,IF(Rel_Parc_Exec_Obj_1º_sem!C5="República",36,IF(Rel_Parc_Exec_Obj_1º_sem!C5="SEAS - Serviço de Abordagem Social à População de Rua",28,IF(Rel_Parc_Exec_Obj_1º_sem!C5="Serviço de Alimentação Domiciliar para a Pessoa Idosa",36,IF(Rel_Parc_Exec_Obj_1º_sem!C5="Serviço de Inclusão Social e Produtiva",36,IF(Rel_Parc_Exec_Obj_1º_sem!C5="Serviço Proteção Social Básica no Domicílio para Pessoas com Deficiência e Idosas",32,40)))))))))) -> 40 | G3: 100 | H3: =IF(Rel_Parc_Exec_Obj_2º_sem!F11="4 - Superior",4,IF(Rel_Parc_Exec_Obj_2º_sem!F11="1 - Insuficiente",1,IF(Rel_Parc_Exec_Obj_2º_sem!F11="2 - Insatisfatório",2,IF(Rel_Parc_Exec_Obj_2º_sem!F11="3 - Suficiente",3,0)))) -> 0 | J3: =IF(Rel_Parc_Exec_Obj_2º_sem!C5="Autonomia em Foco",36,IF(Rel_Parc_Exec_Obj_2º_sem!C5="Bagageiro",20,IF(Rel_Parc_Exec_Obj_2º_sem!C5="Família Acolhedora",32,IF(Rel_Parc_Exec_Obj_2º_sem!C5="Família em foco",36,IF(Rel_Parc_Exec_Obj_2º_sem!C5="NPJ - Núcleo de Proteção Jurídico Social e Apoio Psicológico",32,IF(Rel_Parc_Exec_Obj_2º_sem!C5="República",36,IF(Rel_Parc_Exec_Obj_2º_sem!C5="SEAS - Serviço de Abordagem Social à População de Rua",28,IF(Rel_Parc_Exec_Obj_2º_sem!C5="Serviço de Alimentação Domiciliar para a Pessoa Idosa",36,IF(Rel_Parc_Exec_Obj_2º_sem!C5="Serviço de Inclusão Social e Produtiva",36,IF(Rel_Parc_Exec_Obj_2º_sem!C5="Serviço Proteção Social Básica no Domicílio para Pessoas com Deficiência e Idosas",32,40)))))))))) -> 40 | K3: 100 | L3: =IF(Rel_Parc_Exec_Obj_3º_sem!F11="4 - Superior",4,IF(Rel_Parc_Exec_Obj_3º_sem!F11="1 - Insuficiente",1,IF(Rel_Parc_Exec_Obj_3º_sem!F11="2 - Insatisfatório",2,IF(Rel_Parc_Exec_Obj_3º_sem!F11="3 - Suficiente",3,0)))) -> 0 | N3: =IF(Rel_Parc_Exec_Obj_3º_sem!C5="Autonomia em Foco",36,IF(Rel_Parc_Exec_Obj_3º_sem!C5="Bagageiro",20,IF(Rel_Parc_Exec_Obj_3º_sem!C5="Família Acolhedora",32,IF(Rel_Parc_Exec_Obj_3º_sem!C5="Família em foco",36,IF(Rel_Parc_Exec_Obj_3º_sem!C5="NPJ - Núcleo de Proteção Jurídico Social e Apoio Psicológico",32,IF(Rel_Parc_Exec_Obj_3º_sem!C5="República",36,IF(Rel_Parc_Exec_Obj_3º_sem!C5="SEAS - Serviço de Abordagem Social à População de Rua",28,IF(Rel_Parc_Exec_Obj_3º_sem!C5="Serviço de Alimentação Domiciliar para a Pessoa Idosa",36,IF(Rel_Parc_Exec_Obj_3º_sem!C5="Serviço de Inclusão Social e Produtiva",36,IF(Rel_Parc_Exec_Obj_3º_sem!C5="Serviço Proteção Social Básica no Domicílio para Pessoas com Deficiência e Idosas",32,40)))))))))) -> 40 | O3: 100 | P3: =IF(Rel_Parc_Exec_Obj_4º_sem!F11="4 - Superior",4,IF(Rel_Parc_Exec_Obj_4º_sem!F11="1 - Insuficiente",1,IF(Rel_Parc_Exec_Obj_4º_sem!F11="2 - Insatisfatório",2,IF(Rel_Parc_Exec_Obj_4º_sem!F11="3 - Suficiente",3,0)))) -> 0 | R3: =IF(Rel_Parc_Exec_Obj_4º_sem!C5="Autonomia em Foco",36,IF(Rel_Parc_Exec_Obj_4º_sem!C5="Bagageiro",20,IF(Rel_Parc_Exec_Obj_4º_sem!C5="Família Acolhedora",32,IF(Rel_Parc_Exec_Obj_4º_sem!C5="Família em foco",36,IF(Rel_Parc_Exec_Obj_4º_sem!C5="NPJ - Núcleo de Proteção Jurídico Social e Apoio Psicológico",32,IF(Rel_Parc_Exec_Obj_4º_sem!C5="República",36,IF(Rel_Parc_Exec_Obj_4º_sem!C5="SEAS - Serviço de Abordagem Social à População de Rua",28,IF(Rel_Parc_Exec_Obj_4º_sem!C5="Serviço de Alimentação Domiciliar para a Pessoa Idosa",36,IF(Rel_Parc_Exec_Obj_4º_sem!C5="Serviço de Inclusão Social e Produtiva",36,IF(Rel_Parc_Exec_Obj_4º_sem!C5="Serviço Proteção Social Básica no Domicílio para Pessoas com Deficiência e Idosas",32,40)))))))))) -> 40 | S3: 100 | T3: =IF(Rel_Parc_Exec_Obj_5º_sem!F11="4 - Superior",4,IF(Rel_Parc_Exec_Obj_5º_sem!F11="1 - Insuficiente",1,IF(Rel_Parc_Exec_Obj_5º_sem!F11="2 - Insatisfatório",2,IF(Rel_Parc_Exec_Obj_5º_sem!F11="3 - Suficiente",3,0)))) -> 0 | V3: =IF(Rel_Parc_Exec_Obj_5º_sem!C5="Autonomia em Foco",36,IF(Rel_Parc_Exec_Obj_5º_sem!C5="Bagageiro",20,IF(Rel_Parc_Exec_Obj_5º_sem!C5="Família Acolhedora",32,IF(Rel_Parc_Exec_Obj_5º_sem!C5="Família em foco",36,IF(Rel_Parc_Exec_Obj_5º_sem!C5="NPJ - Núcleo de Proteção Jurídico Social e Apoio Psicológico",32,IF(Rel_Parc_Exec_Obj_5º_sem!C5="República",36,IF(Rel_Parc_Exec_Obj_5º_sem!C5="SEAS - Serviço de Abordagem Social à População de Rua",28,IF(Rel_Parc_Exec_Obj_5º_sem!C5="Serviço de Alimentação Domiciliar para a Pessoa Idosa",36,IF(Rel_Parc_Exec_Obj_5º_sem!C5="Serviço de Inclusão Social e Produtiva",36,IF(Rel_Parc_Exec_Obj_5º_sem!C5="Serviço Proteção Social Básica no Domicílio para Pessoas com Deficiência e Idosas",32,40)))))))))) -> 40 | W3: 100 | X3: =IF(Rel_Parc_Exec_Obj_6º_sem!F11="4 - Superior",4,IF(Rel_Parc_Exec_Obj_6º_sem!F11="1 - Insuficiente",1,IF(Rel_Parc_Exec_Obj_6º_sem!F11="2 - Insatisfatório",2,IF(Rel_Parc_Exec_Obj_6º_sem!F11="3 - Suficiente",3,0)))) -> 0 | Z3: =IF(Rel_Parc_Exec_Obj_6º_sem!C5="Autonomia em Foco",36,IF(Rel_Parc_Exec_Obj_6º_sem!C5="Bagageiro",20,IF(Rel_Parc_Exec_Obj_6º_sem!C5="Família Acolhedora",32,IF(Rel_Parc_Exec_Obj_6º_sem!C5="Família em foco",36,IF(Rel_Parc_Exec_Obj_6º_sem!C5="NPJ - Núcleo de Proteção Jurídico Social e Apoio Psicológico",32,IF(Rel_Parc_Exec_Obj_6º_sem!C5="República",36,IF(Rel_Parc_Exec_Obj_6º_sem!C5="SEAS - Serviço de Abordagem Social à População de Rua",28,IF(Rel_Parc_Exec_Obj_6º_sem!C5="Serviço de Alimentação Domiciliar para a Pessoa Idosa",36,IF(Rel_Parc_Exec_Obj_6º_sem!C5="Serviço de Inclusão Social e Produtiva",36,IF(Rel_Parc_Exec_Obj_6º_sem!C5="Serviço Proteção Social Básica no Domicílio para Pessoas com Deficiência e Idosas",32,40)))))))))) -> 40 | AA3: 100 | AB3: =IF(Rel_Parc_Exec_Obj_7º_sem!F11="4 - Superior",4,IF(Rel_Parc_Exec_Obj_7º_sem!F11="1 - Insuficiente",1,IF(Rel_Parc_Exec_Obj_7º_sem!F11="2 - Insatisfatório",2,IF(Rel_Parc_Exec_Obj_7º_sem!F11="3 - Suficiente",3,0)))) -> 0 | AD3: =IF(Rel_Parc_Exec_Obj_7º_sem!C5="Autonomia em Foco",36,IF(Rel_Parc_Exec_Obj_7º_sem!C5="Bagageiro",20,IF(Rel_Parc_Exec_Obj_7º_sem!C5="Família Acolhedora",32,IF(Rel_Parc_Exec_Obj_7º_sem!C5="Família em foco",36,IF(Rel_Parc_Exec_Obj_7º_sem!C5="NPJ - Núcleo de Proteção Jurídico Social e Apoio Psicológico",32,IF(Rel_Parc_Exec_Obj_7º_sem!C5="República",36,IF(Rel_Parc_Exec_Obj_7º_sem!C5="SEAS - Serviço de Abordagem Social à População de Rua",28,IF(Rel_Parc_Exec_Obj_7º_sem!C5="Serviço de Alimentação Domiciliar para a Pessoa Idosa",36,IF(Rel_Parc_Exec_Obj_7º_sem!C5="Serviço de Inclusão Social e Produtiva",36,IF(Rel_Parc_Exec_Obj_7º_sem!C5="Serviço Proteção Social Básica no Domicílio para Pessoas com Deficiência e Idosas",32,40)))))))))) -> 40 | AE3: 100 | AF3: =IF(Rel_Parc_Exec_Obj_8º_sem!F11="4 - Superior",4,IF(Rel_Parc_Exec_Obj_8º_sem!F11="1 - Insuficiente",1,IF(Rel_Parc_Exec_Obj_8º_sem!F11="2 - Insatisfatório",2,IF(Rel_Parc_Exec_Obj_8º_sem!F11="3 - Suficiente",3,0)))) -> 0 | AH3: =IF(Rel_Parc_Exec_Obj_8º_sem!C5="Autonomia em Foco",36,IF(Rel_Parc_Exec_Obj_8º_sem!C5="Bagageiro",20,IF(Rel_Parc_Exec_Obj_8º_sem!C5="Família Acolhedora",32,IF(Rel_Parc_Exec_Obj_8º_sem!C5="Família em foco",36,IF(Rel_Parc_Exec_Obj_8º_sem!C5="NPJ - Núcleo de Proteção Jurídico Social e Apoio Psicológico",32,IF(Rel_Parc_Exec_Obj_8º_sem!C5="República",36,IF(Rel_Parc_Exec_Obj_8º_sem!C5="SEAS - Serviço de Abordagem Social à População de Rua",28,IF(Rel_Parc_Exec_Obj_8º_sem!C5="Serviço de Alimentação Domiciliar para a Pessoa Idosa",36,IF(Rel_Parc_Exec_Obj_8º_sem!C5="Serviço de Inclusão Social e Produtiva",36,IF(Rel_Parc_Exec_Obj_8º_sem!C5="Serviço Proteção Social Básica no Domicílio para Pessoas com Deficiência e Idosas",32,40)))))))))) -> 40 | AI3: 100 | AJ3: =IF(Rel_Parc_Exec_Obj_9º_sem!F11="4 - Superior",4,IF(Rel_Parc_Exec_Obj_9º_sem!F11="1 - Insuficiente",1,IF(Rel_Parc_Exec_Obj_9º_sem!F11="2 - Insatisfatório",2,IF(Rel_Parc_Exec_Obj_9º_sem!F11="3 - Suficiente",3,0)))) -> 0 | AL3: =IF(Rel_Parc_Exec_Obj_9º_sem!C5="Autonomia em Foco",36,IF(Rel_Parc_Exec_Obj_9º_sem!C5="Bagageiro",20,IF(Rel_Parc_Exec_Obj_9º_sem!C5="Família Acolhedora",32,IF(Rel_Parc_Exec_Obj_9º_sem!C5="Família em foco",36,IF(Rel_Parc_Exec_Obj_9º_sem!C5="NPJ - Núcleo de Proteção Jurídico Social e Apoio Psicológico",32,IF(Rel_Parc_Exec_Obj_9º_sem!C5="República",36,IF(Rel_Parc_Exec_Obj_9º_sem!C5="SEAS - Serviço de Abordagem Social à População de Rua",28,IF(Rel_Parc_Exec_Obj_9º_sem!C5="Serviço de Alimentação Domiciliar para a Pessoa Idosa",36,IF(Rel_Parc_Exec_Obj_9º_sem!C5="Serviço de Inclusão Social e Produtiva",36,IF(Rel_Parc_Exec_Obj_9º_sem!C5="Serviço Proteção Social Básica no Domicílio para Pessoas com Deficiência e Idosas",32,40)))))))))) -> 40 | AM3: 100 | AN3: =IF(Rel_Parc_Exec_Obj_10º_sem!F11="4 - Superior",4,IF(Rel_Parc_Exec_Obj_10º_sem!F11="1 - Insuficiente",1,IF(Rel_Parc_Exec_Obj_10º_sem!F11="2 - Insatisfatório",2,IF(Rel_Parc_Exec_Obj_10º_sem!F11="3 - Suficiente",3,0)))) -> 0 | AP3: =IF(Rel_Parc_Exec_Obj_10º_sem!C5="Autonomia em Foco",36,IF(Rel_Parc_Exec_Obj_10º_sem!C5="Bagageiro",20,IF(Rel_Parc_Exec_Obj_10º_sem!C5="Família Acolhedora",32,IF(Rel_Parc_Exec_Obj_10º_sem!C5="Família em foco",36,IF(Rel_Parc_Exec_Obj_10º_sem!C5="NPJ - Núcleo de Proteção Jurídico Social e Apoio Psicológico",32,IF(Rel_Parc_Exec_Obj_10º_sem!C5="República",36,IF(Rel_Parc_Exec_Obj_10º_sem!C5="SEAS - Serviço de Abordagem Social à População de Rua",28,IF(Rel_Parc_Exec_Obj_10º_sem!C5="Serviço de Alimentação Domiciliar para a Pessoa Idosa",36,IF(Rel_Parc_Exec_Obj_10º_sem!C5="Serviço de Inclusão Social e Produtiva",36,IF(Rel_Parc_Exec_Obj_10º_sem!C5="Serviço Proteção Social Básica no Domicílio para Pessoas com Deficiência e Idosas",32,40)))))))))) -> 40 | AQ3: 100
A4: Disponibilidade de materiais e artigos socioeducativos, pedagógicos, lúdicos e esportivos para realização das atividades, bem como de insumos que garantam as ofertas específicas da tipologia do serviço, previstos no Plano de Trabalho | D4: =IF(Rel_Parc_Exec_Obj_1º_sem!F12="4 - Superior",4,IF(Rel_Parc_Exec_Obj_1º_sem!F12="1 - Insuficiente",1,IF(Rel_Parc_Exec_Obj_1º_sem!F12="2 - Insatisfatório",2,IF(Rel_Parc_Exec_Obj_1º_sem!F12="3 - Suficiente",3,0)))) -> 0 | F4: =D13 -> 0 | G4: 1 | H4: =IF(Rel_Parc_Exec_Obj_2º_sem!F12="4 - Superior",4,IF(Rel_Parc_Exec_Obj_2º_sem!F12="1 - Insuficiente",1,IF(Rel_Parc_Exec_Obj_2º_sem!F12="2 - Insatisfatório",2,IF(Rel_Parc_Exec_Obj_2º_sem!F12="3 - Suficiente",3,0)))) -> 0 | J4: =H13 -> 0 | K4: 1 | L4: =IF(Rel_Parc_Exec_Obj_3º_sem!F12="4 - Superior",4,IF(Rel_Parc_Exec_Obj_3º_sem!F12="1 - Insuficiente",1,IF(Rel_Parc_Exec_Obj_3º_sem!F12="2 - Insatisfatório",2,IF(Rel_Parc_Exec_Obj_3º_sem!F12="3 - Suficiente",3,0)))) -> 0 | N4: =L13 -> 0 | O4: 1 | P4: =IF(Rel_Parc_Exec_Obj_4º_sem!F12="4 - Superior",4,IF(Rel_Parc_Exec_Obj_4º_sem!F12="1 - Insuficiente",1,IF(Rel_Parc_Exec_Obj_4º_sem!F12="2 - Insatisfatório",2,IF(Rel_Parc_Exec_Obj_4º_sem!F12="3 - Suficiente",3,0)))) -> 0 | R4: =P13 -> 0 | S4: 1 | T4: =IF(Rel_Parc_Exec_Obj_5º_sem!F12="4 - Superior",4,IF(Rel_Parc_Exec_Obj_5º_sem!F12="1 - Insuficiente",1,IF(Rel_Parc_Exec_Obj_5º_sem!F12="2 - Insatisfatório",2,IF(Rel_Parc_Exec_Obj_5º_sem!F12="3 - Suficiente",3,0)))) -> 0 | V4: =T13 -> 0 | W4: 1 | X4: =IF(Rel_Parc_Exec_Obj_6º_sem!F12="4 - Superior",4,IF(Rel_Parc_Exec_Obj_6º_sem!F12="1 - Insuficiente",1,IF(Rel_Parc_Exec_Obj_6º_sem!F12="2 - Insatisfatório",2,IF(Rel_Parc_Exec_Obj_6º_sem!F12="3 - Suficiente",3,0)))) -> 0 | Z4: =X13 -> 0 | AA4: 1 | AB4: =IF(Rel_Parc_Exec_Obj_7º_sem!F12="4 - Superior",4,IF(Rel_Parc_Exec_Obj_7º_sem!F12="1 - Insuficiente",1,IF(Rel_Parc_Exec_Obj_7º_sem!F12="2 - Insatisfatório",2,IF(Rel_Parc_Exec_Obj_7º_sem!F12="3 - Suficiente",3,0)))) -> 0 | AD4: =AB13 -> 0 | AE4: 1 | AF4: =IF(Rel_Parc_Exec_Obj_8º_sem!F12="4 - Superior",4,IF(Rel_Parc_Exec_Obj_8º_sem!F12="1 - Insuficiente",1,IF(Rel_Parc_Exec_Obj_8º_sem!F12="2 - Insatisfatório",2,IF(Rel_Parc_Exec_Obj_8º_sem!F12="3 - Suficiente",3,0)))) -> 0 | AH4: =AF13 -> 0 | AI4: 1 | AJ4: =IF(Rel_Parc_Exec_Obj_9º_sem!F12="4 - Superior",4,IF(Rel_Parc_Exec_Obj_9º_sem!F12="1 - Insuficiente",1,IF(Rel_Parc_Exec_Obj_9º_sem!F12="2 - Insatisfatório",2,IF(Rel_Parc_Exec_Obj_9º_sem!F12="3 - Suficiente",3,0)))) -> 0 | AL4: =AJ13 -> 0 | AM4: 1 | AN4: =IF(Rel_Parc_Exec_Obj_10º_sem!F12="4 - Superior",4,IF(Rel_Parc_Exec_Obj_10º_sem!F12="1 - Insuficiente",1,IF(Rel_Parc_Exec_Obj_10º_sem!F12="2 - Insatisfatório",2,IF(Rel_Parc_Exec_Obj_10º_sem!F12="3 - Suficiente",3,0)))) -> 0 | AP4: =AN13 -> 0 | AQ4: 1
A5: Cômodos e mobiliários se encontram em perfeitas condições de uso | D5: =IF(Rel_Parc_Exec_Obj_1º_sem!F13="4 - Superior",4,IF(Rel_Parc_Exec_Obj_1º_sem!F13="1 - Insuficiente",1,IF(Rel_Parc_Exec_Obj_1º_sem!F13="2 - Insatisfatório",2,IF(Rel_Parc_Exec_Obj_1º_sem!F13="3 - Suficiente",3,0)))) -> 0 | G5: =F4*G3 -> 0 | H5: =IF(Rel_Parc_Exec_Obj_2º_sem!F13="4 - Superior",4,IF(Rel_Parc_Exec_Obj_2º_sem!F13="1 - Insuficiente",1,IF(Rel_Parc_Exec_Obj_2º_sem!F13="2 - Insatisfatório",2,IF(Rel_Parc_Exec_Obj_2º_sem!F13="3 - Suficiente",3,0)))) -> 0 | K5: =J4*K3 -> 0 | L5: =IF(Rel_Parc_Exec_Obj_3º_sem!F13="4 - Superior",4,IF(Rel_Parc_Exec_Obj_3º_sem!F13="1 - Insuficiente",1,IF(Rel_Parc_Exec_Obj_3º_sem!F13="2 - Insatisfatório",2,IF(Rel_Parc_Exec_Obj_3º_sem!F13="3 - Suficiente",3,0)))) -> 0 | O5: =N4*O3 -> 0 | P5: =IF(Rel_Parc_Exec_Obj_4º_sem!F13="4 - Superior",4,IF(Rel_Parc_Exec_Obj_4º_sem!F13="1 - Insuficiente",1,IF(Rel_Parc_Exec_Obj_4º_sem!F13="2 - Insatisfatório",2,IF(Rel_Parc_Exec_Obj_4º_sem!F13="3 - Suficiente",3,0)))) -> 0 | S5: =R4*S3 -> 0 | T5: =IF(Rel_Parc_Exec_Obj_5º_sem!F13="4 - Superior",4,IF(Rel_Parc_Exec_Obj_5º_sem!F13="1 - Insuficiente",1,IF(Rel_Parc_Exec_Obj_5º_sem!F13="2 - Insatisfatório",2,IF(Rel_Parc_Exec_Obj_5º_sem!F13="3 - Suficiente",3,0)))) -> 0 | W5: =V4*W3 -> 0 | X5: =IF(Rel_Parc_Exec_Obj_6º_sem!F13="4 - Superior",4,IF(Rel_Parc_Exec_Obj_6º_sem!F13="1 - Insuficiente",1,IF(Rel_Parc_Exec_Obj_6º_sem!F13="2 - Insatisfatório",2,IF(Rel_Parc_Exec_Obj_6º_sem!F13="3 - Suficiente",3,0)))) -> 0 | AA5: =Z4*AA3 -> 0 | AB5: =IF(Rel_Parc_Exec_Obj_7º_sem!F13="4 - Superior",4,IF(Rel_Parc_Exec_Obj_7º_sem!F13="1 - Insuficiente",1,IF(Rel_Parc_Exec_Obj_7º_sem!F13="2 - Insatisfatório",2,IF(Rel_Parc_Exec_Obj_7º_sem!F13="3 - Suficiente",3,0)))) -> 0 | AE5: =AD4*AE3 -> 0 | AF5: =IF(Rel_Parc_Exec_Obj_8º_sem!F13="4 - Superior",4,IF(Rel_Parc_Exec_Obj_8º_sem!F13="1 - Insuficiente",1,IF(Rel_Parc_Exec_Obj_8º_sem!F13="2 - Insatisfatório",2,IF(Rel_Parc_Exec_Obj_8º_sem!F13="3 - Suficiente",3,0)))) -> 0 | AI5: =AH4*AI3 -> 0 | AJ5: =IF(Rel_Parc_Exec_Obj_9º_sem!F13="4 - Superior",4,IF(Rel_Parc_Exec_Obj_9º_sem!F13="1 - Insuficiente",1,IF(Rel_Parc_Exec_Obj_9º_sem!F13="2 - Insatisfatório",2,IF(Rel_Parc_Exec_Obj_9º_sem!F13="3 - Suficiente",3,0)))) -> 0 | AM5: =AL4*AM3 -> 0 | AN5: =IF(Rel_Parc_Exec_Obj_10º_sem!F13="4 - Superior",4,IF(Rel_Parc_Exec_Obj_10º_sem!F13="1 - Insuficiente",1,IF(Rel_Parc_Exec_Obj_10º_sem!F13="2 - Insatisfatório",2,IF(Rel_Parc_Exec_Obj_10º_sem!F13="3 - Suficiente",3,0)))) -> 0 | AQ5: =AP4*AQ3 -> 0
A6: Percentual de Relatórios, Prontuários, Plano de Desenvolvimento do Usuário- PDU (usuários da PSB) / Plano Individual de Atendimento - PIA (usuários da PSE) / Plano de Desenvolvimento Familiar - PDF elaborados ou atualizados no semestre | D6: =IF(Rel_Parc_Exec_Obj_1º_sem!F14="4 - Superior",4,IF(Rel_Parc_Exec_Obj_1º_sem!F14="1 - Insuficiente",1,IF(Rel_Parc_Exec_Obj_1º_sem!F14="2 - Insatisfatório",2,IF(Rel_Parc_Exec_Obj_1º_sem!F14="3 - Suficiente",3,0)))) -> 0 | G6: =F3*G4 -> 40 | H6: =IF(Rel_Parc_Exec_Obj_2º_sem!F14="4 - Superior",4,IF(Rel_Parc_Exec_Obj_2º_sem!F14="1 - Insuficiente",1,IF(Rel_Parc_Exec_Obj_2º_sem!F14="2 - Insatisfatório",2,IF(Rel_Parc_Exec_Obj_2º_sem!F14="3 - Suficiente",3,0)))) -> 0 | K6: =J3*K4 -> 40 | L6: =IF(Rel_Parc_Exec_Obj_3º_sem!F14="4 - Superior",4,IF(Rel_Parc_Exec_Obj_3º_sem!F14="1 - Insuficiente",1,IF(Rel_Parc_Exec_Obj_3º_sem!F14="2 - Insatisfatório",2,IF(Rel_Parc_Exec_Obj_3º_sem!F14="3 - Suficiente",3,0)))) -> 0 | O6: =N3*O4 -> 40 | P6: =IF(Rel_Parc_Exec_Obj_4º_sem!F14="4 - Superior",4,IF(Rel_Parc_Exec_Obj_4º_sem!F14="1 - Insuficiente",1,IF(Rel_Parc_Exec_Obj_4º_sem!F14="2 - Insatisfatório",2,IF(Rel_Parc_Exec_Obj_4º_sem!F14="3 - Suficiente",3,0)))) -> 0 | S6: =R3*S4 -> 40 | T6: =IF(Rel_Parc_Exec_Obj_5º_sem!F14="4 - Superior",4,IF(Rel_Parc_Exec_Obj_5º_sem!F14="1 - Insuficiente",1,IF(Rel_Parc_Exec_Obj_5º_sem!F14="2 - Insatisfatório",2,IF(Rel_Parc_Exec_Obj_5º_sem!F14="3 - Suficiente",3,0)))) -> 0 | W6: =V3*W4 -> 40 | X6: =IF(Rel_Parc_Exec_Obj_6º_sem!F14="4 - Superior",4,IF(Rel_Parc_Exec_Obj_6º_sem!F14="1 - Insuficiente",1,IF(Rel_Parc_Exec_Obj_6º_sem!F14="2 - Insatisfatório",2,IF(Rel_Parc_Exec_Obj_6º_sem!F14="3 - Suficiente",3,0)))) -> 0 | AA6: =Z3*AA4 -> 40 | AB6: =IF(Rel_Parc_Exec_Obj_7º_sem!F14="4 - Superior",4,IF(Rel_Parc_Exec_Obj_7º_sem!F14="1 - Insuficiente",1,IF(Rel_Parc_Exec_Obj_7º_sem!F14="2 - Insatisfatório",2,IF(Rel_Parc_Exec_Obj_7º_sem!F14="3 - Suficiente",3,0)))) -> 0 | AE6: =AD3*AE4 -> 40 | AF6: =IF(Rel_Parc_Exec_Obj_8º_sem!F14="4 - Superior",4,IF(Rel_Parc_Exec_Obj_8º_sem!F14="1 - Insuficiente",1,IF(Rel_Parc_Exec_Obj_8º_sem!F14="2 - Insatisfatório",2,IF(Rel_Parc_Exec_Obj_8º_sem!F14="3 - Suficiente",3,0)))) -> 0 | AI6: =AH3*AI4 -> 40 | AJ6: =IF(Rel_Parc_Exec_Obj_9º_sem!F14="4 - Superior",4,IF(Rel_Parc_Exec_Obj_9º_sem!F14="1 - Insuficiente",1,IF(Rel_Parc_Exec_Obj_9º_sem!F14="2 - Insatisfatório",2,IF(Rel_Parc_Exec_Obj_9º_sem!F14="3 - Suficiente",3,0)))) -> 0 | AM6: =AL3*AM4 -> 40 | AN6: =IF(Rel_Parc_Exec_Obj_10º_sem!F14="4 - Superior",4,IF(Rel_Parc_Exec_Obj_10º_sem!F14="1 - Insuficiente",1,IF(Rel_Parc_Exec_Obj_10º_sem!F14="2 - Insatisfatório",2,IF(Rel_Parc_Exec_Obj_10º_sem!F14="3 - Suficiente",3,0)))) -> 0 | AQ6: =AP3*AQ4 -> 40
A7: Número de usuários atendidos / capacidade parceirizada do serviço | D7: =IF(Rel_Parc_Exec_Obj_1º_sem!F15="4 - Superior",4,IF(Rel_Parc_Exec_Obj_1º_sem!F15="1 - Insuficiente",1,IF(Rel_Parc_Exec_Obj_1º_sem!F15="2 - Insatisfatório",2,IF(Rel_Parc_Exec_Obj_1º_sem!F15="3 - Suficiente",3,0)))) -> 0 | G7: =(G5/G6) -> 0 | H7: =IF(Rel_Parc_Exec_Obj_2º_sem!F15="4 - Superior",4,IF(Rel_Parc_Exec_Obj_2º_sem!F15="1 - Insuficiente",1,IF(Rel_Parc_Exec_Obj_2º_sem!F15="2 - Insatisfatório",2,IF(Rel_Parc_Exec_Obj_2º_sem!F15="3 - Suficiente",3,0)))) -> 0 | K7: =(K5/K6) -> 0 | L7: =IF(Rel_Parc_Exec_Obj_3º_sem!F15="4 - Superior",4,IF(Rel_Parc_Exec_Obj_3º_sem!F15="1 - Insuficiente",1,IF(Rel_Parc_Exec_Obj_3º_sem!F15="2 - Insatisfatório",2,IF(Rel_Parc_Exec_Obj_3º_sem!F15="3 - Suficiente",3,0)))) -> 0 | O7: =(O5/O6) -> 0 | P7: =IF(Rel_Parc_Exec_Obj_4º_sem!F15="4 - Superior",4,IF(Rel_Parc_Exec_Obj_4º_sem!F15="1 - Insuficiente",1,IF(Rel_Parc_Exec_Obj_4º_sem!F15="2 - Insatisfatório",2,IF(Rel_Parc_Exec_Obj_4º_sem!F15="3 - Suficiente",3,0)))) -> 0 | S7: =(S5/S6) -> 0 | T7: =IF(Rel_Parc_Exec_Obj_5º_sem!F15="4 - Superior",4,IF(Rel_Parc_Exec_Obj_5º_sem!F15="1 - Insuficiente",1,IF(Rel_Parc_Exec_Obj_5º_sem!F15="2 - Insatisfatório",2,IF(Rel_Parc_Exec_Obj_5º_sem!F15="3 - Suficiente",3,0)))) -> 0 | W7: =(W5/W6) -> 0 | X7: =IF(Rel_Parc_Exec_Obj_6º_sem!F15="4 - Superior",4,IF(Rel_Parc_Exec_Obj_6º_sem!F15="1 - Insuficiente",1,IF(Rel_Parc_Exec_Obj_6º_sem!F15="2 - Insatisfatório",2,IF(Rel_Parc_Exec_Obj_6º_sem!F15="3 - Suficiente",3,0)))) -> 0 | AA7: =(AA5/AA6) -> 0 | AB7: =IF(Rel_Parc_Exec_Obj_7º_sem!F15="4 - Superior",4,IF(Rel_Parc_Exec_Obj_7º_sem!F15="1 - Insuficiente",1,IF(Rel_Parc_Exec_Obj_7º_sem!F15="2 - Insatisfatório",2,IF(Rel_Parc_Exec_Obj_7º_sem!F15="3 - Suficiente",3,0)))) -> 0 | AE7: =(AE5/AE6) -> 0 | AF7: =IF(Rel_Parc_Exec_Obj_8º_sem!F15="4 - Superior",4,IF(Rel_Parc_Exec_Obj_8º_sem!F15="1 - Insuficiente",1,IF(Rel_Parc_Exec_Obj_8º_sem!F15="2 - Insatisfatório",2,IF(Rel_Parc_Exec_Obj_8º_sem!F15="3 - Suficiente",3,0)))) -> 0 | AI7: =(AI5/AI6) -> 0 | AJ7: =IF(Rel_Parc_Exec_Obj_9º_sem!F15="4 - Superior",4,IF(Rel_Parc_Exec_Obj_9º_sem!F15="1 - Insuficiente",1,IF(Rel_Parc_Exec_Obj_9º_sem!F15="2 - Insatisfatório",2,IF(Rel_Parc_Exec_Obj_9º_sem!F15="3 - Suficiente",3,0)))) -> 0 | AM7: =(AM5/AM6) -> 0 | AN7: =IF(Rel_Parc_Exec_Obj_10º_sem!F15="4 - Superior",4,IF(Rel_Parc_Exec_Obj_10º_sem!F15="1 - Insuficiente",1,IF(Rel_Parc_Exec_Obj_10º_sem!F15="2 - Insatisfatório",2,IF(Rel_Parc_Exec_Obj_10º_sem!F15="3 - Suficiente",3,0)))) -> 0 | AQ7: =(AQ5/AQ6) -> 0
A8: Cardápio elaborado nos termos do Manual Prático de Alimentação da SMADS e com participação dos usuários do serviço | D8: =IF(Rel_Parc_Exec_Obj_1º_sem!F16="4 - Superior",4,IF(Rel_Parc_Exec_Obj_1º_sem!F16="1 - Insuficiente",1,IF(Rel_Parc_Exec_Obj_1º_sem!F16="2 - Insatisfatório",2,IF(Rel_Parc_Exec_Obj_1º_sem!F16="3 - Suficiente",3,0)))) -> 0 | G8: =G7 -> 0 | H8: =IF(Rel_Parc_Exec_Obj_2º_sem!F16="4 - Superior",4,IF(Rel_Parc_Exec_Obj_2º_sem!F16="1 - Insuficiente",1,IF(Rel_Parc_Exec_Obj_2º_sem!F16="2 - Insatisfatório",2,IF(Rel_Parc_Exec_Obj_2º_sem!F16="3 - Suficiente",3,0)))) -> 0 | K8: =K7 -> 0 | L8: =IF(Rel_Parc_Exec_Obj_3º_sem!F16="4 - Superior",4,IF(Rel_Parc_Exec_Obj_3º_sem!F16="1 - Insuficiente",1,IF(Rel_Parc_Exec_Obj_3º_sem!F16="2 - Insatisfatório",2,IF(Rel_Parc_Exec_Obj_3º_sem!F16="3 - Suficiente",3,0)))) -> 0 | O8: =O7 -> 0 | P8: =IF(Rel_Parc_Exec_Obj_4º_sem!F16="4 - Superior",4,IF(Rel_Parc_Exec_Obj_4º_sem!F16="1 - Insuficiente",1,IF(Rel_Parc_Exec_Obj_4º_sem!F16="2 - Insatisfatório",2,IF(Rel_Parc_Exec_Obj_4º_sem!F16="3 - Suficiente",3,0)))) -> 0 | S8: =S7 -> 0 | T8: =IF(Rel_Parc_Exec_Obj_5º_sem!F16="4 - Superior",4,IF(Rel_Parc_Exec_Obj_5º_sem!F16="1 - Insuficiente",1,IF(Rel_Parc_Exec_Obj_5º_sem!F16="2 - Insatisfatório",2,IF(Rel_Parc_Exec_Obj_5º_sem!F16="3 - Suficiente",3,0)))) -> 0 | W8: =W7 -> 0 | X8: =IF(Rel_Parc_Exec_Obj_6º_sem!F16="4 - Superior",4,IF(Rel_Parc_Exec_Obj_6º_sem!F16="1 - Insuficiente",1,IF(Rel_Parc_Exec_Obj_6º_sem!F16="2 - Insatisfatório",2,IF(Rel_Parc_Exec_Obj_6º_sem!F16="3 - Suficiente",3,0)))) -> 0 | AA8: =AA7 -> 0 | AB8: =IF(Rel_Parc_Exec_Obj_7º_sem!F16="4 - Superior",4,IF(Rel_Parc_Exec_Obj_7º_sem!F16="1 - Insuficiente",1,IF(Rel_Parc_Exec_Obj_7º_sem!F16="2 - Insatisfatório",2,IF(Rel_Parc_Exec_Obj_7º_sem!F16="3 - Suficiente",3,0)))) -> 0 | AE8: =AE7 -> 0 | AF8: =IF(Rel_Parc_Exec_Obj_8º_sem!F16="4 - Superior",4,IF(Rel_Parc_Exec_Obj_8º_sem!F16="1 - Insuficiente",1,IF(Rel_Parc_Exec_Obj_8º_sem!F16="2 - Insatisfatório",2,IF(Rel_Parc_Exec_Obj_8º_sem!F16="3 - Suficiente",3,0)))) -> 0 | AI8: =AI7 -> 0 | AJ8: =IF(Rel_Parc_Exec_Obj_9º_sem!F16="4 - Superior",4,IF(Rel_Parc_Exec_Obj_9º_sem!F16="1 - Insuficiente",1,IF(Rel_Parc_Exec_Obj_9º_sem!F16="2 - Insatisfatório",2,IF(Rel_Parc_Exec_Obj_9º_sem!F16="3 - Suficiente",3,0)))) -> 0 | AM8: =AM7 -> 0 | AN8: =IF(Rel_Parc_Exec_Obj_10º_sem!F16="4 - Superior",4,IF(Rel_Parc_Exec_Obj_10º_sem!F16="1 - Insuficiente",1,IF(Rel_Parc_Exec_Obj_10º_sem!F16="2 - Insatisfatório",2,IF(Rel_Parc_Exec_Obj_10º_sem!F16="3 - Suficiente",3,0)))) -> 0 | AQ8: =AQ7 -> 0
A9: Execução das atividades previstas no Plano de Ação Semestral, compreendendo todas as suas dimensões. | D9: =IF(Rel_Parc_Exec_Obj_1º_sem!F17="4 - Superior",4,IF(Rel_Parc_Exec_Obj_1º_sem!F17="1 - Insuficiente",1,IF(Rel_Parc_Exec_Obj_1º_sem!F17="2 - Insatisfatório",2,IF(Rel_Parc_Exec_Obj_1º_sem!F17="3 - Suficiente",3,0)))) -> 0 | G9: =IF(G8>100,100,G7) -> 0 | H9: =IF(Rel_Parc_Exec_Obj_2º_sem!F17="4 - Superior",4,IF(Rel_Parc_Exec_Obj_2º_sem!F17="1 - Insuficiente",1,IF(Rel_Parc_Exec_Obj_2º_sem!F17="2 - Insatisfatório",2,IF(Rel_Parc_Exec_Obj_2º_sem!F17="3 - Suficiente",3,0)))) -> 0 | K9: =IF(K8>100,100,K7) -> 0 | L9: =IF(Rel_Parc_Exec_Obj_3º_sem!F17="4 - Superior",4,IF(Rel_Parc_Exec_Obj_3º_sem!F17="1 - Insuficiente",1,IF(Rel_Parc_Exec_Obj_3º_sem!F17="2 - Insatisfatório",2,IF(Rel_Parc_Exec_Obj_3º_sem!F17="3 - Suficiente",3,0)))) -> 0 | O9: =IF(O8>100,100,O7) -> 0 | P9: =IF(Rel_Parc_Exec_Obj_4º_sem!F17="4 - Superior",4,IF(Rel_Parc_Exec_Obj_4º_sem!F17="1 - Insuficiente",1,IF(Rel_Parc_Exec_Obj_4º_sem!F17="2 - Insatisfatório",2,IF(Rel_Parc_Exec_Obj_4º_sem!F17="3 - Suficiente",3,0)))) -> 0 | S9: =IF(S8>100,100,S7) -> 0 | T9: =IF(Rel_Parc_Exec_Obj_5º_sem!F17="4 - Superior",4,IF(Rel_Parc_Exec_Obj_5º_sem!F17="1 - Insuficiente",1,IF(Rel_Parc_Exec_Obj_5º_sem!F17="2 - Insatisfatório",2,IF(Rel_Parc_Exec_Obj_5º_sem!F17="3 - Suficiente",3,0)))) -> 0 | W9: =IF(W8>100,100,W7) -> 0 | X9: =IF(Rel_Parc_Exec_Obj_6º_sem!F17="4 - Superior",4,IF(Rel_Parc_Exec_Obj_6º_sem!F17="1 - Insuficiente",1,IF(Rel_Parc_Exec_Obj_6º_sem!F17="2 - Insatisfatório",2,IF(Rel_Parc_Exec_Obj_6º_sem!F17="3 - Suficiente",3,0)))) -> 0 | AA9: =IF(AA8>100,100,AA7) -> 0 | AB9: =IF(Rel_Parc_Exec_Obj_7º_sem!F17="4 - Superior",4,IF(Rel_Parc_Exec_Obj_7º_sem!F17="1 - Insuficiente",1,IF(Rel_Parc_Exec_Obj_7º_sem!F17="2 - Insatisfatório",2,IF(Rel_Parc_Exec_Obj_7º_sem!F17="3 - Suficiente",3,0)))) -> 0 | AE9: =IF(AE8>100,100,AE7) -> 0 | AF9: =IF(Rel_Parc_Exec_Obj_8º_sem!F17="4 - Superior",4,IF(Rel_Parc_Exec_Obj_8º_sem!F17="1 - Insuficiente",1,IF(Rel_Parc_Exec_Obj_8º_sem!F17="2 - Insatisfatório",2,IF(Rel_Parc_Exec_Obj_8º_sem!F17="3 - Suficiente",3,0)))) -> 0 | AI9: =IF(AI8>100,100,AI7) -> 0 | AJ9: =IF(Rel_Parc_Exec_Obj_9º_sem!F17="4 - Superior",4,IF(Rel_Parc_Exec_Obj_9º_sem!F17="1 - Insuficiente",1,IF(Rel_Parc_Exec_Obj_9º_sem!F17="2 - Insatisfatório",2,IF(Rel_Parc_Exec_Obj_9º_sem!F17="3 - Suficiente",3,0)))) -> 0 | AM9: =IF(AM8>100,100,AM7) -> 0 | AN9: =IF(Rel_Parc_Exec_Obj_10º_sem!F17="4 - Superior",4,IF(Rel_Parc_Exec_Obj_10º_sem!F17="1 - Insuficiente",1,IF(Rel_Parc_Exec_Obj_10º_sem!F17="2 - Insatisfatório",2,IF(Rel_Parc_Exec_Obj_10º_sem!F17="3 - Suficiente",3,0)))) -> 0 | AQ9: =IF(AQ8>100,100,AQ7) -> 0
A10: Implantação de mecanismos de apuração da satisfação dos usuários do serviço e de canais de participação dos usuários na elaboração do Plano de Ação | D10: =IF(Rel_Parc_Exec_Obj_1º_sem!F18="4 - Superior",4,IF(Rel_Parc_Exec_Obj_1º_sem!F18="1 - Insuficiente",1,IF(Rel_Parc_Exec_Obj_1º_sem!F18="2 - Insatisfatório",2,IF(Rel_Parc_Exec_Obj_1º_sem!F18="3 - Suficiente",3,0)))) -> 0 | H10: =IF(Rel_Parc_Exec_Obj_2º_sem!F18="4 - Superior",4,IF(Rel_Parc_Exec_Obj_2º_sem!F18="1 - Insuficiente",1,IF(Rel_Parc_Exec_Obj_2º_sem!F18="2 - Insatisfatório",2,IF(Rel_Parc_Exec_Obj_2º_sem!F18="3 - Suficiente",3,0)))) -> 0 | L10: =IF(Rel_Parc_Exec_Obj_3º_sem!F18="4 - Superior",4,IF(Rel_Parc_Exec_Obj_3º_sem!F18="1 - Insuficiente",1,IF(Rel_Parc_Exec_Obj_3º_sem!F18="2 - Insatisfatório",2,IF(Rel_Parc_Exec_Obj_3º_sem!F18="3 - Suficiente",3,0)))) -> 0 | P10: =IF(Rel_Parc_Exec_Obj_4º_sem!F18="4 - Superior",4,IF(Rel_Parc_Exec_Obj_4º_sem!F18="1 - Insuficiente",1,IF(Rel_Parc_Exec_Obj_4º_sem!F18="2 - Insatisfatório",2,IF(Rel_Parc_Exec_Obj_4º_sem!F18="3 - Suficiente",3,0)))) -> 0 | T10: =IF(Rel_Parc_Exec_Obj_5º_sem!F18="4 - Superior",4,IF(Rel_Parc_Exec_Obj_5º_sem!F18="1 - Insuficiente",1,IF(Rel_Parc_Exec_Obj_5º_sem!F18="2 - Insatisfatório",2,IF(Rel_Parc_Exec_Obj_5º_sem!F18="3 - Suficiente",3,0)))) -> 0 | X10: =IF(Rel_Parc_Exec_Obj_6º_sem!F18="4 - Superior",4,IF(Rel_Parc_Exec_Obj_6º_sem!F18="1 - Insuficiente",1,IF(Rel_Parc_Exec_Obj_6º_sem!F18="2 - Insatisfatório",2,IF(Rel_Parc_Exec_Obj_6º_sem!F18="3 - Suficiente",3,0)))) -> 0 | AB10: =IF(Rel_Parc_Exec_Obj_7º_sem!F18="4 - Superior",4,IF(Rel_Parc_Exec_Obj_7º_sem!F18="1 - Insuficiente",1,IF(Rel_Parc_Exec_Obj_7º_sem!F18="2 - Insatisfatório",2,IF(Rel_Parc_Exec_Obj_7º_sem!F18="3 - Suficiente",3,0)))) -> 0 | AF10: =IF(Rel_Parc_Exec_Obj_8º_sem!F18="4 - Superior",4,IF(Rel_Parc_Exec_Obj_8º_sem!F18="1 - Insuficiente",1,IF(Rel_Parc_Exec_Obj_8º_sem!F18="2 - Insatisfatório",2,IF(Rel_Parc_Exec_Obj_8º_sem!F18="3 - Suficiente",3,0)))) -> 0 | AJ10: =IF(Rel_Parc_Exec_Obj_9º_sem!F18="4 - Superior",4,IF(Rel_Parc_Exec_Obj_9º_sem!F18="1 - Insuficiente",1,IF(Rel_Parc_Exec_Obj_9º_sem!F18="2 - Insatisfatório",2,IF(Rel_Parc_Exec_Obj_9º_sem!F18="3 - Suficiente",3,0)))) -> 0 | AN10: =IF(Rel_Parc_Exec_Obj_10º_sem!F18="4 - Superior",4,IF(Rel_Parc_Exec_Obj_10º_sem!F18="1 - Insuficiente",1,IF(Rel_Parc_Exec_Obj_10º_sem!F18="2 - Insatisfatório",2,IF(Rel_Parc_Exec_Obj_10º_sem!F18="3 - Suficiente",3,0)))) -> 0
A11: Percentual de profissionais que participaram de ao menos uma capacitação/ atualização de conhecimento no semestre, ofertada pela OSC, pela SMADS ou outras instituições | D11: =IF(Rel_Parc_Exec_Obj_1º_sem!F19="4 - Superior",4,IF(Rel_Parc_Exec_Obj_1º_sem!F19="1 - Insuficiente",1,IF(Rel_Parc_Exec_Obj_1º_sem!F19="2 - Insatisfatório",2,IF(Rel_Parc_Exec_Obj_1º_sem!F19="3 - Suficiente",3,0)))) -> 0 | G11: =IF(G7<31,"Insuficiente",IF(G7<61,"Insatisfatório",IF(G7<91,"Suficiente","Superior"))) -> Insuficiente | H11: =IF(Rel_Parc_Exec_Obj_2º_sem!F19="4 - Superior",4,IF(Rel_Parc_Exec_Obj_2º_sem!F19="1 - Insuficiente",1,IF(Rel_Parc_Exec_Obj_2º_sem!F19="2 - Insatisfatório",2,IF(Rel_Parc_Exec_Obj_2º_sem!F19="3 - Suficiente",3,0)))) -> 0 | K11: =IF(K7<31,"Insuficiente",IF(K7<61,"Insatisfatório",IF(K7<91,"Suficiente","Superior"))) -> Insuficiente | L11: =IF(Rel_Parc_Exec_Obj_3º_sem!F19="4 - Superior",4,IF(Rel_Parc_Exec_Obj_3º_sem!F19="1 - Insuficiente",1,IF(Rel_Parc_Exec_Obj_3º_sem!F19="2 - Insatisfatório",2,IF(Rel_Parc_Exec_Obj_3º_sem!F19="3 - Suficiente",3,0)))) -> 0 | O11: =IF(O7<31,"Insuficiente",IF(O7<61,"Insatisfatório",IF(O7<91,"Suficiente","Superior"))) -> Insuficiente | P11: =IF(Rel_Parc_Exec_Obj_4º_sem!F19="4 - Superior",4,IF(Rel_Parc_Exec_Obj_4º_sem!F19="1 - Insuficiente",1,IF(Rel_Parc_Exec_Obj_4º_sem!F19="2 - Insatisfatório",2,IF(Rel_Parc_Exec_Obj_4º_sem!F19="3 - Suficiente",3,0)))) -> 0 | S11: =IF(S7<31,"Insuficiente",IF(S7<61,"Insatisfatório",IF(S7<91,"Suficiente","Superior"))) -> Insuficiente | T11: =IF(Rel_Parc_Exec_Obj_5º_sem!F19="4 - Superior",4,IF(Rel_Parc_Exec_Obj_5º_sem!F19="1 - Insuficiente",1,IF(Rel_Parc_Exec_Obj_5º_sem!F19="2 - Insatisfatório",2,IF(Rel_Parc_Exec_Obj_5º_sem!F19="3 - Suficiente",3,0)))) -> 0 | W11: =IF(W7<31,"Insuficiente",IF(W7<61,"Insatisfatório",IF(W7<91,"Suficiente","Superior"))) -> Insuficiente | X11: =IF(Rel_Parc_Exec_Obj_6º_sem!F19="4 - Superior",4,IF(Rel_Parc_Exec_Obj_6º_sem!F19="1 - Insuficiente",1,IF(Rel_Parc_Exec_Obj_6º_sem!F19="2 - Insatisfatório",2,IF(Rel_Parc_Exec_Obj_6º_sem!F19="3 - Suficiente",3,0)))) -> 0 | AA11: =IF(AA7<31,"Insuficiente",IF(AA7<61,"Insatisfatório",IF(AA7<91,"Suficiente","Superior"))) -> Insuficiente | AB11: =IF(Rel_Parc_Exec_Obj_7º_sem!F19="4 - Superior",4,IF(Rel_Parc_Exec_Obj_7º_sem!F19="1 - Insuficiente",1,IF(Rel_Parc_Exec_Obj_7º_sem!F19="2 - Insatisfatório",2,IF(Rel_Parc_Exec_Obj_7º_sem!F19="3 - Suficiente",3,0)))) -> 0 | AE11: =IF(AE7<31,"Insuficiente",IF(AE7<61,"Insatisfatório",IF(AE7<91,"Suficiente","Superior"))) -> Insuficiente | AF11: =IF(Rel_Parc_Exec_Obj_8º_sem!F19="4 - Superior",4,IF(Rel_Parc_Exec_Obj_8º_sem!F19="1 - Insuficiente",1,IF(Rel_Parc_Exec_Obj_8º_sem!F19="2 - Insatisfatório",2,IF(Rel_Parc_Exec_Obj_8º_sem!F19="3 - Suficiente",3,0)))) -> 0 | AI11: =IF(AI7<31,"Insuficiente",IF(AI7<61,"Insatisfatório",IF(AI7<91,"Suficiente","Superior"))) -> Insuficiente | AJ11: =IF(Rel_Parc_Exec_Obj_9º_sem!F19="4 - Superior",4,IF(Rel_Parc_Exec_Obj_9º_sem!F19="1 - Insuficiente",1,IF(Rel_Parc_Exec_Obj_9º_sem!F19="2 - Insatisfatório",2,IF(Rel_Parc_Exec_Obj_9º_sem!F19="3 - Suficiente",3,0)))) -> 0 | AM11: =IF(AM7<31,"Insuficiente",IF(AM7<61,"Insatisfatório",IF(AM7<91,"Suficiente","Superior"))) -> Insuficiente | AN11: =IF(Rel_Parc_Exec_Obj_10º_sem!F19="4 - Superior",4,IF(Rel_Parc_Exec_Obj_10º_sem!F19="1 - Insuficiente",1,IF(Rel_Parc_Exec_Obj_10º_sem!F19="2 - Insatisfatório",2,IF(Rel_Parc_Exec_Obj_10º_sem!F19="3 - Suficiente",3,0)))) -> 0 | AQ11: =IF(AQ7<31,"Insuficiente",IF(AQ7<61,"Insatisfatório",IF(AQ7<91,"Suficiente","Superior"))) -> Insuficiente
A12: Adequação da força de trabalho, no semestre, ao quadro de recursos humanos previsto na legislação concernente à tipificação | D12: =IF(Rel_Parc_Exec_Obj_1º_sem!F20="4 - Superior",4,IF(Rel_Parc_Exec_Obj_1º_sem!F20="1 - Insuficiente",1,IF(Rel_Parc_Exec_Obj_1º_sem!F20="2 - Insatisfatório",2,IF(Rel_Parc_Exec_Obj_1º_sem!F20="3 - Suficiente",3,0)))) -> 0 | H12: =IF(Rel_Parc_Exec_Obj_2º_sem!F20="4 - Superior",4,IF(Rel_Parc_Exec_Obj_2º_sem!F20="1 - Insuficiente",1,IF(Rel_Parc_Exec_Obj_2º_sem!F20="2 - Insatisfatório",2,IF(Rel_Parc_Exec_Obj_2º_sem!F20="3 - Suficiente",3,0)))) -> 0 | L12: =IF(Rel_Parc_Exec_Obj_3º_sem!F20="4 - Superior",4,IF(Rel_Parc_Exec_Obj_3º_sem!F20="1 - Insuficiente",1,IF(Rel_Parc_Exec_Obj_3º_sem!F20="2 - Insatisfatório",2,IF(Rel_Parc_Exec_Obj_3º_sem!F20="3 - Suficiente",3,0)))) -> 0 | P12: =IF(Rel_Parc_Exec_Obj_4º_sem!F20="4 - Superior",4,IF(Rel_Parc_Exec_Obj_4º_sem!F20="1 - Insuficiente",1,IF(Rel_Parc_Exec_Obj_4º_sem!F20="2 - Insatisfatório",2,IF(Rel_Parc_Exec_Obj_4º_sem!F20="3 - Suficiente",3,0)))) -> 0 | T12: =IF(Rel_Parc_Exec_Obj_5º_sem!F20="4 - Superior",4,IF(Rel_Parc_Exec_Obj_5º_sem!F20="1 - Insuficiente",1,IF(Rel_Parc_Exec_Obj_5º_sem!F20="2 - Insatisfatório",2,IF(Rel_Parc_Exec_Obj_5º_sem!F20="3 - Suficiente",3,0)))) -> 0 | X12: =IF(Rel_Parc_Exec_Obj_6º_sem!F20="4 - Superior",4,IF(Rel_Parc_Exec_Obj_6º_sem!F20="1 - Insuficiente",1,IF(Rel_Parc_Exec_Obj_6º_sem!F20="2 - Insatisfatório",2,IF(Rel_Parc_Exec_Obj_6º_sem!F20="3 - Suficiente",3,0)))) -> 0 | AB12: =IF(Rel_Parc_Exec_Obj_7º_sem!F20="4 - Superior",4,IF(Rel_Parc_Exec_Obj_7º_sem!F20="1 - Insuficiente",1,IF(Rel_Parc_Exec_Obj_7º_sem!F20="2 - Insatisfatório",2,IF(Rel_Parc_Exec_Obj_7º_sem!F20="3 - Suficiente",3,0)))) -> 0 | AF12: =IF(Rel_Parc_Exec_Obj_8º_sem!F20="4 - Superior",4,IF(Rel_Parc_Exec_Obj_8º_sem!F20="1 - Insuficiente",1,IF(Rel_Parc_Exec_Obj_8º_sem!F20="2 - Insatisfatório",2,IF(Rel_Parc_Exec_Obj_8º_sem!F20="3 - Suficiente",3,0)))) -> 0 | AJ12: =IF(Rel_Parc_Exec_Obj_9º_sem!F20="4 - Superior",4,IF(Rel_Parc_Exec_Obj_9º_sem!F20="1 - Insuficiente",1,IF(Rel_Parc_Exec_Obj_9º_sem!F20="2 - Insatisfatório",2,IF(Rel_Parc_Exec_Obj_9º_sem!F20="3 - Suficiente",3,0)))) -> 0 | AN12: =IF(Rel_Parc_Exec_Obj_10º_sem!F20="4 - Superior",4,IF(Rel_Parc_Exec_Obj_10º_sem!F20="1 - Insuficiente",1,IF(Rel_Parc_Exec_Obj_10º_sem!F20="2 - Insatisfatório",2,IF(Rel_Parc_Exec_Obj_10º_sem!F20="3 - Suficiente",3,0)))) -> 0
D13: =SUM(D3:D12) -> 0 | H13: =SUM(H3:H12) -> 0 | L13: =SUM(L3:L12) -> 0 | P13: =SUM(P3:P12) -> 0 | T13: =SUM(T3:T12) -> 0 | X13: =SUM(X3:X12) -> 0 | AB13: =SUM(AB3:AB12) -> 0 | AF13: =SUM(AF3:AF12) -> 0 | AJ13: =SUM(AJ3:AJ12) -> 0 | AN13: =SUM(AN3:AN12) -> 0
G16: Subprefeitura | K16: Distritos | M16: Tipologias | N16: Proteção | O16: Pontos | S16: Relatório Final
G17: Aricanduva/Vila Formosa | K17: Água Rasa | M17: Atende | N17: PSE | O17: 40 | S17: 1º semestre | T17: =D13 -> 0 | U17: =IF(Rel_Final_Exec_Obj!D5="Autonomia em Foco",360,IF(Rel_Final_Exec_Obj!D5="Bagageiro",200,IF(Rel_Final_Exec_Obj!D5="Família Acolhedora",320,IF(Rel_Final_Exec_Obj!D5="Família em foco",360,IF(Rel_Final_Exec_Obj!D5="NPJ - Núcleo de Proteção Jurídico Social e Apoio Psicológico",320,IF(Rel_Final_Exec_Obj!D5="República",360,IF(Rel_Final_Exec_Obj!D5="SEAS - Serviço de Abordagem Social à População de Rua",280,IF(Rel_Final_Exec_Obj!D5="Serviço de Alimentação Domiciliar para a Pessoa Idosa",360,IF(Rel_Final_Exec_Obj!D5="Serviço de Inclusão Social e Produtiva",360,IF(Rel_Final_Exec_Obj!D5="Serviço Proteção Social Básica no Domicílio para Pessoas com Deficiência e Idosas",320,400)))))))))) -> 400 | W17: 100
G18: Butantã | K18: Alto de Pinheiros | M18: Autonomia em foco | N18: PSE | O18: 36 | S18: 2º semestre | T18: =H13 -> 0 | U18: =T27 -> 0 | W18: 1
G19: Campo Limpo | K19: Anhanguera | M19: Bagageiro | N19: PSE | O19: 20 | S19: 3º semestre | T19: =L13 -> 0 | W19: =U18*W17 -> 0
G20: Capela do Socorro | K20: Aricanduva | M20: CA I 16h | N20: PSE | O20: 40 | S20: 4º semestre | T20: =P13 -> 0 | W20: =U17*W18 -> 400
G21: Casa Verde | K21: Artur Alvim | M21: CA II – 24 horas | N21: PSE | O21: 40 | S21: 5º semestre | T21: =T13 -> 0 | W21: =W19/W20 -> 0
G22: Cidade Ademar | K22: Barra Funda | M22: CAE Catadores | N22: PSE | O22: 40 | S22: 6º semestre | T22: =X13 -> 0 | W22: =W21 -> 0
G23: Cidade Tiradentes | K23: Bela Vista | M23: CAE Convalescentes | N23: PSE | O23: 40 | S23: 7º semestre | T23: =AB13 -> 0 | W23: =IF(W22>100,100,W21) -> 0
G24: Ermelino Matarazzo | K24: Belém | M24: CAE Famílias | N24: PSE | O24: 40 | S24: 8º semestre | T24: =AF13 -> 0
G25: Freguesia do Ó/Brasilândia | K25: Bom Retiro | M25: CAE Idosos | N25: PSE | O25: 40 | S25: 9º semestre | T25: =AJ13 -> 0 | W25: =IF(W21<31,"Insuficiente",IF(W21<61,"Insatisfatório",IF(W21<91,"Suficiente","Superior"))) -> Insuficiente
G26: Guaianases | K26: Brás | M26: CAE Imigrantes | N26: PSE | O26: 40 | S26: 10º semestre | T26: =AN13 -> 0
G27: Ipiranga | K27: Brasilândia | M27: CAE Mulheres em Situação de Violência | N27: PSE | O27: 40 | T27: =SUM(T17:T26) -> 0
G28: Itaim Paulista | K28: Butantã | M28: CAE para Mulheres | N28: PSE | O28: 40
G29: Itaquera | K29: Cachoeirinha | M29: CAE para Mulheres Gestantes | N29: PSE | O29: 40
G30: Jabaquara | K30: Cambuci | M30: CAE Trans | N30: PSE | O30: 40
G31: Jaçanã/Tremembé | K31: Campo Belo | M31: Casa Lar | N31: PSE | O31: 40
G32: Lapa | K32: Campo Grande | M32: CCA - Centro para Crianças e Adolescentes com atendimentos de 06 a 14 anos e 11 meses | N32: PSB | O32: 40
G33: M'Boi Mirim | K33: Campo Limpo | M33: CCINTER - Centro de Convivência Intergeracional | N33: PSB | O33: 40
G34: Mooca | K34: Cangaíba | M34: CDCM - Centro de Defesa e de Convivência da Mulher | N34: PSE | O34: 40
G35: Parelheiros | K35: Capão Redondo | M35: CEDESP - Centro de Desenvolvimento Social e Produtivo para Adolescentes, Jovens e Adultos | N35: PSB | O35: 40
G36: Penha | K36: Carrão | M36: Centro de Capacitação Técnica para Adultos em Situação de Rua | N36: PSE | O36: 40
G37: Perus | K37: Casa Verde | M37: Centro Dia do Idoso | N37: PSE | O37: 40
G38: Pinheiros | K38: Cidade Ademar | M38: Circo Escola | N38: PSB | O38: 40
G39: Pirituba/Jaraguá | K39: Cidade Dutra | M39: CJ - Centro para a Juventude | N39: PSB | O39: 40
... G48: Vila Prudente | K48: Iguatemi | M48: NAISPcD - Núcleo de Apoio à Inclusão Social para pessoas com Deficiência | N48: PSE | O48: 40
K49: Ipiranga | M49: NCI - Núcleo de Convivência de Idosos | N49: PSB | O49: 40
K50: Itaim Bibi | M50: NPJ - Núcleo de Proteção Jurídico Social e Apoio Psicológico | N50: PSE | O50: 32
K51: Itaim Paulista | M51: Núcleos de Convivência com Restaurante Comunitário para Adultos em Situação de Rua | N51: PSE | O51: 40
K52: Itaquera | M52: Núcleos de Convivência para adultos em Situação de Rua | N52: PSE | O52: 40
K53: Jabaquara | M53: República Jovem | N53: PSE | O53: 40
K54: Jaçanã | M54: República | N54: PSE | O54: 36
K55: Jaguara | M55: Residência Inclusiva - Serviço de Acolhimento Institucional para Jovens e Adultos com Deficiência | N55: PSE | O55: 40
K56: Jaguaré | M56: Restaurante Escola | N56: PSB | O56: 40
K57: Jaraguá | M57: SAICA - Serviço de Acolhimento Institucional para Crianças e Adolescentes | N57: PSE | O57: 40
K58: Jardim Ângela | M58: SAICA 0 a 6 - Serviço de Acolhimento Institucional para Crianças | N58: PSE | O58: 40
K59: Jardim Helena | M59: SAICA Central de Vaga - Serviço de Acolhimento Institucional para Crianças para apoio à central de vagas da SMADS | N59: PSE | O59: 40
K60: Jardim Paulista | M60: SASF e PSB no Domicílio | N60: PSB | O60: 40
... K65: Liberdade | M65: Serviço Proteção Social Básica no Domicílio para Pessoas com Deficiência e Idosas | N65: PSB | O65: 32
K66: Limão
K67: Mandaqui
K68: Marsilac
K69: Moema
K70: Mooca
K71: Morumbi
K72: Parelheiros
K73: Pari
K74: Parque do Carmo
K75: Pedreira
K76: Penha
K77: Perdizes
... K112: Vila Sônia
