Workbook
Name Distrito: Formulas!$K$17:$K$112
Name LISTA1: #REF!
Name Pontos: #REF!
Name Subprefeitura: Formulas!$G$17:$G$48
Name Tipologia: Formulas!$M$17:$M$65

Sheet Rel_Parc_Exec_Obj_1º_sem
B1: RELATÓRIO DE EXECUÇÃO DO OBJETO DA PARCERIA – PARCIAL
B2: DADOS DA ORGANIZAÇÃO DA SOCIEDADE CIVIL PARCEIRA (OSC)
B3: Nome da OSC | E3: Número do Processo | G3: SAS
B4: Nome Fantasia | E4: Número do Termo de Parceria | G4: Distrito
B5: Tipologia | E5: Início do Termo de Parceria | G5: Capacidade Contratada
B6: CNPJ | E6: Vigência do Termo de Parceria | G6: Semestre avaliado | H6: 1º SEMESTRE
B7: =IF(C5="NPJ - Núcleo de Proteção Jurídico Social e Apoio Psicológico","Para esta tipologia de serviço não se aplicam os seguintes Indicadores Semestrais: 1.1 e 1.3",IF(C5="Família em Foco","O Indicador Semestral 3.2 não se aplica a esta tipologia de serviço.",IF(C5="Autonomia em Foco","O Indicador Semestral 3.2 não se aplica a esta tipologia de serviço.",IF(C5="República","O Indicador Semestral 3.2 não se aplica a esta tipologia de serviço.",IF(C5="Bagageiro","Para esta tipologia de serviço não se aplicam os seguintes Indicadores Semestrais: 1.2, 2.1, 3.2, 3.3 e 3.4",IF(C5="Serviço de Inclusão Social e Produtiva","O Indicador Semestral 1.2 não se aplica a esta tipologia de serviço.",IF(C5="SEAS - Serviço de Abordagem Social à População de Rua","Para esta tipologia de serviço não se aplicam os seguintes Indicadores Semestrais: 1.2, 3.2, 3.4.",IF(C5="Família Acolhedora","Para esta tipologia de serviço não se aplicam os seguintes Indicadores Semestrais: 1.1 e 3.2.",IF(C5="Serviço de Alimentação Domiciliar para a Pessoa Idosa","O Indicador Semestral 1.3 não se aplica a esta tipologia de serviço.",IF(C5="Serviço Proteção Social Básica no Domicílio para Pessoas com Deficiência e Idosas","Para esta tipologia de serviço não se aplicam os seguintes Indicadores Semestrais: 1.3 e 3.2.","ATENÇÃO: Para esta tipologia de serviço, todos os Indicadores Semestrais devem ser pontuados com valores entre ''1 - Insuficiente'' a ''4 - Superior''.")))))))))) -> ATENÇÃO: Para esta tipologia de serviço, todos os Indicadores Semestrais devem ser pontuados com valores entre ''1 - Insuficiente'' a ''4 - Superior''.
B8: DEMONSTRAÇÃO DO ALCANCE DAS METAS
B9: RESULTADO FINAL | F9: Média: | G9: =(Formulas!G9)*0.01 -> 0 | H9: =Formulas!G11 -> Insuficiente
B10: DIMENSÃO | D10: INDICADORES SEMESTRAIS | F10: RESULTADO DA META | G10: JUSTIFICATIVAS PARA METAS NÃO ATINGIDAS
B11: Estrutura física e administrativa | D11: 1.1 Cômodos e mobiliários estão sendo utilizados no semestre conforme o aprovado no Plano de Trabalho
B12: Estrutura física e administrativa | D12: 1.2 Disponibilidade de materiais e artigos socioeducativos, pedagógicos, lúdicos e esportivos para realização das atividades, bem como de insumos que garantam as ofertas específicas da tipologia do serviço, previstos no Plano de Trabalho
B13: Estrutura física e administrativa | D13: 1.3 Cômodos e mobiliários se encontram em perfeitas condições de uso
B14: Serviços, processos ou atividades | D14: 2.1 Percentual de Relatórios, Prontuários, Plano de Desenvolvimento do Usuário- PDU (usuários da PSB) / Plano Individual de Atendimento - PIA (usuários da PSE) / Plano de Desenvolvimento Familiar - PDF elaborados ou atualizados no semestre
B15: Produtos ou resultados | D15: 3.1 Número de usuários atendidos / capacidade parceirizada do serviço
B16: Produtos ou resultados | D16: 3.2 Cardápio elaborado nos termos do Manual Prático de Alimentação da SMADS e com participação dos usuários do serviço
B17: Produtos ou resultados | D17: 3.3 Execução das atividades previstas no Plano de Ação Semestral, compreendendo todas as suas dimensões.
B18: Produtos ou resultados | D18: 3.4 Implantação de mecanismos de apuração da satisfação dos usuários do serviço e de canais de participação dos usuários na elaboração do Plano de Ação
B19: Recursos humanos | D19: 4.1 Percentual de profissionais que participaram de ao menos uma capacitação/ atualização de conhecimento no semestre, ofertada pela OSC, pela SMADS ou outras instituições
B20: Recursos humanos | D20: 4.2 Adequação da força de trabalho, no semestre, ao quadro de recursos humanos previsto na legislação concernente à tipificação
B21: PRINCIPAIS AÇÕES EFETUADAS PARA ATINGIMENTO DAS METAS E DO OBJETO DA PARCERIA
B22: DIMENSÃO | D22: INDICADORES SEMESTRAIS | F22: Descreva as ações desenvolvidas para adequação ao Plano de Trabalho.
B23: Estrutura física e administrativa | D23: Cômodos e mobiliários estão sendo utilizados no semestre conforme o aprovado no Plano de Trabalho
B24: Estrutura física e administrativa | D24: Disponibilidade de materiais e artigos socioeducativos, pedagógicos, lúdicos e esportivos para realização das atividades, bem como de insumos que garantam as ofertas específicas da tipologia do serviço, previstos no Plano de Trabalho
B25: Estrutura física e administrativa | D25: Cômodos e mobiliários se encontram em perfeitas condições de uso
B26: Serviços, processos ou atividades | D26: Percentual de Relatórios, Prontuários, Plano de Desenvolvimento do Usuário- PDU (usuários da PSB) / Plano Individual de Atendimento - PIA (usuários da PSE) / Plano de Desenvolvimento Familiar - PDF elaborados ou atualizados no semestre
B27: Produtos ou resultados | D27: Número de usuários atendidos / capacidade parceirizada do serviço
B28: Produtos ou resultados | D28: Cardápio elaborado nos termos do Manual Prático de Alimentação da SMADS e com participação dos usuários do serviço
B29: Produtos ou resultados | D29: Execução das atividades previstas no Plano de Ação Semestral, compreendendo todas as suas dimensões.
B30: Produtos ou resultados | D30: Implantação de mecanismos de apuração da satisfação dos usuários do serviço e de canais de participação dos usuários na elaboração do Plano de Ação
B31: Recursos humanos | D31: Percentual de profissionais que participaram de ao menos uma capacitação/ atualização de conhecimento no semestre, ofertada pela OSC, pela SMADS ou outras instituições
B32: Recursos humanos | D32: Adequação da força de trabalho, no semestre, ao quadro de recursos humanos previsto na legislação concernente à tipificação
B33: LISTAGEM DE MATERIAIS COMPROBATÓRIOS DO CUMPRIMENTO DOS OBJETIVOS EM FOTOS, VÍDEOS OU OUTROS SUPORTES ENVIADOS EM ANEXO
B34: Liste o material comprobatório anexado, quando houver.
B35: 1.
B36: 2.
B37: 3.
B38: 4.
B39: 5.
B40: RELAÇÃO DE BENS PERMANENTES ADQUIRIDOS, PRODUZIDOS OU CONSTRUÍDOS COM RECURSOS DA PARCERIA
...

Sheet Rel_Parc_Exec_Obj_2º_sem
B1: RELATÓRIO DE EXECUÇÃO DO OBJETO DA PARCERIA – PARCIAL
B2: DADOS DA ORGANIZAÇÃO DA SOCIEDADE CIVIL PARCEIRA (OSC)
B3: Nome da OSC | E3: Número do Processo | G3: SAS
B4: Nome Fantasia | E4: Número do Termo de Parceria | G4: Distrito
B5: Tipologia | E5: Início do Termo de Parceria | G5: Capacidade Contratada
B6: CNPJ | E6: Vigência do Termo de Parceria | G6: Semestre avaliado | H6: 2º SEMESTRE
B7: =IF(C5="NPJ - Núcleo de Proteção Jurídico Social e Apoio Psicológico","Para esta tipologia de serviço não se aplicam os seguintes Indicadores Semestrais: 1.1 e 1.3",IF(C5="Família em Foco","O Indicador Semestral 3.2 não se aplica a esta tipologia de serviço.",IF(C5="Autonomia em Foco","O Indicador Semestral 3.2 não se aplica a esta tipologia de serviço.",IF(C5="República","O Indicador Semestral 3.2 não se aplica a esta tipologia de serviço.",IF(C5="Bagageiro","Para esta tipologia de serviço não se aplicam os seguintes Indicadores Semestrais: 1.2, 2.1, 3.2, 3.3 e 3.4",IF(C5="Serviço de Inclusão Social e Produtiva","O Indicador Semestral 1.2 não se aplica a esta tipologia de serviço.",IF(C5="SEAS - Serviço de Abordagem Social à População de Rua","Para esta tipologia de serviço não se aplicam os seguintes Indicadores Semestrais: 1.2, 3.2, 3.4.",IF(C5="Família Acolhedora","Para esta tipologia de serviço não se aplicam os seguintes Indicadores Semestrais: 1.1 e 3.2.",IF(C5="Serviço de Alimentação Domiciliar para a Pessoa Idosa","O Indicador Semestral 1.3 não se aplica a esta tipologia de serviço.",IF(C5="Serviço Proteção Social Básica no Domicílio para Pessoas com Deficiência e Idosas","Para esta tipologia de serviço não se aplicam os seguintes Indicadores Semestrais: 1.3 e 3.2.","ATENÇÃO: Para esta tipologia de serviço, todos os Indicadores Semestrais devem ser pontuados com valores entre ''1 - Insuficiente'' a ''4 - Superior''.")))))))))) -> ATENÇÃO: Para esta tipologia de serviço, todos os Indicadores Semestrais devem ser pontuados com valores entre ''1 - Insuficiente'' a ''4 - Superior''.
B8: DEMONSTRAÇÃO DO ALCANCE DAS METAS
B9: RESULTADO FINAL | F9: Média: | G9: =(Formulas!K9)*0.01 -> 0 | H9: =Formulas!K11 -> Insuficiente
B10: DIMENSÃO | D10: INDICADORES SEMESTRAIS | F10: RESULTADO DA META | G10: JUSTIFICATIVAS PARA METAS NÃO ATINGIDAS
B11: Estrutura física e administrativa | D11: 1.1 Cômodos e mobiliários estão sendo utilizados no semestre conforme o aprovado no Plano de Trabalho
B12: Estrutura física e administrativa | D12: 1.2 Disponibilidade de materiais e artigos socioeducativos, pedagógicos, lúdicos e esportivos para realização das atividades, bem como de insumos que garantam as ofertas específicas da tipologia do serviço, previstos no Plano de Trabalho
B13: Estrutura física e administrativa | D13: 1.3 Cômodos e mobiliários se encontram em perfeitas condições de uso
B14: Serviços, processos ou atividades | D14: 2.1 Percentual de Relatórios, Prontuários, Plano de Desenvolvimento do Usuário- PDU (usuários da PSB) / Plano Individual de Atendimento - PIA (usuários da PSE) / Plano de Desenvolvimento Familiar - PDF elaborados ou atualizados no semestre
B15: Produtos ou resultados | D15: 3.1 Número de usuários atendidos / capacidade parceirizada do serviço
B16: Produtos ou resultados | D16: 3.2 Cardápio elaborado nos termos do Manual Prático de Alimentação da SMADS e com participação dos usuários do serviço
B17: Produtos ou resultados | D17: 3.3 Execução das atividades previstas no Plano de Ação Semestral, compreendendo todas as suas dimensões.
B18: Produtos ou resultados | D18: 3.4 Implantação de mecanismos de apuração da satisfação dos usuários do serviço e de canais de participação dos usuários na elaboração do Plano de Ação
B19: Recursos humanos | D19: 4.1 Percentual de profissionais que participaram de ao menos uma capacitação/ atualização de conhecimento no semestre, ofertada pela OSC, pela SMADS ou outras instituições
B20: Recursos humanos | D20: 4.2 Adequação da força de trabalho, no semestre, ao quadro de recursos humanos previsto na legislação concernente à tipificação
B21: PRINCIPAIS AÇÕES EFETUADAS PARA ATINGIMENTO DAS METAS E DO OBJETO DA PARCERIA
B22: DIMENSÃO | D22: INDICADORES SEMESTRAIS | F22: Descreva sucintamente as ações efetuadas com vistas à implantação do projeto, comparando-se o previsto no plano de trabalho aprovado com o efetivamente executado
B23: Estrutura física e administrativa | D23: Cômodos e mobiliários estão sendo utilizados no semestre conforme o aprovado no Plano de Trabalho
B24: Estrutura física e administrativa | D24: Disponibilidade de materiais e artigos socioeducativos, pedagógicos, lúdicos e esportivos para realização das atividades, bem como de insumos que garantam as ofertas específicas da tipologia do serviço, previstos no Plano de Trabalho
B25: Estrutura física e administrativa | D25: Cômodos e mobiliários se encontram em perfeitas condições de uso
B26: Serviços, processos ou atividades | D26: Percentual de Relatórios, Prontuários, Plano de Desenvolvimento do Usuário- PDU (usuários da PSB) / Plano Individual de Atendimento - PIA (usuários da PSE) / Plano de Desenvolvimento Familiar - PDF elaborados ou atualizados no semestre
B27: Produtos ou resultados | D27: Número de usuários atendidos / capacidade parceirizada do serviço
B28: Produtos ou resultados | D28: Cardápio elaborado nos termos do Manual Prático de Alimentação da SMADS e com participação dos usuários do serviço
B29: Produtos ou resultados | D29: Execução das atividades previstas no Plano de Ação Semestral, compreendendo todas as suas dimensões.
B30: Produtos ou resultados | D30: Implantação de mecanismos de apuração da satisfação dos usuários do serviço e de canais de participação dos usuários na elaboração do Plano de Ação
B31: Recursos humanos | D31: Percentual de profissionais que participaram de ao menos uma capacitação/ atualização de conhecimento no semestre, ofertada pela OSC, pela SMADS ou outras instituições
B32: Recursos humanos | D32: Adequação da força de trabalho, no semestre, ao quadro de recursos humanos previsto na legislação concernente à tipificação
B33: LISTAGEM DE MATERIAIS COMPROBATÓRIOS DO CUMPRIMENTO DOS OBJETIVOS EM FOTOS, VÍDEOS OU OUTROS SUPORTES ENVIADOS EM ANEXO
B34: Liste o material comprobatório anexado, quando houver.
B35: 1.
B36: 2.
B37: 3.
B38: 4.
B39: 5.
B40: RELAÇÃO DE BENS PERMANENTES ADQUIRIDOS, PRODUZIDOS OU CONSTRUÍDOS COM RECURSOS DA PARCERIA
...

Sheet Rel_Parc_Exec_Obj_3º_sem
B1: RELATÓRIO DE EXECUÇÃO DO OBJETO DA PARCERIA – PARCIAL
B2: DADOS DA ORGANIZAÇÃO DA SOCIEDADE CIVIL PARCEIRA (OSC)
B3: Nome da OSC | E3: Número do Processo | G3: SAS
B4: Nome Fantasia | E4: Número do Termo de Parceria | G4: Distrito
B5: Tipologia | E5: Início do Termo de Parceria | G5: Capacidade Contratada
B6: CNPJ | E6: Vigência do Termo de Parceria | G6: Semestre avaliado | H6: 3º SEMESTRE
B7: =IF(C5="NPJ - Núcleo de Proteção Jurídico Social e Apoio Psicológico","Para esta tipologia de serviço não se aplicam os seguintes Indicadores Semestrais: 1.1 e 1.3",IF(C5="Família em Foco","O Indicador Semestral 3.2 não se aplica a esta tipologia de serviço.",IF(C5="Autonomia em Foco","O Indicador Semestral 3.2 não se aplica a esta tipologia de serviço.",IF(C5="República","O Indicador Semestral 3.2 não se aplica a esta tipologia de serviço.",IF(C5="Bagageiro","Para esta tipologia de serviço não se aplicam os seguintes Indicadores Semestrais: 1.2, 2.1, 3.2, 3.3 e 3.4",IF(C5="Serviço de Inclusão Social e Produtiva","O Indicador Semestral 1.2 não se aplica a esta tipologia de serviço.",IF(C5="SEAS - Serviço de Abordagem Social à População de Rua","Para esta tipologia de serviço não se aplicam os seguintes Indicadores Semestrais: 1.2, 3.2, 3.4.",IF(C5="Família Acolhedora","Para esta tipologia de serviço não se aplicam os seguintes Indicadores Semestrais: 1.1 e 3.2.",IF(C5="Serviço de Alimentação Domiciliar para a Pessoa Idosa","O Indicador Semestral 1.3 não se aplica a esta tipologia de serviço.",IF(C5="Serviço Proteção Social Básica no Domicílio para Pessoas com Deficiência e Idosas","Para esta tipologia de serviço não se aplicam os seguintes Indicadores Semestrais: 1.3 e 3.2.","ATENÇÃO: Para esta tipologia de serviço, todos os Indicadores Semestrais devem ser pontuados com valores entre ''1 - Insuficiente'' a ''4 - Superior''.")))))))))) -> ATENÇÃO: Para esta tipologia de serviço, todos os Indicadores Semestrais devem ser pontuados com valores entre ''1 - Insuficiente'' a ''4 - Superior''.
B8: DEMONSTRAÇÃO DO ALCANCE DAS METAS
B9: RESULTADO FINAL | F9: Média: | G9: =(Formulas!O9)*0.01 -> 0 | H9: =Formulas!O11 -> Insuficiente
B10: DIMENSÃO | D10: INDICADORES SEMESTRAIS | F10: RESULTADO DA META | G10: JUSTIFICATIVAS PARA METAS NÃO ATINGIDAS
B11: Estrutura física e administrativa | D11: 1.1 Cômodos e mobiliários estão sendo utilizados no semestre conforme o aprovado no Plano de Trabalho
B12: Estrutura física e administrativa | D12: 1.2 Disponibilidade de materiais e artigos socioeducativos, pedagógicos, lúdicos e esportivos para realização das atividades, bem como de insumos que garantam as ofertas específicas da tipologia do serviço, previstos no Plano de Trabalho
B13: Estrutura física e administrativa | D13: 1.3 Cômodos e mobiliários se encontram em perfeitas condições de uso
B14: Serviços, processos ou atividades | D14: 2.1 Percentual de Relatórios, Prontuários, Plano de Desenvolvimento do Usuário- PDU (usuários da PSB) / Plano Individual de Atendimento - PIA (usuários da PSE) / Plano de Desenvolvimento Familiar - PDF elaborados ou atualizados no semestre
B15: Produtos ou resultados | D15: 3.1 Número de usuários atendidos / capacidade parceirizada do serviço
B16: Produtos ou resultados | D16: 3.2 Cardápio elaborado nos termos do Manual Prático de Alimentação da SMADS e com participação dos usuários do serviço
B17: Produtos ou resultados | D17: 3.3 Execução das atividades previstas no Plano de Ação Semestral, compreendendo todas as suas dimensões.
B18: Produtos ou resultados | D18: 3.4 Implantação de mecanismos de apuração da satisfação dos usuários do serviço e de canais de participação dos usuários na elaboração do Plano de Ação
B19: Recursos humanos | D19: 4.1 Percentual de profissionais que participaram de ao menos uma capacitação/ atualização de conhecimento no semestre, ofertada pela OSC, pela SMADS ou outras instituições
B20: Recursos humanos | D20: 4.2 Adequação da força de trabalho, no semestre, ao quadro de recursos humanos previsto na legislação concernente à tipificação
B21: PRINCIPAIS AÇÕES EFETUADAS PARA ATINGIMENTO DAS METAS E DO OBJETO DA PARCERIA
B22: DIMENSÃO | D22: INDICADORES SEMESTRAIS | F22: Descreva sucintamente as ações efetuadas com vistas à implantação do projeto, comparando-se o previsto no plano de trabalho aprovado com o efetivamente executado
B23: Estrutura física e administrativa | D23: Cômodos e mobiliários estão sendo utilizados no semestre conforme o aprovado no Plano de Trabalho
B24: Estrutura física e administrativa | D24: Disponibilidade de materiais e artigos socioeducativos, pedagógicos, lúdicos e esportivos para realização das atividades, bem como de insumos que garantam as ofertas específicas da tipologia do serviço, previstos no Plano de Trabalho
B25: Estrutura física e administrativa | D25: Cômodos e mobiliários se encontram em perfeitas condições de uso
B26: Serviços, processos ou atividades | D26: Percentual de Relatórios, Prontuários, Plano de Desenvolvimento do Usuário- PDU (usuários da PSB) / Plano Individual de Atendimento - PIA (usuários da PSE) / Plano de Desenvolvimento Familiar - PDF elaborados ou atualizados no semestre
B27: Produtos ou resultados | D27: Número de usuários atendidos / capacidade parceirizada do serviço
B28: Produtos ou resultados | D28: Cardápio elaborado nos termos do Manual Prático de Alimentação da SMADS e com participação dos usuários do serviço
B29: Produtos ou resultados | D29: Execução das atividades previstas no Plano de Ação Semestral, compreendendo todas as suas dimensões.
B30: Produtos ou resultados | D30: Implantação de mecanismos de apuração da satisfação dos usuários do serviço e de canais de participação dos usuários na elaboração do Plano de Ação
B31: Recursos humanos | D31: Percentual de profissionais que participaram de ao menos uma capacitação/ atualização de conhecimento no semestre, ofertada pela OSC, pela SMADS ou outras instituições
B32: Recursos humanos | D32: Adequação da força de trabalho, no semestre, ao quadro de recursos humanos previsto na legislação concernente à tipificação
B33: LISTAGEM DE MATERIAIS COMPROBATÓRIOS DO CUMPRIMENTO DOS OBJETIVOS EM FOTOS, VÍDEOS OU OUTROS SUPORTES ENVIADOS EM ANEXO
B34: Liste o material comprobatório anexado, quando houver.
B35: 1.
B36: 2.
B37: 3.
B38: 4.
B39: 5.
B40: RELAÇÃO DE BENS PERMANENTES ADQUIRIDOS, PRODUZIDOS OU CONSTRUÍDOS COM RECURSOS DA PARCERIA
...

Sheet Rel_Parc_Exec_Obj_4º_sem
B1: RELATÓRIO DE EXECUÇÃO DO OBJETO DA PARCERIA – PARCIAL
B2: DADOS DA ORGANIZAÇÃO DA SOCIEDADE CIVIL PARCEIRA (OSC)
B3: Nome da OSC | E3: Número do Processo | G3: SAS
B4: Nome Fantasia | E4: Número do Termo de Parceria | G4: Distrito
B5: Tipologia | E5: Início do Termo de Parceria | G5: Capacidade Contratada
B6: CNPJ | E6: Vigência do Termo de Parceria | G6: Semestre avaliado | H6: 4º SEMESTRE
B7: =IF(C5="NPJ - Núcleo de Proteção Jurídico Social e Apoio Psicológico","Para esta tipologia de serviço não se aplicam os seguintes Indicadores Semestrais: 1.1 e 1.3",IF(C5="Família em Foco","O Indicador Semestral 3.2 não se aplica a esta tipologia de serviço.",IF(C5="Autonomia em Foco","O Indicador Semestral 3.2 não se aplica a esta tipologia de serviço.",IF(C5="República","O Indicador Semestral 3.2 não se aplica a esta tipologia de serviço.",IF(C5="Bagageiro","Para esta tipologia de serviço não se aplicam os seguintes Indicadores Semestrais: 1.2, 2.1, 3.2, 3.3 e 3.4",IF(C5="Serviço de Inclusão Social e Produtiva","O Indicador Semestral 1.2 não se aplica a esta tipologia de serviço.",IF(C5="SEAS - Serviço de Abordagem Social à População de Rua","Para esta tipologia de serviço não se aplicam os seguintes Indicadores Semestrais: 1.2, 3.2, 3.4.",IF(C5="Família Acolhedora","Para esta tipologia de serviço não se aplicam os seguintes Indicadores Semestrais: 1.1 e 3.2.",IF(C5="Serviço de Alimentação Domiciliar para a Pessoa Idosa","O Indicador Semestral 1.3 não se aplica a esta tipologia de serviço.",IF(C5="Serviço Proteção Social Básica no Domicílio para Pessoas com Deficiência e Idosas","Para esta tipologia de serviço não se aplicam os seguintes Indicadores Semestrais: 1.3 e 3.2.","ATENÇÃO: Para esta tipologia de serviço, todos os Indicadores Semestrais devem ser pontuados com valores entre ''1 - Insuficiente'' a ''4 - Superior''.")))))))))) -> ATENÇÃO: Para esta tipologia de serviço, todos os Indicadores Semestrais devem ser pontuados com valores entre ''1 - Insuficiente'' a ''4 - Superior''.
B8: DEMONSTRAÇÃO DO ALCANCE DAS METAS
B9: RESULTADO FINAL | F9: Média: | G9: =(Formulas!S9)*0.01 -> 0 | H9: =Formulas!S11 -> Insuficiente
B10: DIMENSÃO | D10: INDICADORES SEMESTRAIS | F10: RESULTADO DA META | G10: JUSTIFICATIVAS PARA METAS NÃO ATINGIDAS
B11: Estrutura física e administrativa | D11: 1.1 Cômodos e mobiliários estão sendo utilizados no semestre conforme o aprovado no Plano de Trabalho
B12: Estrutura física e administrativa | D12: 1.2 Disponibilidade de materiais e artigos socioeducativos, pedagógicos, lúdicos e esportivos para realização das atividades, bem como de insumos que garantam as ofertas específicas da tipologia do serviço, previstos no Plano de Trabalho
B13: Estrutura física e administrativa | D13: 1.3 Cômodos e mobiliários se encontram em perfeitas condições de uso
B14: Serviços, processos ou atividades | D14: 2.1 Percentual de Relatórios, Prontuários, Plano de Desenvolvimento do Usuário- PDU (usuários da PSB) / Plano Individual de Atendimento - PIA (usuários da PSE) / Plano de Desenvolvimento Familiar - PDF elaborados ou atualizados no semestre
B15: Produtos ou resultados | D15: 3.1 Número de usuários atendidos / capacidade parceirizada do serviço
B16: Produtos ou resultados | D16: 3.2 Cardápio elaborado nos termos do Manual Prático de Alimentação da SMADS e com participação dos usuários do serviço
B17: Produtos ou resultados | D17: 3.3 Execução das atividades previstas no Plano de Ação Semestral, compreendendo todas as suas dimensões.
B18: Produtos ou resultados | D18: 3.4 Implantação de mecanismos de apuração da satisfação dos usuários do serviço e de canais de participação dos usuários na elaboração do Plano de Ação
B19: Recursos humanos | D19: 4.1 Percentual de profissionais que participaram de ao menos uma capacitação/ atualização de conhecimento no semestre, ofertada pela OSC, pela SMADS ou outras instituições
B20: Recursos humanos | D20: 4.2 Adequação da força de trabalho, no semestre, ao quadro de recursos humanos previsto na legislação concernente à tipificação
B21: PRINCIPAIS AÇÕES EFETUADAS PARA ATINGIMENTO DAS METAS E DO OBJETO DA PARCERIA
B22: DIMENSÃO | D22: INDICADORES SEMESTRAIS | F22: Descreva sucintamente as ações efetuadas com vistas à implantação do projeto, comparando-se o previsto no plano de trabalho aprovado com o efetivamente executado
B23: Estrutura física e administrativa | D23: Cômodos e mobiliários estão sendo utilizados no semestre conforme o aprovado no Plano de Trabalho
B24: Estrutura física e administrativa | D24: Disponibilidade de materiais e artigos socioeducativos, pedagógicos, lúdicos e esportivos para realização das atividades, bem como de insumos que garantam as ofertas específicas da tipologia do serviço, previstos no Plano de Trabalho
B25: Estrutura física e administrativa | D25: Cômodos e mobiliários se encontram em perfeitas condições de uso
B26: Serviços, processos ou atividades | D26: Percentual de Relatórios, Prontuários, Plano de Desenvolvimento do Usuário- PDU (usuários da PSB) / Plano Individual de Atendimento - PIA (usuários da PSE) / Plano de Desenvolvimento Familiar - PDF elaborados ou atualizados no semestre
B27: Produtos ou resultados | D27: Número de usuários atendidos / capacidade parceirizada do serviço
B28: Produtos ou resultados | D28: Cardápio elaborado nos termos do Manual Prático de Alimentação da SMADS e com participação dos usuários do serviço
B29: Produtos ou resultados | D29: Execução das atividades previstas no Plano de Ação Semestral, compreendendo todas as suas dimensões.
B30: Produtos ou resultados | D30: Implantação de mecanismos de apuração da satisfação dos usuários do serviço e de canais de participação dos usuários na elaboração do Plano de Ação
B31: Recursos humanos | D31: Percentual de profissionais que participaram de ao menos uma capacitação/ atualização de conhecimento no semestre, ofertada pela OSC, pela SMADS ou outras instituições
B32: Recursos humanos | D32: Adequação da força de trabalho, no semestre, ao quadro de recursos humanos previsto na legislação concernente à tipificação
B33: LISTAGEM DE MATERIAIS COMPROBATÓRIOS DO CUMPRIMENTO DOS OBJETIVOS EM FOTOS, VÍDEOS OU OUTROS SUPORTES ENVIADOS EM ANEXO
B34: Liste o material comprobatório anexado, quando houver.
B35: 1.
B36: 2.
B37: 3.
B38: 4.
B39: 5.
B40: RELAÇÃO DE BENS PERMANENTES ADQUIRIDOS, PRODUZIDOS OU CONSTRUÍDOS COM RECURSOS DA PARCERIA
...

Sheet Rel_Parc_Exec_Obj_5º_sem
B1: RELATÓRIO DE EXECUÇÃO DO OBJETO DA PARCERIA – PARCIAL
B2: DADOS DA ORGANIZAÇÃO DA SOCIEDADE CIVIL PARCEIRA (OSC)
B3: Nome da OSC | E3: Número do Processo | G3: SAS
B4: Nome Fantasia | E4: Número do Termo de Parceria | G4: Distrito
B5: Tipologia | E5: Início do Termo de Parceria | G5: Capacidade Contratada
B6: CNPJ | E6: Vigência do Termo de Parceria | G6: Semestre avaliado | H6: 5º SEMESTRE
B7: =IF(C5="NPJ - Núcleo de Proteção Jurídico Social e Apoio Psicológico","Para esta tipologia de serviço não se aplicam os seguintes Indicadores Semestrais: 1.1 e 1.3",IF(C5="Família em Foco","O Indicador Semestral 3.2 não se aplica a esta tipologia de serviço.",IF(C5="Autonomia em Foco","O Indicador Semestral 3.2 não se aplica a esta tipologia de serviço.",IF(C5="República","O Indicador Semestral 3.2 não se aplica a esta tipologia de serviço.",IF(C5="Bagageiro","Para esta tipologia de serviço não se aplicam os seguintes Indicadores Semestrais: 1.2, 2.1, 3.2, 3.3 e 3.4",IF(C5="Serviço de Inclusão Social e Produtiva","O Indicador Semestral 1.2 não se aplica a esta tipologia de serviço.",IF(C5="SEAS - Serviço de Abordagem Social à População de Rua","Para esta tipologia de serviço não se aplicam os seguintes Indicadores Semestrais: 1.2, 3.2, 3.4.",IF(C5="Família Acolhedora","Para esta tipologia de serviço não se aplicam os seguintes Indicadores Semestrais: 1.1 e 3.2.",IF(C5="Serviço de Alimentação Domiciliar para a Pessoa Idosa","O Indicador Semestral 1.3 não se aplica a esta tipologia de serviço.",IF(C5="Serviço Proteção Social Básica no Domicílio para Pessoas com Deficiência e Idosas","Para esta tipologia de serviço não se aplicam os seguintes Indicadores Semestrais: 1.3 e 3.2.","ATENÇÃO: Para esta tipologia de serviço, todos os Indicadores Semestrais devem ser pontuados com valores entre ''1 - Insuficiente'' a ''4 - Superior''.")))))))))) -> ATENÇÃO: Para esta tipologia de serviço, todos os Indicadores Semestrais devem ser pontuados com valores entre ''1 - Insuficiente'' a ''4 - Superior''.
B8: DEMONSTRAÇÃO DO ALCANCE DAS METAS
B9: RESULTADO FINAL | F9: Média: | G9: =(Formulas!W9)*0.01 -> 0 | H9: =Formulas!W11 -> Insuficiente
B10: DIMENSÃO | D10: INDICADORES SEMESTRAIS | F10: RESULTADO DA META | G10: JUSTIFICATIVAS PARA METAS NÃO ATINGIDAS
B11: Estrutura física e administrativa | D11: 1.1 Cômodos e mobiliários estão sendo utilizados no semestre conforme o aprovado no Plano de Trabalho
B12: Estrutura física e administrativa | D12: 1.2 Disponibilidade de materiais e artigos socioeducativos, pedagógicos, lúdicos e esportivos para realização das atividades, bem como de insumos que garantam as ofertas específicas da tipologia do serviço, previstos no Plano de Trabalho
B13: Estrutura física e administrativa | D13: 1.3 Cômodos e mobiliários se encontram em perfeitas condições de uso
B14: Serviços, processos ou atividades | D14: 2.1 Percentual de Relatórios, Prontuários, Plano de Desenvolvimento do Usuário- PDU (usuários da PSB) / Plano Individual de Atendimento - PIA (usuários da PSE) / Plano de Desenvolvimento Familiar - PDF elaborados ou atualizados no semestre
B15: Produtos ou resultados | D15: 3.1 Número de usuários atendidos / capacidade parceirizada do serviço
B16: Produtos ou resultados | D16: 3.2 Cardápio elaborado nos termos do Manual Prático de Alimentação da SMADS e com participação dos usuários do serviço
B17: Produtos ou resultados | D17: 3.3 Execução das atividades previstas no Plano de Ação Semestral, compreendendo todas as suas dimensões.
B18: Produtos ou resultados | D18: 3.4 Implantação de mecanismos de apuração da satisfação dos usuários do serviço e de canais de participação dos usuários na elaboração do Plano de Ação
B19: Recursos humanos | D19: 4.1 Percentual de profissionais que participaram de ao menos uma capacitação/ atualização de conhecimento no semestre, ofertada pela OSC, pela SMADS ou outras instituições
B20: Recursos humanos | D20: 4.2 Adequação da força de trabalho, no semestre, ao quadro de recursos humanos previsto na legislação concernente à tipificação
B21: PRINCIPAIS AÇÕES EFETUADAS PARA ATINGIMENTO DAS METAS E DO OBJETO DA PARCERIA
B22: DIMENSÃO | D22: INDICADORES SEMESTRAIS | F22: Descreva sucintamente as ações efetuadas com vistas à implantação do projeto, comparando-se o previsto no plano de trabalho aprovado com o efetivamente executado
B23: Estrutura física e administrativa | D23: Cômodos e mobiliários estão sendo utilizados no semestre conforme o aprovado no Plano de Trabalho
B24: Estrutura física e administrativa | D24: Disponibilidade de materiais e artigos socioeducativos, pedagógicos, lúdicos e esportivos para realização das atividades, bem como de insumos que garantam as ofertas específicas da tipologia do serviço, previstos no Plano de Trabalho
B25: Estrutura física e administrativa | D25: Cômodos e mobiliários se encontram em perfeitas condições de uso
B26: Serviços, processos ou atividades | D26: Percentual de Relatórios, Prontuários, Plano de Desenvolvimento do Usuário- PDU (usuários da PSB) / Plano Individual de Atendimento - PIA (usuários da PSE) / Plano de Desenvolvimento Familiar - PDF elaborados ou atualizados no semestre
B27: Produtos ou resultados | D27: Número de usuários atendidos / capacidade parceirizada do serviço
B28: Produtos ou resultados | D28: Cardápio elaborado nos termos do Manual Prático de Alimentação da SMADS e com participação dos usuários do serviço
B29: Produtos ou resultados | D29: Execução das atividades previstas no Plano de Ação Semestral, compreendendo todas as suas dimensões.
B30: Produtos ou resultados | D30: Implantação de mecanismos de apuração da satisfação dos usuários do serviço e de canais de participação dos usuários na elaboração do Plano de Ação
B31: Recursos humanos | D31: Percentual de profissionais que participaram de ao menos uma capacitação/ atualização de conhecimento no semestre, ofertada pela OSC, pela SMADS ou outras instituições
B32: Recursos humanos | D32: Adequação da força de trabalho, no semestre, ao quadro de recursos humanos previsto na legislação concernente à tipificação
B33: LISTAGEM DE MATERIAIS COMPROBATÓRIOS DO CUMPRIMENTO DOS OBJETIVOS EM FOTOS, VÍDEOS OU OUTROS SUPORTES ENVIADOS EM ANEXO
B34: Liste o material comprobatório anexado, quando houver.
B35: 1.
B36: 2.
B37: 3.
B38: 4.
B39: 5.
B40: RELAÇÃO DE BENS PERMANENTES ADQUIRIDOS, PRODUZIDOS OU CONSTRUÍDOS COM RECURSOS DA PARCERIA
...

Sheet Rel_Parc_Exec_Obj_6º_sem
B1: RELATÓRIO DE EXECUÇÃO DO OBJETO DA PARCERIA – PARCIAL
B2: DADOS DA ORGANIZAÇÃO DA SOCIEDADE CIVIL PARCEIRA (OSC)
B3: Nome da OSC | E3: Número do Processo | G3: SAS
B4: Nome Fantasia | E4: Número do Termo de Parceria | G4: Distrito
B5: Tipologia | E5: Início do Termo de Parceria | G5: Capacidade Contratada
B6: CNPJ | E6: Vigência do Termo de Parceria | G6: Semestre avaliado | H6: 6º SEMESTRE
B7: =IF(C5="NPJ - Núcleo de Proteção Jurídico Social e Apoio Psicológico","Para esta tipologia de serviço não se aplicam os seguintes Indicadores Semestrais: 1.1 e 1.3",IF(C5="Família em Foco","O Indicador Semestral 3.2 não se aplica a esta tipologia de serviço.",IF(C5="Autonomia em Foco","O Indicador Semestral 3.2 não se aplica a esta tipologia de serviço.",IF(C5="República","O Indicador Semestral 3.2 não se aplica a esta tipologia de serviço.",IF(C5="Bagageiro","Para esta tipologia de serviço não se aplicam os seguintes Indicadores Semestrais: 1.2, 2.1, 3.2, 3.3 e 3.4",IF(C5="Serviço de Inclusão Social e Produtiva","O Indicador Semestral 1.2 não se aplica a esta tipologia de serviço.",IF(C5="SEAS - Serviço de Abordagem Social à População de Rua","Para esta tipologia de serviço não se aplicam os seguintes Indicadores Semestrais: 1.2, 3.2, 3.4.",IF(C5="Família Acolhedora","Para esta tipologia de serviço não se aplicam os seguintes Indicadores Semestrais: 1.1 e 3.2.",IF(C5="Serviço de Alimentação Domiciliar para a Pessoa Idosa","O Indicador Semestral 1.3 não se aplica a esta tipologia de serviço.",IF(C5="Serviço Proteção Social Básica no Domicílio para Pessoas com Deficiência e Idosas","Para esta tipologia de serviço não se aplicam os seguintes Indicadores Semestrais: 1.3 e 3.2.","ATENÇÃO: Para esta tipologia de serviço, todos os Indicadores Semestrais devem ser pontuados com valores entre ''1 - Insuficiente'' a ''4 - Superior''.")))))))))) -> ATENÇÃO: Para esta tipologia de serviço, todos os Indicadores Semestrais devem ser pontuados com valores entre ''1 - Insuficiente'' a ''4 - Superior''.
B8: DEMONSTRAÇÃO DO ALCANCE DAS METAS
B9: RESULTADO FINAL | F9: Média: | G9: =(Formulas!AA9)*0.01 -> 0 | H9: =Formulas!AA11 -> Insuficiente
B10: DIMENSÃO | D10: INDICADORES SEMESTRAIS | F10: RESULTADO DA META | G10: JUSTIFICATIVAS PARA METAS NÃO ATINGIDAS
B11: Estrutura física e administrativa | D11: 1.1 Cômodos e mobiliários estão sendo utilizados no semestre conforme o aprovado no Plano de Trabalho
B12: Estrutura física e administrativa | D12: 1.2 Disponibilidade de materiais e artigos socioeducativos, pedagógicos, lúdicos e esportivos para realização das atividades, bem como de insumos que garantam as ofertas específicas da tipologia do serviço, previstos no Plano de Trabalho
B13: Estrutura física e administrativa | D13: 1.3 Cômodos e mobiliários se encontram em perfeitas condições de uso
B14: Serviços, processos ou atividades | D14: 2.1 Percentual de Relatórios, Prontuários, Plano de Desenvolvimento do Usuário- PDU (usuários da PSB) / Plano Individual de Atendimento - PIA (usuários da PSE) / Plano de Desenvolvimento Familiar - PDF elaborados ou atualizados no semestre
B15: Produtos ou resultados | D15: 3.1 Número de usuários atendidos / capacidade parceirizada do serviço
B16: Produtos ou resultados | D16: 3.2 Cardápio elaborado nos termos do Manual Prático de Alimentação da SMADS e com participação dos usuários do serviço
B17: Produtos ou resultados | D17: 3.3 Execução das atividades previstas no Plano de Ação Semestral, compreendendo todas as suas dimensões.
B18: Produtos ou resultados | D18: 3.4 Implantação de mecanismos de apuração da satisfação dos usuários do serviço e de canais de participação dos usuários na elaboração do Plano de Ação
B19: Recursos humanos | D19: 4.1 Percentual de profissionais que participaram de ao menos uma capacitação/ atualização de conhecimento no semestre, ofertada pela OSC, pela SMADS ou outras instituições
B20: Recursos humanos | D20: 4.2 Adequação da força de trabalho, no semestre, ao quadro de recursos humanos previsto na legislação concernente à tipificação
B21: PRINCIPAIS AÇÕES EFETUADAS PARA ATINGIMENTO DAS METAS E DO OBJETO DA PARCERIA
B22: DIMENSÃO | D22: INDICADORES SEMESTRAIS | F22: Descreva sucintamente as ações efetuadas com vistas à implantação do projeto, comparando-se o previsto no plano de trabalho aprovado com o efetivamente executado
B23: Estrutura física e administrativa | D23: Cômodos e mobiliários estão sendo utilizados no semestre conforme o aprovado no Plano de Trabalho
B24: Estrutura física e administrativa | D24: Disponibilidade de materiais e artigos socioeducativos, pedagógicos, lúdicos e esportivos para realização das atividades, bem como de insumos que garantam as ofertas específicas da tipologia do serviço, previstos no Plano de Trabalho
B25: Estrutura física e administrativa | D25: Cômodos e mobiliários se encontram em perfeitas condições de uso
B26: Serviços, processos ou atividades | D26: Percentual de Relatórios, Prontuários, Plano de Desenvolvimento do Usuário- PDU (usuários da PSB) / Plano Individual de Atendimento - PIA (usuários da PSE) / Plano de Desenvolvimento Familiar - PDF elaborados ou atualizados no semestre
B27: Produtos ou resultados | D27: Número de usuários atendidos / capacidade parceirizada do serviço
B28: Produtos ou resultados | D28: Cardápio elaborado nos termos do Manual Prático de Alimentação da SMADS e com participação dos usuários do serviço
B29: Produtos ou resultados | D29: Execução das atividades previstas no Plano de Ação Semestral, compreendendo todas as suas dimensões.
B30: Produtos ou resultados | D30: Implantação de mecanismos de apuração da satisfação dos usuários do serviço e de canais de participação dos usuários na elaboração do Plano de Ação
B31: Recursos humanos | D31: Percentual de profissionais que participaram de ao menos uma capacitação/ atualização de conhecimento no semestre, ofertada pela OSC, pela SMADS ou outras instituições
B32: Recursos humanos | D32: Adequação da força de trabalho, no semestre, ao quadro de recursos humanos previsto na legislação concernente à tipificação
B33: LISTAGEM DE MATERIAIS COMPROBATÓRIOS DO CUMPRIMENTO DOS OBJETIVOS EM FOTOS, VÍDEOS OU OUTROS SUPORTES ENVIADOS EM ANEXO
B34: Liste o material comprobatório anexado, quando houver.
B35: 1.
B36: 2.
B37: 3.
B38: 4.
B39: 5.
B40: RELAÇÃO DE BENS PERMANENTES ADQUIRIDOS, PRODUZIDOS OU CONSTRUÍDOS COM RECURSOS DA PARCERIA
...

Sheet Rel_Parc_Exec_Obj_7º_sem
B1: RELATÓRIO DE EXECUÇÃO DO OBJETO DA PARCERIA – PARCIAL
B2: DADOS DA ORGANIZAÇÃO DA SOCIEDADE CIVIL PARCEIRA (OSC)
B3: Nome da OSC | E3: Número do Processo | G3: SAS
B4: Nome Fantasia | E4: Número do Termo de Parceria | G4: Distrito
B5: Tipologia | E5: Início do Termo de Parceria | G5: Capacidade Contratada
B6: CNPJ | E6: Vigência do Termo de Parceria | G6: Semestre avaliado | H6: 7º SEMESTRE
B7: =IF(C5="NPJ - Núcleo de Proteção Jurídico Social e Apoio Psicológico","Para esta tipologia de serviço não se aplicam os seguintes Indicadores Semestrais: 1.1 e 1.3",IF(C5="Família em Foco","O Indicador Semestral 3.2 não se aplica a esta tipologia de serviço.",IF(C5="Autonomia em Foco","O Indicador Semestral 3.2 não se aplica a esta tipologia de serviço.",IF(C5="República","O Indicador Semestral 3.2 não se aplica a esta tipologia de serviço.",IF(C5="Bagageiro","Para esta tipologia de serviço não se aplicam os seguintes Indicadores Semestrais: 1.2, 2.1, 3.2, 3.3 e 3.4",IF(C5="Serviço de Inclusão Social e Produtiva","O Indicador Semestral 1.2 não se aplica a esta tipologia de serviço.",IF(C5="SEAS - Serviço de Abordagem Social à População de Rua","Para esta tipologia de serviço não se aplicam os seguintes Indicadores Semestrais: 1.2, 3.2, 3.4.",IF(C5="Família Acolhedora","Para esta tipologia de serviço não se aplicam os seguintes Indicadores Semestrais: 1.1 e 3.2.",IF(C5="Serviço de Alimentação Domiciliar para a Pessoa Idosa","O Indicador Semestral 1.3 não se aplica a esta tipologia de serviço.",IF(C5="Serviço Proteção Social Básica no Domicílio para Pessoas com Deficiência e Idosas","Para esta tipologia de serviço não se aplicam os seguintes Indicadores Semestrais: 1.3 e 3.2.","ATENÇÃO: Para esta tipologia de serviço, todos os Indicadores Semestrais devem ser pontuados com valores entre ''1 - Insuficiente'' a ''4 - Superior''.")))))))))) -> ATENÇÃO: Para esta tipologia de serviço, todos os Indicadores Semestrais devem ser pontuados com valores entre ''1 - Insuficiente'' a ''4 - Superior''.
B8: DEMONSTRAÇÃO DO ALCANCE DAS METAS
B9: RESULTADO FINAL | F9: Média: | G9: =(Formulas!AE9)*0.01 -> 0 | H9: =Formulas!AE11 -> Insuficiente
B10: DIMENSÃO | D10: INDICADORES SEMESTRAIS | F10: RESULTADO DA META | G10: JUSTIFICATIVAS PARA METAS NÃO ATINGIDAS
B11: Estrutura física e administrativa | D11: 1.1 Cômodos e mobiliários estão sendo utilizados no semestre conforme o aprovado no Plano de Trabalho
B12: Estrutura física e administrativa | D12: 1.2 Disponibilidade de materiais e artigos socioeducativos, pedagógicos, lúdicos e esportivos para realização das atividades, bem como de insumos que garantam as ofertas específicas da tipologia do serviço, previstos no Plano de Trabalho
B13: Estrutura física e administrativa | D13: 1.3 Cômodos e mobiliários se encontram em perfeitas condições de uso
B14: Serviços, processos ou atividades | D14: 2.1 Percentual de Relatórios, Prontuários, Plano de Desenvolvimento do Usuário- PDU (usuários da PSB) / Plano Individual de Atendimento - PIA (usuários da PSE) / Plano de Desenvolvimento Familiar - PDF elaborados ou atualizados no semestre
B15: Produtos ou resultados | D15: 3.1 Número de usuários atendidos / capacidade parceirizada do serviço
B16: Produtos ou resultados | D16: 3.2 Cardápio elaborado nos termos do Manual Prático de Alimentação da SMADS e com participação dos usuários do serviço
B17: Produtos ou resultados | D17: 3.3 Execução das atividades previstas no Plano de Ação Semestral, compreendendo todas as suas dimensões.
B18: Produtos ou resultados | D18: 3.4 Implantação de mecanismos de apuração da satisfação dos usuários do serviço e de canais de participação dos usuários na elaboração do Plano de Ação
B19: Recursos humanos | D19: 4.1 Percentual de profissionais que participaram de ao menos uma capacitação/ atualização de conhecimento no semestre, ofertada pela OSC, pela SMADS ou outras instituições
B20: Recursos humanos | D20: 4.2 Adequação da força de trabalho, no semestre, ao quadro de recursos humanos previsto na legislação concernente à tipificação
B21: PRINCIPAIS AÇÕES EFETUADAS PARA ATINGIMENTO DAS METAS E DO OBJETO DA PARCERIA
B22: DIMENSÃO | D22: INDICADORES SEMESTRAIS | F22: Descreva sucintamente as ações efetuadas com vistas à implantação do projeto, comparando-se o previsto no plano de trabalho aprovado com o efetivamente executado
B23: Estrutura física e administrativa | D23: Cômodos e mobiliários estão sendo utilizados no semestre conforme o aprovado no Plano de Trabalho
B24: Estrutura física e administrativa | D24: Disponibilidade de materiais e artigos socioeducativos, pedagógicos, lúdicos e esportivos para realização das atividades, bem como de insumos que garantam as ofertas específicas da tipologia do serviço, previstos no Plano de Trabalho
B25: Estrutura física e administrativa | D25: Cômodos e mobiliários se encontram em perfeitas condições de uso
B26: Serviços, processos ou atividades | D26: Percentual de Relatórios, Prontuários, Plano de Desenvolvimento do Usuário- PDU (usuários da PSB) / Plano Individual de Atendimento - PIA (usuários da PSE) / Plano de Desenvolvimento Familiar - PDF elaborados ou atualizados no semestre
B27: Produtos ou resultados | D27: Número de usuários atendidos / capacidade parceirizada do serviço
B28: Produtos ou resultados | D28: Cardápio elaborado nos termos do Manual Prático de Alimentação da SMADS e com participação dos usuários do serviço
B29: Produtos ou resultados | D29: Execução das atividades previstas no Plano de Ação Semestral, compreendendo todas as suas dimensões.
B30: Produtos ou resultados | D30: Implantação de mecanismos de apuração da satisfação dos usuários do serviço e de canais de participação dos usuários na elaboração do Plano de Ação
B31: Recursos humanos | D31: Percentual de profissionais que participaram de ao menos uma capacitação/ atualização de conhecimento no semestre, ofertada pela OSC, pela SMADS ou outras instituições
B32: Recursos humanos | D32: Adequação da força de trabalho, no semestre, ao quadro de recursos humanos previsto na legislação concernente à tipificação
B33: LISTAGEM DE MATERIAIS COMPROBATÓRIOS DO CUMPRIMENTO DOS OBJETIVOS EM FOTOS, VÍDEOS OU OUTROS SUPORTES ENVIADOS EM ANEXO
B34: Liste o material comprobatório anexado, quando houver.
B35: 1.
B36: 2.
B37: 3.
B38: 4.
B39: 5.
B40: RELAÇÃO DE BENS PERMANENTES ADQUIRIDOS, PRODUZIDOS OU CONSTRUÍDOS COM RECURSOS DA PARCERIA
...

Sheet Rel_Parc_Exec_Obj_8º_sem
B1: RELATÓRIO DE EXECUÇÃO DO OBJETO DA PARCERIA – PARCIAL
B2: DADOS DA ORGANIZAÇÃO DA SOCIEDADE CIVIL PARCEIRA (OSC)
B3: Nome da OSC | E3: Número do Processo | G3: SAS
B4: Nome Fantasia | E4: Número do Termo de Parceria | G4: Distrito
B5: Tipologia | E5: Início do Termo de Parceria | G5: Capacidade Contratada
B6: CNPJ | E6: Vigência do Termo de Parceria | G6: Semestre avaliado | H6: 8º SEMESTRE
B7: =IF(C5="NPJ - Núcleo de Proteção Jurídico Social e Apoio Psicológico","Para esta tipologia de serviço não se aplicam os seguintes Indicadores Semestrais: 1.1 e 1.3",IF(C5="Família em Foco","O Indicador Semestral 3.2 não se aplica a esta tipologia de serviço.",IF(C5="Autonomia em Foco","O Indicador Semestral 3.2 não se aplica a esta tipologia de serviço.",IF(C5="República","O Indicador Semestral 3.2 não se aplica a esta tipologia de serviço.",IF(C5="Bagageiro","Para esta tipologia de serviço não se aplicam os seguintes Indicadores Semestrais: 1.2, 2.1, 3.2, 3.3 e 3.4",IF(C5="Serviço de Inclusão Social e Produtiva","O Indicador Semestral 1.2 não se aplica a esta tipologia de serviço.",IF(C5="SEAS - Serviço de Abordagem Social à População de Rua","Para esta tipologia de serviço não se aplicam os seguintes Indicadores Semestrais: 1.2, 3.2, 3.4.",IF(C5="Família Acolhedora","Para esta tipologia de serviço não se aplicam os seguintes Indicadores Semestrais: 1.1 e 3.2.",IF(C5="Serviço de Alimentação Domiciliar para a Pessoa Idosa","O Indicador Semestral 1.3 não se aplica a esta tipologia de serviço.",IF(C5="Serviço Proteção Social Básica no Domicílio para Pessoas com Deficiência e Idosas","Para esta tipologia de serviço não se aplicam os seguintes Indicadores Semestrais: 1.3 e 3.2.","ATENÇÃO: Para esta tipologia de serviço, todos os Indicadores Semestrais devem ser pontuados com valores entre ''1 - Insuficiente'' a ''4 - Superior''.")))))))))) -> ATENÇÃO: Para esta tipologia de serviço, todos os Indicadores Semestrais devem ser pontuados com valores entre ''1 - Insuficiente'' a ''4 - Superior''.
B8: DEMONSTRAÇÃO DO ALCANCE DAS METAS
B9: RESULTADO FINAL | F9: Média: | G9: =(Formulas!AI9)*0.01 -> 0 | H9: =Formulas!AI11 -> Insuficiente
B10: DIMENSÃO | D10: INDICADORES SEMESTRAIS | F10: RESULTADO DA META | G10: JUSTIFICATIVAS PARA METAS NÃO ATINGIDAS
B11: Estrutura física e administrativa | D11: 1.1 Cômodos e mobiliários estão sendo utilizados no semestre conforme o aprovado no Plano de Trabalho
B12: Estrutura física e administrativa | D12: 1.2 Disponibilidade de materiais e artigos socioeducativos, pedagógicos, lúdicos e esportivos para realização das atividades, bem como de insumos que garantam as ofertas específicas da tipologia do serviço, previstos no Plano de Trabalho
B13: Estrutura física e administrativa | D13: 1.3 Cômodos e mobiliários se encontram em perfeitas condições de uso
B14: Serviços, processos ou atividades | D14: 2.1 Percentual de Relatórios, Prontuários, Plano de Desenvolvimento do Usuário- PDU (usuários da PSB) / Plano Individual de Atendimento - PIA (usuários da PSE) / Plano de Desenvolvimento Familiar - PDF elaborados ou atualizados no semestre
B15: Produtos ou resultados | D15: 3.1 Número de usuários atendidos / capacidade parceirizada do serviço
B16: Produtos ou resultados | D16: 3.2 Cardápio elaborado nos termos do Manual Prático de Alimentação da SMADS e com participação dos usuários do serviço
B17: Produtos ou resultados | D17: 3.3 Execução das atividades previstas no Plano de Ação Semestral, compreendendo todas as suas dimensões.
B18: Produtos ou resultados | D18: 3.4 Implantação de mecanismos de apuração da satisfação dos usuários do serviço e de canais de participação dos usuários na elaboração do Plano de Ação
B19: Recursos humanos | D19: 4.1 Percentual de profissionais que participaram de ao menos uma capacitação/ atualização de conhecimento no semestre, ofertada pela OSC, pela SMADS ou outras instituições
B20: Recursos humanos | D20: 4.2 Adequação da força de trabalho, no semestre, ao quadro de recursos humanos previsto na legislação concernente à tipificação
B21: PRINCIPAIS AÇÕES EFETUADAS PARA ATINGIMENTO DAS METAS E DO OBJETO DA PARCERIA
B22: DIMENSÃO | D22: INDICADORES SEMESTRAIS | F22: Descreva sucintamente as ações efetuadas com vistas à implantação do projeto, comparando-se o previsto no plano de trabalho aprovado com o efetivamente executado
B23: Estrutura física e administrativa | D23: Cômodos e mobiliários estão sendo utilizados no semestre conforme o aprovado no Plano de Trabalho
B24: Estrutura física e administrativa | D24: Disponibilidade de materiais e artigos socioeducativos, pedagógicos, lúdicos e esportivos para realização das atividades, bem como de insumos que garantam as ofertas específicas da tipologia do serviço, previstos no Plano de Trabalho
B25: Estrutura física e administrativa | D25: Cômodos e mobiliários se encontram em perfeitas condições de uso
B26: Serviços, processos ou atividades | D26: Percentual de Relatórios, Prontuários, Plano de Desenvolvimento do Usuário- PDU (usuários da PSB) / Plano Individual de Atendimento - PIA (usuários da PSE) / Plano de Desenvolvimento Familiar - PDF elaborados ou atualizados no semestre
B27: Produtos ou resultados | D27: Número de usuários atendidos / capacidade parceirizada do serviço
B28: Produtos ou resultados | D28: Cardápio elaborado nos termos do Manual Prático de Alimentação da SMADS e com participação dos usuários do serviço
B29: Produtos ou resultados | D29: Execução das atividades previstas no Plano de Ação Semestral, compreendendo todas as suas dimensões.
B30: Produtos ou resultados | D30: Implantação de mecanismos de apuração da satisfação dos usuários do serviço e de canais de participação dos usuários na elaboração do Plano de Ação
B31: Recursos humanos | D31: Percentual de profissionais que participaram de ao menos uma capacitação/ atualização de conhecimento no semestre, ofertada pela OSC, pela SMADS ou outras instituições
B32: Recursos humanos | D32: Adequação da força de trabalho, no semestre, ao quadro de recursos humanos previsto na legislação concernente à tipificação
B33: LISTAGEM DE MATERIAIS COMPROBATÓRIOS DO CUMPRIMENTO DOS OBJETIVOS EM FOTOS, VÍDEOS OU OUTROS SUPORTES ENVIADOS EM ANEXO
B34: Liste o material comprobatório anexado, quando houver.
B35: 1.
B36: 2.
B37: 3.
B38: 4.
B39: 5.
B40: RELAÇÃO DE BENS PERMANENTES ADQUIRIDOS, PRODUZIDOS OU CONSTRUÍDOS COM RECURSOS DA PARCERIA
...

Sheet Rel_Parc_Exec_Obj_9º_sem
B1: RELATÓRIO DE EXECUÇÃO DO OBJETO DA PARCERIA – PARCIAL
B2: DADOS DA ORGANIZAÇÃO DA SOCIEDADE CIVIL PARCEIRA (OSC)
B3: Nome da OSC | E3: Número do Processo | G3: SAS
B4: Nome Fantasia | E4: Número do Termo de Parceria | G4: Distrito
B5: Tipologia | E5: Início do Termo de Parceria | G5: Capacidade Contratada
B6: CNPJ | E6: Vigência do Termo de Parceria | G6: Semestre avaliado | H6: 9º SEMESTRE
B7: =IF(C5="NPJ - Núcleo de Proteção Jurídico Social e Apoio Psicológico","Para esta tipologia de serviço não se aplicam os seguintes Indicadores Semestrais: 1.1 e 1.3",IF(C5="Família em Foco","O Indicador Semestral 3.2 não se aplica a esta tipologia de serviço.",IF(C5="Autonomia em Foco","O Indicador Semestral 3.2 não se aplica a esta tipologia de serviço.",IF(C5="República","O Indicador Semestral 3.2 não se aplica a esta tipologia de serviço.",IF(C5="Bagageiro","Para esta tipologia de serviço não se aplicam os seguintes Indicadores Semestrais: 1.2, 2.1, 3.2, 3.3 e 3.4",IF(C5="Serviço de Inclusão Social e Produtiva","O Indicador Semestral 1.2 não se aplica a esta tipologia de serviço.",IF(C5="SEAS - Serviço de Abordagem Social à População de Rua","Para esta tipologia de serviço não se aplicam os seguintes Indicadores Semestrais: 1.2, 3.2, 3.4.",IF(C5="Família Acolhedora","Para esta tipologia de serviço não se aplicam os seguintes Indicadores Semestrais: 1.1 e 3.2.",IF(C5="Serviço de Alimentação Domiciliar para a Pessoa Idosa","O Indicador Semestral 1.3 não se aplica a esta tipologia de serviço.",IF(C5="Serviço Proteção Social Básica no Domicílio para Pessoas com Deficiência e Idosas","Para esta tipologia de serviço não se aplicam os seguintes Indicadores Semestrais: 1.3 e 3.2.","ATENÇÃO: Para esta tipologia de serviço, todos os Indicadores Semestrais devem ser pontuados com valores entre ''1 - Insuficiente'' a ''4 - Superior''.")))))))))) -> ATENÇÃO: Para esta tipologia de serviço, todos os Indicadores Semestrais devem ser pontuados com valores entre ''1 - Insuficiente'' a ''4 - Superior''.
B8: DEMONSTRAÇÃO DO ALCANCE DAS METAS
B9: RESULTADO FINAL | F9: Média: | G9: =(Formulas!AM9)*0.01 -> 0 | H9: =Formulas!AM11 -> Insuficiente
B10: DIMENSÃO | D10: INDICADORES SEMESTRAIS | F10: RESULTADO DA META | G10: JUSTIFICATIVAS PARA METAS NÃO ATINGIDAS
B11: Estrutura física e administrativa | D11: 1.1 Cômodos e mobiliários estão sendo utilizados no semestre conforme o aprovado no Plano de Trabalho
B12: Estrutura física e administrativa | D12: 1.2 Disponibilidade de materiais e artigos socioeducativos, pedagógicos, lúdicos e esportivos para realização das atividades, bem como de insumos que garantam as ofertas específicas da tipologia do serviço, previstos no Plano de Trabalho
B13: Estrutura física e administrativa | D13: 1.3 Cômodos e mobiliários se encontram em perfeitas condições de uso
B14: Serviços, processos ou atividades | D14: 2.1 Percentual de Relatórios, Prontuários, Plano de Desenvolvimento do Usuário- PDU (usuários da PSB) / Plano Individual de Atendimento - PIA (usuários da PSE) / Plano de Desenvolvimento Familiar - PDF elaborados ou atualizados no semestre
B15: Produtos ou resultados | D15: 3.1 Número de usuários atendidos / capacidade parceirizada do serviço
B16: Produtos ou resultados | D16: 3.2 Cardápio elaborado nos termos do Manual Prático de Alimentação da SMADS e com participação dos usuários do serviço
B17: Produtos ou resultados | D17: 3.3 Execução das atividades previstas no Plano de Ação Semestral, compreendendo todas as suas dimensões.
B18: Produtos ou resultados | D18: 3.4 Implantação de mecanismos de apuração da satisfação dos usuários do serviço e de canais de participação dos usuários na elaboração do Plano de Ação
B19: Recursos humanos | D19: 4.1 Percentual de profissionais que participaram de ao menos uma capacitação/ atualização de conhecimento no semestre, ofertada pela OSC, pela SMADS ou outras instituições
B20: Recursos humanos | D20: 4.2 Adequação da força de trabalho, no semestre, ao quadro de recursos humanos previsto na legislação concernente à tipificação
B21: PRINCIPAIS AÇÕES EFETUADAS PARA ATINGIMENTO DAS METAS E DO OBJETO DA PARCERIA
B22: DIMENSÃO | D22: INDICADORES SEMESTRAIS | F22: Descreva sucintamente as ações efetuadas com vistas à implantação do projeto, comparando-se o previsto no plano de trabalho aprovado com o efetivamente executado
B23: Estrutura física e administrativa | D23: Cômodos e mobiliários estão sendo utilizados no semestre conforme o aprovado no Plano de Trabalho
B24: Estrutura física e administrativa | D24: Disponibilidade de materiais e artigos socioeducativos, pedagógicos, lúdicos e esportivos para realização das atividades, bem como de insumos que garantam as ofertas específicas da tipologia do serviço, previstos no Plano de Trabalho
B25: Estrutura física e administrativa | D25: Cômodos e mobiliários se encontram em perfeitas condições de uso
B26: Serviços, processos ou atividades | D26: Percentual de Relatórios, Prontuários, Plano de Desenvolvimento do Usuário- PDU (usuários da PSB) / Plano Individual de Atendimento - PIA (usuários da PSE) / Plano de Desenvolvimento Familiar - PDF elaborados ou atualizados no semestre
B27: Produtos ou resultados | D27: Número de usuários atendidos / capacidade parceirizada do serviço
B28: Produtos ou resultados | D28: Cardápio elaborado nos termos do Manual Prático de Alimentação da SMADS e com participação dos usuários do serviço
B29: Produtos ou resultados | D29: Execução das atividades previstas no Plano de Ação Semestral, compreendendo todas as suas dimensões.
B30: Produtos ou resultados | D30: Implantação de mecanismos de apuração da satisfação dos usuários do serviço e de canais de participação dos usuários na elaboração do Plano de Ação
B31: Recursos humanos | D31: Percentual de profissionais que participaram de ao menos uma capacitação/ atualização de conhecimento no semestre, ofertada pela OSC, pela SMADS ou outras instituições
B32: Recursos humanos | D32: Adequação da força de trabalho, no semestre, ao quadro de recursos humanos previsto na legislação concernente à tipificação
B33: LISTAGEM DE MATERIAIS COMPROBATÓRIOS DO CUMPRIMENTO DOS OBJETIVOS EM FOTOS, VÍDEOS OU OUTROS SUPORTES ENVIADOS EM ANEXO
B34: Liste o material comprobatório anexado, quando houver.
B35: 1.
B36: 2.
B37: 3.
B38: 4.
B39: 5.
B40: RELAÇÃO DE BENS PERMANENTES ADQUIRIDOS, PRODUZIDOS OU CONSTRUÍDOS COM RECURSOS DA PARCERIA
...

Sheet Rel_Parc_Exec_Obj_10º_sem
B1: RELATÓRIO DE EXECUÇÃO DO OBJETO DA PARCERIA – PARCIAL
B2: DADOS DA ORGANIZAÇÃO DA SOCIEDADE CIVIL PARCEIRA (OSC)
B3: Nome da OSC | E3: Número do Processo | G3: SAS
B4: Nome Fantasia | E4: Número do Termo de Parceria | G4: Distrito
B5: Tipologia | E5: Início do Termo de Parceria | G5: Capacidade Contratada
B6: CNPJ | E6: Vigência do Termo de Parceria | G6: Semestre avaliado | H6: 10º SEMESTRE
