Workbook
Name OUC: #REF!
Name SITUAÇÃO: #REF!
Name STATUS: #REF!

Sheet Declaração - ZEPEC
A1: N. processo | B1: SQ | C1: Lote | D1: Endereço | E1: Distrito | F1: N. Declaração | G1: Data publicação | H1: Ano publicação | I1: Situação | J1: Status Declaração
A2: 10-011.610-86*63 | B2: 002059 | C2: 0054-2 | D2: Páteo do Colégio, 34 | E2: Sé | F2: 0001 | G2: 32477 | H2: 1988 | I2: DOCUMENTAL | J2: DISPONÍVEL.T
A3: 13-000.152-96*12 | B3: 005046 | C3: 0099-0 | D3: Pç Dr Mário Margarido, 34 | E3: Sé | F3: 0002 | G3: 35390 | H3: 1996 | I3: DOCUMENTAL | J3: DISPONÍVEL
A4: 13-000.152-96*12 | B4: 005046 | C4: 0096-6 | D4: Vila Suíça, 2A | E4: Sé | F4: 0003 | G4: 35390 | H4: 1996 | I4: DOCUMENTAL | J4: DISPONÍVEL
A5: 6068.2021/0010710-5 | B5: 001049 | C5: 0235-3 | D5: Largo São Bento , s/nº | E5: Sé | F5: 0004G/18 2ª via | G5: 44991 | H5: 2023 | I5: DOCUMENTAL | J5: DISPONÍVEL.T
A6: 7810.2018/0000558-2 | B6: 005003 | C6: 0003-8 | D6: Pç do Patriarca, 49 | E6: Sé | F6: 0005A | G6: 43427 | H6: 2018 | I6: DOCUMENTAL | J6: DISPONÍVEL.T
A7: 6068.2024/0000564-2 | B7: 001049 | C7: 0235-3 | D7: R Florêncio de Abreu, 111 | E7: Sé | F7: 0549/24 | G7: 45477 | H7: 2024 | I7: DOCUMENTAL | J7: DISPONÍVEL
A8: 6068.2021/0011444-6 | B8: 001082 | C8: 0015-9 | D8: R Quinze de Novembro, 275 e 289 | E8: Sé | F8: 0007/21 - 2ª via | G8: 44588 | H8: 2022 | I8: DOCUMENTAL | J8: DISPONÍVEL
A9: 1998-0.084.005-2 | B9: 006021 | C9: 0675-3 | D9: R Major Quedinho, 28, 44, 76 | E9: República | F9: 0008A | G9: 37726 | H9: 2003 | I9: DOCUMENTAL | J9: DISPONÍVEL.T
A10: 1999-0.036.508-9 | B10: 007050 | C10: 0009, 0010, 0011 | D10: R Bento Freitas, 76, 86, 88 | E10: República | F10: 0010 | G10: 36508 | H10: 1999 | I10: DOCUMENTAL | J10: DISPONÍVEL.T
A11: 6068.2022/0005706-1 | B11: 001082 | C11: 0014-0 | D11: R Alvares Penteado, 112 | E11: Sé | F11: 0011A/23 2ª via | G11: 45097 | H11: 2023 | I11: DOCUMENTAL | J11: DISPONÍVEL.T
A12: 1999-0.099.516-3 | B12: 008039 | C12: 0048 | D12: R Mauá, 51 | E12: Bom Retiro | F12: 0012 | G12: 36663 | H12: 2000 | I12: DOCUMENTAL | J12: DISPONÍVEL
A13: 1999-0.231.617-4 | B13: 001057 | C13: 0239 a 0257 | D13: R Antonio Godoy, 88 | E13: República | F13: 0013 | G13: 36676 | H13: 2000 | I13: DOCUMENTAL | J13: DISPONÍVEL
... A234: 6068.2019/0004377-4 | B234: 004011 | C234: 0006-5 | D234: R do Glicério, 225 | E234: Sé | F234: 0313/19 | G234: 44201 | H234: 2021 | I234: DOCUMENTAL | J234: DISPONÍVEL
A235: 6068.2024/0007789-9 | B235: 004011 | C235: 38838 | D235: R do Glicério, 215 a 245 | E235: Sé | F235: 0578/24 | G235: 45579 | H235: 2024 | I235: DOCUMENTAL | J235: DISPONÍVEL
A236: 6068.2023/0005538-9 | B236: 001062 | C236: 00 11-9 | D236: R Libero Badaró, 624 e 628 | E236: Sé | F236: 0516/23 | G236: 45205 | H236: 2023 | I236: DOCUMENTAL | J236: DISPONÍVEL
A237: 6068.2019/0004681-1 | B237: 001050 | C237: 0002-7 | D237: R Florêncio de Abreu, 112 e 116 | E237: Sé | F237: 0315/20 | G237: 43876 | H237: 2020 | I237: DOCUMENTAL | J237: DISPONÍVEL
A238: 6068.2019/0004822-9 | B238: 001083 | C238: 0020-1 | D238: R Quinze de Novembro, 250, 256 e 260 | E238: Sé | F238: 0316/20 | G238: 43984 | H238: 2020 | I238: DOCUMENTAL | J238: DISPONÍVEL
A239: 6066.2019/0005619-0 | B239: 001050 | C239: 0024-8 | D239: R Florêncio de Abreu, 304 | E239: Sé | F239: 0317/20 | G239: 43907 | H239: 2020 | I239: DOCUMENTAL | J239: DISPONÍVEL
A240: 6066.2019/0005637-9 | B240: 007091 | C240: 0306-9 | D240: Av Ipiranga, 135 | E240: República | F240: 0319/20 | G240: 43909 | H240: 2020 | I240: DOCUMENTAL | J240: DISPONÍVEL
A241: 6066.2019/0005910-6 | B241: 001061 | C241: 0009-2 | D241: Av São João, 102 e 104 | E241: Sé | F241: 0320/20 | G241: 43880 | H241: 2020 | I241: DOCUMENTAL | J241: DISPONÍVEL
A242: 6068.2023/0004415-8 | B242: 005087 | C242: 0017-5 | D242: Av da Liberdade, 688, 692, 698 e 702 | E242: Liberdade | F242: 0518/23 | G242: 45205 | H242: 2023 | I242: DOCUMENTAL | J242: DISPONÍVEL
A243: 6066.2019/0005912-2 | B243: 001050 | C243: 0113-9 | D243: R Vinte e Cinco de Março, 739 | E243: Sé | F243: 0323/20 | G243: 43866 | H243: 2020 | I243: DOCUMENTAL | J243: DISPONÍVEL
A244: 6068.2019/0004679-0 | B244: 001050 | C244: 0001-9 | D244: R Florêncio de Abreu, 106 e 110 | E244: Sé | F244: 0326/20 | G244: 43875 | H244: 2020 | I244: DOCUMENTAL | J244: DISPONÍVEL
A245: 6068.2023/0011343-5 | B245: 001063 | C245: 0052-0 | D245: Pç Antônio Prado, 48 e R João Brícola, 37 e 43 | E245: Sé | F245: 0547/24 | G245: 45477 | H245: 2024 | I245: DOCUMENTAL | J245: DISPONÍVEL
A246: 6066.2019/0006779-6 | B246: 008023 | C246: 0251-3 | D246: Al Glete, 444 e 448 / R Guaianases, 983 | E246: Santa Cecília | F246: 0328/20 | G246: 43883 | H246: 2020 | I246: DOCUMENTAL | J246: DISPONÍVEL
A247: 6066.2019/0007450-4 | B247: 038003 | C247: 0006-0 | D247: R Maestro Cardim, 601, casas 01 e 01A | E247: Bela Vista | F247: 0329/20 | G247: 43921 | H247: 2020 | I247: DOCUMENTAL | J247: DISPONÍVEL
... A273: 6068.2023/0001607-3 | B273: 005014 | C273: 0030-3 | D273: Largo São Francisco, 19 | E273: Sé | F273: 0515/23 | G273: 45208 | H273: 2023 | I273: DOCUMENTAL | J273: DISPONÍVEL
A274: 6068.2023/0006142-7 | B274: 008081 | C274: 42491 | D274: RUA SANTA EFIGÊNIA, 401, 403, 407 | E274: República | F274: 0528/23 | G274: 45308 | H274: 2024 | I274: DOCUMENTAL | J274: DISPONÍVEL
A275: 6066.2020/0001532-1 | B275: 037064 | C275: 0013-8, 0014-8 | D275: R Domingos de Morais 1410, 1412, 1414 e 1416 | E275: Vila Mariana | F275: 0361/20 | G275: 44106 | H275: 2020 | I275: DOCUMENTAL | J275: DISPONÍVEL
A276: 6066.2020/0000076-6 | B276: 003006 | C276: 0019-4 | D276: R dos Carmelitas, 150 | E276: Sé | F276: 0362/20 | G276: 43991 | H276: 2020 | I276: DOCUMENTAL | J276: DISPONÍVEL
A277: 6066.2020/0001704-9 | B277: 033039 | C277: 0036-1 | D277: R do Lavapés, 336 -342 | E277: Liberdade | F277: 0363/20 | G277: 43988 | H277: 2020 | I277: DOCUMENTAL | J277: DISPONÍVEL
A278: 6066.2020/0001706-5 | B278: 033039 | C278: 0038-8 | D278: R do Lavapés, 350-354 | E278: Liberdade | F278: 0364/20 | G278: 43988 | H278: 2020 | I278: DOCUMENTAL | J278: DISPONÍVEL
A279: 6066.2019/0007762-7 | B279: 006064 | C279: 4368 à 4412 | D279: Av São Luís, 86 | E279: Sé | F279: 0365/20 | G279: 44006 | H279: 2020 | I279: DOCUMENTAL | J279: DISPONÍVEL
A280: 6068.2023/0003570-1 | B280: 006064 | C280: COND 16 | D280: Av São Luiz, 84, 86 e 96 | E280: República | F280: 0536/23 | G280: 45280 | H280: 2023 | I280: DOCUMENTAL | J280: DISPONÍVEL
A281: 6066.2020/0001702-2 | B281: 033040 | C281: 0033-7 | D281: R do Lavapés, 318-320 | E281: Liberdade | F281: 0366/20 | G281: 43991 | H281: 2020 | I281: DOCUMENTAL | J281: DISPONÍVEL
A282: 6066.2020/0002210-7 | B282: 035064 | C282: 0005-3 | D282: R Jorge Moreira, 62 | E282: Ipiranga | F282: 0367/20 | G282: 44337 | H282: 2021 | I282: DOCUMENTAL | J282: DISPONÍVEL
A283: 6066.2020/0001749-9 | B283: 021091 | C283: 0037-0 | D283: R Cardoso de Almeida, 1538 | E283: Perdizes | F283: 0368/20 | G283: 43959 | H283: 2020 | I283: DOCUMENTAL | J283: DISPONÍVEL
A284: 6066.2020/0002211-5 | B284: 015049 | C284: 0021-9 | D284: R Sampaio Vidal, 564 | E284: Pinheiros | F284: 0370/20 | G284: 44168 | H284: 2020 | I284: DOCUMENTAL | J284: DISPONÍVEL
A285: 6066.2020/0002304-9 | B285: 033021 | C285: 0417-0 | D285: R São Joaquim, 381 | E285: Liberdade | F285: 0371/20 | G285: 44091 | H285: 2020 | I285: DOCUMENTAL | J285: DISPONÍVEL
A286: 6066.2020/0000239-4 | B286: 001072 | C286: 0098-8 | D286: R Libero Badaró, 438 / R Dr Miguel Couto, 58 | E286: Sé | F286: 0372/20 | G286: 44145 | H286: 2020 | I286: DOCUMENTAL | J286: DISPONÍVEL
... A297: 6068.2024/0001536-2 | B297: 020081 | C297: 0180-0 | D297: R Cardoso de Almeida, 541 | E297: Perdizes | F297: 0386/20 - 2ªvia | G297: 45404 | H297: 2024 | I297: DOCUMENTAL | J297: DISPONÍVEL
A298: 6068.2020/0000706-0 | B298: 001085 | C298: 37865 | D298: R Quinze de Novembro, 111 | E298: Sé | F298: 0387/21 | G298: 44434 | H298: 2021 | I298: DOCUMENTAL | J298: DISPONÍVEL
A299: 6068.2020/0002784-3 | B299: 009038 | C299: 0034-9 | D299: R Treze de Maio, 1004 | E299: Sé | F299: 0388/20 | G299: 44163 | H299: 2020 | I299: DOCUMENTAL | J299: DISPONÍVEL
A300: 6068.2020/0002109-8 | B300: 028015 | C300: 0007-0 | D300: R Javari, 403 R Taquari, 173 | E300: Mooca | F300: 0389/20 | G300: 44112 | H300: 2020 | I300: DOCUMENTAL | J300: DISPONÍVEL
A301: 6068.2020/0002013-0 | B301: 001081 | C301: 0012-1 | D301: R da Quitanda, 126 | E301: Sé | F301: 0390/21 | G301: 43885 | H301: 2020 | I301: DOCUMENTAL | J301: DISPONÍVEL
A302: 6068.2020/0002946-3 | B302: 001053 | C302: 0030-6 | D302: Av Rio Branco, 52, 54 | E302: Sé | F302: 0391/20 | G302: 44434 | H302: 2021 | I302: DOCUMENTAL | J302: DISPONÍVEL
A303: 6068.2020/0003015-1 | B303: 006015 | C303: 0726-6, 0727-4, 0728-2, 0729-0, 0730-4, 0731-2, 0732-0, 0733-9, 0734-7, 0735-5, 0736-3, 0737-1 | D303: R Marconi, 107 | E303: República | F303: 0393/20 | G303: 44295 | H303: 2021 | I303: DOCUMENTAL | J303: DISPONÍVEL
A304: 6068.2025/0007860-9 | B304: 123194 | C304: 0002-7 | D304: Av Morumbi, 5594 | E304: Morumbi | F304: 0394/20 - 2ª via | G304: 45937 | H304: 2025 | I304: DOCUMENTAL | J304: DISPONÍVEL
A305: 6068.2020/0003560-9 | B305: 008015 | C305: 0009-5 | D305: R Guaianases, 1281 | E305: Santa Cecília | F305: 0395/20 | G305: 44147 | H305: 2020 | I305: DOCUMENTAL | J305: DISPONÍVEL
A306: 6068.2023/0001626-0 | B306: 020036 | C306: 0016-7 | D306: R Parintins, 120 | E306: Barra Funda | F306: 0508/23 | G306: 45208 | H306: 2023 | I306: DOCUMENTAL | J306: DISPONÍVEL
A307: 6068.2023/0008144-4 | B307: 009021 | C307: 14824 | D307: R Treze de Maio, 724 | E307: Bela Vista | F307: 0534/23 | G307: 45308 | H307: 2023 | I307: DOCUMENTAL | J307: DISPONÍVEL
A308: 6068.2020/0003232-4 | B308: 002068 | C308: 0005-3 | D308: R Floriano Peixoto, 54 | E308: República | F308: 0398/20 | G308: 44407 | H308: 2021 | I308: DOCUMENTAL | J308: DISPONÍVEL
A309: 6068.2020/0003233-2 | B309: 002068 | C309: 0006-1 | D309: R Roberto Simonsen, 97, 101 | E309: República | F309: 0399/20 | G309: 44404 | H309: 2021 | I309: DOCUMENTAL | J309: DISPONÍVEL
A310: 6068.2020/0003235-9 | B310: 002068 | C310: 0011-8 | D310: R Venceslau Brás, 61, 67 | E310: Sé | F310: 0400/20 | G310: 44407 | H310: 2021 | I310: DOCUMENTAL | J310: DISPONÍVEL
A311: 6068.2020/0004358-0 | B311: 001080 | C311: 0009-4 | D311: R São Bento, 201 a 203 e 207 | E311: Sé | F311: 0402/20 | G311: 44182 | H311: 2020 | I311: DOCUMENTAL | J311: DISPONÍVEL
A312: 6068.2020/0004371-7 | B312: 001050 | C312: 0014-0 | D312: R Florêncio de Abreu, 220, 222 e 226 | E312: Sé | F312: 0403/20 | G312: 44233 | H312: 2021 | I312: DOCUMENTAL | J312: DISPONÍVEL
A313: 6066.2020/0000910-0 | B313: 001061 | C313: 0010-6 | D313: Av São João, 108 | E313: Sé | F313: 0405/21 | G313: 44233 | H313: 2021 | I313: DOCUMENTAL | J313: DISPONÍVEL
A314: 6068.2023/0006433-7 | B314: 009032 | C314: 0149-6, 0447-9, 0446-0 | D314: R Martiniano de Carvalho , 60, 114-156, 170 | E314: Bela Vista | F314: 0406A/23 | G314: 45323 | H314: 2024 | I314: DOCUMENTAL | J314: DISPONÍVEL.T
A315: 6068.2021/0000351-2 | B315: 006010 | C315: 0552-1, 0553-8 | D315: Av Ipiranga, 770, 786 | E315: República | F315: 0407/21 | G315: 44338 | H315: 2021 | I315: DOCUMENTAL | J315: DISPONÍVEL
A316: 6068.2021/0000352-0 | B316: 001040 | C316: 0004-1 | D316: R Florêncio de Abreu, 449, 455, 459 | E316: Sé | F316: 0409/21 | G316: 44336 | H316: 2021 | I316: DOCUMENTAL | J316: DISPONÍVEL
A317: 6068.2021/0000350-4 | B317: 005017 | C317: 0039-0 | D317: R Genebra, 57, 65 | E317: República | F317: 0410/21 | G317: 44341 | H317: 2021 | I317: DOCUMENTAL | J317: DISPONÍVEL
A318: 6068.2023/0002655-9 | B318: 009099 | C318: 0001-9 | D318: R Conselheiro Carrão, 640 | E318: Bela Vista | F318: 0522/23 | G318: 45229 | H318: 2023 | I318: DOCUMENTAL | J318: DISPONÍVEL
A319: 6068.2021/0000243-5 | B319: 008015 | C319: 0007-9 | D319: R Guaianases, 1239 | E319: Santa Cecília | F319: 0412/21 | G319: 44302 | H319: 2021 | I319: DOCUMENTAL | J319: DISPONÍVEL
... A419: 6068.2025/0007206-6 | B419: 002060 | C419: 0004-9 | D419: Rua Anchieta, 35 | E419: Sé | F419: 0606/25 | G419: 45967 | H419: 2025 | I419: DOCUMENTAL | J419: DISPONÍVEL

Sheet Sintese ZEPEC
A1: COUNTA of N. processo | B1: Status Declaração
A2: Ano publicação | B2: CANCELADA | C2: DISPONÍVEL | D2: DISPONÍVEL.T | E2: EM ANÁLISE | F2: ESGOTADA | G2: NÃO EMITIDA | H2: (vazio) | I2: Total Geral | L2: DEUSO/DMUS 2020
A3: 1988 | D3: 1 | I3: 1 | L3: ZEPEC | M3: Declarações | N3: 108 | O3: 147
A4: 1989 | D4: 1 | I4: 1 | M4: Certidões | N4: 15 | O4: 29
A5: 1996 | C5: 2 | I5: 2 | L5: ZEPAM | M5: Declarações | N5: 1 | O5: 2
A6: 1998 | B6: 4 | I6: 4 | M6: Certidões | N6: 1 | O6: 2
A7: 1999 | B7: 1 | C7: 1 | D7: 1 | F7: 1 | I7: 4 | L7: Com doação | M7: Declarações | N7: 9 | O7: 23
A8: 2000 | B8: 1 | C8: 4 | I8: 5 | M8: Certidões | N8: 9 | O8: 18
A9: 2001 | C9: 3 | F9: 1 | I9: 4
A10: 2002 | B10: 1 | F10: 1 | I10: 2
A11: 2003 | B11: 2 | C11: 2 | D11: 1 | F11: 1 | I11: 6 | L11: DEUSO/DMUS 2021
A12: 2005 | B12: 1 | C12: 1 | I12: 2 | L12: ZEPEC | M12: Declarações | N12: 39 | O12: 39
A13: 2006 | B13: 1 | F13: 1 | I13: 2 | M13: Certidões | N13: 14 | O13: 14
A14: 2008 | B14: 3 | C14: 2 | D14: 1 | I14: 6 | L14: ZEPAM | M14: Declarações | N14: 1 | O14: 1
A15: 2009 | B15: 6 | D15: 1 | F15: 2 | I15: 9 | M15: Certidões | N15: 1 | O15: 1
A16: 2010 | B16: 7 | D16: 2 | F16: 2 | I16: 11 | L16: Com doação | M16: Declarações | N16: 14 | O16: 14
A17: 2011 | B17: 8 | F17: 3 | I17: 11 | M17: Certidões | N17: 9 | O17: 9
A18: 2012 | B18: 3 | C18: 2 | D18: 2 | F18: 9 | I18: 16
A19: 2013 | B19: 5 | C19: 2 | D19: 2 | F19: 7 | G19: 1 | I19: 17
A20: 2014 | B20: 4 | C20: 3 | D20: 1 | F20: 4 | G20: 3 | I20: 15 | L20: DEUSO/DMUS 2022
A21: 2015 | B21: 7 | C21: 51 | F21: 6 | G21: 2 | I21: 66 | L21: ZEPEC | M21: Declarações | N21: 21 | O21: 21
A22: 2016 | B22: 7 | C22: 11 | F22: 5 | G22: 24 | I22: 47 | M22: Certidões | N22: 6 | O22: 6
A23: 2017 | B23: 37 | C23: 6 | D23: 2 | F23: 16 | G23: 8 | I23: 69 | L23: ZEPAM | M23: Declarações | N23: 1 | O23: 1
A24: 2018 | B24: 13 | C24: 25 | D24: 3 | F24: 12 | G24: 14 | I24: 67 | M24: Certidões | N24: 1 | O24: 1
A25: 2019 | B25: 20 | C25: 38 | D25: 3 | F25: 17 | G25: 19 | I25: 97 | L25: Com doação | M25: Declarações | N25: 10 | O25: 10
A26: 2020 | B26: 26 | C26: 60 | D26: 2 | F26: 10 | G26: 21 | I26: 119 | M26: Certidões | N26: 9 | O26: 9
A27: 2021 | B27: 9 | C27: 28 | D27: 3 | F27: 11 | G27: 46 | I27: 97
A28: 2022 | B28: 5 | C28: 11 | D28: 2 | F28: 3 | G28: 18 | I28: 39
A29: 2023 | B29: 4 | C29: 62 | D29: 4 | F29: 7 | G29: 43 | I29: 120 | L29: DEUSO/DMUS 2023
A30: 2024 | B30: 3 | C30: 49 | D30: 3 | F30: 2 | G30: 28 | I30: 85 | L30: ZEPEC | M30: Declarações | N30: 72 | O30: 72
A31: 2025 | C31: 24 | D31: 1 | E31: 1 | F31: 29 | G31: 13 | H31: 2 | I31: 70 | M31: Certidões | N31: 8 | O31: 8
A32: 2026 | C32: 3 | E32: 8 | F32: 2 | G32: 1 | H32: 3 | I32: 17 | L32: ZEPAM | M32: Declarações | N32: 2 | O32: 2
A33: - | E33: 6 | G33: 9 | I33: 15 | M33: Certidões | N33: 2 | O33: 2
A34: ? | B34: 1 | G34: 5 | I34: 6 | L34: Com doação | M34: Declarações | N34: 4 | O34: 4
A35: (vazio) | D35: 1 | E35: 38 | F35: 1 | G35: 1 | H35: 17 | I35: 58 | M35: Certidões | N35: 6 | O35: 6
A36: Total Geral | B36: 179 | C36: 390 | D36: 37 | E36: 53 | F36: 153 | G36: 256 | H36: 22 | I36: 1090
L38: DEUSO/DMUS 2024
L39: ZEPEC | M39: Declarações | N39: 43 | O39: 43
M40: Certidões | N40: 4 | O40: 4
L41: ZEPAM | M41: Declarações | N41: 1 | O41: 1
M42: Certidões | N42: 0 | O42: 0
L43: Com doação | M43: Declarações | N43: 2 | O43: 2
M44: Certidões | N44: 1 | O44: 1
L47: DEUSO/DMUS 2025
L48: ZEPEC | M48: Declarações | N48: 14 | O48: 14
M49: Certidões | N49: 10 | O49: 10
L50: ZEPAM | M50: Declarações | N50: 0 | O50: 0
M51: Certidões | N51: 1 | O51: 1
L52: Com doação | M52: Declarações | N52: 1 | O52: 1
M53: Certidões | N53: 2 | O53: 2
L55: DEUSO/DMUS 2021 -2025
L56: ZEPEC | M56: Declarações | N56: 189
M57: Certidões | N57: 42
L58: ZEPAM | M58: Declarações | N58: 5
M59: Certidões | N59: 5
L60: Com doação | M60: Declarações | N60: 30
M61: Certidões | N61: 27
L63: DEUSO/DMUS 2020 -2025 | P63: DEUSO/DMUS 2020 -2025 | Q63: Tipo | R63: 2020 | S63: 2021 | T63: 2022 | U63: 2023 | V63: 2024 | W63: 2025 | X63: Total
L64: ZEPEC | M64: Declarações | N64: 297 | P64: ZEPEC | Q64: Declarações | R64: =N3 -> 108 | S64: =N12 -> 39 | T64: =N21 -> 21 | U64: =N30 -> 72 | V64: =N39 -> 43 | W64: =N48 -> 14 | X64: =SUM(R64:W64) -> 297
M65: Certidões | N65: 57 | Q65: Certidões | R65: =N4 -> 15 | S65: =N13 -> 14 | T65: =N22 -> 6 | U65: =N31 -> 8 | V65: =N40 -> 4 | W65: =N49 -> 10 | X65: =SUM(R65:W65) -> 57
L66: ZEPAM | M66: Declarações | N66: 6 | P66: ZEPAM | Q66: Declarações | R66: =N5 -> 1 | S66: =N14 -> 1 | T66: =N23 -> 1 | U66: =N32 -> 2 | V66: =N41 -> 1 | W66: =N50 -> 0 | X66: =SUM(R66:W66) -> 6
M67: Certidões | N67: 6 | Q67: Certidões | R67: =N6 -> 1 | S67: =N15 -> 1 | T67: =N24 -> 1 | U67: =N33 -> 2 | V67: =N42 -> 0 | W67: =N51 -> 1 | X67: =SUM(R67:W67) -> 6
L68: Com doação | M68: Declarações | N68: 39 | P68: Com doação | Q68: Declarações | R68: =N7 -> 9 | S68: =N16 -> 14 | T68: =N25 -> 10 | U68: =N34 -> 4 | V68: =N43 -> 2 | W68: =N52 -> 1 | X68: =SUM(R68:W68) -> 40
M69: Certidões | N69: 36 | Q69: Certidões | R69: =N8 -> 9 | S69: =N17 -> 9 | T69: =N26 -> 9 | U69: =N35 -> 6 | V69: =N44 -> 1 | W69: =N53 -> 2 | X69: =SUM(R69:W69) -> 36

Sheet Certidão - ZEPEC
H3: Imóvel receptor
A4: N. processo | B4: SQ | C4: Lote | D4: Endereço | E4: Distrito | F4: N. Declaração | G4: Conservação - art. 129 PDE | H4: SQ | I4: Lote | J4: Endereço | K4: Distrito | L4: N. Certidão | M4: Ano Certidão | N4: N. Declaração Saldo | O4: Área cedida equivalente (m²) | P4: Área recebida real (m²) | Q4: Data Publicação | R4: Situação | S4: Observação | T4: Solicitação DSIZ | U4: Preenchimetno de tabela de atributos QGIS | V4: Qtd. lotes receptor | W4: REVISAR
A5: 1995-0.017.263-1 | B5: 299014 | C5: 0177-1 | D5: Av Brigadeiro Faria Lima, 3477 | E5: Itaim Bibi | F5: - | G5: - | H5: 299014 | I5: 0177-1 | J5: Av Brigadeiro Faria Lima, 3477 | K5: Itaim Bibi | L5: 16/00-OU FL | M5: 2000 | N5: 016.EXTRATO CERTIDÃO Nº 16/00/SEMPLA | O5: 46098 | P5: 46098 | Q5: 36789 | R5: DOCUMENTAL | S5: Tratado no âmbito da CNLU e da CE OUFL, não foi emtida Declaração. A construção nova se utilizou concomitantemente da TDC e deCEPAC.
A6: 10-011.610-86-63 | B6: 002059 | C6: 0054-2 | D6: Páteo do Colégio, 34 | E6: Sé | F6: 0001 | G6: - | H6: 002073 | I6: 0006 (atual 0013) | J6: R Roberto Simonsen | K6: Sé | L6: 001/89 | M6: 1989 | N6: 0001A | O6: 3827.21 | P6: 3827.21 | Q6: 32687 | R6: DOCUMENTAL | S6: Esta Certidão está no Livro 1 de Declaração. A Declaração de Saldo não foi emitida. Foi pago o valor de NCz$ 10.876,05.
A7: 2016-0.232.665-3 | B7: 001049 | C7: 0235-3 | D7: Largo São Bento, s/n | E7: Sé | F7: 0004/17 - 2a via | G7: Atestado de Conservação 001/2016 | H7: 014050 | I7: 0090-2, 0496-7, 0086-4, 0085-6, 0084-8 | J7: R José Maria Lisboa, 745, 753, 757 / Av Nove de Julho, 3.123, 3.127 e 3.133 | K7: Jardim Paulista | L7: 008/17 | M7: 2017 | N7: 004A/17 | O7: 8107.37 | P7: 6292 | Q7: 43083 | R7: DOCUMENTAL | S7: Publicada em 22/11/2017, retificada em 25/11/2017 e retificada em 14/12/2017.
A8: 2017-0.098.912-6 | B8: 001049 | C8: 0235-3 | D8: Largo São Bento, s/n | E8: Sé | F8: 0004A/17 | G8: Atestado de Conservação 001/2016 | H8: 014039 | I8: 0022-1, 0023-1 | J8: Al Lorena, 870 e 878 | K8: Jardim Paulista | L8: 018/17 | M8: 2017 | N8: 0004B/17 | O8: 1910.96 | P8: 1511.79 | Q8: 43130 | R8: DOCUMENTAL
A9: 2017-0.155.948-6 | B9: 001049 | C9: 0235-3 | D9: Largo São Bento, s/n | E9: Sé | F9: 0004B/17 | G9: Atestado de Conservação 001/2016 | H9: 036050 | I9: 0012-6, 0061-4, 0064-9 | J9: R Afonso de Freitas, 59/61 e 75/83 | K9: Vila Mariana | L9: 006/18 | M9: 2018 | N9: 0004C/18 | O9: 4314.14 | P9: 5537.23 | Q9: 43169 | R9: DOCUMENTAL
A10: 2015-0.169.394-4 | B10: 001049 | C10: 0235-3 | D10: Largo São Bento, s/n | E10: Sé | F10: 0004C/18 | G10: Atestado de Conservação 001/2016 | H10: 299036 | I10: 001-1,0002-8,0003-6,0018-4,0019-2 e0020-6. | J10: R Ministro Jesuíno Cardoso, 120, Itaim Bibi, Pinheiros | K10: Itaim Bibi | L10: 011/18 | M10: 2018 | N10: 0004D/18 | O10: 2127.37 | P10: 1692.75 | Q10: 43236 | R10: DOCUMENTAL
A11: 2018-0.020.730-8 | B11: 001049 | C11: 0235-3 | D11: Largo São Bento, s/n | E11: Sé | F11: 0004D/18 | G11: Atestado de Conservação 001/2016 | H11: 015044 | I11: 0211-1 | J11: R Cunha Gago, 444 | K11: Pinheiros | L11: 020/18 | M11: 2018 | N11: 0004E/18 | O11: 3279.07 | P11: 4392.97 | Q11: 43301 | R11: DOCUMENTAL
A12: 2018-0.037.953-2 | B12: 001049 | C12: 0235-3 | D12: Largo São Bento, s/n | E12: Sé | F12: 0004E/18 | G12: Atestado de Conservação 001/2016 | H12: 009073 | I12: 0362-5 | J12: R Pamplona, 1004 | K12: Jardim Paulista | L12: 022/18 | M12: 2018 | N12: 0004F/18 | O12: 4144.09 | P12: 3057.51 | Q12: 43361 | R12: DOCUMENTAL
A13: 2018-0.064.423-6 | B13: 001049 | C13: 0235-3 | D13: Largo São Bento, s/n | E13: Sé | F13: 0004F/18 | G13: Atestado de Conservação 001/2016 | H13: 086043 | I13: 0014-7, 0015-5, 0028-7, 0059-7 e 0060-0 | J13: R Otávio Tarquínio de Souza / R Sul / R Princesa Isabel | K13: Campo Belo | L13: 003/19 | M13: 2019 | N13: 0004G/18 | O13: 2101.46 | P13: 2756.07 | Q13: 43481 | R13: DOCUMENTAL
A14: 7810.2018/0000558-2 | B14: 005003 | C14: 0003-8 | D14: Praça Patriarca, 49 | E14: Sé | F14: 0005/98 | G14: Termo de Compromisso 008/2018 | H14: 014018 | I14: 0497-7 | J14: Al Lorena, 1335 | K14: Jardim Paulista | L14: 028/18 | M14: 2018 | N14: 0005A/18 | O14: 1632.8 | P14: 779.01 | Q14: 43427 | R14: DOCUMENTAL
A15: 1998-0.084.005-2 | B15: 008021 | C15: 0843, 0842, 0844 | D15: R Major Quedinho, 28, 44, 76 | E15: Santa Cecília | F15: 0008 | G15: Termo de Compromisso nº 016-051/2001/EMURB/OUC | H15: 072070 | I15: 0018-9, 0025-1, 0035-9, 0036-7, 0040-5, 0041-3, 0048-0, 0051-0, 0052-9, 0054-5, 0055-3, 0081-2, 0082-0 | J15: R Conselheiro Moreira de Barros, 1148 a 1218 | K15: Santana | L15: 002/03 | M15: 2003 | N15: 0008A | O15: 3367.14 | P15: 3296.25 | Q15: 37726 | R15: DOCUMENTAL | S15: Certidão 004/03 publicada em 20/12/2003 é exatamente igual a essa Certidão.
A16: 1998-0.093.770-6 | B16: 008053 | C16: 0004 | D16: Av São João, 1214, 1222, 1236, 1238 | E16: República | F16: 0009 | G16: - | H16: 042011 | I16: 0416 a 0428 | J16: R Afonso Celso, 171 | K16: Vila Mariana | L16: 003/01 SEMPLA | M16: 2001 | N16: 0009 ESGOTADO | O16: 2696.31 | P16: 3580 | Q16: 36892 | R16: DOCUMENTAL | S16: Despacho SEMPLA/CNLU 922 E 923/2000
A17: 1998-0.241.812-9 | B17: 007050 | C17: 0009, 0010, 0011 | D17: R Bento Freitas, 76, 86, 88 | E17: República | F17: 0010 | G17: Termo de Compromisso nº 034-041/2001/EMURB/OUC | H17: 045045 | I17: 0090 a 0102 | J17: Av Açocê, 562 / Al dos Anapurus, 500 | K17: Moema | L17: 004/01 SEMPLA | M17: 2001 | N17: 0010A | O17: 2657.56 | P17: 1600 | Q17: 36892 | R17: DOCUMENTAL | S17: A Declaração de Saldo não foi emitida.
A18: 1998-0.241.814-5 | B18: 001082 | C18: 0014 | D18: R Álvares Penteado, 112 / R da Quitanda, 18 | E18: Sé | F18: 0011 | G18: - | H18: 041150 | I18: 0005-8, 0006-6, 0007-4, 0008-2 | J18: Al dos Jurupis, 303 a 335 | K18: Moema | L18: 003/03 | M18: 2003 | N18: 0011A | O18: 2090.3 | P18: 2566.71 | Q18: 37761 | R18: DOCUMENTAL
A19: 2002-0.048.049-5 | B19: 005044 | C19: 0116-5 (atual 0122-1) | D19: R Conde de Sarzedas, 100 | E19: Sé | F19: 0020 | G19: - | H19: 005044 | I19: 0116-5 (atual 0122-1) | J19: R Conde de Sarzedas, 100 | K19: Sé | L19: 001/03 | M19: 2003 | N19: 0020 ESGOTADO | O19: 19027 | P19: 19027 | Q19: 37677 | R19: DOCUMENTAL | S19: DESPACHO SEMPLA/CNLU/1080/2002. Esta Certidão está no Livro 1 de Declaração. Não foi emitido Extrato.
A20: 2009-0.230.658-4 | B20: 033017 | C20: 0013-6 | D20: R Pirapitingui, 111 | E20: Liberdade | F20: 0024A | G20: - | H20: 038019 | I20: 0010-1, 0011-8, 0031-2, 0032-0, 0033-9 | J20: R Apeninos, 429, 441, 451, 453 / R Gualaxos, 156, 166 | K20: Liberdade | L20: 003/09 | M20: 2009 | N20: 0024B | O20: 3117.78 | P20: 1538 | Q20: 40053 | R20: DOCUMENTAL
A21: 2009-0.230.669-0 | B21: 033017 | C21: 0013-6 | D21: R Pirapitingui, 111 | E21: Liberdade | F21: 0024B | G21: - | H21: 103025 | I21: 4805-9, 4804-0, 4803-2, 4802-4, 4801-6, 4800-8 | J21: Av Guido Caloi, s/n | K21: Jardim São Luís | L21: 005/09 | M21: 2009 | N21: 0024C | O21: 3346.3 | P21: 9687.56 | Q21: 40155 | R21: DOCUMENTAL
A22: 2009-0.352.153-5 | B22: 033017 | C22: 0013-6 | D22: R Pirapitingui, 111 | E22: Liberdade | F22: 0024C | G22: - | H22: 069164 | I22: 0008-0, 0009-9, 0010-2, 0011-0, 0012-9, 0013-7, 0014-5, 0069-2, 0070-6 | J22: R Nunes Garcia, 114, 122 / R Conselheiro Saraiva, 207, 217, 223, 229, 241, 249, 253 | K22: Santana | L22: 002/10 | M22: 2010 | N22: 0024D | O22: 1310.67 | P22: 1666 | Q22: 40255 | R22: DOCUMENTAL
A23: 2007-0.139.554-7 | B23: 009019 | C23: 0034-6 | D23: R dos Franceses, 296 | E23: Bela Vista | F23: 0025 | G23: - | H23: 046011 | I23: 0002-1, 0031-3, 0072-0 | J23: R Visconde de Guaratiba, 301 / R Coronel Deraldo Jordão, 214, 218, 220, 228, 230, 234, 240 | K23: Cursino | L23: 001/08 | M23: 2008 | N23: 0025A | O23: 199.09 | P23: 1246.32 | Q23: 39490 | R23: DOCUMENTAL
A24: 2008-0.115.978-0 | B24: 009019 | C24: 0034-6 | D24: R dos Franceses, 296 | E24: Bela Vista | F24: 0025A | G24: - | H24: 029010 | I24: 0160-2, 0161-0 | J24: R Prof Rodolfo São Tiago, 75 | K24: Belém | L24: 002/08 | M24: 2008 | N24: 0025B | O24: 1481.45 | P24: 13340.49 | Q24: 39637 | R24: DOCUMENTAL
A25: 2008-0.210.871-3 | B25: 009019 | C25: 0034-6 | D25: R dos Franceses, 296 | E25: Bela Vista | F25: 0025B | G25: - | H25: 097009 | I25: 0001-0 | J25: Av Mofarrej, 1500 | K25: Vila Leopoldina | L25: 003/08 | M25: 2008 | N25: 0025C | O25: 944.16 | P25: 4286.5 | Q25: 39676 | R25: DOCUMENTAL
A26: 2008-0.210.877-2 | B26: 009019 | C26: 0034-6 | D26: R dos Franceses, 296 | E26: Bela Vista | F26: 0025C | G26: - | H26: 097002 | I26: 0010-8 | J26: Av Mofarrej, 1130 | K26: Vila Leopoldina | L26: 004/08 | M26: 2008 | N26: 0025D | O26: 693.17 | P26: 3147 | Q26: 39676 | R26: DOCUMENTAL
A27: 2008-0.350.586-4 | B27: 007054 | C27: 0001-8 | D27: Av Higienópolis, 18 | E27: Consolação | F27: 0026 | G27: - | H27: 062080 | I27: 0182-1 | J27: R Coronel Gustavo Santiago, 251, 265, 281 | K27: Tatuapé | L27: 001/09 | M27: 2009 | N27: 0026A | O27: 1247.17 | P27: 3195.74 | Q27: 39862 | R27: DOCUMENTAL
A28: 2008-0.350.581-3 | B28: 007054 | C28: 0001-8 | D28: Av Higienópolis, 18 | E28: Consolação | F28: 0026A | G28: - | H28: 062146 | I28: 0006-3, 0007-1, 0008-1, 0012-8, 0040-3, 0013-6, 0014-4 | J28: R Coronel Gustavo Santiago, 94 | K28: Tatuapé | L28: 002/09 | M28: 2009 | N28: 0026B | O28: 881.67 | P28: 2246.75 | Q28: 39956 | R28: DOCUMENTAL
A29: 2009-0.076.990-0 | B29: 007054 | C29: 0001-8 | D29: Av Higienópolis, 18 | E29: Consolação | F29: 0026C | G29: - | H29: 098058 | I29: 0009-1, 0044-1, 0042-3, 0046-6, 0030-1, 0007-5, 0004-0, 0040-7, 0023-7, 0024-5, 0025-3, 0026-1, 0027-1, 0028-8, 0008-3 | J29: R Sacadura Cabral, 160, 186, 206 / R Gago Coutinho 363, 365, 379, 387/ R Guaricanga, 78 | K29: Lapa | L29: 004/10 | M29: 2010 | N29: 0026D | O29: 2977.95 | P29: 3662.88 | Q29: 40313 | R29: DOCUMENTAL | S29: Não houve contrapartida financeira de OODC.
A30: 6068.2019/0004043-0 | B30: 007054 | C30: 0001-8 | D30: Av Higienópolis, 18 | E30: Consolação | F30: 0026D | G30: Termo de Compromisso 001/2018 | H30: 038084 | I30: 0002-1, 0003-1, 0019-6, 0020-1, 0021-8, 0022-6, 0023-4, 0024-2, 0025-0, 0035-8, 0036-6 | J30: R Carlos Petit, 205, 215 e 225 / R Joaquim Távora, 229 a 259 | K30: Vila Mariana | L30: 015/19 | M30: 2019 | N30: 0026E/18 | O30: 2.149,72 | P30: 6238.74 | Q30: 43701 | R30: DOCUMENTAL | S30: Esta Certidão anula e substitui a Certidão 018/18. (A área cedida é de 1.736,05 m², mas essa metragem não foi alterada por já existirem outras transferências posteriores a partir deste imóvel). | W30: Rever e se necessário, atualizar status
A31: 6068.2018/0003180-4 | B31: 007054 | C31: 0001-8 | D31: Av Higienópolis, 18 | E31: Consolação | F31: 0026E/18 | G31: Termo de Compromisso 001/2018 | H31: 021058 | I31: 0021-1, 0022-1, 0023-8, 0024-6, 0026-2, 0027-0, 0028-9, 0054-8, 0055-6, 0056-4, 0057-0, 0058-0, 0059-9, 0069-6 | J31: R Bartira, 996 a 1042 / R Apiacás, 285 a 269 | K31: Perdizes | L31: 032/18 | M31: 2018 | N31: 0026F/18 | O31: 3265.07 | P31: 8311.57 | Q31: 43488 | R31: DOCUMENTAL
A32: 6068.2019/0001521-5 | B32: 007054 | C32: 0001-8 | D32: Av Higienópolis, 18 | E32: Consolação | F32: 0026F/18 | G32: Termo de Compromisso 001/2018 | H32: 038072 | I32: 0039-8, 0040-1, 0041-1, 0042-8, 0043-6, 0044-4, 0045-2, 0046-0, 0047-9, 0048-7, 0049-5, 0050-9 | J32: R Gregório Serrão, 146, 152, 154, 160, 164, 166, 172, 182, 194, 204, 206, 214, 218, 232 | K32: Vila Mariana | L32: 007/19 | M32: 2019 | N32: 0026G/19 | O32: 2260.4 | P32: 8908.09 | Q32: 43642 | R32: DOCUMENTAL
A33: 6066.2019/0006455-0 | B33: 007054 | C33: 0001-8 | D33: Av Higienópolis, 18 | E33: Consolação | F33: 0026G/19 | G33: Termo de Compromisso 001/2018 | H33: 010023 | I33: 0116-5, 0117-3, 0058-4, 0057-6, 1534-4, 1346-5 e 0118-1 | J33: R da Consolação, 1559 a 1637 / R Bela Cintra, 306 a 314 | K33: Consolação | L33: 025/19 | M33: 2019 | N33: 0026.EXTRATO | O33: 4252.46 | P33: 3834.84 | Q33: 43813 | R33: DOCUMENTAL
A34: 2009-0.363.850-5 | B34: 306028 | C34: 0040-1 | D34: R Sóror Angélica, 364 | E34: Casa Verde | F34: 0029 | G34: - | H34: 087460 | I34: 0001-1 | J34: R Engenheiro Francisco Pitta, 702 | K34: Santo Amaro | L34: 001/09 | M34: 2010 | N34: 0029A | O34: 1663.14 | P34: 1682.93 | Q34: 40239 | R34: DOCUMENTAL
A35: 2009-0.273.045-9 | B35: 007054 | C35: 0001-8 | D35: Av Higienópolis, 18 | E35: Consolação | F35: 0029 | G35: - | H35: 047284 | I35: 0224-1 | J35: Al dos Tupinás, 33 / R José Líbero, 45 | K35: Saúde | L35: 006/09 | M35: 2009 | N35: 0026C | O35: 576.58 | P35: 1424.16 | Q35: 40185 | R35: DOCUMENTAL
A36: 2009-0.190.516-6 | B36: 040199 | C36: 0208-9 | D36: R Dr Mário Vicente, 1108 | E36: Ipiranga | F36: 0030 | G36: - | H36: 007005 | I36: 0313-7, 0314-5, 0315-3, 0316-1, 0317-1, 0318-8 | J36: Praça Marechal Deodoro, 13 / Av Angélica, 341 | K36: Santa Cecília | L36: 004/09 | M36: 2009 | N36: 0030A | O36: 2655.87 | P36: 2223.84 | Q36: 40140 | R36: DOCUMENTAL
A37: 2009-0.352.163-2 | B37: 040199 | C37: 0208-9 | D37: R Dr Mário Vicente, 1108 | E37: Ipiranga | F37: 0030A | G37: - | H37: 010037 | I37: 0068-3, 0069-1, 0070-5, 0020-9, 0021-7, 0105-1 | J37: R da Consolação, 2232, 2238, 2240, 2244, 2246, Av Angélica, 2467, 2471, 2473, 2475, 2491 | K37: Consolação | L37: 003/10 | M37: 2010 | N37: 0030B | O37: 5180.45 | P37: 2325 | Q37: 40267 | R37: DOCUMENTAL
A38: 2010-0.139.825-0 | B38: 040199 | C38: 0208-9 | D38: R Dr Mário Vicente, 1108 | E38: Ipiranga | F38: 0030B | G38: - | H38: 036003 | I38: 0101-2, 0102-0, 0103-9 | J38: Av Brigadeiro Luís Antonio, 2543, 2567, 2571 | K38: Vila Mariana | L38: 005/10 | M38: 2010 | N38: 0030C | O38: 3428.57 | P38: 1440 | Q38: 40379 | R38: DOCUMENTAL
A39: 2010-0.185.004-8 | B39: 040199 | C39: 0208-9 | D39: R Dr Mário Vicente, 1108 | E39: Ipiranga | F39: 0030C | G39: - | H39: 028025 | I39: 0025-2, 0011-2 | J39: R Leocádia Cintra, 66 / R Orville Derby, 277 | K39: Mooca | L39: 006/10 | M39: 2010 | N39: 0030D | O39: 2465.04 | P39: 4880.79 | Q39: 40417 | R39: DOCUMENTAL
A40: 2010-0.260.522-5 | B40: 040199 | C40: 0208-9 | D40: R Dr Mário Vicente, 1108 | E40: Ipiranga | F40: 0030D | G40: - | H40: 028063 | I40: 0045-2 | J40: R Borges de Figueiredo, 1325 | K40: Mooca | L40: 008/10 | M40: 2010 | N40: 0030E | O40: 4055.93 | P40: 4657.43 | Q40: 40499 | R40: DOCUMENTAL
A41: 2010-0.322.099-8 | B41: 040199 | C41: 0208-9 | D41: R Dr Mário Vicente, 1108 | E41: Ipiranga | F41: 0030E | G41: - | H41: 098051 | I41: 0060-1, 0061-8 | J41: R John Harrison, 299, 323 | K41: Lapa | L41: 001/11 | M41: 2011 | N41: 0030F | O41: 1008.06 | P41: 850 | Q41: 40575 | R41: DOCUMENTAL
A42: 2011-0.031.287-7 | B42: 040199 | C42: 0208-9 | D42: R Dr Mário Vicente, 1108 | E42: Ipiranga | F42: 0030F | G42: - | H42: 087471 | I42: 0228-4 | J42: Av Nações Unidas, 2003 | K42: Santo Amaro | L42: 004/11 | M42: 2011 | N42: 0030G | O42: 19202.44 | P42: 12984.69 | Q42: 40789 | R42: DOCUMENTAL | S42: Não passou por DEUSO para anotações de OODC.
A43: 2012-0.085.741-7 | B43: 040199 | C43: 0208-9 | D43: R Dr Mário Vicente, 1108 | E43: Ipiranga | F43: 0030G | G43: - | H43: 033006 | I43: 0175-4, 0174-6 | J43: Av Liberdade, 978 a 992 / R Barão de Ijuí, 293 a 311 | K43: Liberdade | L43: 006/12 | M43: 2012 | N43: 0030H | O43: 7949.17 | P43: 2022.27 | Q43: 41086 | R43: DOCUMENTAL
A44: 2010-0.157.677-9 | B44: 086091 | C44: 0003-0 | D44: R Barão de Jaceguai, 1149 e 1151 | E44: Campo Belo | F44: 0032 | G44: - | H44: 009084 | I44: 0001-2, 0002-0, 0042-1, 0043-8, 0044-6, 0045-4, 0046-2 | J44: Al Campinas, 802, 816 / Al Itu, 01, 05, 09, 11, 15, 17 | K44: Jardim Paulista | L44: 007/10 | M44: 2010 | N44: 0032A | O44: 682.35 | P44: 548 | Q44: 40445 | R44: DOCUMENTAL
A45: 2010-0.328.634-4 | B45: 086091 | C45: 0003-0 | D45: R Barão de Jaceguai, 1149 e 1151 | E45: Campo Belo | F45: 0032A | G45: - | H45: 009080 | I45: 0052-9, 0053-7 | J45: R Carlos Sampaio, 75 e 83 | K45: Bela Vista | L45: 002/11 | M45: 2011 | N45: 0032B | O45: 640.61 | P45: 436.07 | Q45: 40586 | R45: DOCUMENTAL
A46: 2011-0.142.763-5 | B46: 086091 | C46: 0003-0 | D46: R Barão de Jaceguai, 1149 e 1151 | E46: Campo Belo | F46: 0032B | G46: - | H46: 009084 | I46: 0008-9 | J46: R Teixeira da Silva, 54 | K46: Jardim Paulista | L46: 003/11 | M46: 2011 | N46: 0032C | O46: 668.83 | P46: 595 | Q46: 40751 | R46: DOCUMENTAL | S46: Republicada em 13/08/2011.
A47: 2012-0.145.595-9 | B47: 086091 | C47: 0003-0 | D47: R Barão de Jaceguai, 1149 e 1151 | E47: Campo Belo | F47: 0032C | G47: - | H47: 080003 | I47: 0123 | J47: R Bela Nápoles, 97 | K47: Vila Leopoldina | L47: 005/12 | M47: 2012 | N47: 0032D | O47: 182.4 | P47: 323.4 | Q47: 41243 | R47: DOCUMENTAL
A48: 2011-0.147.017-4 | B48: 009051 | C48: 0021-2 | D48: Al Joaquim Eugênio de Lima, 159 | E48: Bela Vista | F48: 0033 | G48: - | H48: 033013 | I48: 0076, 0077, 0078, 0079, 0080, 0081, 0082, 0083, 0306 | J48: R Vergueiro, 360, 366, 368, 376, 378, 384 | K48: Liberdade | L48: 005/11 | M48: 2011 | N48: 0033A | O48: 393.92 | P48: 853.12 | Q48: 40813 | R48: DOCUMENTAL
A49: 2012-0.262.702-8 | B49: 009051 | C49: 0021-2 | D49: Al Joaquim Eugênio de Lima, 159 | E49: Bela Vista | F49: 0033A | G49: - | H49: 036011 | I49: 0010, 0011, 0012, 0013, 0014, 0015, 0016, 0017, 0018, 0019 | J49: R Otávio Nébias, 57, 103 | K49: Vila Mariana | L49: 009/12 | M49: 2012 | N49: 0033B | O49: 443.22 | P49: 735.75 | Q49: 41253 | R49: DOCUMENTAL
A50: 2012-0.321.812-1 | B50: 009051 | C50: 0021-2 | D50: Al Joaquim Eugênio de Lima, 159 | E50: Bela Vista | F50: 0033B | G50: - | H50: 007010 | I50: 0024-4, 0578-5 | J50: Av Angélica, 525 / R Barão de Tatuí, 200 | K50: Santa Cecília | L50: 002/13 | M50: 2013 | N50: 0033C | O50: 415.5 | P50: 730.15 | Q50: 41402 | R50: DOCUMENTAL | W50: Rever e se necessário, atualizar status
A51: 2013-0.170.644-9 | B51: 040084 | C51: 0051-6 | D51: Av Nazaré, 366 | E51: Ipiranga | F51: 0034 | G51: - | H51: 015046 | I51: 0016, 0011, 0012 | J51: R dos Pinheiros, 1166, 1152, 1156 / Rua Pedroso de Morais, 251, 161 | K51: Pinheiros | L51: 006/13 | M51: 2013 | N51: 0034A | O51: 743.99 | P51: 619 | Q51: 41542 | R51: DOCUMENTAL | S51: Esta Certidão anula e substitui Certidão 004/12.
A52: 2012-0.321.812-1 | B52: 040084 | C52: 0051-6 | D52: Av Nazaré, 366 | E52: Ipiranga | F52: 0034A | G52: - | H52: 007010 | I52: 0024-4, 0578-5 | J52: Av Angélica, 525 / R Barão de Tatuí, 200 | K52: Santa Cecília | L52: 002/13 | M52: 2013 | N52: 0034B | O52: 639.28 | P52: 412.4 | Q52: 41402 | R52: DOCUMENTAL | W52: Rever e se necessário, atualizar status
A53: 2011-0.306.321-5 | B53: 042025 | C53: 0030 | D53: R Berta, 48 | E53: Vila Mariana | F53: 0035 | G53: - | H53: 036003 | I53: 0082-2, 0084-9 | J53: Av Brigadeiro Luis Antônio, 2707 | K53: Vila Mariana | L53: 001/12 | M53: 2012 | N53: 0035 ESGOTADO | O53: 399.34 | P53: 222.43 | Q53: 40978 | R53: DOCUMENTAL
A54: 2011-0.306.308-8 | B54: 084003 | C54: 0017 | D54: Av Lopes de Azevedo, 265 | E54: Morumbi | F54: 0036 | G54: - | H54: 073061 | I54: 0019-1 | J54: R Olavo Egídio, 554 e 564 | K54: Santana | L54: 002/12 | M54: 2012 | N54: 0036A | O54: 260.43 | P54: 450 | Q54: 40978 | R54: DOCUMENTAL
A55: 2012-0.099.177-6 | B55: 084238 | C55: 0001 | D55: Av São Valério, 505 | E55: Morumbi | F55: 0038 | G55: - | H55: 080003 | I55: 0123 | J55: R Bela Nápoles, 97 | K55: Vila Leopoldina | L55: 007/12 | M55: 2012 | N55: 0038 ESGOTADO | O55: 325.13 | P55: 516.27 | Q55: 41248 | R55: DOCUMENTAL
A56: 2012-0.139.517-4 | B56: 009051 | C56: 0028-1 | D56: Al Joaquim Eugênio de Lima, 61 | E56: Bela Vista | F56: 0039 | G56: - | H56: 100074 | I56: 001, 0030, 0032, 0033, 0042, 0043, 0050, 0080, 0081 | J56: R Cavour, 95 e 110 | K56: Vila Prudente | L56: 008/12 | M56: 2012 | N56: 0039A | O56: 375.88 | P56: 2994.31 | Q56: 41103 | R56: DOCUMENTAL
A57: 2012-0.301.242-6 | B57: 009051 | C57: 0028-1 | D57: Al Joaquim Eugênio de Lima, 61 | E57: Bela Vista | F57: 0039A | G57: - | H57: 009086 | I57: 0075, 0024 | J57: Al Fernão Cardim, 70, 84 | K57: Jardim Paulista | L57: 010/12 | M57: 2012 | N57: 0039B | O57: 326.74 | P57: 456 | Q57: 41272 | R57: DOCUMENTAL
A58: 6068.2017/0000743-0 | B58: 009051 | C58: 0028-1 | D58: Al Joaquim Eugênio de Lima, 61 | E58: Bela Vista | F58: 0039B/13 | G58: - | H58: 100109 | I58: 0059-3, 0060-7, 0061-5, 0062-3, 0063-1, 0064-1, 0065-8, 0070-4 | J58: Av Paes de Barros, 3399/ R Capitão Pacheco Chaves, 1.209/ R Cervantes | K58: Vila Prudente | L58: 001/18 | M58: 2018 | N58: 0039C/18 | O58: 612.93 | P58: 4486.39 | Q58: 43176 | R58: DOCUMENTAL | S58: Esta Certidão anula e substitui Certidão 003/13.
A59: 2013-0.075.030-4 | B59: 009051 | C59: 0028-1 | D59: Al Joaquim Eugênio de Lima, 61 | E59: Bela Vista | F59: 0039C | G59: - | H59: 010032 | I59: 0021-4, 0022-2, 0023-0, 0024-9 | J59: R Bela Cintra, 461, 465, 473 | K59: Consolação | L59: 004/13 | M59: 2013 | N59: 0039D | O59: 629.12 | P59: 1335 | Q59: 41416 | R59: DOCUMENTAL | S59: Publicação em 10/04/2013 anulada, republicado em 22/05/2013.
A60: 2013-0.150.225-8 | B60: 009051 | C60: 0028-1 | D60: Al Joaquim Eugênio de Lima, 61 | E60: Bela Vista | F60: 0039D | G60: - | H60: 062139 | I60: 0002-0, 0003-9, 0004-7, 0010-1, 0037-3, 0043-8, 0044-6, 0045-4, 0046-2 | J60: R Melo Peixoto, 397, 405, 409 / R Dr Ernesto Mariano, 322 / R Dr Jorge Ramos, 109, 125, 131, 137, 143 | K60: Tatuapé | L60: 007/13 | M60: 2013 | N60: 0039E | O60: 239.02 | P60: 1584.75 | Q60: 41542 | R60: DOCUMENTAL
A61: 2013-0.320.727-0 | B61: 009051 | C61: 0028-1 | D61: Al Joaquim Eugênio de Lima, 61 | E61: Bela Vista | F61: 0039E | G61: - | H61: 062139 | I61: 0035-7, 0038-1 | J61: R Dr Jorge Ramos, 95, 117 | K61: Tatuapé | L61: 001/14 | M61: 2014 | N61: 0039 ESGOTADO | O61: 46.45 | P61: 317.35 | Q61: 41731 | R61: DOCUMENTAL
A62: 2017-0.148.523-7 | B62: 009054 | C62: 0012-7 | D62: Av Brigadeiro Luis Antônio, 1573 | E62: Bela Vista | F62: 0040 | G62: Termo de Compromisso 002/2016 | H62: 200043 | I62: 0011-2, 0010-4, 0031-7, 0030-9, 0006-6 | J62: R Camargo, 426 e 440 | K62: Butantã | L62: 016/17 | M62: 2017 | N62: 0040.EXTRATO | O62: 1169.16 | P62: 5831.7 | Q62: 43110 | R62: DOCUMENTAL | S62: Essa Certidão anula e substitui a Certidão 002/16.
A63: 2012-0.337.412-3 | B63: 042025 | C63: 0026, 0027, 0028, 0029 | D63: R Berta, 58, 60, 70, 72 | E63: Vila Mariana | F63: 0043, 0044, 0045, 0046 | G63: - | H63: 036048 | I63: 0012-9, 0013-7, 0015-3, 0016-1, 0026-9 | J63: R Tomas Carvalhal, 380, 406 / R Afonso de Freitas, 349 | K63: Vila Mariana | L63: 001/13 | M63: 2013 | N63: 0043, 0044, 0045, 0046 ESGOTADO | O63: 1551 | P63: 917.88 | Q63: 41340 | R63: DOCUMENTAL
A64: 2013-0.115.011-4 | B64: 040115 | C64: 0019-4 | D64: R Dom Luiz Lasanha, 300 | E64: Ipiranga | F64: 0049 | G64: - | H64: 010081 | I64: 0658-4 | J64: Al Santos, 1826 | K64: Jardim Paulista | L64: 005/13 | M64: 2013 | N64: 0049A | O64: 5964.21 | P64: 1200 | Q64: 41542 | R64: DOCUMENTAL
A65: 6068.2018/0000331-2 | B65: 040115 | C65: 0019-4 | D65: R Dom Luiz Lasanha, 300 | E65: Ipiranga | F65: 0049A/13 | G65: Termo de Compromisso 007/2016 | H65: 030068 | I65: 0001-1, 0002-8, 0003-6, 0004-4, 0005-2, 0006-0, 0008-7, 0011-7, 0012-5, 0013-3, 0014-1, 0015-1, 0030-3, 0031-1, 0032-1, 0033-8, 0034-6, 0035-4, 0036-2 e 0039-7 | J65: R Bom Sucesso, 366, R Ipojuca, 81 / R Padre Adelino, 1811 | K65: Tatuapé | L65: 010/18 | M65: 2018 | N65: 0049B | O65: 5889.03 | P65: 12063.92 | Q65: 43287 | R65: DOCUMENTAL | S65: Essa Certidão anula e substitui a Certidão 007/16.
A66: 2017-0.075.928-7 | B66: 040115 | C66: 0019-4 | D66: R Dom Luiz Lasanha, 300 | E66: Ipiranga | F66: 0049B/16 | G66: Termo de Compromisso 007/2016 | H66: 014056 | I66: 0084-5 | J66: Av Nove de Julho, 3624, 3634, 3666 | K66: Jardim Paulista | L66: 011/17 | M66: 2017 | N66: 0049C/17 | O66: 9463.09 | P66: 3467.02 | Q66: 43050 | R66: DOCUMENTAL
A67: 6068.2018/0000686-9 | B67: 040115 | C67: 0019-4 | D67: R Dom Luiz Lasanha, 300 | E67: Ipiranga | F67: 0049C/17 | G67: Termo de Compromisso 007/2016 | H67: 047226 | I67: 0627-7 | J67: Av Jabaquara, s/n / R Pan-Americana, s/n / R Domingos, s/n | K67: Saúde | L67: 013/18 | M67: 2018 | N67: 0049.EXTRATO | O67: 4739.44 | P67: 7477.23 | Q67: 43256 | R67: DOCUMENTAL | S67: Essa Certidão anula e substitui da Certidão 019/17.
A68: 6068.2017/0000834-7 | B68: 009019 | C68: 0092-3 | D68: R dos Franceses, 350 | E68: Bela Vista | F68: 0050/13 (2a via) | G68: Atestado de Conservação 004/2016 | H68: 036010 | I68: 0029-6 | J68: Al Santos, 86 | K68: Vila Mariana | L68: 004/18 | M68: 2018 | N68: 0050A/18 | O68: 4180.01 | P68: 3988.48 | Q68: 43270 | R68: DOCUMENTAL
A69: 2013-0.242.197-9 | B69: 040125 | C69: 0058-9 | D69: R Moreira de Godói, 312 | E69: Ipiranga | F69: 0051 | G69: Termo de Compromisso 005/2016 | H69: 009063 | I69: 1384-8 | J69: Av Brigadeiro Luís Antônio, 2396 | K69: Jardim Paulista | L69: 006/14 | M69: 2014 | N69: 0051A | O69: 9600.37 | P69: 1843.27 | Q69: 41731 | R69: DOCUMENTAL
A70: 6068.2018/0000872-1 | B70: 040125 | C70: 0058-9 | D70: R Moreira de Godói, 312 | E70: Ipiranga | F70: 0051A/14 | G70: Termo de Compromisso 005/2016 | H70: 039040 | I70: 0003-8, 0004-6, 0008-9, 0009-7, 0010-0, 0011-9, 0122-0, 0123-9, 0124-7, 0125-5, 0138-7, 0134-4, 0138-7, 0134-4, 0237-5 (119-0/121-2/119-0), 0244-8 (0244-8/0139-5/ 0007-0), 0126-3, 0127-1 e 0141-7 | J70: R Toledo Barbosa, 254/ R Álvaro , 463 e outros | K70: Vila Mariana | L70: 019/18 | M70: 2018 | N70: 0051B/17 | O70: 2390.17 | P70: 13985.42 | Q70: 43330 | R70: DOCUMENTAL | S70: Essa Certidão anula e substitui da Certidão 010/17.
A71: 6068.2018/0000472-6 | B71: 040125 | C71: 0058-9 | D71: R Moreira de Godói, 312 | E71: Ipiranga | F71: 0051B/17 | G71: Termo de Compromisso 005/2016 | H71: 041104 | I71: 0020-1 e 0034-1 | J71: Av Ibirapuera, 1753, 1757 e 1761 | K71: Moema | L71: 015/18 | M71: 2018 | N71: 0051.EXTRATO | O71: 6244.5 | P71: 3010.09 | Q71: 43329 | R71: DOCUMENTAL
A72: 2014-0.142.582-4 | B72: 009042 | C72: 0023-1 | D72: Av Brigadeiro Luis Antônio, 1300 | E72: Bela Vista | F72: 0052 | G72: Atestado de Conservação 002/2017 | H72: 009063 | I72: 1432-1 | J72: Al Santos, 800 | K72: Jardim Paulista | L72: 001/15 | M72: 2015 | N72: 0052A | O72: 594.11 | P72: 706 | Q72: 42277 | R72: DOCUMENTAL
A73: 2017-0.134.551-6 | B73: 009042 | C73: 0023-1 | D73: Av Brigadeiro Luis Antônio, 1300 | E73: Bela Vista | F73: 0052A | G73: Atestado de Conservação 002/2017 | H73: 057018 | I73: 0001-6, 0002-4, 0082-2, 0083-0, 0091-1, 0092-1 | J73: R Dr Suzano Brandão, 820, 832, 842, 844 e 846 | K73: Vila Matilde | L73: 013/17 | M73: 2017 | N73: 0052.EXTRATO | O73: 635.89 | P73: 5379.03 | Q73: 43026 | R73: DOCUMENTAL | S73: Essa Certidão anula e substitui a Certidão 05/17.
A74: 6068.2021/0005047-2 | B74: 300032 | C74: 0012-1 | D74: Av Morumbi, 4077 | E74: Morumbi | F74: 053/19 2ª via | G74: Termo de Compromisso 007/2021 | H74: 016128 | I74: 0041-6 | J74: R Groelândia, 77 | K74: Jardim Paulista | L74: 012/21 | M74: 2021 | N74: 0053A/21 | O74: 9331.15 | P74: 2106.14 | Q74: 44485 | R74: DOCUMENTAL
A75: 6068.2023/0000241-2 | B75: 300032 | C75: 0012-1 | D75: Av Morumbi, 4077 | E75: Morumbi | F75: 053A/21 | G75: Termo de Compromisso 007/2021 | L75: 003/23 | M75: 2023 | N75: 0053B/23 | O75: 3223 | P75: 2493.84 | Q75: 45076 | R75: DOCUMENTAL
A76: 6068.2023/0005296-7 | B76: 300032 | C76: 0012-1 | D76: Av Morumbi, 4077 | E76: Morumbi | F76: 053B/23 | G76: Termo de Compromisso 007/2021 | H76: 085115 | I76: 0002-2, 0014-6, 0015-4, 0034-0, 0035-9, 0036-7, 0051-0 | J76: R Luisiania, 139, 147, 157, 185, R Nebraska, 220, 222, Av Portugal, 220 | K76: Itaim Bibi | L76: 009/23 | M76: 2023 | N76: 0053.EXTRATO | O76: 6832.85 | P76: 8974.78 | Q76: 45205 | R76: DOCUMENTAL
A77: 2013-0.320.692-3 | B77: 040051 | C77: 0007-4 | D77: R Costa Aguiar, 1055 | E77: Ipiranga | F77: 0054 | G77: - | H77: 030024 | I77: 0002-5, 0058-0, 0003-3, 0004-1, 0057-2, 0064-5 | J77: R Almirante Calheiros, 398, 406, 418, 396 / R Henrique Sertório, 399 / R Cristais, 183 | K77: Tatuapé | L77: 003/14 | M77: 2014 | N77: 0054A | O77: 2750.75 | P77: 3009.33 | Q77: 41774 | R77: DOCUMENTAL
A78: 6068.2018/0000095-0 | B78: 040051 | C78: 0007-4 | D78: R Costa Aguiar, 1055 | E78: Ipiranga | F78: 0054A | G78: - | H78: 029052 | I78: 0012-1, 0013-8, 0014-6, 0015-4, 0016-1, 0060-1, 0061-8, 0062-6, 0063-4, 0065-0, 0066-9, 0067-7 | J78: R Serra da Bocaina, 5547, 5573 / R Carlos del Prete, 35, 89 | K78: Belém | L78: 007/18 | M78: 2018 | N78: 0054B | O78: 2383.9 | P78: 7011.95 | Q78: 43204 | R78: DOCUMENTAL | S78: Essa Certidão anula e substitui a Certidão 04/14.
A79: 6068.2024/0010765-8 | B79: 020062 | C79: Cond.19 | D79: Rua Gabriel dos Santos, 196, 214 | E79: Sé | F79: 0056/14 | G79: Atestado de Conservação 002/2023 | H79: 013041 | I79: 0022-7, 0023-5, 0024-3, 0025-1, 0026-1 | J79: Rua Cristiano Viana, 119, 127, 131, 145, 155 | K79: Pinheiros | L79: 010/24 | M79: 2024 | N79: 0056.EXTRATO | O79: 780.45 | P79: 739.05 | Q79: 45674 | R79: DOCUMENTAL | W79: danielfmpcosta@prefeitura.sp.gov.br | X79: ATUALIZAR
A80: 2017-0.026.486-5 | B80: 020095 | C80: 0021-0 | D80: Av Angélica, 1212 | E80: Consolação | F80: 0058/14 | G80: Termo de Compromisso 006/2016 | H80: 093040 | I80: 0004-1, 0033-5 | J80: R Marcílio Dias, 311,317 | K80: Socorro | L80: 004/17 | M80: 2017 | N80: 0058A/17 | O80: 541.71 | P80: 11710.18 | Q80: 42829 | R80: DOCUMENTAL
A81: 6068.2017/0000733-2 | B81: 020095 | C81: 0021-0 | D81: Av Angélica, 1212 | E81: Consolação | F81: 0058A/17 | G81: Atestado de Conservação s/n/2017 | H81: 022024 | I81: 0002-8, 0003-6, 0004-4, 0005-2, 0006-0, 0007-9, 0008-7, 0009-5, 0010-9, 0071-0, 0072-9, 0073-7, 0074-5, 0075-3, 0076-1, 0078-8, 0079-6, 0080-1, 0081-8, 0130-1, 0131-8 | J81: R Dr Miranda de Azevedo | K81: Lapa | L81: 005/18 | M81: 2018 | N81: 0058B/18 | O81: 1597.68 | P81: 10027.51 | Q81: 43176 | R81: DOCUMENTAL
A82: 6068.2024/0013128-1 | B82: 009019 | C82: 00006-0 | D82: Al Joaquim Eugenio de Lima, 164 | E82: Bela Vista | F82: 0060/18 - 2ª via | G82: Termo de Compromisso 019/2018 | H82: 016047 | I82: 0547-7 | J82: Av Nove de Julho, 5229, 5335 | K82: Itaim Bibi | L82: 005/25 | M82: 2025 | N82: 0060.EXTRATO | O82: 2662 | P82: 2226.15 | Q82: 45845 | R82: DOCUMENTAL
A83: 6068.2018/0002497-2 | B83: 009042 | C83: 0022-1 | D83: Av Brigadeiro Luis Antônio, 1308 | E83: Bela Vista | F83: 0064/15 | G83: Termo de Compromisso 006/2018 | H83: 041104 | I83: 0020-1 e 0034-1 | J83: Av Ibirapuera, 1753, 1757 e 1761 | K83: Moema | L83: 030/18 | M83: 2018 | N83: 0064.EXTRATO | O83: 300 | P83: 254.96 | Q83: 43475 | R83: DOCUMENTAL
A84: 6068.2018/0001994-4 | B84: 200058 | C84: 0001-1 | D84: Av Lineu de Paula Machado, 1263 | E84: Morumbi | F84: 0065/15 | G84: Termo de Compromisso 008/2016 | H84: 036088 | I84: 0007-7 e 0008-5 | J84: Av Brigadeiro Luiz Antônio, 4631 e 4643 | K84: Moema | L84: 024/18 | M84: 2018 | N84: 0065A/18 | O84: 8442.41 | P84: 847.37 | Q84: 43456 | R84: DOCUMENTAL
A85: 6066.2019/0005896-7 | B85: 200058 | C85: 0001-1 | D85: Av Lineu de Paula Machado, 1263 | E85: Morumbi | F85: 0065A/18 | G85: Termo de Compromisso 008/2016 | H85: 010023 | I85: 0116-5, 0117-3, 0058-4, 0057-6, 1534-4, 1346-5 e 0118-1 | J85: R da Consolação, 1559 a 1637 / R Bela Cintra, 306 a 314 | K85: Consolação | L85: 023/19 | M85: 2019 | N85: 0065B/19 | O85: 41557.59 | P85: 9999.56 | Q85: 43813 | R85: DOCUMENTAL
A86: 6068.2022/0002481-3 | B86: 200058 | C86: 0001-1 | D86: Av Lineu de Paula Machado, 1263 | E86: Morumbi | F86: 0065B/19 | G86: Termo de Compromisso 008/2016 | H86: 087302 | I86: 0284-1 | J86: R Coronel Luis Barroso, 151 | K86: Santo Amaro | L86: 002/24 | M86: 2024 | N86: 0065C/21 | O86: 5541.28 | P86: 10650.34 | Q86: 45483 | R86: DOCUMENTAL | S86: Cancelamento da Certidão 007/21 e emissão de nova Certidão 002/24 sem alteração da Declaração de Saldo 0065C/21
A87: 6068.2021/0012245-7 | B87: 200058 | C87: 0001-1 | D87: Av Lineu de Paula Machado, 1263 | E87: Morumbi | F87: 0065C/21 | G87: Termo de Compromisso 008/2016 | H87: 097005 | I87: 0013-6 | J87: Av Mofarej, 971 | K87: Vila Leopoldina | L87: 001/22 | M87: 2022 | N87: 0065D/21 | O87: 45373.34 | P87: 22467.69 | Q87: 44678 | R87: DOCUMENTAL
A88: 6068.2024/0007500-4 | B88: 200058 | C88: 0001-1 | D88: Av Lineu de Paula Machado, 1263 | E88: Morumbi | F88: 0065D/22 | G88: Termo de Compromisso 008/2017 | H88: 010074 | I88: 0006-4, 0010-2, 0011-0, 0012-9, 0013-7, 0014-5, 0017-1, 0019-6, 0020-1, 0021-8, 0024-2, 0029-3, 0030-7, 0041-2, 0042-0, 0043-9, 0045-5, 0046-3, 0047-1, 0048-1, 0049-8, 0050-1, 0051-1, 0052-8, 0053-6, 0054-4, 0055-2, 0056-0, 0057-9, 0058-7, 0059-5, 0060-9, 0061-7, 0062-5, 0063-3, 0064-1, 0065-1, 0066-8, 0067-6, 0068-4, 0069-2, 0070-6, 0071-4, 0072-2, 0073-0, 0074-9, 0075-7, 0076-5, 0077-3, 0078-1, 0079-1, 0080-3, 0081-1, 0082-1, 0083-8, 0084-6, 0085-4, 0086-2, 0087-0, 0088-9, 0089-7, 0090-0, 0091-9, 0092-7, 0093-5 | J88: Al Jaú, 1998, 2000, Av Rebouças, 187, 215, 223, 227, 239, 247, 255, 265, 271, 273, R da Consolação, 2628, 2632, 2636, 2644, 2646, 2652, 2662, 2670, 2676, 2678, 2682, 2688, 2696, 2700, 2706, 2710, 2714, 2728 | K88: Jardim Paulista | L88: 008/24 | M88: 2024 | N88: 0065E/23 | O88: 26170.48 | P88: 9200.63 | Q88: 45631 | R88: DOCUMENTAL | S88: Cancelamento da Certidão 008/2023 (SEI 6068.2023/0004603-7) e emissão de nova Certidão em função de alteração no imóvel receptor
A89: 2016-0.167.694-4 | B89: 040106 | C89: 0026-8 | D89: Av Nazaré, 711 | E89: Ipiranga | F89: 0066/15 | G89: Termo de Compromisso 003/2016 | H89: 100109 | I89: 0058-5, 0059-3, 0060-7, 0061-5, 0062-3, 0063-1, 0064-1, 0065-8, 0070-4, 0114-1, 0115-8 | J89: Av Paes de Barros, 3381, 3389, 3393, 3399, 3417, 3427, 3421, R Cap. Pacheco Chaves, 1209 e Rua Cervantes | K89: Vila Prudente | L89: 004/16 | M89: 2016 | N89: 0066A/16 | O89: 3550.58 | P89: 8647.55 | Q89: 42649 | R89: DOCUMENTAL
A90: 2016-0.272.731-3 | B90: 040106 | C90: 0026-8 | D90: Av Nazaré, 711 | E90: Ipiranga | F90: 0066A/16 | G90: Termo de Compromisso 003/2016 | H90: 029052 | I90: 0012-1, 0013-8, 0014-6, 0015-4, 0016-2, 0058-8, 0059-6, 0060-1, 0061-8, 0062-6, 0063-4, 0064-2, 0065-0, 0066-9 e 0067-7 | J90: R Serra da Bocaina, 547 / R Carlos Del Prete | K90: Belém | L90: 003/17 | M90: 2017 | N90: 0066B/17 | O90: 2272.18 | P90: 5652.12 | Q90: 42878 | R90: DOCUMENTAL
A91: 6066.2019/0007875-5 | B91: 010069 | C91: 1220-7 | D91: R Padre Manuel, 109 | E91: Pinheiros | F91: 0068/15 | G91: Termo de Compromisso 003/2017 | H91: 015044 | I91: 0034-8, 0217-0 a 0234-0, 0396-7, 0397-5, 0446-7 | J91: Av Pedroso de Moraes, 705, 707, 709, 717, 725 e 737/ R Cardeal Arcoverde 2205 e 2209 | K91: Pinheiros | L91: 004/20 | M91: 2020 | N91: 0068.EXTRATO | O91: 2152.5 | P91: 6262.12 | Q91: 44149 | R91: DOCUMENTAL
A92: 6068.2018/0000486-6 | B92: 040129 | C92: 0070-6 | D92: Av Nazaré, 993 | E92: Ipiranga | F92: 0099/15 | G92: Termo de Compromisso 002/2018 | H92: 299059 | I92: 0129-7 | J92: R Chipre, s/n / R Fiandeiras, 682 | K92: Itaim Bibi | L92: 016/18 | M92: 2018 | N92: 0099A/18 | O92: 4915.38 | P92: 1432.27 | Q92: 43348 | R92: DOCUMENTAL
A93: 6068.2018/0001982-0 | B93: 040129 | C93: 0070-6 | D93: Av Nazaré, 993 | E93: Ipiranga | F93: 0099A/18 | G93: Termo de Compromisso 002/2018 | H93: 043066 | I93: 0034-3, 0035-1, 0077-7, 0078-5 | J93: R Dr Elíseo de Castro | K93: Ipiranga | L93: 025/18 | M93: 2018 | N93: 0099B/18 | O93: 2600.32 | P93: 6038.3 | Q93: 43403 | R93: DOCUMENTAL
A94: 6066.2019/0006917-9 | B94: 040129 | C94: 0070-6 | D94: Av Nazaré, 993 | E94: Ipiranga | F94: 0099B/18 | G94: Termo de Compromisso 002/2018 | H94: 037006 | I94: 0035-6, 0061-5 | J94: Vd Santa Generosa, 10 | K94: Vila Mariana | L94: 026/19 | M94: 2019 | N94: 0099C/19 | O94: 5710.43 | P94: 6205.21 | Q94: 43847 | R94: DOCUMENTAL | S94: PROCESSO LINKADO AO 6066.2020/0001254-3
A95: 6068.2020/0000384-7 | B95: 040129 | C95: 0070-6 | D95: Av Nazaré, 993 | E95: Ipiranga | F95: 0099C/20 | G95: Termo de Compromisso 002/2018 | H95: 014012 | I95: 014.012.0051-6, 014.012.0052-4, 014.012.0053-2, 014.012.0054-0, 014.012.0055-9, 014.012.0058-3, 014.012.0088-5, 014.012.0089-3, 014.012.0090-7, 014.012.0091-5, 014.012.0092-3, 014.012.0093-1, 014.012.0094-1, 014.012.0095-8, 014.012.0096-6, 014.012.0097-4, 014.012.0100-8, 014.012.0101-6, 014.012.0102-4. | J95: R Augusta, 2860, 2862, 2866, 2880, 2884, 2888, 2890, 2892, 2896, 2898, 2900 | K95: Consolação | L95: 010/20 | M95: 2020 | N95: 0099D/20 | O95: 10086.34 | P95: 3024.25 | Q95: 44057 | R95: DOCUMENTAL
A96: 6068.2020/0002808-4 | B96: 040129 | C96: 0070-6 | D96: Av Nazaré, 993 | E96: Ipiranga | F96: 0099D/20 | G96: Termo de Compromisso 002/2018 | H96: 009077 | I96: 0930-3, 0929-1, 0045-4 | J96: Av Brigadeiro Luis Antônio 2.520, 2.522, 2.526, 2.528, 2.530 e 2.532 | K96: Jardim Paulista | L96: 014/20 | M96: 2020 | N96: 0099E/20 | O96: 1723.57 | P96: 2270.31 | Q96: 44163 | R96: DOCUMENTAL
A97: 2015-0.311.495-0 | B97: 043047 | C97: 0002-2 | D97: Av Nazaré, 1361 | E97: Ipiranga | F97: 0119/15 | G97: Termo de Compromisso 001/2016 | H97: 033010 | I97: 0071-1, 0018-5, 0019-3, 0020-7, 0059-2 | J97: R Santa Madalena, 68, 72 e 86 / R Martiniano de Carvalho, 473 / R Pedroso, 249 e 265 | K97: Bela Vista | L97: 001/16 | M97: 2016 | N97: 0119A/16 | O97: 11726.93 | P97: 8708.25 | Q97: 42562 | R97: DOCUMENTAL
A98: 6068.2020/0002215-9 | B98: 043047 | C98: 0002-2 (atualiz. 0026-1) | D98: Av Nazaré, 1361 | E98: Ipiranga | F98: 0119A/15 | G98: Termo de Compromisso 01/2020 | H98: 016123 | I98: 0019-7, 0020-0, 0021-9, 0022-7, 0023-5, 0024-3, 0025-1, 0026-1, 0027-8, 0081-2, 0082- 0, 0092-8, 0095-2, 0096-0, 0242-4 | J98: R Joaquim Floriano, 32, 38, 52, 78, 86, 92, (100), 106, 114/ R Ibiaté (80), 90/ R Tenente Negrão 100, 126 | K98: Itaim Bibi | L98: 013/20 | M98: 2020 | N98: 119.EXTRATO | O98: 38273.07 | P98: 17510.24 | Q98: 44104 | R98: DOCUMENTAL
A99: 2016-0.045.329-1 | B99: 016009 | C99: 0028-7 | D99: R Canadá, 644 e 658 | E99: Jardim Paulista | F99: 0120/15 | G99: Atestado de Conservação 003/2016 | H99: 037056 | I99: 0108-3, 0063-1, 0035-4 | J99: R Sena Madureira, 80 / R Madre Cabrini, 383 | K99: Vila Mariana | L99: 006/16 | M99: 2016 | N99: 0120A/16 | O99: 2322.84 | P99: 5412.31 | Q99: 42646 | R99: DOCUMENTAL
A100: 2017-0.148.533-4 | B100: 016009 | C100: 0028-3 | D100: R Canadá, 644 e 658 | E100: Jardim Paulista | F100: 0120A/16 | G100: Atestado de Conservação 003/2016 | H100: 009086 | I100: 0075-5, 0020-8, 0021-6, 0024-0 | J100: Al Fernão Cardim, 62, 64, 72 e 84 | K100: Jardim Paulista | L100: 015/17 | M100: 2017 | N100: 0120B/16 | O100: 2255.87 | P100: 2832.85 | Q100: 43110 | R100: DOCUMENTAL | S100: Essa Certidão anula e substitui a Certidão 009/16.
A101: 2017-0.134.541-9 | B101: 016009 | C101: 0028-3 | D101: R Canadá, 644 e 658 | E101: Jardim Paulista | F101: 0120B/16 | G101: Atestado de Conservação 003/2016 | H101: 036031 | I101: 0054-9 | J101: R Manoel da Nóbrega, 986 | K101: Moema | L101: 009/17 | M101: 2017 | N101: 0120C/17 | O101: 1823.48 | P101: 962.08 | Q101: 43041 | R101: DOCUMENTAL
A102: 6068.2018/0000564-1 | B102: 016009 | C102: 0006-2 e 0026-7 | D102: R Canadá, 644 e 658 | E102: Jardim Paulista | F102: 0120C/17 | G102: Atestado de Conservação 003/2016 | H102: 084034 | I102: 0007-1 | J102: R Itapeaçu, 165 | K102: Morumbi | L102: 012/18 | M102: 2018 | N102: 0120D/18 | O102: 4698.87 | P102: 4579.15 | Q102: 43287 | R102: DOCUMENTAL
...

Sheet Declaração COM DOAÇÃO
B2: Declarações de Potencial Construtivo Passível de Transferência COM doação
B3: Técnico (a) responsável | C3: Data de autuação | D3: Data do recebimento em DEUSO | E3: N. processo | F3: SQ | G3: Lote | H3: Codlog | I3: Endereço | J3: Distrito | K3: Subprefeitura | L3: Interessado | M3: Procurador Autorizado | N3: Área do terreno DOADO (m²) | O3: Finalidade da transferência | P3: N. Declaração | Q3: Página Livro | R3: Pcpt (m²) | S3: Área cedida (m²) | T3: N. Certidão | U3: Valor Declaração (ref.OODC) (R$) | V3: Valor de desapropriação (R$) | W3: Data publicação | X3: Situação | Y3: Observação | Z3: VIA DO INTERESSADO DEVOLVIDA? | AA3: Observação SEHAB/CRF
C4: 41992 | E4: 2014-0.356.333-7 | F4: 087068 | G4: 0133-1 | I4: Praça Dona Benta Vieira, 37 | J4: Santo Amaro | K4: Santo Amaro | L4: Isaac Salomão Sayeg | N4: - | O4: Melhoramento viário | P4: - | Q4: - | R4: - | S4: - | T4: - | U4: - | V4: - | W4: 42984 | X4: INDEFERIDO | Y4: Desistência por parte do interessado.
B5: Penha | C5: 42185 | D5: 43312 | E5: 2015-0.170.275-7 | F5: - | G5: - | I5: - | J5: - | K5: - | L5: GOLD HAVANA EMPEEDIMENTOS IMOBILIARIO LTDA | N5: - | O5: Melhoramento viário | P5: - | Q5: - | R5: - | S5: - | T5: - | U5: - | V5: - | W5: 43432 | X5: INDEFERIDO | Y5: Em face da Informação N. 309/PROJ 3/2018 que manifesta interesse em manter o melhoramento viário previsto na Lei N. 7.138/68, e na Lei N. 7.506/70, este processo foi considerado indeferido.
C6: 42256 | D6: 42774 | E6: 2015-0.239.216-6 | F6: 086228 | G6: 0013,0014, 0023 | I6: R Xavier Gouveia | J6: Campo Belo | K6: Santo Amaro | L6: José Martins Antunes | O6: Regularização fundiária | P6: SI | Q6: SI | T6: - | X6: SEHAB
C7: 42256 | E7: 2015-0.239.216-6 | F7: 086228 | G7: 0041-5 | I7: R Xavier Gouveia | J7: Campo Belo | K7: Santo Amaro | L7: José Martins Antunes | N7: 1243 | O7: Regularização fundiária | P7: SI | Q7: SI | R7: 2486 | T7: - | U7: 1391165.6 | X7: SEHAB | Y7: Processo principal (DIS 55.853/15) Em SEHAB desde 08/08/2018.
C8: 42256 | E8: 2015-0.239.231-0 | F8: 086228 | G8: 0040-7 | I8: R Xavier Gouveia | J8: Campo Belo | K8: Santo Amaro | L8: Fraternidade Rosacruciana São Paulo | N8: 2761 | O8: Regularização fundiária | P8: SI | Q8: SI | R8: 5522 | T8: - | U8: 3090111.2 | X8: CEPEUC | Y8: Processo na COORDENADORIA DE CONTROLE DA FUNÇÃO SOCIAL DA PROPRIEDADE desde 08/01/2019.
C9: 42256 | E9: 2015-0.239.245-0 | F9: 086228 | G9: 0042-3 | I9: R Xavier Gouveia | J9: Campo Belo | K9: Santo Amaro | L9: Jacinto Dias Rodrigues | N9: 1231 | O9: Regularização fundiária | P9: SI | Q9: SI | R9: 2462 | T9: - | U9: 1377735.2 | W9: 45565 | X9: INDEFERIDO | Y9: Estava SEHAB desde 08/08/2018 - retornou à DMUs em 03/09/2024. Despacho indeferido 111421273 o processo SEI 6068.2024/0010811-5
C10: 42277 | D10: 42775 | E10: 2015-0.260.736-7 | F10: 118342 | G10: 0116 | I10: Av do Oratório, 1053 | J10: São Lucas | K10: Vila Prudente | L10: MZ Empreendimentos Imobiliários Ltda. | N10: 53032 | O10: Parque | P10: SI | Q10: SI | R10: 7424.48 | T10: - | U10: 91840818 | X10: SVMA | Y10: Em SVMA desde 14/09/2018.
C11: 42395 | E11: 2016-0.017.829-0 | F11: 056070 | G11: 0048 | I11: R Dr Ismael Dias | J11: Tatuapé | K11: Mooca | L11: Goldfarb Incorporações e Contruções S/A | N11: - | O11: Melhoramento viário | P11: - | Q11: - | R11: - | S11: - | T11: - | U11: - | V11: - | W11: 43333 | X11: INDEFERIDO | Y11: SIURB rejeitou a proposta.
C12: 42398 | D12: 42775 | E12: 2016-0.021.666-4 | F12: 075025 | G12: 0315-3 | I12: R José Inácio de Oliveira, S/N | J12: Casa Verde | K12: Casa Verde/Cachoeirinha | L12: Empreendimentos Imobiliários Niazi Ltda. | N12: 23132 | O12: Parque | P12: SI | Q12: SI | R12: 3238.48 | T12: - | U12: 30409327 | X12: SVMA | Y12: Em SVMA desde 31/08/2018.
C13: 42398 | E13: 2016-0.021.672-9 | F13: 075025 | G13: 0001-4 | I13: R José Inácio de Oliveira, 393 e 395 | J13: Casa Verde | K13: Casa Verde/Cachoeirinha | L13: Jurema Chohfi Maluf | N13: 18413 | O13: Parque | P13: SI | Q13: SI | R13: 2577.82 | T13: - | U13: 24205730 | X13: SVMA | Y13: Em SVMA desde 31/08/2018.
B14: Daniel | C14: 42398 | D14: 45476 | E14: 6027.2023/0015525-8 | F14: 075025 | G14: 0315-3/0001-4 | I14: R José Inácio de Oliveira, 393 e 395 | J14: Casa Verde | K14: Casa Verde/Cachoeirinha | L14: Jurema Chohfi Maluf/ Empreendimentos Imobiliários Niazi Ltda. | O14: Parque
C15: 42416 | D15: 42768 | E15: 2016-0.037.275-5 | F15: 087421 | G15: 0036-4 | I15: R Laguna, 261 e 365 | J15: Santo Amaro | K15: Santo Amaro | L15: Vitachemie Administradora de Bens Ltda | N15: 8272 | O15: Melhoramento viário | P15: SI | Q15: SI | R15: 33088 | T15: - | U15: 28422592 | X15: PARHIS | Y15: Em PARHIS desde 26/07/2018. Desapropriação Operação Urbana Água Espraiada - Acesso à Ponte Laguna.
C16: 42541 | D16: 42776 | E16: 2016-0.140.069-8 | F16: 300048 | G16: 0001-7, 0002-5, 0003-3, 0004-1, 0005-1, 0023-8 | I16: R Barão de Castro Lima / R Conde de Itaguaí | J16: Morumbi | K16: Butantã | L16: Hermínio Reis Santos | N16: 2550 | O16: Provisão de HIS | P16: SI | Q16: SI | R16: 12112.5 | T16: - | U16: 10499115 | X16: DEUSO | Y16: Recebido em DEUSO em 22/03/2019.
E17: TID 13052005 | F17: 087068 | G17: 0133-1 | I17: R Vera Cruz, 70 | J17: Santo Amaro | K17: Santo Amaro | N17: 3568 | O17: Melhoramento viário | P17: SI | Q17: SI | R17: 28544 | T17: - | U17: 20722944 | X17: AJ | Y17: DUP 50.849/09
C18: 42705 | E18: 2016-0.265.232-1 | F18: 167226 | G18: 0004-0 | I18: Estr de Itapecerica da Serra, 5859 | J18: Capão Redondo | K18: Campo Limpo | L18: Instituto Adventista de Ensino | N18: - | O18: Melhoramento viário | P18: - | Q18: - | R18: - | S18: - | T18: - | U18: - | V18: - | W18: 43295 | X18: INDEFERIDO | Y18: Essa doação está sendo tratada pelo processo SEI 6068.2018/0001109-9.
C19: 42837 | E19: 2017-0.062.844-1 | F19: 169287 | G19: 0208-6 | I19: R Diogo Martins, s/n | J19: Campo Limpo | K19: Campo Limpo | L19: NEWCORP Empr. PART Ltda | N19: 1.000,00 | O19: Regularização fundiária | P19: SI | Q19: SI | R19: 2000 | T19: - | U19: 1178400 | X19: SEHAB | Y19: Em SEHAB desde 13/09/2018.
E20: 2017-0.117.941-1 | F20: 082402 | G20: 0001-1 | I20: Chácara da Fonte / R Santanésian, 175 | J20: Butantã | K20: Butantã | L20: Rosa Basile e outros | N20: 33448 | O20: Parque | P20: - | Q20: - | R20: 4682.72 | S20: - | T20: - | U20: 72909950 | V20: - | W20: 43535 | X20: INDEFERIDO | Y20: indeferido em 11/03/2019
B21: Penha | C21: 43091 | D21: 43103 | E21: 6068.2017/0000832-0 | F21: 170194 | G21: 0029, 0030, 0031, 0032, 0033, 0034, 0035, 0036 | I21: R Dr Antonio F. de Castilho Fº, s/n / R Dr José Pedro de C Lima s/n | J21: Vila Andrade | K21: Campo Limpo | L21: TD Tecnologia Informação Eireli e outros | N21: 7890 | O21: Parque | P21: - | Q21: - | R21: 41829 | S21: - | T21: - | U21: 19153764 | V21: - | W21: - | X21: - | Y21: 7.890,00 m² a serem doados, sendo: 89,34% em ZEIS-5 e 10,66% em ZM.
B22: Penha | C22: 43091 | D22: 43103 | E22: 6068.2017/0000832-0 | F22: 170194 | G22: 0033-6 | I22: R Dr. Antonio F. de Castilho Filho, s/nº | J22: Vila Andrade | K22: Campo Limpo | L22: TD Tecnologia Informação Eireli e outros | N22: 6619.2 | O22: Parque | P22: 005/21 | Q22: Livro 1 - 20 | R22: 6619.2 | S22: 6619.2 | T22: 004/22 | U22: SI | V22: SI | W22: 44306 | X22: DOCUMENTAL | Y22: -
B23: Daniel | C23: 44645 | D23: 44645 | E23: 6068.2022/0002792-8 | F23: 170194 | G23: 0033-6 | I23: R Dr. Antonio F. de Castilho Filho, s/nº | J23: Vila Andrade | K23: Campo Limpo | L23: Rubens Dryzun e Sheila Gasko Dryzun | N23: SI | O23: Parque | P23: 005.EXTRATO | Q23: Livro 1 - 36 | R23: 0 | S23: - | T23: - | U23: SI | V23: SI | W23: 44791 | X23: DOCUMENTAL
B24: Penha | C24: 43091 | D24: 43103 | E24: 6068.2017/0000832-0 | F24: 170194 | G24: 0034-4 | I24: Rua Dr. Antonio F. de Castilho Filho, s/nº | J24: Vila Andrade | K24: Campo Limpo | L24: TD Tecnologia Informação Eireli e outros | N24: 2721.6 | O24: Parque | P24: 006/21 | Q24: Livro 1 - 24 | R24: 2721.6 | S24: 0 | T24: 006/21 | U24: SI | V24: SI | W24: 44306 | X24: DOCUMENTAL | Y24: -
B25: Daniel | C25: 44645 | D25: 44645 | E25: 6068.2022/0002793-6 | F25: 170164 | G25: 0034-4 | I25: R Dr. Antonio F. de Castilho Filho, s/n | J25: Vila Andrade | K25: Campo Limpo | L25: Rubens Dryzun e Sheila Gasko Dryzun | N25: 2721.6 | O25: Parque | P25: 006A/22 | Q25: Livro 1 - 35 | R25: 479.16 | S25: 2242.44 | T25: 005/22 | U25: SI | V25: SI | W25: 44791 | X25: DOCUMENTAL
B26: Daniel | C26: 45117 | D26: 45118 | E26: 6068.2023/0006243-1 | F26: 170164 | G26: 0034-4 | I26: R Dr. Antonio F. de Castilho Filho, s/nº | J26: Vila Andrade | K26: Campo Limpo | L26: Rubens Dryzun e Sheila Gasko Dryzun | N26: 2721.6 | O26: Parque | P26: 006.EXTRATO | Q26: Livro 1 - 49 | R26: 0 | S26: 479.16 | T26: 005/23 | W26: 45205 | X26: DOCUMENTAL
B27: Daniel | C27: 43091 | D27: 43103 | E27: 6068.2017/0000832-0 | F27: 170194 | G27: 0032-8 | I27: Rua Dr. Antonio F. de Castilho Filho, s/nº | J27: Vila Andrade | K27: Campo Limpo | L27: Judith Rebeca Schleyer | N27: 853 | O27: Parque | P27: 007/21 | Q27: Livro 1 - 27 | R27: 2388.4 | S27: - | T27: - | U27: SI | V27: SI | W27: 44433 | X27: DOCUMENTAL | Y27: -
B28: Daniel | C28: 43091 | D28: 43103 | E28: 6068.2017/0000832-0 | F28: 170194 | G28: 0035-2 | I28: Rua Dr. Antonio F. de Castilho Filho, s/nº | J28: Vila Andrade | K28: Campo Limpo | L28: Lody Haiat Chueke e outros | N28: 882 | O28: Parque | P28: 008/21 | Q28: Livro 1 - 30 | R28: 2469.6 | S28: - | T28: - | U28: SI | V28: SI | W28: 44485 | X28: DOCUMENTAL | Y28: -
B29: Daniel | C29: 44873 | D29: 44873 | E29: 6068.2022/0010730-1 | F29: 170194 | G29: 0032-8 | I29: Rua Dr. Antonio F. de Castilho Filho, s/nº | J29: Vila Andrade | K29: Campo Limpo | L29: Judith Rebeca Schleyer | N29: 5082.4 | O29: Parque | P29: 007.EXTRATO | Q29: Livro 1 - 40 | R29: 0 | S29: SI | T29: 010/22 | U29: SI | V29: SI | W29: 44995 | X29: DOCUMENTAL
B30: Daniel | C30: 44873 | D30: 44873 | E30: 6068.2022/0010745-0 | F30: 170194 | G30: 0035-2 | I30: Rua Dr. Antonio F. de Castilho Filho, s/nº | J30: Vila Andrade | K30: Campo Limpo | L30: Lody Haiat Chueke, Carole Chueke, Mauro Rabacov, Tania Chueke, Monica Chueke Rochlin, Jacques Rochlin, Isaac Israel Chueke e Patricia Chueke | N30: 5082.4 | O30: Parque | P30: 008A/22 | Q30: Livro 1 - 41 | R30: 510.3 | S30: SI | T30: 011/22 | U30: SI | V30: SI | W30: 44995 | X30: DOCUMENTAL
B31: Daniel | E31: 6068.2023/0005868-0 | F31: 170194 | G31: 0035-2 | I31: Rua Dr. Antonio F. de Castilho Filho, s/nº | J31: Vila Andrade | K31: Campo Limpo | L31: Lody Haiat Chueke, Carole Chueke, Mauro Rabacov, Tania Chueke, Monica Chueke Rochlin, Jacques Rochlin, Isaac Israel Chueke e Patricia Chueke | N31: 510.3 | O31: Parque | P31: 008.EXTRATO | Q31: Livro 1 - 47 | R31: 0 | S31: SI | T31: 003/23 | U31: SI | V31: SI | W31: 45198 | X31: DOCUMENTAL
B32: Tales | C32: 43091 | D32: 45293 | E32: 6068.2017/0000832-0 | F32: 170194 | G32: 0031-1 | I32: Rua Dr. Antonio F. de Castilho Filho, s/nº | J32: Vila Andrade | K32: Campo Limpo | L32: Jean Grinfeld | N32: 875 | O32: Parque | P32: 012/24 | Q32: Livro 1 - 50 | R32: 2450 | W32: 45337 | X32: DOCUMENTAL
B33: Daniel | C33: 45415 | E33: 6068.2024/0004687-0 | F33: 170194 | G33: 0031-1 | I33: Rua Dr. Antonio F. de Castilho Filho, s/nº | J33: Vila Andrade | K33: Campo Limpo | L33: Jean Grinfeld | N33: 875 | O33: Parque | P33: 012.EXTRATO | Q33: Livro 1 - 52 | R33: 0 | T33: 002/24 | X33: EM ANÁLISE
B34: Daniel | C34: 43091 | D34: 45540 | E34: 6068.2017/0000832-0 | F34: 170194 | G34: 0030-1 | I34: Rua Dr. Antonio F. de Castilho Filho, s/nº | J34: Vila Andrade | K34: Campo Limpo | L34: TD TECNOLOGIA DA INFORMAÇÃO LTDA | N34: 940 | O34: Parque | P34: 015/24 | Q34: Livro 1 - 54
B35: Daniel | C35: 45777 | D35: 45777 | E35: 6068.2025/0004160-8 | F35: 170194 | G35: 0030-1 | I35: Rua Dr. Jose Pedro de C. Lima, S/N | J35: Vila Andrade | K35: Campo Limpo | L35: TD TECNOLOGIA DA INFORMAÇÃO LTDA | N35: 940 | O35: Parque | P35: 015.EXTRATO | Q35: Livro 1 - 59 | R35: 0 | T35: 007/25
B36: Daniel | C36: 43091 | D36: 45926 | E36: 6068.2017/0000832-0 | F36: 170194 | G36: 0029-8 | H36: 218421 | I36: Rua Dr. Jose Pedro de C. Lima, S/N | J36: Vila Andrade | K36: Campo Limpo | L36: TD TECNOLOGIA DA INFORMAÇÃO LTDA | N36: 1280 | O36: Parque | P36: 016/25 | Q36: Livro 1 - 60 | R36: 179.2 | Y36: Quando houver análise do Lote 0036 (ultimo)fazer infornação de correção de despachos parcialmente deferidos e o encerramento das declarações, inclusive verificar o processo físico custodiado para encerramento
B37: Penha | C37: 43111 | D37: 43111 | E37: 6068.2018/0000023-2 | F37: 170196 | G37: 0011-4, 0012-2 | I37: R Símbolo, lotes 11 e 12 | J37: Vila Andrade | K37: Campo Limpo | L37: OSP Adm., Participações, Empreendimentos e Negócio Ltda | N37: 1795.88 | O37: Parque | P37: - | Q37: - | R37: - | S37: - | T37: - | U37: - | V37: - | W37: 43242 | X37: INDEFERIDO | Y37: Os imóveis não se encontram em área definida como parque planejado no Qd 7 e Mapa 05.
B38: Penha | C38: 43111 | D38: 43111 | E38: 6068.2018/0000024-0 | F38: 170035 | G38: 0008-5, 0010-7, 0011-5 (e 170.032.0008-1) | I38: R Itanga, lote 11/ R Itanage, lote 9/ R Itamotinga, lote12 | J38: Vila Andrade | K38: Campo Limpo | L38: Silva Porto Empreendimentos Imobiliários Ltda | N38: 1509 | O38: Regularização fundiária | P38: SI | Q38: SI | R38: 3018 | T38: - | U38: 922300.8 | V38: SI | W38: 45531 | X38: INDEFERIDO | Y38: Prazo execdio §6º - art.4º
B39: Penha | C39: 43193 | D39: 43193 | E39: 6068.2018/0000474-2 | F39: 118342 | G39: 0061-9, 0063-5, 0064-3, 0077-5, 0079-1, 0080-5, 0088-0, 0089-9, 0113-5 | I39: R Gal Cunha, 577/ Av Secondino, 402 e 32 | J39: São Lucas | K39: Vila Prudente | L39: Roberto Arias | N39: 10500 | O39: Provisão de HIS | P39: - | Q39: - | R39: - | S39: - | T39: - | U39: - | V39: - | W39: 43644 | X39: INDEFERIDO | Y39: SEHAB não tem interesse em receber a área pelos seguintes motivos: - A quadra encontra-se totalmente ocupada e em sua maioria por população em estado de vulnerabilidade social, sendo identificada como favela Jardim Independência; - Não há disponibilidade de atendimento social para as famílias que ocupam a área; - Os lotes ofertados não são contínuos; - A área está fora dos perímetros de ação integrada da SEHAB; - A área não compõe nenhum programa de urbanização e/ou Provisão de HIS da SEHAB; - A área não consta no plano de metas da SEHAB para 2019-2020; - A área está inserida em uma região com total infraestrutura urbana e não está mapeada como risco geológico.
B40: Penha | C40: 02/07/2018 | D40: 02/07/2018 | E40: 6068.2018/0001109-9 | F40: 167226 | G40: 0004-0 | I40: Estr de Itapecerica da Serra, 5859 | J40: Capão Redondo | K40: Campo Limpo | L40: Instituto Adventista de Ensino | N40: 11092.92 | O40: Melhoramento viário | P40: - | Q40: - | R40: 44371.68 | S40: - | T40: - | U40: 23650105 | V40: 14135486 | W40: 43966 | X40: INDEFERIDO | Y40: CGPATRI
B41: Penha | C41: 43327 | D41: 43327 | E41: 6068.2018/0001641-4 | F41: 010014 | G41: 0131-1 | I41: R Caio Prado, 232 / R Augusta, 344 e 360 | J41: Consolação | K41: Sé | L41: Albatroz Investimentos Imobiliários Ltda. | N41: 3800 | O41: Parque | P41: 001/19 | Q41: Livro 1 - 01 | R41: 532 | S41: 20.15 | T41: 001/19 | U41: 31903967 | V41: - | W41: 43606 | X41: DOCUMENTAL | Y41: PARQUE AUGUSTA | Z41: SIM
B42: Flavia | C42: 43612 | D42: 43612 | E42: 6068.2019/0002575-0 | F42: 010014 | G42: 0131-1 | I42: R Caio Prado, 232 / R Augusta, 344 e 360 | J42: Consolação | K42: Sé | L42: Albatroz Investimentos Imobiliários Ltda. | N42: - | O42: Parque | P42: 001A/19 | Q42: Livro 1 - 05 | R42: =R41-S41 -> 511.85 | S42: 77.25 | T42: 001/20 | U42: NÃO AVERBOU | V42: - | W42: 43708 | X42: DOCUMENTAL | Y42: PARQUE AUGUSTA | Z42: SIM
B43: Flavia | C43: 43808 | D43: 43809 | E43: 6066.2019/0007501-2 | F43: 010014 | G43: 0131-1 | I43: R Caio Prado, 232 / R Augusta, 344 e 360 | J43: Consolação | K43: Sé | L43: Albatroz investimentos Imobiliários LTDA | N43: - | O43: Parque | P43: 001B/20 | Q43: Livro 1 - 08 | R43: =R42-S42 -> 434.6 | S43: 171.32 | T43: 005/20 | U43: 4824642.3 | V43: - | W43: 43881 | X43: DOCUMENTAL | Y43: PARQUE AUGUSTA | Z43: SIM
B44: Penha | C44: 43913 | D44: 43916 | E44: 6066.2020/0001960-2 | F44: 010014 | G44: 0131-1 | I44: R Caio Prado, 232 / R Augusta, 344 e 360 | J44: Consolação | K44: Sé | L44: Albatroz Investimentos Imobiliários Ltda. | N44: - | O44: Parque | P44: 001C/20 | Q44: Livro 1 - 12 | R44: 263.28 | S44: 50.51 | T44: 008/20 | U44: 10873760 | V44: - | W44: 44015 | X44: DOCUMENTAL | Y44: PARQUE AUGUSTA | Z44: SIM
B45: Penha | C45: 44054 | D45: 44054 | E45: 6068.2020/0002102-0 | F45: 010014 | G45: 0131-1 | I45: R Augusta, 344 | J45: Consolação | K45: Sé | L45: Albatroz Investimentos Imobiliários Ltda. | N45: - | O45: Parque | P45: 001D/20 | Q45: Livro 1 - 15 | R45: - | S45: - | T45: 010/20 | U45: - | V45: - | W45: 44127 | X45: INDEFERIDO | Y45: PARQUE AUGUSTA
B46: Penha | C46: 44124 | D46: 44124 | E46: 6068.2020/0003774-1 | F46: 010014 | G46: 0131-1 | I46: R Augusta, 344 | J46: Consolação | K46: Sé | L46: Albatroz Investimentos Imobiliários Ltda. | N46: - | O46: Parque | P46: 001D/20 | Q46: Livro 1 - 17 | R46: 212.77 | S46: 28.21 | T46: 002/21 | U46: 3238386.3 | V46: - | W46: 44237 | X46: DOCUMENTAL | Y46: PARQUE AUGUSTA | Z46: SIM
B47: Daniel | C47: 44256 | D47: 44256 | E47: 6068.2021/0001527-8 | F47: 010014 | G47: 0131-1 | I47: R Augusta, 344 | J47: Consolação | K47: Sé | L47: Albatroz Investimentos Imobiliários Ltda. | N47: - | O47: Parque | P47: 001E/21 | Q47: Livro 1 - 21 | R47: 184.56 | S47: 49.41 | T47: 006/21 | U47: 1651476.5 | V47: - | W47: 44349 | X47: DOCUMENTAL | Y47: PARQUE AUGUSTA | Z47: SIM
B48: Daniel | C48: 44355 | D48: 44355 | E48: 6068.2021/0004899-0 | F48: 010014 | G48: 0131-1 | I48: R Augusta, 344 | J48: Consolação | K48: Sé | L48: Albatroz Investimentos Imobiliários Ltda. | N48: - | O48: Parque | P48: 001F/21 | Q48: Livro 1 - 25 | R48: 135.15 | S48: 73.21 | T48: 011/21 | U48: 3367306.3 | V48: - | W48: 44434 | X48: DOCUMENTAL | Y48: PARQUE AUGUSTA
B49: Daniel | C49: 44474 | D49: 44474 | E49: 6068.2021/0009931-5 | F49: 010014 | G49: 0131-1 | I49: R Augusta, 344 | J49: Consolação | K49: Sé | L49: Albatroz Investimentos Imobiliários Ltda. | N49: - | O49: Parque | P49: 001G/21 | Q49: Livro 1 - 32 | R49: 61.94 | S49: 38.76 | T49: 007/22 | U49: 5167149.1 | V49: - | W49: 44588 | X49: DOCUMENTAL | Y49: PARQUE AUGUSTA
B50: Daniel | C50: 44809 | D50: 44809 | E50: 6068.2022/0008329-1 | F50: 010014 | G50: 0131-1 | I50: R Augusta, 344 | J50: Consolação | K50: Sé | L50: Albatroz Investimentos Imobiliários Ltda. | N50: - | O50: Parque | P50: 001H/22 | Q50: Livro 1 - 38 | R50: 23.18 | S50: 23.18 | T50: 002/25 | U50: SI | V50: - | W50: 44923 | X50: DOCUMENTAL | Y50: PARQUE AUGUSTA | Z50: SIM
B51: Daniel | C51: 45667 | D51: 45667 | E51: 6068.2025/0000237-8 | F51: 010014 | G51: 0131-1 | I51: R Augusta, 344 | J51: Consolação | K51: Sé | L51: Albatroz Investimentos Imobiliários Ltda. | N51: - | O51: Parque | P51: 001.EXTRATO | Q51: Livro 1 - 56 | R51: 0 | S51: - | T51: - | V51: - | W51: 45845 | X51: DOCUMENTAL | Y51: PARQUE AUGUSTA
B52: Penha | C52: 43327 | D52: 43327 | E52: 6068.2018/0001641-4 | F52: 010014 | G52: 0131-1 | I52: R Caio Prado, 232 / R Augusta, 344 e 360 | J52: Consolação | K52: Sé | L52: Flamingo Investimentos Imobiliários Ltda | N52: 3800 | O52: Parque | P52: 002/19 | Q52: Livro 1 - 02 | R52: 532 | S52: 124.05 | T52: 004/20 | U52: 31903967 | V52: - | W52: 43606 | X52: DOCUMENTAL | Y52: PARQUE AUGUSTA | Z52: SIM
B53: Penha | C53: 43899 | D53: 43899 | E53: 6066.2020/0001568-2 | F53: 010014 | G53: 0131-1 | I53: R Augusta, 344 | J53: Consolação | K53: Sé | L53: Flamingo Investimentos Imobiliários Ltda | N53: - | O53: Parque | P53: 002A/20 | Q53: Livro 1 - 11 | R53: 407.95 | S53: 80.12 | T53: 001/21 | U53: 8107793.4 | V53: - | W53: 43957 | X53: DOCUMENTAL | Y53: PARQUE AUGUSTA | Z53: SIM
B54: Daniel | C54: 44182 | D54: 44182 | E54: 6068.2020/0005526-0 | F54: 010014 | G54: 0131-1 | I54: R Augusta, 344 | J54: Consolação | K54: Sé | L54: Flamingo Investimentos Imobiliários Ltda | N54: - | O54: Parque | P54: 002B/21 | Q54: Livro 1 - 15 | R54: 327.83 | S54: 90.31 | T54: 005/21 | U54: 5220584.9 | V54: - | W54: 44252 | X54: DOCUMENTAL | Y54: PARQUE AUGUSTA | Z54: SIM
B55: Daniel | C55: 44263 | D55: 44263 | E55: 6068.2021/0001751-3 | F55: 010014 | G55: 0131-1 | I55: R Augusta, 344 | J55: Consolação | K55: Sé | L55: Flamingo Investimentos Imobiliários Ltda | N55: - | O55: Parque | P55: 002C/21 | Q55: Livro 1 - 23 | R55: 237.52 | S55: 186.52 | T55: - | U55: 6208696.3 | V55: - | W55: 44407 | X55: DOCUMENTAL | Y55: PARQUE AUGUSTA
B56: Daniel | C56: 44438 | D56: 44439 | E56: 6068.2021/0008294-3 | F56: 010014 | G56: 0131-1 | I56: R Augusta, 344 | J56: Consolação | K56: Sé | L56: Flamingo Investimentos Imobiliários Ltda | N56: - | O56: Parque | P56: 002D/21 | Q56: Livro 1 - 29 | R56: 119.86 | S56: - | T56: - | U56: 8139043.5 | V56: - | W56: 44540 | X56: INDEFERIDO | Y56: PARQUE AUGUSTA
B57: Daniel | C57: 44662 | D57: 44663 | E57: 6068.2022/0003266-2 | F57: 010014 | G57: 0131-1 | I57: R. Augusta, 344 | J57: Consolação | K57: Sé | L57: Flamingo Investimentos Imobiliários Ltda | O57: Parque | P57: 002D/22 | Q57: Livro 1 - 29 | R57: 51 | S57: - | T57: 003/22 | U57: SI | V57: - | W57: 44762 | X57: DOCUMENTAL | Y57: PARQUE AUGUSTA
B58: Penha | C58: 43327 | D58: 43327 | E58: 6068.2018/0001641-4 | F58: 010014 | G58: 0438-6 | I58: R Caio Prado, 232 / R Marquês de Paranaguá, 115 | J58: Consolação | K58: Sé | L58: Albatroz Investimentos Imobiliários Ltda. | N58: 8066.5 | O58: Parque | P58: 003/19 | Q58: Livro 1 - 03 | R58: 1129.31 | S58: 40.29 | T58: 002/19 | U58: 67724567 | V58: - | W58: 43606 | X58: DOCUMENTAL | Y58: PARQUE AUGUSTA | Z58: SIM
B59: Flavia | C59: 43622 | D59: 43622 | E59: 6068.2019/0002870-8 | F59: 010014 | G59: 0438-6 | I59: R Caio Prado, 232 / R Marquês de Paranaguá, 115 | J59: Consolação | K59: Sé | L59: Albatroz Investimentos Imobiliários Ltda. | N59: - | O59: Parque | P59: 003A/19 | Q59: Livro 1 - 06 | R59: =R58-S58 -> 1089.02 | S59: 72.73 | T59: 003/20 | U59: 2491509.2 | V59: - | W59: 43711 | X59: DOCUMENTAL | Y59: PARQUE AUGUSTA | Z59: SIM
B60: Penha | C60: 43867 | D60: 43867 | E60: 6066.2020/0000822-8 | F60: 010014 | G60: 0438-6 | I60: R Caio Prado, 232 / R Augusta, 344 e 359 | J60: Consolação | K60: Sé | L60: Albatroz Investimentos Imobiliários Ltda. | N60: - | O60: Parque | P60: 003B/20 | Q60: Livro 1 - 10 | R60: 1016.29 | S60: 134.23 | T60: 009/20 | U60: 4604458.6 | V60: - | W60: 44078 | X60: DOCUMENTAL | Y60: PARQUE AUGUSTA | Z60: SIM
B61: Penha | C61: 44096 | D61: 44096 | E61: 6068.2020/0003104-2 | F61: 010014 | G61: 0438-6 | I61: R Caio Prado, 232 | J61: Consolação | K61: Sé | L61: Albatroz Investimentos Imobiliários Ltda. | N61: - | O61: Parque | P61: 003C/20 | Q61: Livro 1 - 16 | R61: 882.06 | S61: 83.02 | T61: 011/20 | U61: 8539181.5 | V61: - | W61: 44145 | X61: DOCUMENTAL | Y61: PARQUE AUGUSTA | Z61: SIM
B62: Daniel | C62: 44154 | D62: 44154 | E62: 6068.2020/0004657-0 | F62: 010014 | G62: 0438-6 | I62: R Caio Prado, 232 | J62: Consolação | K62: Sé | L62: Albatroz Investimentos Imobiliários Ltda. | N62: - | O62: Parque | P62: 003D/21 | Q62: Livro 1 - 19 | R62: 799.04 | S62: 87.73 | T62: 003/21 | U62: 5361357.3 | V62: - | W62: 44243 | X62: DOCUMENTAL | Y62: PARQUE AUGUSTA | Z62: SIM
B63: Daniel | C63: 44258 | D63: 44258 | E63: 6068.2021/0001631-2 | F63: 010014 | G63: 0438-6 | I63: R Caio Prado, 232 / R Marquês de Paranaguá, 115 | J63: Consolação | K63: Sé | L63: Albatroz Investimentos Imobiliários Ltda. | N63: - | O63: Parque | P63: 003E/21 | Q63: Livro 1 - 22 | R63: 711.31 | S63: 43.59 | T63: 008/21 | U63: 5857061.3 | V63: - | W63: 44349 | X63: DOCUMENTAL | Y63: PARQUE AUGUSTA | Z63: SIM
B64: Daniel | C64: 44404 | D64: 44404 | E64: 6068.2021/0006736-7 | F64: 010014 | G64: 0438-6 | I64: R Caio Prado, 232 | J64: Consolação | K64: Sé | L64: Albatroz Investimentos Imobiliários Ltda. | N64: - | O64: Parque | P64: 003F/21 | Q64: Livro 1 - 28 | R64: 667.72 | S64: 119.95 | T64: 001/22 | U64: 2986417.1 | V64: - | W64: 44475 | X64: DOCUMENTAL | Y64: PARQUE AUGUSTA | Z64: SIM
B65: Daniel | C65: 44628 | D65: 44630 | E65: 6068.2022/0002177-6 | F65: 010014 | G65: 0438-6 | I65: R Caio Prado, 232 | J65: Consolação | K65: Sé | L65: Albatroz Investimentos Imobiliários Ltda. | N65: - | O65: Parque | P65: 003G/22 | Q65: Livro 1 - 33 | R65: 547.77 | S65: 128.38 | T65: 006/22 | U65: SI | V65: - | W65: 44708 | X65: DOCUMENTAL | Y65: PARQUE AUGUSTA | Z65: SIM
B66: Daniel | C66: 44755 | D66: 44757 | E66: 6068.2022/0006562-5 | F66: 010014 | G66: 0438-6 | I66: R Caio Prado, 232 | J66: Consolação | K66: Sé | L66: SEI INCORPORAÇÃO E PARTICIPAÇÕES S/A | N66: - | O66: Parque | P66: 003H/22 | Q66: Livro 1 - 37 v | R66: 419.39 | S66: 99.45 | T66: 009/22 | U66: SI | V66: - | W66: 44844 | X66: DOCUMENTAL | Y66: PARQUE AUGUSTA | Z66: SIM
B67: Daniel | C67: 44845 | D67: 44845 | E67: 6068.2022/0009647-4 | F67: 010014 | G67: 0438-6 | I67: R Caio Prado, 232 | J67: Consolação | K67: Sé | L67: SEI INCORPORAÇÃO E PARTICIPAÇÕES S/A | N67: - | O67: Parque | P67: 003I/22 | Q67: Livro 1 - 39 | R67: 319.94 | S67: 45.4 | T67: 001/23 | U67: SI | V67: - | W67: 44844 | X67: DOCUMENTAL | Y67: PARQUE AUGUSTA | Z67: SIM
B68: Daniel | C68: 44937 | D68: 44942 | E68: 6068.2023/0000187-4 | F68: 010014 | G68: 0438-6 | I68: R Caio Prado, 232 | J68: Consolação | K68: Sé | L68: SEI INCORPORAÇÃO E PARTICIPAÇÕES S/A | N68: - | O68: Parque | P68: 003J/23 | Q68: Livro 1 - 42 | R68: 274.54 | S68: 132.22 | T68: 002/23 | W68: 45013 | X68: DOCUMENTAL | Y68: PARQUE AUGUSTA
B69: Luciana | C69: 45015 | D69: 45015 | E69: 6068.2023/0002742-3 | F69: 010014 | G69: 0438-6 | I69: R Caio Prado, 232 | J69: Consolação | K69: Sé | L69: IZP CÔNEGO EMPREENDIMENTOS IMOBILIÁRIOS LTDA | N69: - | O69: Parque | P69: 003K/23 | Q69: Livro 1 - 46 | R69: 142.32 | S69: 134.6 | T69: 001/24 | U69: 10303488 | V69: - | W69: 45107 | X69: DOCUMENTAL | Y69: PARQUE AUGUSTA | Z69: SIM
B70: Daniel | C70: 45369 | D70: 45370 | E70: 6068.2024/0002856-1 | F70: 010014 | G70: 0438-6 | I70: R Caio Prado, 232 | J70: Consolação | K70: Sé | L70: SEI INCORPORACAO E PARTICIPACOES S.A | N70: - | O70: Parque | P70: 003L/24 | Q70: Livro 1 - 51 | R70: 7.72 | S70: 7.72 | T70: 003/25 | U70: 10961290 | V70: - | W70: 45450 | X70: DOCUMENTAL | Y70: PARQUE AUGUSTA | Z70: SIM
B71: Daniel | C71: 45667 | D71: 45667 | E71: 6068.2025/0000238-6 | F71: 010014 | G71: 0438-6 | I71: R Caio Prado, 232 | J71: Consolação | K71: Sé | L71: SEI INCORPORACAO E PARTICIPACOES S.A | N71: - | O71: Parque | P71: 003.EXTRATO | Q71: Livro 1 - 57 | R71: 0 | S71: 0 | V71: - | W71: 45845 | X71: DOCUMENTAL | Y71: PARQUE AUGUSTA
B72: Penha | C72: 43327 | D72: 43327 | E72: 6068.2018/0001641-4 | F72: 010014 | G72: 0438-6 | I72: R Caio Prado, 232 / R Marquês de Paranaguá, 115 | J72: Consolação | K72: Sé | L72: Flamingo Investimentos Imobiliários Ltda | N72: 8066.5 | O72: Parque | P72: 004/19 | Q72: Livro 1 - 04 | R72: 1129.31 | S72: 64.54 | T72: 003/19 | U72: 67724567 | V72: - | W72: 43606 | X72: DOCUMENTAL | Y72: PARQUE AUGUSTA | Z72: SIM
B73: Flavia | C73: 43663 | D73: 43663 | E73: 6068.2019/0003643-3 | F73: 010014 | G73: 0438-6 | I73: R Caio Prado, 232 / R Marquês de Paranaguá, 115 | J73: Consolação | K73: Sé | L73: Flamingo Investimentos Imobiliários Ltda | N73: - | O73: Parque | P73: 004A/19 | Q73: Livro 1 - 07 | R73: =R72-S72 -> 1064.77 | S73: 93.03 | T73: 002/20 | U73: 3996428.3 | V73: - | W73: 43701 | X73: DOCUMENTAL | Y73: PARQUE AUGUSTA | Z73: SIM
B74: Penha | C74: 43951 | D74: 43847 | E74: 6066.2020/0000252-1 | F74: 010014 | G74: 0438-6 | I74: R Caio Prado, 232 / R Marquês de Paranaguá, 115 | J74: Consolação | K74: Sé | L74: Flamingo Investimentos Imobiliários Ltda | N74: - | O74: Parque | P74: 004B/20 | Q74: Livro 1 - 09 | R74: =R73-S73 -> 971.74 | S74: 79.67 | T74: 006/20 | U74: 5877111 | V74: - | W74: 43888 | X74: DOCUMENTAL | Y74: PARQUE AUGUSTA | Z74: SIM
B75: Penha | C75: 43951 | D75: 43955 | E75: 6068.2020/0000196-8 | F75: 010014 | G75: 0438-6 | I75: R Caio Prado, 232 / R Marquês de Paranaguá, 115 | J75: Consolação | K75: Sé | L75: Flamingo Investimentos Imobiliários Ltda | N75: - | O75: Parque | P75: 004C/20 | Q75: Livro 1 - 13 | R75: 892.07 | S75: 48.5 | T75: 007/20 | U75: 5044632 | V75: - | W75: 43888 | X75: DOCUMENTAL | Y75: PARQUE AUGUSTA | Z75: SIM
B76: Penha | C76: 44033 | D76: 44033 | E76: 6068.2020/0001684-1 | F76: 010014 | G76: 0438-6 | I76: R Augusta, 344 | J76: Consolação | K76: Sé | L76: Flamingo Investimentos Imobiliários Ltda | N76: - | O76: Parque | P76: 004D/20 | Q76: Livro 1 - 14 | R76: 843.57 | S76: 203.08 | T76: 004/21 | U76: 3066890.4 | V76: - | W76: 44091 | X76: DOCUMENTAL | Y76: PARQUE AUGUSTA | Z76: SIM
B77: Daniel | C77: 44263 | D77: 44263 | E77: 6068.2021/0001737-8 | F77: 010014 | G77: 0438-6 | I77: R Caio Prado, 232 | J77: Consolação | K77: Sé | L77: Flamingo Investimentos Imobiliários Ltda | N77: - | O77: Parque | P77: 004E/21 | Q77: Livro 1 - 18 | R77: 640.49 | S77: 56.78 | T77: 007/21 | U77: 13557430 | V77: - | W77: 44352 | X77: DOCUMENTAL | Y77: PARQUE AUGUSTA | Z77: SIM
B78: Daniel | C78: 44355 | D78: 44355 | E78: 6068.2021/0004915-6 | F78: 010014 | G78: 0438-6 | I78: R Caio Prado, 232 | J78: Consolação | K78: Sé | L78: Flamingo Investimentos Imobiliários Ltda | N78: - | O78: Parque | P78: 004F/21 | Q78: Livro 1 - 26 | R78: 583.71 | S78: 337.19 | T78: 010/21 | U78: 3869736.4 | V78: - | W78: 44434 | X78: DOCUMENTAL | Y78: PARQUE AUGUSTA | Z78: SIM
B79: Daniel | C79: 44496 | D79: 44498 | E79: 6068.2021/0010854-3 | F79: 010014 | G79: 0438-6 | I79: R Caio Prado, 232 | J79: Consolação | K79: Sé | L79: Flamingo Investimentos Imobiliários Ltda | N79: - | O79: Parque | P79: 004G/21 | Q79: Livro 1 - 31 | R79: 246.52 | S79: 246.52 | T79: 002/22 | U79: R$ 23.800.568,04 | V79: - | W79: 44582 | X79: DOCUMENTAL | Y79: PARQUE AUGUSTA
B80: Daniel | C80: 44635 | D80: 44635 | E80: 6068.2022/0002459-7 | F80: 010014 | G80: 0438-6 | I80: R Caio Prado, 232 | J80: Consolação | K80: Sé | L80: Flamingo Investimentos Imobiliários Ltda | N80: - | O80: Parque | P80: 004.EXTRATO | Q80: Livro 1 - 34 | R80: 0 | S80: - | T80: - | U80: SI | V80: - | W80: 44761 | X80: DOCUMENTAL | Y80: PARQUE AUGUSTA
B81: Penha | C81: 43342 | D81: 43356 | E81: 6068.2018/0001879-4 | F81: 173310 | G81: 0001-1 | I81: R Zike Tuma, 900 | J81: Campo Grande | K81: Santo Amaro | L81: Delta Invest. Imob Ltda | N81: 46782.91 | O81: Provisão de HIS | P81: SI | Q81: SI | R81: 355550.12 | S81: - | T81: - | U81: 68443398 | X81: COHAB | Y81: Sugere o encaminhamento deste à SVMA, para manifestação quanto à interferências e condicionantes a serem observadas para fins de utilização da área para implantação de habitacão de interesse social na área denominada Zike Tuma, em face da aprovação do PMMA - Plano Municipal de Conservação e Recuperação da Mata Atlântica.
B82: Penha | C82: 43392 | D82: 43392 | E82: 6068.2018/0002684-3 | F82: 191051 | G82: 0001-0 | I82: R Firminópolis, 752 | J82: Brasilândia | K82: Freguesia-Brasilândia | L82: Espólio de João Augusto de Siqueira Ferreira | N82: - | O82: Regularização fundiária | P82: - | Q82: - | R82: - | S82: - | T82: - | U82: - | V82: - | W82: 43453 | X82: INDEFERIDO | Y82: Não atendimento ao comunique-se.
B83: Daniel | C83: 43599 | D83: 43599 | E83: 6068.2019/0002220-3 | F83: 181083, 181088 | G83: 0004, 0005 a 0032 | I83: R Abel Tavares | J83: Jardim Ângela | K83: M´Boi Mirim | L83: SP Urbanismo | N83: 78810.31 | O83: Regularização fundiária | P83: SI | Q83: SI | R83: 157620.62 | S83: - | T83: - | U83: 51589384 | X83: EM ANÁLISE | Y83: Doação da área ocupada pela Favela Nossa Senhora Aparecida. SEI aberto para dar continuidade à doação requerida no PA 2011-0.269.318-5 à luz do Decreto n. 58.289/18.
B84: Penha/DANIEL | C84: 43615 | D84: 43615 | E84: 6068.2019/0002685-3 | F84: 170155 | G84: 0022-0 | I84: R Rudolf Lotze, s/n - Paraisópolis | J84: Vila Andrade | K84: Campo Limpo | L84: Márcio Bonfiglioli | N84: 500 | O84: Provisão de HIS | P84: SI | Q84: SI | R84: 800 | S84: - | T84: - | U84: 134800 | X84: EM ANÁLISE | Y84: PARAISÓPOLIS
B85: Penha | C85: 43626 | D85: 43626 | E85: 6068.2019/0002951-8 | F85: 102099 | G85: 0001-5 e 0015-5 | I85: Av Vila Ema, 1523 e 1579 | J85: Água Rasa | K85: Mooca | L85: Oregon Investimentos Imobiliários | N85: 17250 | O85: Parque | P85: SI | Q85: SI | R85: 2415 | S85: - | T85: - | U85: 35959350 | V85: 15805884 | X85: EM ANÁLISE | Y85: SEI aberto para dar continuidade à doação requerida no PA 2017-0.084.556-6 (Acomp. 2016-0.246.711-7) à luz do Decreto n. 58.289/18.
B86: Penha | C86: 43668 | D86: 43718 | E86: 7610.2019/0002141-8 | F86: 127180, 127183, 127188, 127222, 127223, 127221 | G86: - | I86: Av Inajar de Souza / R Gervásio Leite Rebelo / R Taquaraçu de Minas / R São Roque de Minas | J86: Cachoeirinha | K86: Casa Verde/Cachoeirinha | L86: Cia de Transmissão de Energia Elétrica Paulista (ISA CTEEP) e outros | O86: Regularização fundiária | P86: SI | Q86: SI | R86: SI | S86: - | T86: - | U86: 52402561 | X86: EM ANÁLISE | Y86: Favela Futuro Melhor - Córrego do Bispo
B87: Penha | C87: 43672 | D87: 43672 | E87: 6068.2019/0003863-0 | F87: 170059 | G87: 0049-8, 0123-0 | I87: R Antonio Aggio, s/n | J87: Vila Andrade | K87: Campo Limpo | L87: Construtora e Incorporadora Izaias Gomes Ltda | N87: 1569 | O87: Parque | P87: SI | Q87: SI | R87: 219.66 | S87: - | T87: - | U87: 4867665.6 | V87: - | W87: 45281 | X87: INDEFERIDO | Y87: SEI aberto para dar continuidade à doação requerida no PA 2017-0.138.507-0 à luz do Decreto n. 58.289/18. Informação SMUL/GAB Nº 093380782 - INDEFERIMENTO pq não integra o PQ_CL_10 - itapaiuna DESPACHO DE INDEFERIMENTO 095185760
B88: Penha | C88: 43342 | D88: 43342 | E88: 6068.2019/0004882-2 | F88: 019069 | G88: 0002-7 | I88: R Anhanguera, s/n (Trilhos) | J88: Santa Cecília | K88: Sé | L88: Fernanda Arruda Chamas | N88: 10028 | O88: Provisão de HIS | P88: - | Q88: - | R88: 72917.52 | S88: - | T88: - | U88: 29312843 | V88: - | W88: 43945 | X88: INDEFERIDO | Y88: -
B89: Penha | C89: 43724 | D89: 43724 | E89: 6068.2019/0005229-3 | F89: 041003 | G89: 0312-2 | I89: Av Santo Amaro, 1117 | J89: Moema | K89: Vila Mariana | L89: Robeli Processamento de Dados LTDA | N89: 70.28 | O89: Melhoramento viário | P89: SI | Q89: SI | R89: 562.24 | S89: - | T89: - | U89: SI | V89: SI | W89: 45621 | X89: INDEFERIDO | Y89: Tem DUP - Parecer PGM 091636438
B90: SI | C90: SI | D90: SI | E90: 6068.2019/0005979-0 | F90: SI | G90: SI | I90: SI | J90: SI | K90: SI | L90: SI | N90: SI | O90: SI | P90: SI | Q90: SI | R90: SI | S90: SI | T90: SI | U90: SI | V90: SI | W90: SI | X90: SI | Y90: SI
B91: Penha | C91: 43878 | D91: 43879 | E91: 6066.2020/0001067-2 | F91: 169022 | G91: 0003-2 | I91: R Maniçoba, 5 | J91: Campo Limpo | K91: Campo Limpo | L91: Funvest imobiliária Função s/c LTDA | N91: 40023.46 | O91: Regularização fundiária | P91: SI | Q91: SI | R91: 80046.9 | S91: - | T91: - | U91: SI | V91: SI | X91: EM ANÁLISE
B92: Daniel | C92: 43896 | D92: 43896 | E92: 6066.2020/0001533-0 | F92: 118342 | G92: 0116-1 | I92: Av do Oratório, 1053 | J92: São Lucas | K92: Vila Prudente | L92: MZ Empreendimentos Imobiliários LTDA | N92: 87312.82 | O92: Parque | P92: SI | Q92: SI | R92: 12223.79 | S92: - | T92: - | U92: SI | V92: SI | X92: EM ANÁLISE
B93: Penha | C93: 43747 | D93: 43747 | E93: 6066.2019/0005779-0 | F93: 41001 | G93: 0225-9 | I93: Av Santo Amaro, 919 | J93: Moema | K93: Vila Mariana | L93: Gregor Paticipações LTDA | N93: 162.14 | O93: Melhoramento viário | P93: - | Q93: - | R93: 1297.12 | S93: - | T93: - | U93: - | V93: - | W93: - | X93: INDEFERIDO | Y93: -
B94: Daniel | C94: 44231 | D94: 44200 | E94: 6068.2021/0000838-7 | F94: 032110 | G94: 0011-9 | I94: R Dianópolis, SN | J94: Mooca | K94: Mooca | L94: São José Desenvolvimento Imobiliário 41 LTDA | N94: 47497.61 | O94: Parque | P94: 009/22 | Q94: Livro 1 - 37 | R94: 6649.67 | S94: - | T94: - | U94: SI | V94: SI | W94: 44796 | X94: DOCUMENTAL | Y94: Divisão Proporcional com Emissão de duas novas Declarações 010/232 e 011/23
B95: Daniel | C95: 44987 | D95: 44988 | E95: 6068.2023/0001624-3 | F95: 032110 | G95: 0011-9 | I95: R Dianópolis, SN | J95: Mooca | K95: Mooca | L95: ITAQUA INCORPORADORA LTDA | N95: SI | O95: Parque | P95: 010/23 | Q95: Livro 1 - 42 | R95: 4654.77 | S95: - | T95: - | U95: SI | V95: SI | W95: 45104 | X95: DOCUMENTAL | Y95: CISÃO DO PRORPIETÁRIO DA 009/22 - PEDE-SE A DIVISÃO PROPORCIONAL DO PCPT
B96: Daniel | C96: 44987 | D96: 44988 | E96: 6068.2023/0001624-3 | F96: 032110 | G96: 0011-9 | I96: R Dianópolis, SN | J96: Mooca | K96: Mooca | L96: MOGILAR INCORPORADORA LTDA | N96: SI | O96: Parque | P96: 011/23 | Q96: Livro 1 - 43 | R96: 1994.9 | S96: - | T96: - | U96: SI | V96: SI | W96: 45105 | X96: DOCUMENTAL | Y96: CISÃO DO PRORPIETÁRIO DA 009/22 - PEDE-SE A DIVISÃO PROPORCIONAL DO PCPT
B97: Luciana | C97: 45387 | D97: 45390 | E97: 6068.2024/0003573-8 | F97: 032110 | G97: 0011-9 | I97: R Dianópolis, SN | J97: Mooca | K97: Mooca | L97: MOGILAR INCORPORADORA LTDA | N97: SI | O97: Parque | P97: 11.EXTRATO | Q97: Livro 1 - 53 | R97: 0 | S97: - | T97: - | U97: SI | V97: SI | W97: 45552 | X97: DOCUMENTAL
B98: Juliana | C98: 45601 | D98: 45601 | E98: 6068.2024/0012165-0 | F98: 032.110 | G98: 0011-9 | H98: 141763 | I98: Rua Barão de Monte Santo, SN | J98: Mooca | K98: Mooca | L98: ITAQUA INCORPORADORA LTDA | N98: SI | O98: Parque | P98: 010A/25 | Q98: Livro 1 - 55 | R98: 2607.25 | S98: - | T98: 001/25 | U98: - | V98: - | W98: 45748 | X98: DOCUMENTAL
B99: Juliana | C99: 45784 | D99: 45784 | E99: 6068.2025/0004314-7 | F99: 032.110 | G99: 0011-9 | H99: 141763 | I99: Rua Barão de Monte Santo, SN | J99: Mooca | K99: Mooca | L99: ITAQUA INCORPORADORA LTDA | M99: Marcio Botana e Marcelo Dzik | N99: SI | O99: Parque | P99: 010.EXTRATO | Q99: Livro 1 - 58 | R99: 0 | S99: - | T99: 006/25
B100: Daniel | C100: 44393 | D100: 44232 | E100: 6068.2021/0006374-4 | F100: 638.358.060.070-9 | I100: Rua Inácio Monteiro, S/N | J100: Cidade Tiradentes | K100: Cidade Tiradentes | L100: Maria José Inez Japequino Peixoto, Dalva Aparecida Japequino Cunha, Elizabeth Japequino Gonçalves e Odair Benedito Japequino | N100: ? | O100: Regularização fundiária | P100: - | Q100: - | R100: 48061.06 | S100: - | T100: - | U100: - | V100: - | W100: 44540 | X100: INDEFERIDO | Y100: -
B101: Joseph | C101: 44509 | D101: 44509 | E101: 6068.2021/0011215-0 | F101: 170128 | G101: 0014-2 | I101: R Ernest Renan, S/N | J101: Vila Andrade | K101: Campo Limpo | L101: Marcos Antonio Barreto Silva | N101: 500 | O101: Regularização Fundiária | P101: - | Q101: - | R101: SI | S101: - | T101: - | U101: SI | V101: SI | W101: 44588 | X101: INDEFERIDO | Y101: é PARAISÓPOLIS
...

Sheet Certidão COM DOAÇÃO
B2: Certidão de Transferência de Potencial Construtivo COM DOAÇÃO
E3: Imóvel cedente | M3: Imóvel receptor
B4: Técnico (a) responsável | C4: Data de protocolo | D4: N. processo | E4: SQ | F4: Lote | G4: Codlog | H4: Endereço | I4: Distrito | J4: Proprietário | K4: Procurador Autorizado | L4: N. Declaração | M4: SQ | N4: Lote | O4: Codlog | P4: Endereço | Q4: Distrito | R4: Interessado | S4: N. Certidão | T4: Página Livro Certidão | U4: N. Declaração Saldo | V4: Página Livro Saldo | W4: Área cedida equivalente (m²) | X4: Área recebida real (m²) | Y4: Valor pago pela área adquirida (R$) | Z4: Valor de referência OODC (R$) | AA4: Data Publicação | AB4: Situação | AC4: Observação
B5: Penha | C5: 43612 | D5: 6068.2019/0002575-0 | E5: 010014 | F5: 0131-1 | H5: R Caio Prado, 232 / R Augusta, 344 e 360 | I5: Consolação | J5: Albatroz Investimentos Imobiliários Ltda. | L5: 001/19 | M5: 088041 | N5: 0009-5, 0010-9 | P5: R da Fraternidade, 149 e 177 | Q5: Santo Amaro | R5: SEI Fraternidade Empreendimento Imobiliário Ltda | S5: 001/19 | T5: Livro 1 - 01 | U5: 001A/19 | V5: Livro 1 - 05 | W5: 20.15 | X5: 1671.3 | Y5: NÃO AVERBOU | Z5: 1246221.6 | AA5: 43708 | AB5: DOCUMENTAL | AC5: -
B6: Flavia | C6: 43808 | D6: 6066.2019/0007501-2 | E6: 010014 | F6: 0131-1 | H6: R Caio Prado, 232 / R Augusta, 344 e 360 | I6: Consolação | J6: Albatroz investimentos Imobiliários LTDA | L6: 001A/19 | M6: 009058 | N6: 0021-4, 0022-2 | P6: R Pamplona, 834 e 850 | Q6: Jardim Paulista | R6: SEI Novo Negócio 59 Empreendimento Imobiliário LTDA | S6: 001/20 | T6: Livro 1 - 04 | U6: 001B/20 | V6: Livro 1 - 08 | W6: 77.25 | X6: 2916.39 | Y6: 3314752.7 | Z6: 4824642.3 | AA6: 43881 | AB6: DOCUMENTAL | AC6: -
B7: Penha | C7: 43913 | D7: 6066.2020/0001960-2 | E7: 010014 | F7: 0131-1 | H7: R Caio Prado, 232 / R Augusta, 344 e 360 | I7: Consolação | J7: Albatroz Investimentos Imobiliários Ltda. | L7: 001B/20 | M7: 013055 | N7: 0025-3, 0026-1, 0027-1, 0028-8, 0029-6, 0030-1, 0031-8, 0032-6, 0033-4, 0034-2, 0035-0, 0036-9, 0037-7, 0093-8, 0095-4 | P7: Rua Francisco Leitão, 190, 198, 200, 2010, 222, 230, 236, 240 / Rua Henrique Schaumann, 267/ 297 | Q7: Pinheiros | R7: SEI FL RESIDENCIAL EMPREENDIMENTO IMOBILIÁRIO LTDA | S7: 005/20 | T7: Livro 1 - 08 | U7: 001C | V7: Livro 1 - 12 | W7: 171.32 | X7: 10913.61 | Y7: - | Z7: 10873760 | AA7: 44015 | AB7: DOCUMENTAL | AC7: CAF
B8: Penha | C8: 44054 | D8: 6068.2020/0002102-0 | E8: 010014 | F8: 0131-1 | H8: R Augusta, 344 | I8: Consolação | J8: Albatroz Investimentos Imobiliários Ltda. | L8: 001C/20 | M8: 041089 | N8: 0021-9, 0025-1, 0036-7, 0037-5, 0040-5, 0119-3 | P8: Al Jauaperi, 149, 163, 173, 185/191 e Av Agami, 164, 174 | Q8: Vila Mariana | R8: Imobiliária 516 do Brasil Projetos Imobiliários LTDA | S8: 008/20 | T8: Livro 1 - 11 | U8: 001D/20 | V8: Livro 1 - 15 | W8: - | X8: - | Y8: - | Z8: - | AA8: 44127 | AB8: INDEFERIDO | AC8: DESISTÊNCIA
B9: Penha | C9: 44124 | D9: 6068.2020/0003774-1 | E9: 010014 | F9: 0131-1 | H9: R Augusta, 344 | I9: Consolação | J9: Albatroz Investimentos Imobiliários Ltda. | L9: 001C/20 | M9: 009015 | N9: 0015-1, 0016-1, 0017-8, 0018-6 | P9: R Pamplona, 112, 114, 128 e 136/140 | Q9: Bela Vista | R9: Sei Novo Negocio 35 Empreendimento Imobiliário SPE LTDA | S9: 010/20 | T9: Livro 1 - 13 | U9: 001D/20 | V9: Livro 1 - 17 | W9: 50.51 | X9: 3117.46 | Y9: 1408992 | Z9: 3238386.3 | AA9: 44237 | AB9: DOCUMENTAL | AC9: -
B10: Daniel | C10: 44256 | D10: 6068.2021/0001527-8 | E10: 010014 | F10: 0131-1 | H10: R Augusta, 344 | I10: Consolação | J10: Albatroz Investimentos Imobiliários Ltda. | L10: 001D/20 | M10: 046218 | N10: 0270-4 | P10: R Cel Domingos Ferreira, 323 | Q10: Cursino | R10: SEI Adib Empreendimento Imobiliario SPE Ltda. | S10: 002/21 | T10: Livro 1 - 16 | U10: 001E/21 | V10: Livro 1 - 21 | W10: 50.42 | X10: 5621.77 | Y10: 786926.64 | Z10: 1651476.5 | AA10: 44349 | AB10: DOCUMENTAL | AC10: -
B11: Daniel | C11: 44355 | D11: 6068.2021/0004899-0 | E11: 010014 | F11: 0131-1 | H11: R Augusta, 344 | I11: Consolação | J11: Albatroz Investimentos Imobiliários Ltda. | L11: 001E/21 | M11: 036090 | N11: 0029-5, 0030-9, 0053-8 | P11: R Henrique Martins, 483, 493, 495-507 | Q11: Moema | R11: SEI Henrique Martins Empreendimento Imobiliário SPE LTDA | S11: 006/21 | T11: Livro 1 - 20 | U11: 001F/21 | V11: Livro 1 - 25 | W11: 49.41 | X11: 1169.63 | Y11: 1378307.2 | Z11: 3367306.3 | AA11: 44434 | AB11: DOCUMENTAL | AC11: -
B12: Daniel | C12: 44474 | D12: 6068.2021/0009931-5 | E12: 010014 | F12: 0131-1 | H12: R Augusta, 344 | I12: Consolação | J12: Albatroz Investimentos Imobiliários Ltda. | L12: 001F/21 | M12: 042079 | N12: 0010-1, 0011-1, 0013-6, 0014-4, 0015-2, 0016- 0, 0017-9, 0018-7, 0033-0, 0034-9, 0035-7, 0036-5, 0037-3, 0038-1, 0048-9, 0049-7, 0057-8, 0102-7, 0103-5, 0104-3, 0105-1, 0106-1, 0107-8, 0108-6, 0109-4 | P12: R Prof Tranquilli, 172, 178 e 186 X R Jorge Tibiriçá, 244, 250, 252, 258, 266, 276, 286, 290, 294 e 300 X R Eng José Sá Rocha, 109, 115, 119, 125, 127, 133, 141, 145, 149, 157, 159 e 167 | Q12: Vila Mariana | R12: SEI Jorge Tibiriça Empreendimento Imobliário SPE LTDA | S12: 011/21 | T12: Livro 1 - 24 | U12: 001G/21 | V12: Livro 1 - 32 | W12: 73.21 | X12: 8396.62 | Y12: 2042215.5 | Z12: 5167149.1 | AA12: 44588 | AB12: DOCUMENTAL | AC12: -
B13: Daniel | C13: 44809 | D13: 6068.2022/0008329-1 | E13: 010014 | F13: 0131-1 | H13: R Augusta, 344 | I13: Consolação | J13: Albatroz Investimentos Imobiliários Ltda. | L13: 001G/21 | M13: 085100 | N13: 0016-6, 0022-0 | P13: Av Santo Amaro, 4372 e R Francisco Dias Velho, 51 | Q13: Itaim Bibi | R13: SEI FRANCISCO DIAS VELHO EMPREENDIMENTO IMOBILIARIO SPE LTDA | S13: 007/22 | T13: Livro 1 - 30 | U13: 001H/22 | V13: Livro 1 - 38 | W13: 38.76 | X13: 4655.9 | Y13: 1102502.2 | Z13: 2940305.7 | AA13: 44923 | AB13: DOCUMENTAL | AC13: -
B14: Daniel | C14: 45667 | D14: 6068.2025/0000237-8 | E14: 010014 | F14: 0131-1 | H14: R Augusta, 344 | I14: Consolação | J14: SEI INCORPORAÇÃO E PARTICIPAÇÕES S/A | L14: 001H/22 | M14: 016119 | N14: 0002-6, 0510-9, 0511-7, 0596-6 | P14: Rua Joaquim Floriano, 585, 591, 593, 595, 597, 601, 607, 617, 629 | Q14: Itaim Bibi | R14: SEI JOAQUIM FLORIANO EMPREENDIMENTO IMOBILIÁRIO LTDA | S14: 002/25 | T14: Livro 1 - 55 | U14: 001.EXTRATO | V14: Livro 1 - 56 | W14: 23.18 | X14: 507.39 | Y14: 659339.55 | Z14: 1954395.2 | AA14: 45845 | AB14: DOCUMENTAL
B15: Penha | C15: 43899 | D15: 6066.2020/0001568-2 | E15: 010014 | F15: 0131-1 | H15: R Augusta, 344 | I15: Consolação | J15: Flamingo Investimentos Imobiliários Ltda | L15: 002/19 | M15: 041203 | N15: 0056-0 | P15: Al dos Arapanés, 1431 á 1451, Av João Castaldi, 801 e 815 | Q15: Moema | R15: Cyrela Pamplona Empreendimentos Imobiliários LTDA | S15: 004/20 | T15: Livro 1 - 06 | U15: 002A | V15: Livro 1 - 11 | W15: 124.05 | X15: 8396.53 | Y15: 4285607.2 | Z15: 8107793.4 | AA15: 43957 | AB15: DOCUMENTAL | AC15: -
B16: Penha | C16: 43873 | D16: 6066.2020/0000859-7 | E16: 010014 | F16: 0131-1 | H16: R Augusta, 344 | I16: Consolação | J16: Flamingo Investimentos Imobiliários Ltda | L16: 002/19 | M16: 041203 | N16: 0056-0 | P16: Al dos Arapanés, 1431 á 1451, Av João Castaldi, 801 e 815 | Q16: Moema | R16: Cyrela Pamplona Empreendimentos Imobiliários LTDA | S16: - | T16: - | U16: - | V16: - | W16: - | X16: - | Y16: - | Z16: - | AA16: 43936 | AB16: INDEFERIDO | AC16: DESISTÊNCIA
B17: Daniel | C17: 44182 | D17: 6068.2020/0005526-0 | E17: 010014 | F17: 0131-1 | H17: R Augusta, 344 | I17: Consolação | J17: Flamingo Investimentos Imobiliários Ltda | L17: 002A/20 | M17: 086407 | N17: 0003-6, 0005-2, 0006-0, 0007-9, 0008-7, 0009-5, 0010-9, 0011-7, 0012-5, 0013-3, 0014-1, 0023-0, 0024-9, 0026-5, 0027-3, 0028-1, 0029-1, 0030-3, 0031-1, 0032-6, 0033-8, 0034-6, 0035-4, 0036-2, 0037-0, 0038-9, 0039-7, 0040-0, 0041-9, 0043-5, 0044-3, 0045-1, 0046-1, 0047-8, 0048-6, 0049-4, 0050-8, 0051-6 | P17: R Constantino de Souza, 53 a 119, R Domingos Lopes 129 a 171, R Camanducaia 149 a 185 e 199, R Antonio Comparato 32 a 50 | Q17: Santo Amaro | R17: Cyrela Crystal Empreendimentos Imobiliários LTDA | S17: 001/21 | T17: Livro 1 - 15 | U17: 002B/21 | V17: Livro 1 - 15 | W17: 80.12 | X17: 11000.46 | Y17: 3069485 | Z17: 5220584.9 | AA17: 44252 | AB17: DOCUMENTAL | AC17: -
B18: Daniel | C18: 44263 | D18: 6068.2021/0001751-3 | E18: 010014 | F18: 0131-1 | H18: R Augusta, 344 | I18: Consolação | J18: Flamingo Investimentos Imobiliários Ltda | L18: 002B/21 | M18: 013031 | N18: 0097-5, 0096-7, 0095-9, 0094-0, 0093-2, 0092-4, 00603-5, 0089-4, 00605-1, 00607-8, 0608-6 | P18: R Cristiano Viana, 140, 142, 144, 156, 160, 162, 172, s/n°, EB, EA | Q18: Jardim Paulista | R18: Cyrella Puglia Empreendimentos Imobiliários LTDA | S18: 005/21 | T18: Livro 1 - 19 | U18: 002C/21 | V18: Livro 1 - 23 | W18: 90.31 | X18: 6231.96 | Y18: 3459875 | Z18: 6208696.3 | AA18: 44407 | AB18: DOCUMENTAL | AC18: -
B19: Daniel | C19: 44438 | D19: 6068.2021/0008294-3 | E19: 010014 | F19: 0131-1 | H19: Rua Augusta, 344 | I19: Consolação | J19: Flamingo Investimentos Imobiliários Ltda | L19: 002C/21 | M19: 021057 | N19: 0001-2, 0002-0, 0003-9, 0004-7, 0005-5, 0006-3, 0007-1, 0008-1, 0009-8, 0010-1, 0050-0, 0051-9, 0052-7, 0053-5, 0046-2, 0048-9, 0049-7, 0055-1, 0056-1, 0063-2, 0132-9, 0133-7, 0236-8, 0243-0, 0237-6, 0244-9, 0238-4, 0245-5, 0239-2, 0246-6, 0240-3, 0247-3, 0241-4, 0248-1, 0242-2, 0249-1. | P19: Rua Apiacás, 200, 190/194 e 180/182, R João Ramalho, 1339, 1147, 1153/1155, 1163/1165, 1171, 1177, 1181, 1183, 1187, 1195/1199, 1201/1203, 1205/1207/1209/1213 e 1215/1217, R Apinagés, 185, 201, 203, 211 e 215 | Q19: Perdizes | R19: Cyrela Esmeralda Empreendimentos Imobiliários LTDA | S19: 009/21 | T19: Livro 1 - 23 | U19: 002D/21 | V19: Livro 1 - 29 | W19: 117.66 | X19: 11455.29 | Y19: - | Z19: 8139043.5 | AA19: 44540 | AB19: INDEFERIDO | AC19: -
B20: Daniel | C20: 44662 | D20: 6068.2022/0003266-2 | E20: 010014 | F20: 0131-1 | H20: R. Augusta, 344 | I20: Consolação | J20: Flamingo Investimentos Imobiliários Ltda | L20: 002C/21 | M20: 021104 | N20: 0539-2 | P20: Av. Sumaré, 179, 241 | Q20: Perdizes | R20: CYRELA GENOVA EMPREENDIMENTOS IMOBILIARIOS LTDA | S20: 003/22 | T20: Livro 1 - 26 | U20: 002D/22 | V20: Livro 1 - 29 | W20: 186.52 | X20: 20137.79 | Y20: SI | Z20: SI | AA20: 44762 | AB20: DOCUMENTAL
B21: Daniel | C21: 45119 | D21: 6068.2023/0006356-0 | E21: 010014 | F21: 0131-1 | H21: R. Augusta, 344 | I21: Consolação | J21: Flamingo Investimentos Imobiliários Ltda | L21: 002D/22 | M21: 038072 | N21: 0003-7, 0004-5, 0005-3, 0009-6, 0010-1, 0011-8, 0012-6, 0013-4, 0014-2, 0112-2 | P21: Rua Manuel de Paiva, 57, 67, 77, 89, 99, 101, 109, 111, 117, 119, 125 | Q21: Vila Mariana | R21: CBR 132 EMPREENDIMENTOS IMOBILIARIOS LTDA | S21: 004/23 | T21: Livro 1 - 38 | U21: 002.EXTRATO | V21: Livro 1 - 48 | W21: 51 | X21: 6834.5 | Y21: SI | Z21: SI
B22: Penha | C22: 43622 | D22: 6068.2019/0002870-8 | E22: 010014 | F22: 0438-6 | H22: R Caio Prado, 232, R Marquês de Paranaguá, 115 | I22: Consolação | J22: Albatroz Investimentos Imobiliários Ltda. | L22: 003/19 | M22: 037006 | N22: 0045-3, 0046-1 | P22: R Correia Dias, 73 e 93 | Q22: Vila Mariana | R22: SEI CORREIA DIAS Empreendimento Imobiliário SPE LTDA | S22: 002/19 | T22: Livro 1 - 02 | U22: 003A/19 | V22: Livro 1 - 06 | W22: 40.29 | X22: 3735.76 | Y22: 1123901 | Z22: 2491509.2 | AA22: 43711 | AB22: DOCUMENTAL | AC22: -
B23: Penha | C23: 43867 | D23: 6066.2020/0000822-8 | E23: 010014 | F23: 0438-6 | H23: R Caio Prado, 232 / R Augusta, 344 e 359 | I23: Consolação | J23: Albatroz Investimentos Imobiliários Ltda. | L23: 003A/19 | M23: 042073 | N23: 0012-0, 0013-9, 0014-7, 0015-5, 0016-3, 0021-1, 0022-8 | P23: R Borges Lagoa, 269 à 323, R Coronel Lisboa, 805 | Q23: Vila Mariana | R23: SW27 Empreendimentos Imobiliários SPE LTDA | S23: 003/20 | T23: Livro 1 - 07 | U23: 003B/20 | V23: Livro 1 - 10 | W23: 72.73 | X23: 6423.68 | Y23: 3453342.2 | Z23: 4604458.6 | AA23: 44078 | AB23: DOCUMENTAL | AC23: -
B24: Penha | C24: 44096 | D24: 6068.2020/0003104-2 | E24: 010014 | F24: 0438-6 | H24: R Caio Prado, 232 | I24: Consolação | J24: Albatroz Investimentos Imobiliários Ltda. | L24: 003B/20 | M24: 015048 | N24: 0001-1, 0002-8, 0003-6, 0028-1 | P24: Av Rebouças, 2970 | Q24: Pinheiros | R24: FL Rebouças Desenvolvimento Imobiliária SPE LTDA | S24: 009/20 | T24: Livro 1 - 12 | U24: 003C/20 | V24: Livro 1 - 16 | W24: 132.98 | X24: 4173.91 | Y24: 6618073 | Z24: 8539181.5 | AA24: 44145 | AB24: DOCUMENTAL | AC24: -
B25: Daniel | C25: 44154 | D25: 6068.2020/0004657-0 | E25: 010014 | F25: 0438-6 | H25: R Caio Prado, 232 | I25: Consolação | J25: Albatroz Investimentos Imobiliários Ltda. | L25: 003C/20 | M25: 016115 | N25: 0050-8, 0051-6, 0242-1 | P25: Rua Iaiá, 52, 54-56, 62-66, 68 e 72 | Q25: Itaim Bibi | R25: M.A.R Fátima Desenvolvimento Imobiliário SPE LTDA | S25: 011/20 | T25: Livro 1 - 14 | U25: 003D/21 | V25: Livro 1 - 19 | W25: 83.02 | X25: 1294.29 | Y25: 4193565.5 | Z25: 5361357.3 | AA25: 44243 | AB25: DOCUMENTAL | AC25: -
B26: Daniel | C26: 44258 | D26: 6068.2021/0001631-2 | E26: 010014 | F26: 0438-6 | H26: R Caio Prado, 232, R Marquês de Paranaguá, 115 | I26: Consolação | J26: Albatroz Investimentos Imobiliários Ltda. | L26: 003D/21 | M26: 015060 | N26: 0008-8, 0009-6, 0010-1, 0011-8, 0012-6, 0013-4, 0014-2 | P26: R Henrique Monteiro, 14, 22, 28, 36, R Maria Carolina, 705, 719 | Q26: Pinheiros | R26: Fioretto Empreendimentos Imobiliários LTDA | S26: 003/21 | T26: Livro 1 - 17 | U26: 003E/21 | V26: Livro 1 - 22 | W26: 87.73 | X26: 2975.42 | Y26: 4539479.7 | Z26: 5857061.3 | AA26: 44349 | AB26: DOCUMENTAL | AC26: -
B27: Daniel | C27: 44404 | D27: 6068.2021/0006736-7 | E27: 010014 | F27: 0438-6 | H27: R Caio Padro, 232 | I27: Consolação | J27: Albatroz Investimentos Imobiliários Ltda. | L27: 003E/21 | M27: 086375 | N27: 0008-0, 0009-9, 0010-2, 0011-0, 0012-9, 0013-7, 0014-5, 0015-3 0016-1, 0017-1 | P27: R Eleutério, 58, 66, 70, 76, 84, 92, 98, 104 X R Comendador Noberto Jorge, 30 e 40 | Q27: Campo Belo | R27: SEI Eleuterio Empreendimento Imobiliário LTDA | S27: 008/21 | T27: Livro 1 - 22 | U27: 003F/21 | V27: Livro 1 - 28 | W27: 43.59 | X27: 5211.55 | Y27: 1215956.5 | Z27: 2986417.1 | AA27: 44475 | AB27: DOCUMENTAL | AC27: -
B28: Daniel | C28: 45677 | D28: 6068.2025/0000544-0 | E28: 010014 | F28: 0438-6 | H28: R Caio Padro, 232 | I28: Consolação | J28: Albatroz Investimentos Imobiliários Ltda. | L28: 003E/21 | M28: 016119 | N28: 0002-6, 0510-9, 0511-7, 0596-6 | P28: R Joaquim Floriano, 585, 594, 593, 595, 597, 601, 607, 617, 629 | Q28: Itaim Bibi | R28: SEI JOAQUIM FLORIANO EMPREENDIMENTO IMOBILIARIO LTDA | S28: 005/25 | T28: Livro 1 - 58 | U28: 003F/21 | V28: Livro 1 - 28 | W28: 43.59 | X28: 954.15 | Y28: 1215956.5 | Z28: 3675252.2 | AA28: 45845 | AB28: DOCUMENTAL
B29: Daniel | C29: 44628 | D29: 6068.2022/0002177-6 | E29: 010014 | F29: 0438-6 | H29: R Caio Prado, 232 | I29: Consolação | J29: Albatroz Investimentos Imobiliários Ltda. | L29: 003F/21 | M29: 036023 | N29: 0035-8, 0036-6, 0037-4, 0038-2, 0039-0, 0040- 4, 0041-2, 0042-0, 0043-9, 0044-7, 0045-5, 0046-3, 0047-1, 0048-1, 0049-8, 0052-8, 0091-9 | P29: Rua Tutoia, 110 a 126, Rua Manuel da Nobrega, 736 A 802 | Q29: Vila Mariana | R29: SEI MANOEL DA NOBREGA EMPREENDIMENTO IMOBILIARIO SPE LTDA | S29: 001/22 | T29: Livro 1 - 23 | U29: 003G/22 | V29: Livro 1 - 33 | W29: 119.95 | X29: 2574.76 | Y29: SI | Z29: SI | AA29: 44708 | AB29: DOCUMENTAL
B30: Daniel | C30: 44755 | D30: 6068.2022/0006562-5 | E30: 010014 | F30: 0438-6 | H30: R Caio Prado, 232 | I30: Consolação | J30: SEI INCORPORAÇÃO E PARTICIPAÇÕES S/A | L30: 003G/21 | M30: 016048 | N30: 0028-3, 0029-1, 0030-5, 0031-3, 0032-1, 0033-1, 0034-8, 0288- 1, 0036-4, 0018-6, 0017-8, 0343-6 | P30: R Doutor Renato Paes de Barros, 125/127, 123, 115, 113, 105, 103, 97, 95, 87, 85, 77 X R Itacema, 396/398 X R Antônio Felício, 134 | Q30: Jardim Paulista | R30: IZP ITACEMA EMPREENDIMENTOS IMOBILIÁRIOS LTDA | S30: 006/22 | T30: Livro 1 - 29 | U30: 003H/22 | V30: Livro 1 - 37 v | W30: 128.38 | X30: 4658.78 | Y30: SI | Z30: SI | AA30: 44844 | AB30: DOCUMENTAL
B31: Daniel | C31: 44845 | D31: 6068.2022/0009647-4 | E31: 010014 | F31: 0438-6 | H31: R Caio Prado, 232 | I31: Consolação | J31: SEI INCORPORAÇÃO E PARTICIPAÇÕES S/A | L31: 003H/21 | M31: 010056 | N31: 0006-6, 0007-4, 0008-2, 0009-0, 0014-7, 0013-9, 0012-0, 0011-2, 0010-4 | P31: R Haddock Lobo, 165, 167, 179, 187 e 203 X R Antonio Carlos, 452, 460, 462 e 470 | Q31: Consolação | R31: IZP HADDOCK EMPREENDIMENTOS IMOBILIÁRIOS LTDA | S31: 009/22 | T31: Livro 1 - 32 | U31: 003I/22 | V31: Livro 1 - 39 | W31: 99.45 | X31: 3787 | Y31: SI | Z31: SI | AA31: 44910 | AB31: DOCUMENTAL
B32: Daniel | C32: 44937 | D32: 6068.2023/0000187-4 | E32: 010014 | F32: 0438-6 | H32: R Caio Prado, 232 | I32: Consolação | J32: SEI INCORPORAÇÃO E PARTICIPAÇÕES S/A | L32: 003I/22 | M32: 043082 | N32: 0090-3 | P32: R Vergueiro, 6385 | Q32: Ipiranga | R32: SEI NOVO NEGOCIO 61 EMPREENDIMENTO IMOBILIARIO LTDA | S32: 001/23 | T32: Livro 1 - 35 | U32: 003J/23 | V32: Livro 1 - 42 | W32: 45.4 | X32: 8593.25 | Y32: 1306732.5 | Z32: 3490519 | AA32: 45013 | AB32: CANCELADA
B33: Daniel | C33: 45678 | D33: 6068.2025/0000578-4 | E33: 010014 | F33: 0438-6 | H33: R Caio Prado, 232 | I33: Consolação | J33: SEI INCORPORAÇÃO E PARTICIPAÇÕES S/A | L33: 003I/22 | M33: 016119 | N33: 0002-6, 0510-9, 0511-7, 0596-6 | P33: R Joaquim Floriano, 585, 594, 593, 595, 597, 601, 607, 617, 629 | Q33: Itaim Bibi | R33: SEI JOAQUIM FLORIANO EMPREENDIMENTO IMOBILIARIO LTDA | S33: 004/25 | T33: Livro 1 - 57 | U33: 003J/23 | V33: Livro 1 - 42 | W33: 45.4 | X33: 993.77 | Y33: 1306732.5 | Z33: 3827862.9 | AA33: 45845 | AB33: DOCUMENTAL
B34: Luciana | C34: 45015 | D34: 6068.2023/0002742-3 | E34: 010014 | F34: 0438-6 | H34: R Caio Prado, 232 | I34: Consolação | J34: SEI INCORPORAÇÃO E PARTICIPAÇÕES S/A | L34: 003J/23 | M34: 010014 | N34: 0002-2, 0003-0, 0006-5, 0007-3, 0089-8, 0670-5, 0671-3 | P34: Rua Cônego Eugênio Leite, 505, 507, 513/515, 523, 529, 539, 543, e 553 e Rua Dos Pinheiros, 250 | Q34: Consolação | R34: IZP CÔNEGO EMPREENDIMENTOS IMOBILIÁRIOS LTDA | S34: 002/23 | T34: Livro 1 - 36 | U34: 003K/23 | V34: Livro 1 - 46 | W34: 152.89 | X34: 5384.41 | Y34: 8757966.2 | Z34: 11914760 | AA34: 45107 | AB34: DOCUMENTAL | AC34: -
B35: Daniel | C35: 45369 | D35: 6068.2024/0002856-1 | E35: 010014 | F35: 0438-6 | H35: R Caio Prado, 232 | I35: Consolação | J35: SEI INCORPORAÇÃO E PARTICIPAÇÕES S/A | L35: 003K/23 | M35: 036042 | N35: 0001-6, 0002-4, 0003-2, 0004-0, 0005-9, 0019-9, 0020-2, 0021-0, 0022-9, 0023-7, 0024-5, 0025-3, 0026-1 | P35: Rua Sampaio Viana, 663, 671, 685, 687, 695, Rua Professor Alexandre Albuquerque, 36, 48, 52, 60, 68, Rua Alcino Braga, 178, 180, 194 | Q35: Vila Mariana | R35: SEI SAMPAIO VIANA EMPREENDIMENTO IMOBILIARIO LTDA | S35: 001/24 | T35: Livro 1 - 40 | U35: 003L/24 | V35: Livro 1 - 51 | AA35: 45450 | AB35: DOCUMENTAL
B36: Daniel | C36: 45667 | D36: 6068.2025/0000238-6 | E36: 010015 | F36: 0438-7 | H36: R Caio Prado, 233 | I36: Consolação | J36: SEI INCORPORAÇÃO E PARTICIPAÇÕES S/A | L36: 003L/24 | M36: 016119 | N36: 0002-6, 0510-9, 0511-7, 0596-6 | P36: Rua Joaquim Floriano, 585, 591, 593, 595, 597, 601, 607, 617, 629 | Q36: Itaim Bibi | R36: ALCORP PARTICIPACOES E EMPREENDIMENTOS IMOBILIARIOS LTDA e TRIDES IMOVEIS, ADMINISTRACAO E PARTICIPACOES LTDA | S36: 003/25 | T36: Livro 1 - 56 | U36: 003.EXTRATO | V36: Livro 1 - 57 | W36: 7.72 | X36: 168.98 | Y36: 204230.28 | Z36: 650887.3 | AA36: 45845 | AB36: DOCUMENTAL
B37: Tales | C37: 45464 | D37: 6068.2024/0006600-5 | E37: 010014 | F37: 0438-6 | H37: R Caio Prado, 232 | I37: Consolação | J37: SEI INCORPORAÇÃO E PARTICIPAÇÕES S/A | M37: NA | N37: NA | O37: NA | P37: NA | Q37: NA | R37: NA | S37: NA | T37: NA | U37: NA | V37: NA | W37: NA | X37: NA | Y37: NA | Z37: NA | AA37: 45470 | AB37: INDEFERIDO | AC37: Processo de Consulta técnica : " ESTORNO DE TDC" Indeferimento pela ausência de objeto
B38: Luciana | C38: 45513 | D38: 6068.2024/0008770-3 | E38: 010014 | F38: 0438-6 | H38: R Caio Prado, 232 | I38: Consolação | J38: SEI INCORPORAÇÃO E PARTICIPAÇÕES S/A | AA38: 45628 | AB38: INDEFERIDO | AC38: Protocolo como Certidão " ESTORNO DE TDC" Indeferimento pela ausência de objeto
B39: Flavia | C39: 43663 | D39: 6068.2019/0003643-3 | E39: 010014 | F39: 0438-6 | H39: R Caio Prado, 232, R Marquês de Paranaguá, 115 | I39: Consolação | J39: Flamingo Investimentos Imobiliários Ltda | L39: 004/19 | M39: 022032 | N39: 0017-0, 0018-9, 0019-7, 0020-0, 0021-9, 0022-7, 0023-5, 0024-3, 0025-1 | P39: R Caraíbas, 236, 226, 224, 214, 212, 208, 206, 200 e 198 | Q39: Perdizes | R39: CBR 021 Empreendimentos Imobiliários Ltda. | S39: 003/19 | T39: Livro 1 - 03 | U39: 004A/19 | V39: Livro 1 - 07 | W39: 64.54 | X39: 5965.34 | Y39: 2997318 | Z39: 3996428.3 | AA39: 43701 | AB39: DOCUMENTAL | AC39: -
B40: Penha | C40: 43845 | D40: 6066.2020/0000252-1 | E40: 010014 | F40: 0438-6 | H40: R Caio Prado, 232, R Marquês de Paranaguá, 115 | I40: Consolação | J40: Flamingo Investimentos Imobiliários Ltda | L40: 004A/19 | M40: 041093 | N40: 0020-7, 0021-5, 0022-3, 0023-1, 0024-1 0025-8, 0026-6 | P40: Av Professor Ascendino Reis, 1300, 1362, 1378 e 1380 | Q40: Moema | R40: CBR 60 Empreendimentos Imobiliários Ltda. | S40: 002/20 | T40: Livro 1 - 05 | U40: 004B/20 | V40: Livro 1 - 09 | W40: 93.03 | X40: 5317.69 | Y40: 3213946 | Z40: 5877111 | AA40: 43888 | AB40: DOCUMENTAL | AC40: -
B41: Penha | C41: 43951 | D41: 6068.2020/0000196-8 | E41: 010014 | F41: 0438-6 | H41: R Augusta, 344 | I41: Consolação | J41: Flamingo Investimentos Imobiliários Ltda | L41: 004B/20 | M41: 085017 | N41: 0133-5, 0048-7, 0051-7, 0046-0, 0050-9, 0081-9, 0052-5, 0004-5, 0124-6, 0132-7, 0090-8, 0049-5, 0090-8, 0047-9 | P41: R Joaquim Guarani, 285, 253, 261, 283, 271, 271 / R Cancioneiro de Evora, 105, 73, 125, 85, 62, 95, 115 / R João Rodrigue Machado 52 | Q41: Santo Amaro | R41: Cyrela Indonesia Empreendimentos Imobiliarios LTDA | S41: 006/20 | T41: Livro 1 - 09 | U41: 004C/20 | V41: Livro 1 - 13 | W41: 79.67 | X41: 10658.36 | Y41: 2752393 | Z41: 5044632 | AA41: 44006 | AB41: DOCUMENTAL | AC41: -
B42: Penha | C42: 44033 | D42: 6068.2020/0001684-1 | E42: 010014 | F42: 0438-6 | H42: R Augusta, 344 | I42: Consolação | J42: Flamingo Investimentos Imobiliários Ltda | L42: 004C/20 | M42: 038040 | N42: 0042-8, 0078-9, 0077-0 | P42: R Apeninos, 0042-8, 0078-9, 077-0; R Correira Dias, 445,441, 427, 429 | Q42: Vila Mariana | R42: Cyma 04 Empreendimentos Imobiliários LTDA | S42: 007/20 | T42: Livro 1 - 10 | U42: 004D/20 | V42: Livro 1 - 14 | W42: 48.5 | X42: 5705.92 | Y42: 1675550 | Z42: 3066890.4 | AA42: 44091 | AB42: DOCUMENTAL | AC42: -
B43: Daniel | C43: 44263 | D43: 6068.2021/0001737-8 | E43: 010014 | F43: 0438-6 | H43: R Caio Prado, 232 | I43: Consolação | J43: Flamingo Investimentos Imobiliários Ltda | L43: 004D/20 | M43: 041223 | N43: 0004-5 | P43: Av dos Imarés, 182 | Q43: Moema | R43: CBR 081 Empreendimento Imobilíarios LTDA | S43: 004/21 | T43: Livro 1 - 18 | U43: 004E/21 | V43: Livro 1 - 18 | W43: 203.08 | X43: 18618.8 | Y43: 7780217 | Z43: 13557430 | AA43: 44352 | AB43: CANCELADA | AC43: Certidão 004/21 foi Cancelada em função de solicitação do interessado no processo 6068.2022/0007275-3
B44: Daniel | C44: 44355 | D44: 6068.2021/0004915-6 | E44: 010014 | F44: 0438-6 | H44: R Caio Prado, 232 | I44: Consolação | J44: Flamingo Investimentos Imobiliários Ltda | L44: 004E/21 | M44: 043062 | N44: 0004-3, 0009-4, 0010-8, 0028-0, 0027-2, 0034-5, 0037-1,0038-8, 0039-6, 0042-6 | P44: R Marques de Olinda, 149, 161, 129 - 125, 133 - 135, R Prof Eduardo Carlos Perreira, 563, 553, 545, 595, 581, 573, R Salvador Simões, 722 | Q44: Ipiranga | R44: CBR 097 Empreendimentos Imobiliários LTDA | S44: 007/21 | T44: Livro 1 - 21 | U44: 004F/21 | V44: Livro 1 - 26 | W44: 56.78 | X44: 8731.07 | Y44: 2175304 | Z44: 3869736.4 | AA44: 44434 | AB44: DOCUMENTAL | AC44: -
B45: Daniel | C45: 44496 | D45: 6068.2021/0010854-3 | E45: 010014 | F45: 0438-6 | H45: R Caio Prado, 232 | I45: Consolação | J45: Flamingo Investimentos Imobiliários Ltda | L45: 004F/21 | M45: 011070 | N45: 0035-1, 0036-1, 0038-6, 0028-, 0059-9, 0058-0, 0040-8, 0037-8, 0027-0, 0039-4, 0024-6, 0121-8, 0114-5, 0016-5, 0017-3, 0018-1, 0019-1, 0020-3, 0021-1, 0022-1, 0025-4, 0123-4, 0023-8, 0026-2 | P45: R Capote Valente, 1408, 1400, 1388, 1368, 1364, 1374, 1394, 1382, R Heitor Penteado, 91, 83 e 87, 63, 33 e 43, 47 e 51, 59, 75, Av Dr Arnaldo 2645, 1611, 1621 a 1643 | Q45: Pinheiros | R45: Cyrella Maguari Empreendimentos Imobliários LTDA | S45: 010/21 | T45: Livro 1 - 11 | U45: 004G/21 | V45: Livro 1 - 31 | W45: 337.19 | X45: 21230.99 | Y45: 14795976 | Z45: R$ 23.800.568,04 | AA45: 44582 | AB45: DOCUMENTAL | AC45: -
B46: Daniel | C46: 44635 | D46: 6068.2022/0002459-7 | E46: 010014 | F46: 0438-6 | H46: R Caio Prado, 232 | I46: Consolação | J46: Flamingo Investimentos Imobiliários Ltda | L46: 004.EXTRATO | M46: 041204 | N46: 0014-1, 0018-2 | P46: Av Cotovia, 889, Al. dos Arapanés, 1335 | Q46: Moema | R46: LYON EMPREENDIMENTOS IMOBILIARIOS LTDA | S46: 002/22 | T46: Livro 1 - 25 | U46: 004.EXTRATO | V46: Livro 1 - 34 | W46: 246.52 | X46: 16924.25 | Y46: SI | Z46: SI | AA46: 44761 | AB46: DOCUMENTAL
B47: Daniel | C47: 44777 | D47: 6068.2022/0007275-3 | E47: 010014 | F47: 0438-6 | H47: R Caio Prado, 232 | I47: Consolação | J47: Flamingo Investimentos Imobiliários Ltda | L47: 004D/20 | M47: 041223 | N47: 0004-5 | P47: Av dos Imarés, 182 | Q47: Moema | R47: CBR 081 Empreendimento Imobilíarios LTDA | S47: 008/22 | T47: Livro 1 - 31 | U47: 004E/21 | V47: Livro 1 - 18 | W47: 197.12 | X47: 18618.79 | Y47: SI | Z47: 13160664 | AA47: 44951 | AB47: DOCUMENTAL | AC47: Cancelamento da Certidão 004/21. Declaração 004E/21 foi mantida, pois já utilizada
B48: Daniel | C48: 44645 | D48: 6068.2022/0002792-8 | E48: 170164 | F48: 0033-6 | H48: R Dr. Antonio F. de Castilho Filho, s/n | I48: Vila Andrade | J48: Rubens Dryzun e Sheila Gasko Dryzun | L48: 005/21 | M48: 012135 | N48: 0005-2, 0006-0, 0014-1, 0016-8, 0017-6, 0021-4, 0022-2, 0023-0, 0024-9, 0025-7 | P48: R Valdir Niemeyer, 67, 75, 79, 83, 105, 107, 109, R José Augusto Penteado, 107, 11, 127 | Q48: Perdizes | R48: OSAKA EMPREENDIMENTOS SPE LTDA | S48: 004/22 | T48: Livro 1 - 27 | U48: 005.EXTRATO | V48: Livro 1 - 36 | W48: 6619.2 | X48: 3137.22 | Y48: SI | Z48: SI | AA48: 44791 | AB48: DOCUMENTAL
B49: Daniel | C49: 44645 | D49: 6068.2022/0002793-6 | E49: 170164 | F49: 0034-4 | H49: R Dr. Antonio F. de Castilho Filho, s/n | I49: Vila Andrade | J49: Rubens Dryzun e Sheila Gasko Dryzun | L49: 006/21 | M49: 012135 | N49: 0005-2, 0006-0, 0014-1, 0016-8, 0017-6, 0021-4, 0022-2, 0023-0, 0024-9, 0025-7 | P49: R Valdir Niemeyer, 67, 75, 79, 83, 105, 107, 109, R José Augusto Penteado, 107, 11, 127 | Q49: Perdizes | R49: OSAKA EMPREENDIMENTOS SPE LTDA | S49: 005/22 | T49: Livro 1 - 28 | U49: 006A/22 | V49: Livro 1 - 35 | W49: 2242.44 | X49: 2125.64 | Y49: SI | Z49: SI | AA49: 44791 | AB49: DOCUMENTAL
B50: Daniel | C50: 45117 | D50: 6068.2023/0006243-1 | E50: 170164 | F50: 0034-4 | H50: R Dr. Antonio F. de Castilho Filho, s/n | I50: Vila Andrade | J50: Rubens Dryzun e Sheila Gasko Dryzun | L50: 006A/22 | M50: 042049 | N50: 0011-9, 0012-7, 0013-5, 0014-3, 0015-1, 0016-1, 0017-8, 0018-6, 0019-4, 0020-8, 0021-6, 0022-4, 0023-2, 0026-7, 0027-5, 0028-3, 0029-1, 0068-2 | P50: R Professor Francisco de Castro, 36, 44, 54, 66, R Coronel Lisboa, 646, 652, 654, 656, 664, 666, 674, 678, 680, 686, 690, R Doutor Diogo de Faria, 341, 345, 351, 355, 357, 363, 369 | Q50: Vila Mariana | R50: TRISUL 8 EMPREENDIMENTOS IMOBILIARIOS LTDA | S50: 005/23 | T50: Livro 1 - 39 | U50: 008.EXTRATO | V50: Livro 1 - 49 | W50: 2954.01 | X50: SI | Y50: SI | Z50: 223615.27 | AA50: 45205 | AB50: DOCUMENTAL
B51: Daniel | C51: 44873 | D51: 6068.2022/0010730-1 | E51: 170164 | F51: 0032-8 | H51: R Dr. Antonio F. de Castilho Filho, s/n | I51: Vila Andrade | J51: Judith Rebeca Schleyer | L51: 007/21 | M51: 043120 | N51: 0001-8, 0002-6, 0003-4, 0004-2, 0008-5, 0009-3, 0010-7, 0011-5, 0012-3, 0013-1, 0014-1, 0015-8, 0016-6, 0018-2, 0019-0, 0020-4, 0021-2, 0025-5 | P51: R do Lago 286, 258, 250, 240, 232, 224, 216, 198, R Lucia, 56, R Capão do Rego 137, 125, 117, R Melo Matos 46, 54, 42, 32 | Q51: Ipiranga | R51: TRISUL 35 EMPREENDIMENTOS IMOBILIÁRIOS LTDA | S51: 010/22 | T51: Livro 1 - 33 | U51: 007.EXTRATO | V51: Livro 1 - 40 | W51: 2388.4 | X51: 13694.3 | Y51: SI | Z51: SI | AA51: 44995 | AB51: DOCUMENTAL
B52: Daniel | C52: 44873 | D52: 6068.2022/0010745-0 | E52: 170164 | F52: 0035-2 | H52: R Dr. Antonio F. de Castilho Filho, s/n | I52: Vila Andrade | J52: Lody Haiat Chueke, Carole Chueke, Mauro Rabacov, Tania Chueke, Monica Chueke Rochlin, Jacques Rochlin, Isaac Israel Chueke e Patricia Chueke | L52: 008/21 | M52: 043120 | N52: 0001-8, 0002-6, 0003-4, 0004-2, 0008-5, 0009-3, 0010-7, 0011-5, 0012-3, 0013-1, 0014-1, 0015-8, 0016-6, 0018-2, 0019-0, 0020-4, 0021-2, 0025-5 | P52: R do Lago 286, 258, 250, 240, 232, 224, 216, 198, R Lucia, 56, R Capão do Rego 137, 125, 117, R Melo Matos 46, 54, 42, 32 | Q52: Ipiranga | R52: TRISUL 35 EMPREENDIMENTOS IMOBILIÁRIOS LTDA | S52: 011/22 | T52: Livro 1 - 34 | U52: 008A/22 | V52: Livro 1 - 41 | W52: 1959.3 | X52: 6204.87 | Y52: SI | Z52: SI | AA52: 44995 | AB52: DOCUMENTAL
B53: Daniel | C53: 45105 | D53: 6068.2023/0005868-0 | E53: 170164 | F53: 0035-2 | H53: R Dr. Antonio F. de Castilho Filho, s/n | I53: Vila Andrade | J53: Lody Haiat Chueke, Carole Chueke, Mauro Rabacov, Tania Chueke, Monica Chueke Rochlin, Jacques Rochlin, Isaac Israel Chueke e Patricia Chueke | L53: 008A/22 | M53: 042049 | N53: 0011-9, 0012-7, 0013-5, 0014-3, 0015-1, 0016-1, 0017-8, 0018-6, 0019-4, 0020-8, 0021-6, 0022-4, 0023-2, 0026-7, 0027-5, 0028-3, 0029-1, 0068-2 | P53: R Professor Francisco de Castro, 36, 44, 54, 66, R Coronel Lisboa, 646, 652, 654, 656, 664, 666, 674, 678, 680, 686, 690, R Doutor Diogo de Faria, 341, 345, 351, 355, 357, 363, 369 | Q53: Vila Mariana | R53: TRISUL 8 EMPREENDIMENTOS IMOBILIARIOS LTDA | S53: 003/23 | T53: Livro 1 - 37 | U53: 008.EXTRATO | V53: Livro 1 - 47 | W53: 510.3 | X53: 149.62 | Y53: SI | Z53: SI | AA53: 45198 | AB53: DOCUMENTAL
B54: Daniel | C54: 45415 | D54: 6068.2024/0004687-0 | E54: 170194 | F54: 0031-1 | H54: R Dr. Antonio F. de Castilho Filho, s/n | I54: Vila Andrade | J54: Jean Grinfeld | L54: 012/24 | M54: 037028 | N54: 0007-7, 0008-5, 0011-5, 0012-3, 0013-1, 0014-1, 0018-2, 0019-0, 0020-4, 0022-0, 0152-9, 0154-5 | P54: R Conselheiro Rodrigues Alves, 18, 20, 24, 28, 32, 36, 40, 50, 60, 62, 72, 74, 90, 92, 100, 102, R Domingos de Morais, 486 | Q54: Vila Mariana | R54: TRISUL 16 EMPREENDIMENTOS IMOBILIARIOS LTDA | S54: 002/24 | T54: Livro 1 - 41 | U54: 012.EXTRATO | V54: Livro 1 - 52
B55: Luciana | C55: 45344 | D55: 6068.2024/0001954-6 | E55: 032110 | F55: 0011-9 | G55: 141763 | H55: R Barão de Monte Santo, SN/ R Dianópolis, SN | I55: Móoca | J55: ITAQUA INCORPORADORA LTDA/ MOGILAR INCORPORADORA LTDA | L55: 009/22 | M55: 013033 | N55: 0032-1, 0033-8, 0035-4, 0036-2, 0038-9, 0039-7, 0040-0, 0095-8 | O55: 169196 | P55: Rua Chabad, 109 e 125 x Av. Rebouças, 1205 e 1223 x Rua Raggio Nóbrega, 55, 57, 63 x Rua Gabriel Monteiro da Silva, 3 | Q55: Jd. Paulista | R55: MTR-44 ADMINISTRACAO DE BENS LTDA | S55: - | T55: - | U55: - | V55: - | W55: - | X55: - | Y55: - | Z55: - | AA55: 45362 | AB55: INDEFERIDO | AC55: Declaração apresentada 009/22 foi anulada em função da separaçãp dos proprietários e emitidas novas delcarações - PQ da Mooca
B56: Juliana | C56: 45601 | D56: 6068.2024/0012165-0 | E56: 032110 | F56: 0011-9 | G56: 141763 | H56: Rua Baro de Monte Santo, SN | I56: Mooca | J56: ITAQUA INCORPORADORA LTDA | L56: 010/23 | M56: 081.097 | N56: 0013-6, 0025-1 | O56: 0009-8, 0010-1, 0013-6, 0025-1, 0035-7, 0038-1, 0039-1, 0040-3, 0041-1, 0042-1, 0043-8, 0044-6, 0045-4, 0046-2, 0048-9, 0049-7, 0050-0, 0051-9, 0052-7, 0053-5, 0172-8, 0173-6, 0607-1 | P56: Rua Harmonia, 858, 862, 868, 872, 876, 880, 882, 896, 900, 908 e Rua Rodésia, 128,134, 136, 138, 140, 150, 154, 158, 160 | Q56: Pinheiros | R56: EVEN SP 105 EMPREENDIMENTOS IMOBILIARIOS LTDA | S56: 001/25 | T56: Livro 1 - 54 | U56: 010A/25 | V56: Livro 1 - 55 | W56: 2047.52 | X56: 16452.34 | Y56: - | Z56: - | AA56: 45748 | AB56: DOCUMENTAL
B57: Juliana | C57: 45784 | D57: 6068.2025/0004314-7 | E57: 032.110 | F57: 0011-9 | G57: 14176-3 | H57: Rua Baro de Monte Santo, SN | I57: Mooca | J57: ITAQUA INCORPORADORA LTDA | K57: Marcio Botana, Marcelo Dzik | L57: 010A/25 | M57: 013.034 | N57: 0001-4, 0005-7, 0006-5, 0007-3, 0008-1, 0009-1, 0269-6, 0270-1, 0271-8, 0272-6, 0273-4, 0274-2, 0275-0, 0276-9, 0277-7, 0278-5, 0279-3, 0280-7, 0281-5, 0282-3, 0283-1, 0284-1, 0285-8, 0286-6, 0287-4, 0288-2,0289-0, 0290-4, 0291-2, 0292-0, 0293-9, 0770-1 | O57: 137952 | P57: Rua Melo Alves, 269 A 293, 503, 513, 519, 541, 549, 555, 561, 571 | Q57: Jardim Paulista | R57: MELO ALVES 034 EMPREENDIMENTO IMOBILIÁRIO LTDA | S57: 006/25 | T57: Livro 1 - 59 | U57: 010.EXTRATO | V57: Livro 1 - 58 | W57: 2607.25 | X57: 6723.43 | Y57: - | Z57: - | AB57: DOCUMENTAL
B58: Luciana | C58: 45387 | D58: 6068.2024/0003573-8 | E58: 032110 | F58: 0011-9 | G58: 141763 | H58: R Barão de Monte Santo, SN/ R Dianópolis, SN | I58: Móoca | J58: ITAQUA INCORPORADORA LTDA/ MOGILAR INCORPORADORA LTDA | L58: 011/23 | M58: 013033 | N58: 0032-1, 0033-8, 0035-4, 0036-2, 0038-9, 0039-7, 0040-0, 0095-8 | O58: 169196 | P58: Rua Chabad, 109 e 125 x Av. Rebouças, 1205 e 1223 x Rua Raggio Nóbrega, 55, 57, 63 x Rua Gabriel Monteiro da Silva, 3 | Q58: Jd. Paulista | R58: MTR-44 ADMINISTRACAO DE BENS LTDA | S58: 003/24 | T58: Livro 1 - 53 | U58: 011.EXTRATO | V58: Livro 1 - 53 | W58: 212.99 | X58: - | Y58: - | Z58: - | AA58: 45552 | AB58: DOCUMENTAL
B59: Daniel | C59: 45714 | D59: 6068.2025/0001790-1 | E59: 170194 | F59: 0030-1 | H59: R Dr. Jose Pedro de C. Lina, S/N | I59: Vila Andrade | J59: TD TECNOLOGIA DA INFORMAÇÃO LTDA | L59: 015/24 | M59: 088.298 | N59: 0248-4 | P59: Av Indianópolis, 476, 496, 520, 530, 546, 564, Alameda dos Nhambiquaras, 367, 393, Av Acoce, 509 | Q59: Moema | R59: TRISUL TAGETE EMPREENDIMENTOS IMOBILIARIOS LTDA. e outros | AA59: 45782 | AB59: INDEFERIDO | AC59: Indeferido em razão de não atendimento de Comunique-se
B60: Daniel | C60: 45777 | D60: 6068.2025/0004160-8 | E60: 170194 | F60: 0030-1 | H60: R Dr. Jose Pedro de C. Lina, S/N | I60: Vila Andrade | J60: TD TECNOLOGIA DA INFORMAÇÃO LTDA | K60: não apresentou procuração | L60: 015/24 | M60: 045.008 | N60: 0014-1, 0060-3 | P60: Av Jose Maria Whitaker, 203 - 2240 x Av Doutor Altino Arantes, 1297 | Q60: Saúde | R60: TRISUL VILA CLEMENTINO EMPREENDIMENTO IMOBILIARIO LTDA | S60: 007/25 | T60: Livro 1 - 60 | U60: 015.EXTRATO | V60: Livro 1 - 59 | W60: 131.6 | X60: 2471.34 | Y60: 870092.64 | Z60: 1191902.6 | AA60: 45905 | AB60: DOCUMENTAL
B61: Daniel | C61: 45343 | D61: 6068.2024/0001823-0 | E61: 170135 | F61: 0016-9 | H61: Rua Ricardo Avenarius, S/N | I61: Vila Andrade | J61: OSP ADMINISTRAÇÃO PARTICP. EMPRE. E NEGOCIOS LTDA CNPJ 66.880.527/0001-66 | L61: P129/17 | M61: 301047 | N61: 0020-0, 0021-9, 0022-7, 0023-5, 0024-3 | P61: R Algeciras, S/N | Q61: Vila Andrade | R61: OSP ADMINISTRACAO PARTICIP EMPREEND E NEGOCIOS LTDA | S61: 002/26 | T61: Livro 1 - 62 | U61: P129.EXTRATO | V61: Livro 1 - 62 | W61: 1000 | X61: 981.41
B62: Daniel | C62: 45397 | D62: 6068.2024/0003898-2 | E62: 170095 | F62: 0003-6 | H62: Rua Taubaté, S/N | I62: Vila Andrade | J62: OSP ADMINISTRAÇÃO PARTICP. EMPRE. E NEGOCIOS LTDA CNPJ 66.880.527/0001-66 | L62: CP009/08 | M62: 301047 | N62: 0020-0, 0021-9, 0022-7, 0023-5, 0024-3 | P62: R Algeciras, S/N | Q62: Vila Andrade | R62: OSP ADMINISTRACAO PARTICIP EMPREEND E NEGOCIOS LTDA | S62: 003/26 | T62: Livro 1 - 63 | U62: C009A/26 | V62: Livro 1 - 63 | W62: 391.23 | X62: 387.76
B63: Daniel | C63: 45397 | D63: 6068.2024/0003902-4 | E63: 170147 | F63: 0009-9 | H63: R Itajubaquara, S/N | I63: Vila Andrade | J63: OSP ADMINISTRAÇÃO PARTICP. EMPRE. E NEGOCIOS LTDA CNPJ 66.880.527/0001-66 | M63: 301047 | N63: 0020-0, 0021-9, 0022-7, 0023-5, 0024-4 | P63: R Algeciras, S/N | Q63: Vila Andrade | R63: OSP ADMINISTRACAO PARTICIP EMPREEND E NEGOCIOS LTDA
B64: Daniel | C64: 45397 | D64: 6068.2024/0003897-4 | E64: 170166 | F64: 0007-5 | H64: R Ernest Renam, S/N | I64: Vila Andrade | J64: OSP ADMINISTRAÇÃO PARTICP. EMPRE. E NEGOCIOS LTDA CNPJ 66.880.527/0001-66 | M64: 301047 | N64: 0020-0, 0021-9, 0022-7, 0023-5, 0024-5 | P64: R Algeciras, S/N | Q64: Vila Andrade | R64: OSP ADMINISTRACAO PARTICIP EMPREEND E NEGOCIOS LTDA
B65: Daniel | C65: 45397 | D65: 6068.2024/0003901-6 | E65: 170158 | F65: 0028-3 | H65: R Rudolf Lotze, S/N | I65: Vila Andrade | J65: OSP ADMINISTRAÇÃO PARTICP. EMPRE. E NEGOCIOS LTDA CNPJ 66.880.527/0001-66 | M65: 301047 | N65: 0020-0, 0021-9, 0022-7, 0023-5, 0024-5 | P65: R Algeciras, S/N | Q65: Vila Andrade | R65: OSP ADMINISTRACAO PARTICIP EMPREEND E NEGOCIOS LTDA | S65: 001/26 | T65: Livro 1 - 61 | U65: C007.EXTRATO | V65: Livro 1 - 61 | W65: 650 | X65: 505.48
T66: Pag livres (livro01)

Sheet Declaração - ZEPAM
B3: Técnico (a) responsável | C3: N. processo | D3: SQ | E3: Lote | F3: Codlog | G3: Endereço | H3: Interessado | I3: Procurador Autorizado | J3: N. Declaração | K3: Página Livro | L3: Área (m²) | M3: Área cedida (m²) | N3: N. Certidão | O3: Data publicação | P3: Situação | Q3: Observação
B4: Flavia | C4: 2016-0.146.918-3 | D4: INCRA | E4: - | G4: Via Anhanguera, km 23,5 | H4: Claudio Rodrigues | J4: - | K4: - | L4: - | M4: - | N4: - | O4: 42564 | P4: INDEFERIDO | Q4: Imóvel fora da Macrozona de Estruturação e Qualificação Urbana.
B5: Flavia | C5: 2016-0.146.914-0 | D5: INCRA | E5: - | G5: Via Anhanguera, km 23,5 | H5: Claudio Rodrigues | J5: - | K5: - | L5: - | M5: - | N5: - | O5: 42565 | P5: INDEFERIDO | Q5: Arquivamento por litispendência.
B6: Flavia | C6: 2015-0.170.751-1 | D6: 087379 | E6: 0055-2 | G6: R Dr Vito Rolim de Freitas, 421 | H6: Clube Hípico de Santo Amaro | J6: - | L6: - | O6: 42556 | P6: INDEFERIDO | Q6: Mudança da zona incidente na área com a revisão da LPUOS, impossibilitou o imóvel a transferir potencial.
C7: 2006-0.090.861-1 | D7: 088298 | E7: 0248-4 | G7: Pç D Francisco de Souza, 540 | H7: São Paulo Golf Club | J7: 001/10 | K7: Livro 1 - 01 | L7: 111021.81 | M7: 1495.75 | N7: 001/17 | O7: 40273 | P7: DOCUMENTAL | Q7: A Declaração de 2007 foi substituída pela de 2010. (Vide página 1 do livro de Declarações de ZEPAM de DEUSO).
C8: 2006-0.070.291-6 | D8: 088298 | E8: 0248-4 | G8: Pç D Francisco de Souza, 540 | H8: São Paulo Golf Club | J8: 001A/16 | K8: - | L8: - | M8: - | N8: - | O8: 41235 | P8: INDEFERIDO | Q8: Em vista do processo 2006-0.090.861-1 tratar do mesmo assunto, local e interessado.
B9: Flavia | C9: 2016-0.180.799-2 | D9: 088298 | E9: 0248-4 | G9: Pç D Francisco de Souza, 540 | H9: São Paulo Golf Club | J9: 001A/16 | K9: Livro 1 - 02 | L9: - | M9: - | N9: - | O9: 42788 | P9: INDEFERIDO | Q9: Processo indeferido por desistência do interessado.
B10: Flavia | C10: 2017-0.070.108-4 | D10: 088298 | E10: 0248-4 | G10: Pç D Francisco de Souza, 540 | H10: São Paulo Golf Club | J10: 001A/17 | K10: Livro 1 - 03 | L10: 109526.06 | M10: 7937.38 | N10: 002/17 | O10: 42928 | P10: DOCUMENTAL | Q10: -
B11: Aurea | C11: 2017-0.124.119-2 | D11: 087379 | E11: 0248-4 | G11: Pç D Francisco de Souza, 540 | H11: São Paulo Golf Club | J11: 001B/17 | K11: Livro 1 - 04 | L11: 101588.68 | M11: 23780.45 | N11: 001/18 | O11: 43061 | P11: DOCUMENTAL | Q11: -
B12: Aurea | C12: 6068.2017/0000828-2 | D12: 087379 | E12: 0248-4 | G12: Pç D Francisco de Souza, 540 | H12: São Paulo Golf Club | J12: 001C/18 | K12: Livro 1 - 05 | L12: 77.808,23 | M12: 5.241,27 | N12: 002/18 | O12: 43194 | P12: DOCUMENTAL | Q12: -
B13: Penha | C13: 6068.2018/0000723-7 | D13: 087379 | E13: 0248-4 | G13: Pç D Francisco de Souza, 540 | H13: São Paulo Golf Club | J13: 001D/18 | K13: Livro 1 - 06 | L13: 72566.96 | M13: 11429.81 | N13: 003/18 | O13: 43287 | P13: DOCUMENTAL | Q13: -
B14: Aurea | C14: 6068.2018/0001397-0 | D14: 087379 | E14: 0248-4 | G14: Pç D Francisco de Souza, 540 | H14: São Paulo Golf Club | J14: 001E/18 | K14: Livro 1 - 07 | L14: 61137.15 | M14: 6.113,69 | N14: 004/19 | O14: 43396 | P14: DOCUMENTAL | Q14: -
B15: Aurea | C15: 6068.2018/0003436-6 | D15: 087379 | E15: 0248-4 | G15: Pç D Francisco de Souza, 540 | H15: São Paulo Golf Club | J15: 001F/19 | K15: Livro 1 - 08 | L15: 55023.46 | M15: 6113.71 | N15: 005/20 | O15: 43511 | P15: DOCUMENTAL | Q15: A efetivação da transferência deste saldo de potencial construtivo deverá observar as disposições do §3º do artigo 124 da Lei nº 16.050, de 2014, de forma gradativa em dez parcelas anuais, portanto a partir desta transferência só poderá ser emitida outra Declaração no ano de 2020.
B16: Aurea | C16: 6068.2020/0000690-0 | D16: 088298 | E16: 0248-4 | G16: Pç D Francisco de Souza, 540 | H16: São Paulo Golf Club | J16: 001G/20 | K16: Livro 1 - 09 | L16: 48909.75 | M16: 6113.71 | N16: 001/21 | O16: 44051 | P16: DOCUMENTAL | Q16: Protocolado em 25/06/2020
B17: Daniel | C17: 6068.2021/0001546-4 | D17: 088298 | E17: 0248-4 | G17: Pç D Francisco de Souza, 540 | H17: São Paulo Golf Club | J17: 001H/21 | K17: Livro 1 - 010 | L17: 42796.04 | M17: 6113.71 | N17: - | O17: 44293 | P17: INDEFERIDO | Q17: Processo indeferido por desistência do interessado.
B18: Daniel | C18: 6068.2021/0003068-4 | D18: 088298 | E18: 0248-4 | G18: Pç D Francisco de Souza, 540 | H18: São Paulo Golf Club | J18: 001H/21 | K18: Livro 1 - 010 | L18: 42796.04 | M18: 8207.81 | N18: - | O18: 44365 | P18: INDEFERIDO | Q18: Processo indeferido por desistência do interessado.
B19: Daniel | C19: 6068.2021/0006765-0 | D19: 088298 | E19: 0248-4 | G19: Pç D Francisco de Souza, 540 | H19: São Paulo Golf Club | J19: 001H/21 | K19: Livro 1 - 010 | L19: 42796.04 | M19: 6113.71 | N19: 001/22 | O19: 44485 | P19: DOCUMENTAL
B20: Daniel | C20: 6068.2022/0000822-2 | D20: 088298 | E20: 0248-4 | G20: Praça D. Francisco de Souza, 540 | H20: São Paulo Golf Club | J20: 001I/22 | K20: Livro 1 - 011 | L20: 36682.33 | M20: 2850 | N20: 001/23 | O20: 44678 | P20: DOCUMENTAL
B21: Daniel | C21: 6068.2023/0001664-2 | D21: 088298 | E21: 0248-4 | G21: Praça D. Francisco de Souza, 540 | H21: São Paulo Golf Club | J21: 001J/23 | K21: Livro 1 - 012 | L21: =L20-M20 -> 33832.33 | M21: 3263.71 | N21: 002/23 | O21: 45050 | P21: DOCUMENTAL
B22: Daniel | C22: 6068.2023/0005692-0 | D22: 088298 | E22: 0248-4 | G22: Praça D. Francisco de Souza, 540 | H22: São Paulo Golf Club | J22: 001K/23 | K22: Livro 1 - 013 | L22: 30568.62 | N22: 002/23 | O22: 45198 | P22: DOCUMENTAL
B23: Daniel / Luciana | C23: 6068.2024/0005498-8 | D23: 088298 | E23: 0248-4 | G23: Praça D. Francisco de Souza, 541 | H23: São Paulo Golf Club | J23: 001L/24 | K23: Livro 1 - 015 | L23: 24454.91 | M23: 6113.71 | N23: 001/24 | O23: 45511
B24: Daniel | C24: 6068.2025/0004162-4 | D24: 088298 | E24: 0248-4 | G24: Praça D. Francisco de Souza, 541 | H24: São Paulo Golf Club | J24: 001M/25 | K24: Livro 1 - 016 | L24: 18341.2 | M24: 6113.71 | N24: 001/25 | O24: 45897 | P24: DOCUMENTAL
B25: Juliana | C25: 6068.2023/0010800-8 | D25: 008298 | E25: 0248-4 | G25: Praça D. Francisco de Souza, 540 | H25: São Paulo Golf Club | J25: 003/24 | K25: Livro 1 - 015 | L25: 108283.89 | O25: 45440 | P25: INDEFERIDO | Q25: Renovação de potencial - Cancelamento da declaração 001K/23
B26: Daniel | C26: 6068.2023/0008860-0 | D26: 128161 | E26: 0016-1 | G26: R Artur Sievers, S/N - Gleba 3 | H26: Fátima Aparecida Gestal Guimarães | J26: - | K26: - | L26: - | M26: - | N26: - | O26: 45224 | P26: INDEFERIDO | Q26: Processo indeferido por não atendimento de Comunique-se
B27: Daniel | C27: 6068.2023/0009103-2 | G27: Rua Japore, S/N | H27: David Pereira Júnior, Lilian Cristina da Silva, José da Silva Sobrinho, ZS ADMINISTRACAO DE BENS LTDA., VILLAGES INCORPORADORA E EMPREENDIMENTOS IMOBILIARIOS LTDA, ASCFRANCO PARTICIPACOES LTDA., Gustavo Franco Gregorio, Sidney Parra Perez, Adriana Morgado Gomes Perez, ATUACAO ADMINISTRADORA DE BENS LTDA, Fernando Baptiston Scalabrin, Maria Soares Scalabrin | J27: 002/24 | K27: Livro 1 - 014 | L27: 4248.87 | M27: - | N27: - | O27: 45393 | P27: DOCUMENTAL
B28: Daniel | C28: 6068.2024/0010228-1 | D28: 056150 | E28: 0108-9 | G28: Rua Cesario Galero, 409 | H28: JULIA NUNES COLLADO | J28: - | K28: - | L28: - | M28: - | N28: - | O28: 45558 | P28: INDEFERIDO | Q28: não é ZEPAM
B29: Luciana | C29: 6068.2025/0005771-7 | G29: Av Wando Henrique Cardim s/n | H29: Sofia Freitas Olenka | J29: - | K29: - | L29: - | M29: - | N29: - | O29: 45852 | P29: INDEFERIDO | Q29: Não é ZEPAM
B30: Juliana | C30: 6068.2025/0006004-1 | D30: 170059 | E30: 0049-8, 0123-0 | F30: 308102 | G30: Rua Antonio Aggio, S/N | H30: Izaias Gomes | J30: 003/25 | K30: Livro 1 - 015 | L30: 1569 | M30: - | N30: - | O30: 02/10/0205 | P30: INDEFERIDO | Q30: ZEPAM - Despacho indeferido 143528729
B31: Juliana | C31: 6068.2025/0008814-0
B32: Daniel | C32: 6068.2026/0001938-8 | D32: 171058 | E32: 0030-4, 0031-2 | G32: Custódio de Oliveira, S/N | H32: Marta Helena de Olivieira Castro Calistini e outros

Sheet Certidão - ZEPAM
B2: Certidão de Transferência de Potencial Construtivo sem doação - ZEPAM
E3: Imóvel cedente | L3: Imóvel receptor
B4: Técnico (a) responsável | C4: Data de protocolo | D4: N. processo | E4: SQ | F4: Lote | G4: Codlog | H4: Endereço | I4: Proprietário | J4: N. Declaração | K4: Termo de Compromisso Ambiental | L4: SQ | M4: Lote | N4: Endereço | O4: Distrito | P4: Interessado | Q4: Procurador Autorizado | R4: N. Certidão | S4: Ano Certidão | T4: Página Livro | U4: N. Declaração Saldo | V4: Página Livro | W4: Área cedida equivalente (m²) | X4: Área recebida real (m²) | Y4: Valor pago pela área adquirida TDC (R$) | Z4: Valor de referência OODC (R$) | AA4: Data Publicação | AB4: Situação | AC4: Observação
B5: Flavia | C5: 42590 | D5: 2016-0.180.226-5 | E5: 088298 | F5: 0248-4 | H5: Pç D Francisco de Souza, 540 | I5: São Paulo Golf Club | J5: 001/010 | K5: TCA 117/2016 | L5: 013020 | M5: 0107-8 | N5: R Cristiano Viana, 950 | O5: Jardim Paulista | P5: AIGLE Empreendimentos Imobiliários Ltda | R5: - | S5: - | T5: - | U5: - | W5: - | X5: - | Y5: - | Z5: - | AA5: 42707 | AB5: INDEFERIDO | AC5: Após vistas do parecer de AJ.SMDU por parte do interessado, foi solicitada desistência do processo.
B6: Flavia | C6: 42591 | D6: 2016-0.180.799-2 | E6: 088298 | F6: 0248-4 | H6: Pç D Francisco de Souza, 540 | I6: São Paulo Golf Club | J6: 001/010 | K6: TCA 117/2016 | L6: 087314 | M6: 0172-4 | N6: R Bento Branco de Andrade, 503 | O6: Santo Amaro | P6: Ravenna Empreend. Imobil. Ltda e Bento Branco Empreend. Imobil S.A | R6: 001/16 | S6: 2016 | T6: Livro 1 - 01 | U6: 001A/16 | W6: 40239 | X6: 22910.88 | Y6: - | Z6: - | AA6: 42788 | AB6: INDEFERIDO | AC6: Parecer de AJ é favorável à análise de DEUSO. Foi publicado comunique-se para averbação dos dados da transferência nas matrículas dos imóveis e os documentos podem ser retirados pelo interessado. PROCESSO INDEFERIDO: interessado não apresentou as matrículas com as devidas averbações e não veio retirar suas vias de certidão e Declaração de Saldo.
B7: Flavia | C7: 42852 | D7: 2017-0.070.108-4 | E7: 088298 | F7: 0248-4 | H7: Pç D Francisco de Souza, 540 | I7: São Paulo Golf Club | J7: 001/010 | K7: TCA 117/2016 | L7: 093025 | M7: 0338-0 | N7: R Olivia Guedes Penteado, 1470 | O7: Socorro | P7: CYRELA PÉROLA Empreendimentos Imobiliários Ltda | R7: 001/17 | S7: 2017 | T7: Livro 1 - 02 | U7: 001A/17 | W7: 1495.75 | X7: 7011.92 | Y7: 735252.6 | Z7: 1050385.6 | AA7: 42928 | AB7: DOCUMENTAL | AC7: -
B8: Aurea | C8: 42951 | D8: 2017-0.124.119-2 | E8: 088298 | F8: 0248-4 | H8: Pç D Francisco de Souza, 540 | I8: São Paulo Golf Club | J8: 001A/17 | K8: TCA 117/2016 | L8: 039159 | M8: 0090-7 | N8: R Vergueiro, 4527 | O8: Vila Mariana | P8: CYMA 01 EMPREENDIMENTOS IMOBILIÁRIOS LTDA | R8: 002/17 | S8: 2017 | T8: Livro 1 - 03 | U8: 001B/17 | W8: 7937.38 | X8: 8225.16 | Y8: 3919818 | Z8: 5599644.3 | AA8: 43061 | AB8: DOCUMENTAL | AC8: -
B9: Aurea | C9: 43090 | D9: 6068.2017/0000828-2 | E9: 088298 | F9: 0248-4 | H9: Pç D Francisco de Souza, 540 | I9: São Paulo Golf Club | J9: 001B/17 | K9: TCA 117/2016 | L9: 016063 | M9: 0037-7, 0013-1, 0014-8, 0027-1, 0026-1, 0025-3, 0024-5, 0023-7, 0022-9, 0032-6, 0033-4, 0034-2, 0040-7, 0041-5, 0010-5, 0069-5, 0007-5, 0005-9, 0004-0, 0003-2,0002-4, 0001-6, 0042-3, 0043-1, 0044-1 | N9: R Pedroso de Alvarenga, 704, 706 e 716 | O9: Itaim Bibi | P9: TAPEREBÁ EMPREENDIMENTOS IMOBILIÁRIOS LTDA | R9: 001/18 | S9: 2018 | T9: Livro 1 - 04 | U9: 001C/18 | W9: 23780.45 | X9: 13622.78 | Y9: 12335279 | Z9: 16953377 | AA9: 43194 | AB9: DOCUMENTAL | AC9: -
B10: Penha | C10: 43230 | D10: 6068.2018/0000723-7 | E10: 088298 | F10: 0248-4 | H10: Pç D Francisco de Souza, 540 | I10: São Paulo Golf Club | J10: 001C/18 | K10: TCA 117/2016 | L10: 085026 | M10: 0010-9, 0027-3, 0029-1, 0028-1, 0030-3, 0040-0, 0064-8, 0065-6, 0066-4 | N10: R das Margaridas, 294 / R Getúlio Soares da Rocha, 85, 95, 97, 101, 113, 127, 135 e 147 | O10: Itaim Bibi | P10: COTIA Empreendimentos Imobiliários Ldta. | R10: 002/18 | S10: 2018 | T10: Livro 1 - 05 | U10: 001D/18 | W10: 5241.27 | X10: 8.742,14 | Y10: 2651351 | Z10: 3787655.3 | AA10: 43288 | AB10: DOCUMENTAL | AC10: -
B11: Aurea | C11: 27/07/2018 | D11: 6068.2018/0001397-0 | E11: 088298 | F11: 0248-4 | H11: Pç D Francisco de Souza, 540 | I11: São Paulo Golf Club | J11: 001D/18 | K11: TCA 117/2016 | L11: 010035 | M11: 2349-8, 0033-1, 0032-3 | N11: R Dr Penaforte Mendes, 118, 124, 126, 132, 146, 160, 166, 172, 174, 180, 182 e 186. | O11: Bela Vista | P11: Abeille Empreendimentos Imobiliários Ltda. | R11: 003/18 | S11: 2018 | T11: Livro 1 - 06 | U11: 001E/18 | W11: 11429.81 | X11: 10.522,31 | Y11: 6279310.6 | Z11: 8397398.3 | AA11: 43396 | AB11: DOCUMENTAL | AC11: -
B12: Aurea | C12: 43444 | D12: 6068.2018/0003436-6 | E12: 88298 | F12: 0248-4 | H12: Pç D Francisco de Souza, 540 | I12: São Paulo Golf Club | J12: 001E/18 | K12: TCA 117/2016 | L12: 015047 | M12: 0004-1 | N12: R Pedroso de Moraes, 38/ Av Rebouças | O12: Pinheiros | P12: NOBE Empreendimentos e Participações LTDA | R12: 004/19 | S12: 2019 | T12: Livro 1 - 07 | U12: 001F/19 | W12: 6.113,69 | X12: 3641.5 | Y12: 3401156.6 | Z12: 4534881.7 | AA12: 43511 | AB12: DOCUMENTAL | AC12: A efetivação da transferência do saldo de potencial construtivo constante da Declaração de Saldo 001F/19 deverá observar as disposições do §3º do artigo 124 da Lei nº 16.050, de 2014, de forma gradativa em dez parcelas anuais. Portanto, a partir desta transferência só poderá ser emitida outra Declaração no ano de 2020.
B13: Aurea | C13: 43985 | D13: 6068.2020/0000690-0 | E13: 088298 | F13: 0248-4 | H13: Pç D Francisco de Souza, 541 | I13: São Paulo Golf Club | J13: 001F/19 | K13: TCA 117/2016 | L13: 022037 | M13: 0004-1, 0006-8, 0055-6, 0056-4, 0058-0, 0059-9 | N13: R Cayowa, 184, 208, 176, 168, 192 | O13: Perdizes | P13: Morosa Empreendimentos Imobiliários SPE LTDA | R13: 005/20 | S13: 2020 | T13: Livro 1 - 08 | U13: 001G/20 | W13: 6113.71 | X13: 6155.39 | Y13: 3746719.9 | Z13: 4729598.5 | AA13: 44051 | AB13: DOCUMENTAL | AC13: -
B14: Daniel | C14: 44257 | D14: 6068.2021/0001546-4 | E14: 088298 | F14: 0248-4 | H14: Pç D Francisco de Souza, 541 | I14: São Paulo Golf Club | J14: 001G/20 | K14: TCA 117/2016 | L14: 020003 | M14: 0014-6, 0017-0, 0018-9, 0019-7, 0020-0, 0176-2, 0177-0 | N14: R do Bosque 920, 952, 964, 972, 922, 932, 934, 944, 980 | O14: Santa Cecília | P14: TRISUL 27 Empreendimentos Imobiliários LTDA | R14: 001/21 | S14: 2021 | T14: Livro 1 - 09 | U14: 001H/21 | W14: 6113.71 | X14: 8814.69 | Y14: - | Z14: 9236355.2 | AA14: 44293 | AB14: INDEFERIDO | AC14: Desistência do interessado
B15: Daniel | C15: 44306 | D15: 6068.2021/0003068-4 | E15: 088298 | F15: 0248-4 | H15: Pç D Francisco de Souza, 541 | I15: São Paulo Golf Club | J15: 001G/20 | K15: TCA 117/2016 | L15: 087072 | M15: 0048-1, 0130-3, 0131-1 | N15: R Cel. Luis Barroso, 345 e 357, R Alfredo André, 62 | O15: Santo Amaro | P15: TRISUL 31 Empreendimentos Imobiliários LTDA | R15: 001/21 | S15: 2021 | T15: Livro 1 - 09 | U15: 001H/21 | W15: 2763.24 | X15: 8207.81 | Y15: - | Z15: 2283767.7 | AA15: 44365 | AB15: INDEFERIDO | AC15: Desistência do interessado
B16: Daniel | C16: 44404 | D16: 6068.2021/0006765-0 | E16: 088298 | F16: 0248-4 | H16: Pç D Francisco de Souza, 541 | I16: São Paulo Golf Club | J16: 001G/20 | K16: TCA 117/2016 | L16: 013023 | M16: 0008-3, 0009-1, 0010-5, 0011-3, 0104-7, 0122-5, 0123-3, 0124-1, 0125-1, 0126-6, 0127-6 | N16: R Capote Valente, 65 ,73, 95, 109, R Alves Guimarães, 70 | O16: Jardim Paulista | P16: TRISUL 22 Empreendimentos Imobiliários LTDA | R16: 001/21 | S16: 2021 | T16: Livro 1 - 09 | U16: 001H/21 | W16: 6113.71 | X16: 4804.91 | Y16: 3917623.2 | Z16: 5137698.1 | AA16: 44485 | AB16: DOCUMENTAL | AC16: -
B17: Daniel | C17: 44589 | D17: 6068.2022/0000822-2 | E17: 088298 | F17: 0248-4 | H17: Praça D. Francisco de Souza, 540 | I17: São Paulo Golf Club | J17: 001H/21 | K17: TCA 117/2016 | L17: 081241 | M17: 0019-5 / 0046-2 / 0047-0 / 0048-9 / 0049-7 / 0050-0 / 0061-6 / 0062-4 / 0063-2 / 0064-0 / 0065-9 / 0068-3 / 0069-1 / 0070-5 / 0071-3 / 0083-7 / 0084-5 / 0086-1 / 0087-1 / 0088-8 / 0089-6 / 0090-1 / 0091-8 | N17: R Paulistânia, 551 a 559/ R Luminárias, 154 a 166/ R João Moura, 2.423 a 2.483/ Pç Baronesa de Bocaina, 55 a 83 | O17: Pinheiros | P17: TRISUL João Moura Empreendimento Imobiliário LTDA | R17: 001/22 | S17: 2022 | T17: Livro 1 - 010 | U17: 001I/22 | V17: Livro 1 - 011 | W17: 6113.71 | X17: 10756.42 | Y17: SI | Z17: SI | AA17: 44678 | AB17: DOCUMENTAL
B18: Daniel | C18: 44988 | D18: 6068.2023/0001664-2 | E18: 088298 | F18: 0248-4 | H18: Praça D. Francisco de Souza, 540 | I18: São Paulo Golf Club | J18: 001I/22 | K18: TCA 117/2016 | R18: 001/23 | S18: 2023 | T18: Livro 1 - 011 | U18: 001J/23 | V18: Livro 1 - 012 | W18: 2850 | X18: 17578.9 | AA18: 45050 | AB18: DOCUMENTAL
B19: Daniel | C19: 45100 | D19: 6068.2023/0005692-0 | E19: 088298 | F19: 0248-4 | H19: Praça D. Francisco de Souza, 540 | I19: São Paulo Golf Club | J19: 001J/23 | K19: TCA 117/2016 | L19: 042.049 | M19: 0011-9 / 0012-7 / 0013-5 / 0014-3 / 0015-1 / 0016-1 / 0017-8 / 0018-6 / 0019-4 / 0020-8 / 0021-6 / 0022-4 / 0023-2 / 0026-7 / 0027-5 / 0028-3 / 0029-1 / 0068-2 | N19: R Professor Francisco de Castro, 36, 44, 54, 66/ R Coronel Lisboa, 646, 652, 654, 656, 664, 666, 674, 678, 680, 686, 690/ R Doutor Diogo de Faria, 341, 345, 351, 355, 357, 363, 369 | O19: Vila Mariana | P19: TRISUL 8 EMPREENDIMENTOS IMOBILIARIOS LTDA | R19: 002/23 | S19: 2023 | T19: Livro 1 - 012 | U19: 001K/23 | V19: Livro 1 - 013 | W19: 3263.71 | X19: 4818.33 | Y19: SI | Z19: 3168251.7 | AA19: 45198 | AB19: DOCUMENTAL
B20: Juliana | C20: 45415 | D20: 6068.2024/0004695-0 | E20: 088298 | F20: 0248-4 | H20: Praça D. Francisco de Souza, 540 | I20: São Paulo Golf Club | J20: ? | K20: TCA 117/2016 | AA20: 45427 | AB20: INDEFERIDO | AC20: Duplicidade
B21: Daniel / Luciana | C21: 45435 | D21: 6068.2024/0005498-8 | E21: 088298 | F21: 0248-4 | H21: Praça D. Francisco de Souza, 540 | I21: São Paulo Golf Club | J21: 001K/23 | K21: TCA 117/2016 | L21: 037.028 | M21: 0152-9 / 0007-7 / 0008-5 / 0011-5 / 0012-3 / 0013-1 / 0014-1 / 0018-2 / 0019-0 / 0020-4 / 0022-0 / 0154-5 | N21: R. Domingos de Morais, 486 / Av Conselheiro Rodrigues Alves, 18 ,20 ,24, 28, 32, 36, 40, 60, 62A, 72, 74, 90, 92, 100, 102, S/N | O21: Vila Mariana | P21: TRISUL 16 EMPREENDIMENTOS IMOBILIARIOS LTDA. | R21: 001/24 | S21: 2024 | T21: Livro 1 - 013 | U21: 001L/24 | V21: Livro 1 - 015 | W21: 14445.53 | Z21: 14917899 | AA21: 45511 | AB21: DOCUMENTAL | AC21: mesmo receptor do SEI 6068.2024/0004687-0 | AD21: ATUALIZAR
B22: Daniel | C22: 45714 | D22: 6068.2025/0001762-6 | E22: 088298 | F22: 0248-4 | H22: Praça D. Francisco de Souza, 540 | I22: São Paulo Golf Club | J22: 001L/24 | K22: TCA 117/2016 | L22: 088.298 | M22: 0248-4 | N22: Av Indianópolis, 476, 496, 520, 530, 546, 564, Alameda dos Nhambiquaras, 367, 393, Av Acoce, 509 | O22: Moema | P22: TRISUL TAGETE EMPREENDIMENTOS IMOBILIARIOS LTDA. e outros | AA22: 45782 | AB22: INDEFERIDO | AC22: indeferido por não atendimento de Comunique-se
B23: Daniel | C23: 45777 | D23: 6068.2025/0004162-4 | E23: 088298 | F23: 0248-4 | H23: Praça D. Francisco de Souza, 540 | I23: São Paulo Golf Club | J23: 001L/24 | K23: TCA 117/2016 | L23: 045.008 | M23: 0014-1, 0060-3 | N23: Av Jose Maria Whitaker, 203 - 2240 x Av Doutor Altino Arantes, 1297 | O23: Saúde | P23: TRISUL VILA CLEMENTINO EMPREENDIMENTO IMOBILIARIO LTDA | Q23: não apresentou procuração | R23: 001/25 | S23: 2025 | T23: Livro 1 - 014 | U23: 001M/25 | V23: Livro 1 - 016 | W23: 6113.71 | X23: 13376.63 | Y23: 4984299.9 | Z23: 6451414.9 | AA23: 45897 | AB23: DOCUMENTAL

Sheet 5%
B4: Conforme o §5° do art. 24 da Lei de Parcelamento, Uso e Ocupação do Solo (LPUOS - Lei n° 16.402, de 2016), o valor pecuniário correspondente à totalidade do potencial construtivo transferido nos últimos 12 meses não poderá ultrapassar 5% da arrecadação do FUNDURB no mesmo período. É importante ressaltar que essa restrição recai apenas para as transferências efetuadas com base em Declarações de Potencial Construtivo Passível de Transferência emitidas após a aprovação da LPUOS. Nesse sentido, a Coordenadoria de Legislação de Uso e Ocupação do Solo (DEUSO), INFORMA
B9: CERTIDÕES DE TRANSFERÊNCIA DE POTENCIAL CONSTRUTIVO
B10: Protocolo | C10: N. Processo | D10: Publicação Despacho Saneador | E10: 5% FUNDURB (período | R$) | F10: Valor Pecuniário a ser Transferido | G10: Somatória TDC (R$) | H10: Observação | J10: Situação na fila
B11: 42726 | C11: 2016-0.276.943-1 | D11: 42748 | H11: Transferido em julho de 2017. | J11: saiu
B12: 43269 | C12: 6068.2018/0000982-5 | D12: 43334 | H12: Transferido em dezembro de 2018. | J12: saiu
B13: 43294 | C13: 2018-0.069.549-3 | D13: 43362 | E13: set-17 a ago-18 15.181.284,30 | G13: 916868.34 | H13: OU Centro. Transferido em abril de 2019. | J13: saiu
B14: 43313 | C14: 2018-0.076.222-0 | D14: 43405 | E14: nov-17 a out-18 15.921.901,47 | G14: 5549275.8 | H14: OU Centro. Análise suspensa em consideração à decisão do STF e conforme encaminhamento do Secretário de SMDU. | J14: saiu
B15: 43430 | C15: 6068.2018/0003147-2 | D15: 43451 | E15: dez-17 a nov-18 16.436.116,27 | G15: 14120048 | H15: Transferido em março de 2019. | J15: saiu
B16: 43447 | C16: 6068.2018/0003529-0 | D16: 43455 | E16: dez-17 a nov-18 16.436.116,27 | G16: 17128456 | H16: Transferido em março de 2019. | J16: saiu
B17: 43502 | C17: 6068.2019/0000538-4 | D17: 43519 | E17: fev-18 a jan-19 17.668.524,55 | G17: 20260891 | H17: Transferido em setembro de 2019. | J17: saiu
B18: 43564 | C18: 6068.2019/0001544-4 | D18: 43596 | E18: mai-18 a abr-19 23.661.618,64 | F18: 2178249.3 | G18: 22439141 | H18: Transferido em setembro de 2019. | J18: saiu
B19: 43601 | C19: 6068.2019/0002308-0 | D19: 43615 | E19: - | F19: - | G19: - | H19: INDEFERIDO EM 31/10/2019. Receptor já adquiriu potencial construtivo adicional via OODC.
B20: 43518 | C20: 6068.2019/0000787-5 | D20: 43683 | E20: ago-18 a jul-19 30.242.735,73 | F20: 2228416 | G20: 25453212 | H20: Transferido em setembro de 2019.
B21: 43642 | C21: 6068.2019/0003213-6 | D21: 43686 | E21: ago-18 a jul-19 30.242.735,73 | F21: 4363826.5 | G21: 29432676 | H21: Transferido em novembro de 2019.
B22: 43581 | C22: 6068.2019/0001885-0 | D22: 43748 | E22: out-18 a set-19 32.373.317,21 | F22: 2715506.2 | G22: 32373305 | H22: Transferido em novembro de 2019.
B23: 43733 | C23: 6068.2019/0005462-8 | D23: 43753 | E23: - | F23: - | G23: - | H23: INDEFERIDO EM 26/10/2019. Indisponibilidade de saldo no FUNDURB.
B24: 43685 | C24: 6068.2019/0004202-6 | D24: 43704 | E24: - | F24: - | G24: - | H24: INDEFERIDO EM 05/11/2019. Desistência por parte do interessado.
B25: 43762 | C25: 6066.2019/0006243-3 | D25: 06/11/2019 | E25: nov-18 a out-19 34.215.266,63 | G25: 31758408 | H25: Transferido em Fevereiro de 2020. Certidão 024/19 cancelada no SEI 6068.2025/0005330-4
B26: 43773 | C26: 6066.2019/0006465-7 | D26: 03/12/2019 | E26: dez-18 a nov-19 35.652.834,19 | F26: 3201271.9 | G26: 30327272 | H26: Transferido em Fevereiro de 2020.
B27: 43773 | C27: 6066.2019/0006466-5 | D27: 05/12/2019 | E27: dez-18 a nov-19 35.652.834,19 | F27: 158768 | G27: 30486040 | H27: Transferido em Fevereiro de 2020.
B28: 43783 | C28: 6066.2019/0006833-4 | D28: 06/12/2019 | E28: - | F28: - | G28: - | H28: INDEFERIDO EM 22/02/2020 Desistência do interessado.
B29: 43791 | C29: 6066.2019/0007001-0 | D29: 10/12/2019 | E29: - | F29: - | G29: - | H29: INDEFERIDO EM 28/12/2019. Desistência do interessado.
B30: 43822 | C30: 6066.2019/0007922-0 | D30: 07/01/2020 | E30: jan-19 a dez-19 37.068.663,73 | F30: 4740466.6 | G30: 28814120 | H30: Transferido em Fevereiro de 2020.
B31: 43773 | C31: 6066.2019/0006480-0 | D31: - | E31: - | F31: - | G31: - | H31: INDEFERIDO EM 23/01/2020. Não atendimento ao comunique-se.
B32: 43825 | C32: 6066.2019/0007944-1 | D32: - | E32: - | F32: - | G32: - | H32: INDEFERIDO EM 05/02/2020. Desistência por parte do interessado.
B33: 43854 | C33: 6066.2020/0000506-7 | D33: 43872 | E33: fev-19 a Jan-20 R$ 36.949.273,86 | F33: 4248420.2 | G33: 33062540 | H33: Transferido em Abril de 2020.
B34: 43879 | C34: 6066.2020/0001093-1 | D34: 43893 | E34: mar-19 a fev-20 R$ 36.315.117,22 | F34: 3668377 | G34: 28431689 | H34: Transferido em Junho de 2020.
B35: 43887 | C35: 6066.2020/0001275-6 | D35: 43896 | E35: mar-19 a fev-20 R$ 36.315.117,22 | F35: 4422289.8 | G35: 32853978 | H35: Transferido em Abril de 2020.
B36: 43970 | C36: 6068.2020/0000427-4 | D36: 43979 | E36: R$ mai-19 a abr-20 36.271.331,33 | F36: 3724238.6 | G36: =SUM(F20:F36) -> 33471581 | H36: Transferido em Julho de 2020.
B37: 43970 | C37: 6068.2020/0000436-3 | D37: 43980 | E37: R$ mai-19 a abr-20 36.271.331,33 | F37: 1871351 | G37: =SUM(F20:F37) -> 35342932 | H37: Transferido em Agosto de 2020.
B38: 43970 | C38: 6068.2020/0000438-0 | D38: - | E38: R$ Jun-19 a Mai-20 33.075.269,29 | F38: - | G38: =SUM(F19:F38) -> 35342932 | H38: INDEFERIDO EM 23/06/2020. Indisponibilidade de saldo no FUNDURB.
B39: 44004 | C39: 6068.2020/0001041-0 | D39: - | E39: R$ Jul-19 a Jun-20 32.351.421,14 | F39: - | G39: =SUM(F20:F39) -> 35342932 | H39: INDEFERIDO EM 18/07/2020. Indisponibilidade de saldo no FUNDURB.
E40: R$ Ago-19 a Jul-20 30.323.685,94 | G40: =SUM(F22:F40) -> 28750689
E41: R$ Set-19 a Ago-20 29.424.246,40 | G41: =SUM(F22:F41) -> 28750689
B42: 44124 | C42: 6068.2020/0003756-3 | D42: 44133 | E42: R$ Out-19 a Set-20 29.994.480,45 | F42: 3030910.4 | G42: =SUM(F25:F42) -> 29066094 | H42: Transferido em Fevereiro de 2021
B43: 44127 | C43: 6068.2020/0003939-6 | D43: 44145 | E43: R$ Nov-19 a Out-20 28.392.167,01 | G43: =SUM(F26:F43) -> 29066094 | H43: Indeferido
B44: 44127 | C44: 6068.2020/0003940-0 | D44: 44145 | E44: R$ Nov-19 a Out-20 28.392.167,01 | G44: =SUM(F26:F44) -> 29066094 | H44: Indeferido
B45: 44162 | C45: 6068.2020/0004877-8 | D45: 44175 | E45: R$ Dez-19 a Nov-20 27.817.528,92 | F45: 1255945.2 | G45: =SUM(F30:F45) -> 26961999 | H45: Transferido em Fevereiro de 2021
B46: 44162 | C46: 6068.2020/0004879-4 | D46: 44175 | E46: R$ Dez-19 a Nov-20 27.817.528,92 | F46: 275017.97 | G46: =SUM(F30:F46) -> 27237017 | H46: Transferido em Fevereiro de 2021
B47: 44172 | C47: 6068.2020/0005172-8 | D47: 44187 | E47: R$ Dez-19 a Nov-20 27.817.528,92 | G47: =SUM(F30:F47) -> 27237017 | H47: Indeferido
B48: 44172 | C48: 6068.2020/0005175-2 | D48: 44188 | E48: R$ Dez-19 a Nov-20 27.817.528,92 | G48: =SUM(F30:F48) -> 27237017 | H48: Indeferido
B49: 44195 | C49: 6068.2020/0005773-4 | D49: 44205 | E49: R$ Jan-20 a Dez-20 27.143.857,97 | F49: 1760230.1 | G49: =SUM(F33:F49) -> 24256780 | H49: Transferido em Agostode 2021
B50: 44201 | C50: 6068.2021/0000046-7 | D50: - | E50: R$ Jan-20 a Dez-20 27.143.857,97 | G50: =SUM(F33:F50) -> 24256780 | H50: Indeferido
B51: 44258 | C51: 6068.2021/0001622-3 | D51: 44273 | E51: R$ Mar-20 a Fev-21 29.820.635,00 | F51: 413043.28 | G51: =SUM(F36:F51) -> 12330737 | H51: Transferido em Junho de 2021
B52: 44258 | C52: 6068.2021/0001620-7 | D52: 44274 | E52: R$ Mar-20 a Fev-21 29.820.635,00 | F52: 1936940.7 | G52: =SUM(F36:F52) -> 14267677 | H52: Transferido em Maio de 2021
B53: 44258 | C53: 6068.2021/0001626-6 | D53: 44274 | E53: R$ Mar-20 a Fev-21 29.820.635,00 | F53: 403366.4 | G53: =SUM(F36:F53) -> 14671044 | H53: Transferido em Maio de 2021
B54: 44266 | C54: 6068.2021/0001959-1 | D54: - | E54: R$ Mar-20 a Fev-21 29.820.635,00 | G54: =SUM(F36:F54) -> 14671044 | H54: Indeferido
B55: 44291 | C55: 6068.2021/0002535-4 | D55: 44296 | E55: R$ Abr-20 a Mar-21 29.994.885,84 | G55: =SUM(F36:F55) -> 14671044 | H55: Indeferido
B56: 44291 | C56: 6068.2021/0002536-2 | D56: 44296 | E56: R$ Abr-20 a Mar-21 29.994.885,84 | G56: =SUM(F36:F56) -> 14671044 | H56: Indeferido
B57: 44278 | C57: 6068.2021/0002333-5 | D57: 44296 | E57: R$ Abr-20 a Mar-21 29.994.885,84 | F57: 8957626.8 | G57: =SUM(F36:F57) -> 23628671 | H57: Transferido em Junho de 2021
B58: 44263 | C58: 6068.2021/0001783-1 | D58: 44306 | E58: R$ Abr-20 a Mar-21 29.994.885,84 | G58: =SUM(F36:F58) -> 23628671 | H58: Indeferido
B59: 44292 | C59: 6068.2021/0002576-1 | E59: R$ Abr-20 a Mar-21 29.994.885,84 | G59: =SUM(F36:F59) -> 23628671 | H59: Indeferido
B60: 44319 | C60: 6068.2021/0003509-0 | D60: 44335 | E60: R$ Mai-20 a Abr-21 28.719.304,06 | F60: 934329.17 | G60: =SUM(F38:F60) -> 18967410 | H60: Transferido em Julho de 2021
E61: R$ Jun-20 a Mai-21 30.050.238,43 | G61: =SUM(F39:F61) -> 18967410
B62: 44384 | C62: 6068.2021/0006070-2 | D62: 44407 | E62: R$ Jul-20 a Jun-21 31.135.700,02 | F62: 781554.27 | G62: =SUM(F40:F62) -> 19748964 | H62: Transferido em Janeiro de 2022
B63: 44369 | C63: 6068.2021/0005451-6 | D63: 44407 | E63: R$ Jul-20 a Jun-21 31.135.700,02 | F63: 416181.1 | G63: =SUM(F40:F63) -> 20165145 | H63: Transferido em Outubro de 2021
B64: 44369 | C64: 6068.2021/0005452-4 | D64: 44407 | E64: R$ Jul-20 a Jun-21 31.135.700,02 | F64: 416181.1 | G64: =SUM(F40:F64) -> 20581327 | H64: Transferido em Outubro de 2021
B65: 44177 | C65: 6068.2020/0004386-5 | D65: 44420 | E65: R$ Ago-20 a Jul-21 36.009.918,55 | F65: 3202159.7 | G65: =SUM(F41:F65) -> 23783486 | H65: Transferido em Novembro de 2021
E66: R$ Set-20 a Ago-21 37.247.888,72 | G66: =SUM(F42:F66) -> 23783486
B67: 44468 | C67: 6068.2021/0009622-7 | D67: 44499 | E67: R$ Out-20 a Set-21 37.639.676,97 | F67: 1765553.2 | G67: =SUM(F43:F67) -> 22518129 | H67: Transferido em Janeiro de 2022
B68: 44468 | C68: 6068.2021/0009673-1 | D68: 44518 | E68: R$ Nov-20 a Out-21 40.216.864,13 | G68: =SUM(F45:F68) -> 22518129 | H68: Indeferido
E69: R$ Dez-20 a Nov-21 41.831.601,52 | G69: =SUM(F49:F69) -> 20987166
E70: R$ Jan-21 a Dez-21 44.007.860,21 | G70: =SUM(F51:F70) -> 19226936
E71: R$ Fev-21 a Jan-22 44.224.619,06 | G71: =SUM(F51:F71) -> 19226936
E72: R$ Mar-21 a Fev-22 45.516.704,95 | G72: =SUM(F55:F72) -> 16473585
B73: 44616 | C73: 6068.2022/0001820-1 | D73: 44671 | E73: R$ Abr-21 a Mar-22 47.148.357,69 | F73: 2265955.8 | G73: =SUM(F60:F73) -> 9781914.3 | H73: Transferido em Julho de 2022
B74: 44649 | C74: 6068.2022/0002861-4 | D74: 44671 | E74: R$ Abr-21 a Mar-22 47.148.357,69 | G74: =SUM(F60:F74) -> 9781914.3 | H74: Indeferido
E75: R$ Mai-21 a Abr-22 48.689.713,18 | G75: =SUM(F61:F75) -> 8847585.2
E76: R$ Jun-21 a Mai-22 51.526.775,36 | G76: =SUM(F62:F76) -> 8847585.2
E77: R$ Jul-21 a Jun-22 52.464.967,50 | G77: =SUM(F65:F77) -> 7233668.7
B78: 44778 | C78: 6068.2022/0007328-8 | D78: 44800 | E78: R$ Ago-21 a Jul-22 49.594.716,27 | F78: 1429876.2 | G78: =SUM(F66:F78) -> 5461385.2 | H78: Transferido em Novembro de 2022
B79: 44778 | C79: 6068.2022/0007349-0 | D79: 44831 | E79: R$ Set-21 a Ago-22 50.247.543,08 | F79: 2519856 | G79: =SUM(F67:F79) -> 7981241.2 | H79: Transferido em Dezembro de 2022
E80: R$ Out-21 a Set-22 50.907.893,55 | G80: =SUM(F68:F80) -> 6215688
B81: 44770 | C81: 6068.2022/0007046-7 | D81: 44869 | E81: R$ Nov-21 a Out-22 50.435.994,46 | F81: 1220586.7 | G81: =SUM(F69:F81) -> 7436274.6 | H81: Transferido em Janeiro de 2023
B82: 44831 | C82: 6068.2022/0009156-1 | D82: 44888 | E82: R$ Nov-21 a Out-22 50.435.994,46 | G82: =SUM(F69:F82) -> 7436274.6 | H82: Indeferido
E83: R$ Dez-21 a Nov-22 50.447.753,55 | G83: =SUM(F70:F83) -> 7436274.6
B84: 44916 | C84: 6068.2022/0011905-9 | D84: 44951 | E84: R$ Jan-22 a Dez-22 50.764.028,62 | F84: 1018318.5 | G84: =SUM(F71:F84) -> 8454593.1 | H84: Transferido em Março de 2023
B85: 44894 | C85: 6068.2022/0011358-1 | D85: 44951 | E85: R$ Jan-22 a Dez-22 50.764.028,62 | F85: 3961325.7 | G85: =SUM(F71:F85) -> 12415919 | H85: Transferido em Março de 2023
E86: R$ Fev-22 a Jan-23 51.611.896,14 | G86: =SUM(F72:F86) -> 12415919
B87: 44595 | C87: 6068.2023/0000854-2 | D87: 45002 | E87: R$ Mar-22 a Fev-23 50.204.202,75 | F87: 1692976.4 | G87: =SUM(F73:F87) -> 14108895 | H87: Transferido em Junho de 2023
B88: 44895 | C88: 6068.2022/0011394-8 | E88: R$ Mar-22 a Fev-23 50.204.202,75 | G88: =SUM(F73:F88) -> 14108895 | H88: Indeferido
B89: 45016 | C89: 6068.2023/0002768-7 | D89: 45030 | E89: R$ Abr-22 a Mar-23 49.823.221,45 | F89: 2658670 | G89: =SUM(F75:F89) -> 14501609 | H89: Transferido em Maio de 2023
B90: 45012 | C90: 6068.2023/0002596-0 | D90: 45033 | E90: R$ Abr-22 a Mar-23 49.823.221,45 | F90: 10716321 | G90: =SUM(F75:F90) -> 25217930 | H90: Transferido em Junho de 2023
E91: R$ Mai-22 a Abr-23 51.502.962,87 | G91: =SUM(F76:F91) -> 25217930
E92: R$ Jun-22 a Mai-23 49.434.048,73 | G92: =SUM(F77:F92) -> 25217930
E93: R$ Jul-22 a Jun-23 48.506.382,85 | G93: =SUM(F78:F93) -> 25217930
E94: R$ Ago-22 a Jul-23 48.399.649,29 | G94: =SUM(F79:F94) -> 23788054
B95: 45135 | C95: 6068.2023/0006999-1 | D95: 45173 | E95: R$ Set-22 a Ago-23 47.290.301,21 | F95: 2562461.6 | G95: =SUM(F80:F95) -> 23830660 | H95: Transferido em Dezembro de 2023
E96: R$ Out-22 a Set-23 46.546.233,26 | G96: =SUM(F81:F96) -> 23830660
B97: 45121 | C97: 6068.2023/0006433-7 | D97: 45240 | E97: R$ Nov-22 a Out-23 46.931.010,87 | F97: 8914972.2 | G97: =SUM(F83:F97) -> 31525045 | H97: Transferido em Fevereiro de 2024
E98: R$ Dez-22 a Nov-23 45.947.406,24 | G98: =SUM(F84:F98) -> 31525045
B99: 45306 | C99: 6068.2024/0000457-3 | D99: 45315 | E99: R$ Jan-23 a Dez-23 45.513.172,69 | F99: 783167.26 | G99: =SUM(F86:F99) -> 27328568 | H99: Transferido em Abril de 2024
E100: R$ Fev-23 a Jan-24 43.532.531,04 | G100: =SUM(F87:F100) -> 27328568
E101: R$ Mar-23 a Fev-24 43.695.136,20 | G101: =SUM(F89:F101) -> 25635592
B102: 45300 | C102: 6068.2024/0000243-0 | D102: 45392 | E102: R$ Abr-23 a Mar-24 42.583.768,86 | F102: 3317013.7 | G102: =SUM(F91:F102) -> 15577615 | H102: Transferido em Setembro de 2024
B103: 45350 | C103: 6068.2024/0002075-7 | D103: 45441 | E103: R$ Mai-23 a Abr-24 41.652.252,98 | F103: 686044.46 | G103: =SUM(F92:F103) -> 16263659 | H103: Transferido em Janeiro de 2025
E104: R$ Jun-23 a Mai-24 40.732.587,53 | G104: =SUM(F93:F104) -> 16263659
B105: 45103 | C105: 6068.2023/0005760-8 | D105: 45495 | E105: R$ Jul-23 a Jun-24 39.476.973,35 | F105: 1958309.9 | G105: =SUM(F94:F105) -> 18221969 | H105: Comunique-se
B106: 45401 | C106: 6068.2024/0004200-9 | D106: 45502 | E106: R$ Jul-23 a Jun-24 39.476.973,35 | G106: =SUM(F94:F106) -> 18221969 | H106: Indeferido
E107: R$ Ago-23 a Jul-24 39.886.059,36 | G107: =SUM(F95:F107) -> 18221969
...

Sheet Outros
B2: N. processo | C2: Assunto | D2: Encaminhamento | E2: Data de publicação
B3: 6068.2019/0001933-4 | C3: Instrução Normativa da Secretaria Municipal de Desenvolvimento Urbano - SMDU Nº 003 DE 2019: Regulamenta o procedimento de emissão de Declaração de Transferência do Direito de Construir com doação de imóvel nos termos dos artigos 123, 126, 127, 128, 130 e 131 da Lei 16.050/2014 – Plano Diretor Estratégico – PDE, aos processos físicos administrativos ainda em andamento, em razão do disposto no Decreto 58.289/2018 | D3: Instrução Normativa publicada. | E3: 43593
B4: 6068.2019/0000839-1 | C4: Dúvida sobre arrecadação do FUNDURB. | D4: Decidiu-se por considerar apenas a arrecadação de OODC.
B5: 6068.2019/0004284-0 | C5: ADIN OU Centro

Sheet OUC
B2: Operação Urbana Centro
B3: DECLARAÇÕES | C3: CERTIDÕES
B4: Área Total (m²) | C4: Área Recebida Real (m²)
B5: 1414382.9 | C5: 60567.51
B7: Saldo: 1.353.815,42

Sheet ITENS
B2: Status Declaração | D2: DISTRITOS | F2: Tipo | H2: SITUAÇÃO | J2: SIM OU NÃO | L2: 75% OU 100%
B3: ESGOTADA | D3: Água Rasa | F3: INICIAL | H3: EM ANÁLISE | J3: SIM | L3: 75% - após 10 anos
B4: DISPONÍVEL | D4: Alto de Pinheiros | F4: SALDO | H4: COMUNIQUE-SE | J4: NÃO | L4: 100% - após 15 anos
B5: DISPONÍVEL.T | D5: Anhanguera | F5: EXTRATO | H5: FINALIZAR
B6: CANCELADA | D6: Aricanduva | F6: 2ª VIA | H6: DOCUMENTAL
B7: NÃO EMITIDA | D7: Artur Alvim | H7: INDEFERIDO
B8: EM ANÁLISE | D8: Barra Funda | H8: CANCELADA
D9: Bela Vista | H9: SOBRESTADO
D10: Belém
D11: Bom Retiro
D12: Brás
D13: Brasilândia
D14: Butantã
D15: Cachoeirinha
D16: Cambuci
D17: Campo Belo
D18: Campo Grande
D19: Campo Limpo
D20: Cangaíba
D21: Capão Redondo
... D98: Vila Sônia

Sheet Dcpt ZEPEC | AIUSCE
A1: Data de Protocolo | B1: N. processo | C1: SQ | D1: Lote | E1: Codlog | F1: Endereço | G1: Distrito | H1: Cálculo pela AIU/SCE | I1: N. Declaração | J1: Página Livro | K1: PCpt (m²) | L1: Área cedida (m²) | M1: N. Certidão | N1: Data publicação | O1: Ano publicação | P1: Situação | Q1: Status Declaração
A2: 45517 | B2: 6068.2024/0008873-4 | C2: 025038 | D2: 0072-6 | E2: 106402 | F2: Rua Joli, 294 | G2: Brás | H2: SIM | I2: - | J2: - | K2: - | L2: - | M2: - | N2: 45568 | O2: 2024 | P2: INDEFERIDO | Q2: NÃO EMITIDA
A3: 45714 | B3: 6068.2025/0001759-6 | C3: 025038 | D3: 0072-6 | E3: 106402 | F3: Rua Joli, 294 | G3: Brás | H3: SIM | I3: 0599/25 | J3: Livro 6 - 089 | K3: - | L3: - | M3: - | N3: 45896 | O3: 2025 | P3: INDEFERIDO | Q3: NÃO EMITIDA
A4: 07/11/0202 | B4: 6068.2022/0011556-8 | C4: 006009 | D4: 0021-5 | E4: 095435 | F4: R Barão de Itapetininga, 248 a 268 | G4: República | H4: SIM | I4: 0455/23 | J4: Livro 4 - 117 | K4: 1741.1 | N4: 44982 | O4: 2023 | P4: INDEFERIDO | Q4: NÃO EMITIDA
A5: 45103 | B5: 6068.2023/0005741-1 | C5: 009019 | D5: 0034-6 | E5: 073210 | F5: R dos Franceses, 296 | G5: Bela Vista | H5: SIM | I5: - | J5: - | K5: - | L5: - | M5: - | N5: 45124 | O5: 2023 | P5: INDEFERIDO | Q5: NÃO EMITIDA
A6: 45231 | B6: 6068.2023/0010484-3 | C6: 009019 | D6: 0092-3 | E6: 073210 | F6: R dos Franceses, 350 | G6: Bela Vista | H6: SIM | I6: - | J6: - | K6: - | L6: - | M6: - | N6: - | O6: - | P6: COMUNIQUE-SE | Q6: EM ANÁLISE
A7: 45156 | B7: 6068.2023/0007937-7 | C7: 002047 | D7: 0043-4 | E7: 006661 | F7: R Monsenhor de Andrade, 399 | G7: Brás | H7: SIM | I7: 0532/23 | J7: Livro 5 - 073 | K7: 5784.18 | L7: - | M7: - | N7: 45208 | O7: 2023 | P7: DOCUMENTAL | Q7: DISPONÍVEL
A8: 45146 | B8: 6068.2023/0007467-7 | C8: 0001063 | D8: 0005-9 | E8: 034037 | F8: R Boa Vista, 293 | G8: Sé | H8: SIM | I8: 0531/23 | J8: Livro 5 - 092 | K8: 1178.4 | L8: - | M8: - | N8: 45308 | O8: 2024 | P8: DOCUMENTAL | Q8: DISPONÍVEL
A9: 45387 | B9: 6068.2024/0003562-2 | C9: 009015 | D9: 0031-3 e 0032-1 | E9: 095460 | F9: Al Rio Claro, 190 | G9: Bela Vista | H9: SIM | I9: 0144A/24 | J9: Livro 6 - 015 | K9: 24179.73 | L9: 3376.75 | M9: 003/24 | N9: 45477 | O9: 2024 | P9: DOCUMENTAL | Q9: CANCELADA
A10: 45264 | B10: 6068.2023/0011327-3 | C10: 006012 | D10: 1019-0 | E10: 145130 | F10: R Nestor Pestana, 196, 202, 246 e 252 | G10: República | H10: SIM | I10: 0545/24 | J10: Livro 5 - 088 | K10: 1983.5 | L10: - | M10: - | N10: 45411 | O10: 2024 | P10: DOCUMENTAL | Q10: DISPONÍVEL
A11: 44986 | B11: 6068.2023/0001559-0 | C11: 006016 | D11: 0017-7 | E11: 095435 | F11: R Barão de Itapetininga, 70,78,88 e 100 | G11: República | H11: SIM | I11: 0487/23 | J11: Livro 5 - 023 | K11: 1280 | L11: - | M11: - | N11: 45056 | O11: 2023 | P11: INDEFERIDO | Q11: NÃO EMITIDA
A12: 45441 | B12: 6068.2024/0005721-9 | C12: 006016 | D12: 0017-7 | E12: 095435 | F12: R Barão de Itapetininga, 70,78,88 e 100 | G12: República | H12: SIM | I12: 0573/24 | J12: Livro 6 - 024 | K12: 1280 | L12: - | M12: - | N12: 45527 | O12: 2024 | P12: DOCUMENTAL | Q12: DISPONÍVEL
A13: 44986 | B13: 6068.2023/0001558-1 | C13: 001080 | D13: 0012-5 | E13: 156035 | F13: Pç do Patriarca,66,70,74 e78 | G13: Sé | H13: SIM | I13: 0485/23 | J13: Livro 5 - 022 | K13: 614.4 | L13: - | M13: - | N13: 45055 | O13: 2023 | P13: INDEFERIDO | Q13: NÃO EMITIDA
A14: 45441 | B14: 6068.2024/0005722-7 | C14: 001.080 | D14: 0012-5 | E14: 156035 | F14: Pç do Patriarca,66,70,74 e78 | G14: Sé | H14: SIM | I14: 0574/24 | J14: Livro 6 - 025 | K14: 614.4 | L14: - | M14: - | N14: 45527 | O14: 2024 | P14: DOCUMENTAL | Q14: DISPONÍVEL
A15: 45320 | B15: 6068.2024/0000942-7 | C15: 001053 | D15: 0228-7 | E15: 171158 | F15: Av Rio Branco, 34 | G15: República | H15: SIM | I15: 0550/24 | J15: Livro 5 - 095 | K15: 1247 | L15: - | M15: - | N15: 45412 | O15: 2024 | P15: DOCUMENTAL | Q15: DISPONÍVEL
A16: 45824 | B16: 6068.2025/0005888-8 | C16: 001053 | D16: 0228-7 | E16: 171158 | F16: Av Rio Branco, 34 | G16: República | H16: SIM | I16: 0550EXTRATO | J16: Livro 7 - 007 | K16: 0 | L16: 1247 | M16: 013/25 | N16: - | O16: 2025 | P16: FINALIZAR | Q16: EM ANÁLISE
A17: 45167 | B17: 6068.2023/0008373-0 | C17: 001080 | D17: 0016-8 | E17: 118249 | F17: R Líbero Badaró, 306 e 310 | G17: Sé | H17: SIM | I17: 0539/23 | J17: Livro 5 - 080 | K17: 717.6 | L17: - | M17: - | N17: 45408 | O17: 2024 | P17: DOCUMENTAL | Q17: DISPONÍVEL
A18: 45119 | B18: 6068.2023/0006363-2 | C18: 001084 | D18: 0006-9 | E18: 167703 | F18: R da Quitanda 107 | G18: Sé | H18: SIM | I18: 0525/23 | J18: Livro 5 - 064 | K18: 804 | L18: - | M18: - | N18: 45426 | O18: 2024 | P18: INDEFERIDO | Q18: NÃO EMITIDA
A19: 45082 | B19: 6068.2023/0005117-0 | C19: 001058 | D19: 0008-2 | E19: 179868 | F19: R Capitão Salomão, 27, 33, 37 e 43 / R do Seminário, 95 e 96 | G19: República | H19: SIM | I19: 0514/23 | J19: Livro 5 - 054 | K19: 1141.39 | L19: - | M19: - | N19: 45439 | O19: 2021 | P19: INDEFERIDO | Q19: NÃO EMITIDA
A20: 45327 | B20: 6068.2024/0001241-0 | C20: 001055 | D20: 0006-2 | E20: 101010 | F20: Av São João | G20: República | H20: SIM | I20: - | J20: - | K20: - | L20: - | M20: - | N20: 45455 | O20: 2024 | P20: INDEFERIDO | Q20: NÃO EMITIDA
A21: 45495 | B21: 6068.2024/0007850-0 | C21: 001055 | D21: 0006-2 | E21: 101010 | F21: Av São João, 530, 536 e 544 | G21: República | H21: SIM | I21: 0582/24 | J21: Livro 6 - 032 | K21: 881.83 | L21: - | M21: - | N21: 45609 | O21: 2024 | P21: DOCUMENTAL | Q21: DISPONÍVEL
A22: 45163 | B22: 6068.2023/0008251-3 | C22: 005023 | D22: 0181-3 | E22: 133175 | F22: R Maria Paula, 177, 181 e 185 | G22: República | H22: SIM | I22: 0535/23 | J22: Livro 5 - 076 | K22: 349.8 | L22: - | M22: - | N22: 45256 | O22: 2023 | P22: DOCUMENTAL | Q22: DISPONÍVEL
A23: 44945 | B23: 6068.2023/0000414-8 | C23: 007069 | D23: COND 01 | E23: 099694 | F23: R Bento Freitas, 306 e 314 | G23: República | H23: SIM | I23: - | J23: - | K23: - | L23: - | M23: - | N23: 44992 | O23: 2023 | P23: INDEFERIDO | Q23: NÃO EMITIDA
A24: 45749 | B24: 6068.2025/0003032-0 | C24: 007069 | D24: COND 01 | E24: 099694 | F24: R Bento Freitas, 306 a 314 / R. General Jardim, 124 | G24: República | H24: SIM | I24: 0600/25 | J24: Livro 7 - 013 | K24: 664.8 | L24: - | M24: - | N24: 45967 | O24: 2025 | P24: DOCUMENTAL | Q24: DISPONÍVEL
A25: 45265 | B25: 6068.2023/0011342-7 | C25: 001063 | D25: 0030-1 | E25: 101842 | F25: R João Brícola, 59 a 67 | G25: Sé | H25: SIM | I25: 0548/24 | J25: Livro 5 - 091 | K25: 1448.4 | L25: - | M25: - | N25: 45450 | O25: 2024 | P25: DOCUMENTAL | Q25: DISPONÍVEL
A26: 45019 | B26: 6068.2023/0002922-1 | C26: 001064 | D26: 0012-6 | E26: 072044 | F26: R Florêncio de Abreu, 78 e 80 | G26: Sé | H26: SIM | I26: 0492/23 | J26: Livro 5 - 028 | K26: 489.6 | N26: 45090 | O26: 2023 | P26: CANCELADA | Q26: CANCELADA
A27: 45644 | B27: 6068.2024/0013648-8 | C27: 001064 | D27: 0012-6 | E27: 072044 | F27: R Florêncio de Abreu, 78 e 80 | G27: Sé | H27: SIM | I27: 0492/23 - 2ª via | J27: Livro 6 - 053 | K27: 489.6 | L27: - | M27: - | N27: 45677 | O27: 2025 | P27: DOCUMENTAL | Q27: DISPONÍVEL
A28: 45350 | B28: 6068.2024/0002093-5 | C28: 033008 | D28: 0017-1 | E28: 136190 | F28: Rua Martiniano de Carvalho, 333 | G28: Bela Vista | H28: SIM | I28: 0554/24 | J28: Livro 5 - 100 | K28: 435.6 | L28: - | M28: - | N28: 45450 | O28: 2024 | P28: EM ANÁLISE | Q28: DISPONÍVEL
A29: 45133 | B29: 6068.2023/0006893-6 | C29: 001074 | D29: 0002-2 | E29: 101842 | F29: R João Brícola, 24 | G29: Sé | H29: SIM | I29: 0527/23 | J29: Livro 5 - 067 | K29: 1368.85 | L29: - | M29: - | N29: 45208 | O29: 2023 | P29: DOCUMENTAL | Q29: DISPONÍVEL
A30: 45540 | B30: 6068.2024/0009813-6 | C30: 001074 | D30: 0002-2 | E30: 101842 | F30: R João Brícola, 24 | G30: Sé | H30: SIM | I30: - | J30: - | K30: - | L30: - | M30: - | N30: 45561 | O30: 2024 | P30: INDEFERIDO | Q30: NÃO EMITIDA
A31: 45139 | B31: 6068.2023/0007093-0 | C31: 001082 | D31: 0004-3 | E31: 167495 | F31: R Quinze de Novembro, 213 | G31: Sé | H31: SIM | I31: 0529/23 | J31: Livro 5 - 069 | K31: 1128.13 | L31: - | M31: - | N31: 45208 | O31: 2023 | P31: DOCUMENTAL | Q31: DISPONÍVEL
A32: 45173 | B32: 6068.2023/0008577-6 | C32: 001084 | D32: 0008-5 | E32: 167703 | F32: R da Quitanda, 89 a 93 | G32: Sé | H32: SIM | I32: 0540/23 | J32: Livro 5 - 082 | K32: 1148 | N32: 45414 | O32: 2024 | P32: INDEFERIDO | Q32: NÃO EMITIDA
A33: 45702 | B33: 6068.2025/0001365-5 | C33: 001084 | D33: 0008-5 | E33: 167703 | F33: R da Quitanda, 89 a 93 | G33: Sé | H33: SIM | I33: 0597/25 | J33: Livro 6 - 058 | K33: 1148 | N33: 45810 | O33: 2025 | P33: DOCUMENTAL | Q33: DISPONÍVEL
A34: 44988 | B34: 6068.2023/0001705-3 | C34: 001050 | D34: 0006-1 | E34: 072244 | F34: R Florêncio de Abreu, 140 e 144 | G34: Sé | H34: SIM | I34: 0511/23 | J34: Livro 5 - 051 | K34: 1043.86 | L34: - | M34: - | N34: 45205 | O34: 2023 | P34: DOCUMENTAL | Q34: DISPONÍVEL
A35: 45255 | B35: 6068.2023/0011043-6 | C35: 001080 | D35: 0014-1 | E35: 118249 | F35: R Líbero Badaró, 274, 282 e 284 | G35: Sé | H35: SIM | I35: 0543/23 | J35: Livro 5 - 086 | K35: 734.4 | L35: - | M35: - | N35: 45398 | O35: 2024 | P35: DOCUMENTAL | Q35: DISPONÍVEL
A36: 45499 | B36: 6068.2024/0008071-7 | C36: 006009 | D36: 0010-1 | E36: 170003 | F36: R Vinte e Quatro de Maio, 263, 267, 271, 275 e 281 | G36: República | H36: SIM | I36: 0580/24 | J36: Livro 6 - 030 | K36: 996 | L36: - | M36: - | N36: 45609 | O36: 2024 | P36: DOCUMENTAL | Q36: DISPONÍVEL
A37: 45645 | B37: 6068.2024/0013700-0 | C37: 006009 | D37: 0010-1 | E37: 170003 | F37: R Vinte e Quatro de Maio, 263, 267, 271, 275 e 281 | G37: República | H37: SIM | I37: 0580.EXTRATO | J37: Livro 6 - 090 | K37: 0 | N37: 45826 | O37: 2025 | P37: INDEFERIDO | Q37: NÃO EMITIDA
A38: 44988 | B38: 6068.2023/0001697-9 | C38: 005025 | D38: 0008-5 | E38: 170259 | F38: R Riachuelo, 33, 39 e 43 | G38: Sé | H38: SIM | I38: 0494/23 | J38: Livro 5 - 030 | K38: 936 | L38: - | M38: - | N38: 45112 | O38: 2023 | P38: DOCUMENTAL | Q38: DISPONÍVEL
A39: 44965 | B39: 6068.2023/0000995-6 | C39: 006009 | D39: 0007-1 | E39: 197599 | F39: R Vinte e Quatro de Maio, 239 e 245 | G39: República | H39: SIM | I39: 491/23 | J39: Livro 5 - 027 | K39: 1008.38 | L39: - | M39: - | N39: 45090 | O39: 2023 | P39: DOCUMENTAL | Q39: DISPONÍVEL
A40: 45034 | B40: 6068.2023/0003383-0 | C40: 001057 | D40: 0018-5 | E40: 179868 | F40: R do Seminário, 209, 213 e 215 | G40: República | H40: SIM | I40: 0510/23 | J40: Livro 5 - 050 | K40: 674.76 | L40: - | M40: - | N40: 45205 | O40: 2023 | P40: DOCUMENTAL | Q40: DISPONÍVEL
A41: 45020 | B41: 6068.2023/0002927-2 | C41: 001049 | D41: 0049-0 | E41: 072044 | F41: R Florêncio de Abreu, 203 e 209 | G41: Sé | H41: SIM | I41: 0493/23 | J41: Livro 5 - 036 | K41: 1971 | L41: - | M41: - | N41: 45112 | O41: 2023 | P41: CANCELADA | Q41: CANCELADA
A42: 45645 | B42: 6068.2024/0013709-3 | C42: 001049 | D42: 0049-0 | E42: 072044 | F42: R Florêncio de Abreu, 203 e 209 | G42: Sé | H42: SIM | I42: 0493/23 - 2ª via | J42: Livro 6 - 054 | K42: 1971 | L42: - | M42: - | N42: 45677 | O42: 2025 | P42: DOCUMENTAL | Q42: DISPONÍVEL
A43: 45049 | B43: 6068.2023/0003863-8 | C43: 001067 | D43: 0022-7 | E43: 213705 | F43: R Comendador Abdo Schahin, 230, 232, 236 | G43: Sé | H43: SIM | I43: 0498/23 | J43: Livro 5 - 037 | K43: 453.6 | L43: - | M43: - | N43: 45090 | O43: 2023 | P43: DOCUMENTAL | Q43: DISPONÍVEL
A44: 45106 | B44: 6068.2023/0005886-8 | C44: 001083 | D44: 0004-8 | E44: 034037 | F44: RUA BOA VISTA 43 a 47, 51 a 57 | G44: Sé | H44: SIM | I44: 0523/23 | J44: Livro 5 - 062 | K44: 1512 | L44: - | M44: - | N44: 45208 | O44: 2023 | P44: DOCUMENTAL | Q44: DISPONÍVEL
A45: 45163 | B45: 6068.2023/0008219-0 | C45: 008081 | D45: 0013-0 | E45: 062855 | F45: R Santa Ifigênia, 375, 379, 381 | G45: República | H45: SIM | I45: - | J45: - | K45: - | L45: - | M45: - | N45: 45476 | O45: 2024 | P45: INDEFERIDO | Q45: NÃO EMITIDA
A46: 45806 | B46: 6068.2025/0005186-7 | C46: 002066 | D46: 0037-2 | E46: 197459 | F46: R Vinte e Cinco de Março, 224 e 226 | G46: Sé | H46: SIM | I46: 0604/25 | J46: Livro 6 - 099 | K46: 331.2 | N46: 45903 | O46: 2025 | P46: INDEFERIDO | Q46: NÃO EMITIDA
A47: 44839 | B47: 6068.2022/0009439-0 | C47: 004011 | D47: 0006-5 | E47: 080241 | F47: R do Glicério, 215 a 245 | G47: Sé | H47: SIM | I47: 453/22 | J47: Livro 4 - 115 | K47: 6193.51 | L47: - | M47: - | N47: 44982 | O47: 2023 | P47: INDEFERIDO | Q47: NÃO EMITIDA
A48: 45492 | B48: 6068.2024/0007789-9 | C48: 004011 | D48: 2006-5 | E48: 80241 | F48: R do Glicério, 215 a 245 | G48: Sé | H48: SIM | I48: 0578/24 | J48: Livro 6 - 029 | K48: 6281.8 | N48: 45579 | O48: 2024 | P48: DOCUMENTAL | Q48: DISPONÍVEL
A49: 45097 | B49: 6068.2023/0005538-9 | C49: 001062 | D49: 00 11-9 | E49: 118249 | F49: R Libero Badaró, 624 e 628 | G49: Sé | H49: SIM | I49: 0516/23 | J49: Livro 5 - 056 | K49: 314.64 | L49: - | M49: - | N49: 45205 | O49: 2023 | P49: DOCUMENTAL | Q49: DISPONÍVEL
A50: 45156 | B50: 6068.2023/0007913-0 | C50: 001083 | D50: 0020-1 | E50: 167495 | F50: R Quinze de Novembro, 250, 256 e 260 | G50: Sé | H50: SIM | I50: - | J50: - | K50: - | N50: 45415 | O50: 2024 | P50: INDEFERIDO | Q50: NÃO EMITIDA
A51: 45933 | B51: 6068.2025/0009768-9 | C51: 001083 | D51: 2020-1 | E51: 167495 | F51: R Quinze de Novembro, 250, 256 e 260 | G51: Sé | H51: SIM | I51: - | J51: - | K51: - | L51: - | M51: - | N51: - | O51: - | P51: COMUNIQUE-SE | Q51: EM ANÁLISE
A52: 45061 | B52: 6068.2023/0004415-8 | C52: 005087 | D52: 0017-5 | E52: 118184 | F52: Av da Liberdade, 688, 692, 698 e 702 | G52: Liberdade | H52: SIM | I52: 0518/23 | J52: Livro 5 - 057 | K52: 1882.5 | L52: - | M52: - | N52: 45205 | O52: 2023 | P52: CANCELADA | Q52: ESGOTADA
A53: 45854 | B53: 6068.2025/0006865-4 | C53: 005087 | D53: 0014-5 | E53: 118184 | F53: Av da Liberdade, 688, 692, 698 e 702 | G53: Liberdade | H53: SIM | I53: 0518/23 - 2 via | J53: Livro 7 - 003 | K53: 1882.5 | L53: - | M53: - | N53: 29/0/2025 | O53: 2025 | P53: DOCUMENTAL | Q53: DISPONÍVEL
A54: 45265 | B54: 6068.2023/0011343-5 | C54: 001063 | D54: 0052-0 | E54: 18384 | F54: Pç Antônio Prado, 48 e R João Brícola, 37 e 43 | G54: Sé | H54: SIM | I54: 0547/24 | J54: Livro 5 - 090 | K54: - | L54: - | M54: - | N54: 45477 | O54: 2024 | P54: DOCUMENTAL | Q54: DISPONÍVEL
A55: 45061 | B55: 6068.2023/0004413-1 | C55: 002061 | D55: 0006-1 | E55: 175455 | F55: Pç da Sé, 31, 33 e 39 | G55: Sé | H55: SIM | I55: 0524/23 | J55: Livro 5 - 063 | K55: - | L55: - | M55: - | N55: 45205 | O55: 2023 | P55: CANCELADA | Q55: CANCELADA
A56: 45854 | B56: 6068.2025/0006860-3 | C56: 002.061 | D56: 0006-1 | E56: 175455 | F56: Pç da Sé, 31, 33 e 39 | G56: Sé | H56: SIM | I56: 0524/23 - 2 via | J56: Livro 7 - 014 | N56: 45937 | O56: 2025 | P56: DOCUMENTAL | Q56: DISPONÍVEL
A57: 45503 | B57: 6068.2024/0008106-3 | C57: 003003 | D57: 0048-4 | E57: 44555 | F57: R do Carmo, 81 | G57: Sé | H57: SIM | I57: - | J57: - | K57: - | L57: - | M57: - | N57: 45583 | O57: 2024 | P57: INDEFERIDO | Q57: NÃO EMITIDA
A58: 45320 | B58: 6068.2024/0000924-9 | C58: 001050 | D58: 0029-9 | E58: 072044 | F58: R Florêncio de Abreu, 328 | G58: Sé | H58: SIM | I58: 0551/24 | J58: Livro 5 - 097 | K58: 771.6 | L58: - | M58: - | N58: 45426 | O58: 2024 | P58: DOCUMENTAL | Q58: DISPONÍVEL
A59: 45166 | B59: 6068.2023/0008283-1 | C59: 033008 | D59: 0018-8 | E59: 136190 | F59: R Martiniano de Carvalho, 325 | G59: Bela Vista | H59: SIM | I59: 0538/23 | J59: Livro 5 - 079 | K59: 435.6 | L59: - | M59: - | N59: 45258 | O59: 2023 | P59: DOCUMENTAL | Q59: DISPONÍVEL
A60: 45163 | B60: 6068.2023/0008255-6 | C60: 005004 | D60: 0080-6 | E60: 59447 | F60: R Direita, 203 e 213 | G60: Sé | H60: SIM | I60: PIU-SCE | J60: - | K60: - | L60: - | M60: - | N60: 45365 | O60: 2024 | P60: INDEFERIDO | Q60: NÃO EMITIDA
A61: 45105 | B61: 6068.2023/0005836-1 | C61: 005003 | D61: 0009-7 | E61: 032107 | F61: RUA SÃO BENTO, 67 | G61: Sé | H61: SIM | I61: 0519/23 | J61: Livro 5 - 058 | K61: 678.31 | L61: - | M61: - | N61: 45219 | O61: 2023 | P61: DOCUMENTAL | Q61: DISPONÍVEL
A62: 44987 | B62: 6068.2023/0001607-3 | C62: 005014 | D62: 0030-3 | E62: 031895 | F62: Largo São Francisco, 19 | G62: Sé | H62: SIM | I62: 0515/23 | J62: Livro 5 - 055 | K62: 1568.51 | L62: - | M62: - | N62: 45208 | O62: 2023 | P62: DOCUMENTAL | Q62: DISPONÍVEL
A63: 45112 | B63: 6068.2023/0006142-7 | C63: 008081 | D63: 2016-5 | E63: 062855 | F63: RUA SANTA EFIGÊNIA, 401, 403, 407 | G63: República | H63: SIM | I63: 0528/23 | J63: Livro 5 - 068 | K63: 673.2 | L63: - | M63: - | N63: 45308 | O63: 2024 | P63: DOCUMENTAL | Q63: DISPONÍVEL
A64: 44908 | B64: 6068.2022/0011763-3 | C64: 006064 | D64: COND 16 | E64: 121320 | F64: Av São Luís, 86 | G64: Sé | H64: SIM | I64: 0456/22 | J64: Livro 4 - 118 | K64: 1424 | L64: - | M64: - | N64: 44982 | O64: 2023 | P64: INDEFERIDO | Q64: NÃO EMITIDA
A65: 45041 | B65: 6068.2023/0003570-1 | C65: 006064 | D65: COND 16 | E65: 121320 | F65: Av São Luiz, 84, 86 e 96 | G65: República | H65: SIM | I65: 0536/23 | J65: Livro 5 - 077 | K65: 1424 | L65: - | M65: - | N65: 45280 | O65: 2023 | P65: DOCUMENTAL | Q65: DISPONÍVEL
A66: 45063 | B66: 6068.2023/0004487-5 | C66: 005003 | D66: 0011-9 | E66: 032107 | F66: R São Bento, 45 a 51 | G66: Sé | H66: SIM | I66: 0509/23 | J66: Livro 5 - 049 | K66: 1200.42 | L66: - | M66: - | N66: 45131 | O66: 2023 | P66: DOCUMENTAL | Q66: DISPONÍVEL
A67: 45448 | B67: 6068.2024/0005918-1 | C67: 005039 | D67: 0019-2 | E67: 118206 | F67: Pç da Liberdade, 83 e 85 | G67: Sé | H67: SIM | I67: 0576/24 | J67: Livro 6 - 027 | K67: 508.2 | L67: - | M67: - | N67: 45579 | O67: 2024 | P67: DOCUMENTAL | Q67: DISPONÍVEL
A68: 45546 | B68: 6068.2024/0010082-3 | C68: 005004 | D68: 0013-1 | E68: 167444 | F68: R Quintino Bocaiúva, 18 a 30 | G68: Sé | H68: SIM | I68: 0584/24 | J68: Livro 6 - 035 | K68: 1605.9 | L68: - | M68: - | N68: 45715 | O68: 2025 | P68: DOCUMENTAL | Q68: DISPONÍVEL
A69: 45320 | B69: 6068.2024/0000951-6 | C69: 001053 | D69: 0030-6 | E69: 171158 | F69: Av Rio Branco, 52, 54 | G69: Sé | H69: SIM | I69: 0555/24 | J69: livro 6 - 001 | K69: - | L69: - | M69: - | N69: 45399 | O69: 2024 | P69: INDEFERIDO | Q69: NÃO EMITIDA
A70: 45161 | B70: 6068.2023/0008144-4 | C70: 009021 | D70: 1940-8 | E70: 191540 | F70: R Treze de Maio, 724 | G70: Bela Vista | H70: SIM | I70: 0534/23 | J70: Livro 5 - 075 | K70: 414.96 | L70: - | M70: - | N70: 45308 | O70: 2023 | P70: DOCUMENTAL | Q70: DISPONÍVEL
A71: 45958 | B71: 6068.2025/0010563-0 | C71: 002068 | D71: 0006-1 | E71: 172260 | F71: R Roberto Simonsen, 97, 101 | G71: República | H71: SIM | I71: - | J71: - | K71: - | L71: - | M71: - | N71: - | O71: - | P71: COMUNIQUE-SE | Q71: EM ANÁLISE
A72: 45329 | B72: 6068.2024/0001345-9 | C72: 001061 | D72: 2010-6 | E72: 101010 | F72: Av São João, 108 | G72: Sé | H72: SIM | I72: - | J72: - | K72: - | L72: - | M72: - | N72: 45677 | O72: 2025 | P72: INDEFERIDO | Q72: NÃO EMITIDA
A73: 45013 | B73: 6068.2023/0002655-9 | C73: 009099 | D73: 0001-9 | E73: 045039 | F73: R Conselheiro Carrão, 640 | G73: Bela Vista | H73: SIM | I73: 0522/23 | J73: Livro 5 - 061 | K73: 935.74 | L73: - | M73: - | N73: 45229 | O73: 2023 | P73: DOCUMENTAL | Q73: DISPONÍVEL
A74: 44886 | B74: 6068.2022/0011125-2 | C74: 002068 | D74: 0002-9 | E74: 175455 | F74: Praça da Sé, 79, 87, 89 | G74: Sé | H74: SIM | I74: 0461/23 | J74: Livro 4 - 123 | K74: 231.07 | L74: - | M74: - | N74: 45043 | O74: 2023 | P74: DOCUMENTAL | Q74: ESGOTADA
A75: 45824 | B75: 6068.2025/0005887-0 | C75: 002068 | D75: 0002-9 | E75: 175455 | F75: Praça da Sé, 79, 87 e 89 | G75: Sé | H75: SIM | I75: 0461.EXTRATO | J75: Livro 7 - 006 | K75: 0 | L75: 231.07 | M75: 012/25 | N75: 45968 | O75: 2025 | P75: DOCUMENTAL | Q75: ESGOTADA
A76: 44868 | B76: 6068.2022/0010497-3 | C76: 009020 | D76: 0034-9 | E76: 091910 | F76: R dos Ingleses, 78 | G76: Bela Vista | H76: SIM | I76: 0489/23 | J76: Livro 5 - 025 | K76: 245.52 | L76: - | M76: - | N76: 45090 | O76: 2023 | P76: DOCUMENTAL | Q76: DISPONÍVEL
A77: 44868 | B77: 6068.2022/0010495-7 | C77: 009020 | D77: 0033-0 | E77: 091910 | F77: R dos Ingleses, 86 | G77: Bela Vista | H77: SIM | I77: 0488/23 | J77: Livro 5 - 024 | K77: 307.2 | L77: - | M77: - | N77: 45090 | O77: 2023 | P77: DOCUMENTAL | Q77: DISPONÍVEL
A78: 44868 | B78: 6068.2022/0010492-2 | C78: 009020 | D78: 0032-2 | E78: 091910 | F78: R dos Ingleses, 92 | G78: Bela Vista | H78: SIM | I78: 0495/23 | J78: Livro 5 - 032 | K78: 324 | L78: - | M78: - | N78: 45090 | O78: 2023 | P78: DOCUMENTAL | Q78: DISPONÍVEL
A79: 45646 | B79: 6068.2024/0013740-9 | C79: 009020 | D79: 0032-2 | E79: 091910 | F79: R dos Ingleses, 92 | G79: Bela Vista | H79: SIM | I79: 0495.EXTRATO | J79: Livro 6 - 093 | K79: 0 | L79: 324 | N79: 45845 | O79: 2025 | P79: DOCUMENTAL | Q79: ESGOTADA
A80: 45083 | B80: 6068.2023/0005130-8 | C80: 006044 | D80: 0066-7 | E80: 191540 | F80: R Treze de Maio, 112 | G80: Sé | H80: SIM | I80: 0530/23 | J80: Livro 5 - 071 | K80: 532.8 | L80: - | M80: - | N80: 45126 | O80: 2023 | P80: DOCUMENTAL | Q80: DISPONÍVEL
A81: 44908 | B81: 6068.2022/0011690-4 | C81: 005044 | D81: 0014-2 | E81: 123889 | F81: R Santa Luzia, 31 | G81: Sé | H81: SIM | I81: 0512/23 | J81: Livro 5 - 052 | K81: 716.9 | L81: - | M81: - | N81: 45131 | O81: 2023 | P81: DOCUMENTAL | Q81: ESGOTADA
A82: 45824 | B82: 6068.2025/0005892-6 | C82: 005044 | D82: 0014-2 | E82: 123889 | F82: R Santa Luzia, 31 | G82: Sé | H82: SIM | I82: 0512.EXTRATO | J82: Livro 7 - 009 | K82: 0 | L82: 716.9 | M82: 015/25 | N82: 45968 | O82: 2025 | P82: DOCUMENTAL | Q82: ESGOTADA
A83: 45155 | B83: 6068.2023/0007876-1 | C83: 009008 | D83: 0023-2 | E83: 058874 | F83: R Major Diogo, 616 | G83: Bela Vista | H83: SIM | I83: 0533/23 | J83: Livro 5 - 074 | K83: 568.8 | L83: - | M83: - | N83: 45231 | O83: 2023 | P83: DOCUMENTAL | Q83: DISPONÍVEL
A84: 44816 | B84: 6068.2022/0008506-5 | C84: 005014 | D84: 0006-0 | E84: 167444 | F84: R Quintino Boicaiuva, 148 a 182 | G84: Sé | H84: SIM | I84: 0450/23 | J84: Livro 4 - 112 | K84: 1300 | L84: - | M84: - | N84: 45090 | O84: 2023 | P84: DOCUMENTAL | Q84: DISPONÍVEL
A85: 45629 | B85: 6068.2024/0013124-9 | C85: 005014 | D85: 0006-0 | E85: 167444 | F85: R Quintino Boicaiuva, 148 a 182 | G85: Sé | H85: SIM | I85: 0450/23 - 2ªvia | J85: Livro 6 - 051 | K85: 1300 | L85: - | M85: - | N85: 45677 | O85: 2025 | P85: DOCUMENTAL | Q85: DISPONÍVEL
A86: 44824 | B86: 6068.2022/0008961-3 | C86: 002060 | D86: 0002-2 | E86: 126500 | F86: Pç Padre Manoel da Nóbrega, 28 e 26 | G86: Sé | H86: SIM | I86: 0452/23 | J86: Livro 4 - 114 | K86: 419.64 | L86: - | M86: - | N86: 44982 | O86: 2023 | P86: INDEFERIDO | Q86: NÃO EMITIDA
A87: 44634 | B87: 6068.2022/0002371-0 | C87: 009016 | D87: 1113-1 | E87: 153729 | F87: R Pamplona, 145 | G87: Bela Vista | H87: SIM | I87: 0526/23 | J87: Livro 5 - 066 | K87: 4607.25 | L87: - | M87: - | N87: 45411 | O87: 2024 | P87: DOCUMENTAL | Q87: DISPONÍVEL
A88: 44644 | B88: 6068.2022/0002743-0 | C88: 001058 | D88: 0093-7 | E88: 101010 | F88: Av São João, 288 | G88: Sé | H88: SIM | I88: - | J88: - | K88: - | L88: - | M88: - | N88: 45131 | O88: 2023 | P88: INDEFERIDO | Q88: NÃO EMITIDA
A89: 44644 | B89: 6068.2022/0002741-3 | C89: 001058 | D89: 0092-9 | E89: 101010 | F89: Av São João, 284 | G89: Sé | H89: SIM | I89: - | J89: - | K89: - | L89: - | M89: - | N89: 45131 | O89: 2023 | P89: INDEFERIDO | Q89: NÃO EMITIDA
A90: 45027 | B90: 6068.2023/0003097-1 | C90: 009019 | D90: 0024-9 | E90: 073210 | F90: Rua dos Franceses, 518 | G90: Bela Vista | H90: SIM | I90: 0517/23 | J90: Livro 5 - 033 | K90: 1020 | L90: - | M90: - | N90: 45205 | O90: 2023 | P90: DOCUMENTAL | Q90: DISPONÍVEL
A91: 44799 | B91: 6068.2022/0008079-9 | C91: 006027 | D91: 0021-3 | E91: 101010 | F91: Av São João, 345 e 347 | G91: República | H91: SIM | I91: 0521/23 | J91: Livro 5 - 060 | K91: 451.2 | L91: - | M91: - | N91: 45621 | O91: 2024 | P91: INDEFERIDO | Q91: NÃO EMITIDA
A92: 44801 | B92: 6068.2022/0008076-4 | C92: 005002 | D92: 0005-1 | E92: 118249 | F92: R Líbero Badaró, 89 | G92: Sé | H92: SIM | I92: 0459/23 | J92: Livro 4 - 121 | K92: - | L92: - | M92: - | N92: 45029 | O92: 2023 | P92: INDEFERIDO | Q92: NÃO EMITIDA
A93: 44889 | B93: 6068.2022/0011241-0 | C93: 006007 | D93: 0015-1 | E93: 181080 | F93: R Sete de Abril, 309 X R Basilio da Gama, 165 | G93: Sé | H93: SIM | I93: 0462/23 | J93: Livro 4 - 124 | K93: - | L93: - | M93: - | N93: 45321 | O93: 2024 | P93: INDEFERIDO | Q93: NÃO EMITIDA
A94: 45356 | B94: 6068.2024/0002412-4 | C94: 006007 | D94: 0015-1 | E94: 181080 | F94: R Sete de Abril, 309 X R Basilio da Gama, 165 | G94: República | H94: SIM | I94: 0556/24 | J94: Livro 6 - 002 | K94: 2142.9 | L94: - | M94: - | N94: 45609 | O94: 2024 | P94: DOCUMENTAL | Q94: DISPONÍVEL
A95: 44902 | B95: 6068.2022/0011549-5 | C95: 009020 | D95: 0025-1 | E95: 091910 | F95: R dos Ingleses, 160 | G95: Bela Vista | H95: SIM | I95: 0463/23 | J95: Livro 4 - 127 | K95: 835.2 | L95: - | M95: - | N95: 45229 | O95: 2023 | P95: DOCUMENTAL | Q95: DISPONÍVEL
A96: 44914 | B96: 6068.2022/0011810-9 | C96: 006056 | D96: 0076-7 | E96: 099414 | F96: R Japurá, 346 | G96: República | H96: SIM | I96: 0457/23 | J96: Livro 4 - 119 | K96: 156 | L96: - | M96: - | N96: 45090 | O96: 2023 | P96: DOCUMENTAL | Q96: DISPONÍVEL
A97: 44834 | B97: 6068.2022/0009276-2 | C97: 005013 | D97: 0004-1, 0005-8 | E97: 073369 | F97: Largo São Francisco, 173, 175, 181 e 187 | G97: Sé | H97: SIM | I97: 0460/23 | J97: Livro 4 - 122 | K97: 2060.41 | L97: - | M97: - | N97: 44991 | O97: 2023 | P97: INDEFERIDO | Q97: NÃO EMITIDA
A98: 44963 | B98: 6068.2023/0000887-9 | C98: 038003 | D98: SI | E98: 042447 | F98: R Maestro Cardim, 109 e 119 | G98: Bela Vista | H98: SIM | I98: - | J98: - | K98: - | L98: - | M98: - | N98: 45621 | O98: 2024 | P98: INDEFERIDO | Q98: NÃO EMITIDA
A99: 44963 | B99: 6068.2023/0000894-1 | C99: 038003 | D99: 0017-6 | E99: 042447 | F99: R Maestro Cardim, 627 | G99: Bela Vista | H99: SIM | I99: - | J99: - | K99: - | L99: - | M99: - | N99: 45621 | O99: 2024 | P99: INDEFERIDO | Q99: NÃO EMITIDA
A100: 44963 | B100: 6068.2023/0000895-0 | C100: 038003 | D100: 0014-1 | E100: 042447 | F100: R Maestro Cardim, 621 | G100: Bela Vista | H100: SIM | I100: - | J100: - | K100: - | L100: - | M100: - | N100: 45621 | O100: 2024 | P100: INDEFERIDO | Q100: NÃO EMITIDA
...

Sheet Certidão ZEPEC | AIUSCE
A2: Certidão de Transferência de Potencial Construtivo sem doação - ZEPEC
C3: Imóvel cedente | P3: Imóvel receptor
A4: Data de protocolo | B4: N. processo | C4: FILA 5% | D4: SQ | E4: Lote | F4: Codlog | G4: Endereço | H4: Distrito | I4: OU Centro | J4: Declaração AIU/SCE | K4: art. 60 Lei 17.844/22 | L4: Proprietário | M4: N. Declaração | N4: Conservação - art. 129 PDE | P4: SQ | Q4: Lote | R4: Codlog | S4: Endereço | T4: Distrito | U4: Interessado | V4: N. Certidão | W4: Ano Certidão | X4: Página Livro Certidão | Y4: N. Declaração Saldo | Z4: Página Livro Saldo | AA4: Área cedida equivalente (m²) | AB4: Área recebida real (m²) | AC4: Valor de referência OODC (R$) | AD4: Data Publicação | AE4: Situação
A5: 45560 | B5: 6068.2024/0010644-9 | C5: SIM | D5: 001023 | E5: vila inglesa | F5: 137332 | G5: Rua Mauá - Vila Inglesa | H5: Sé | I5: NÃO | J5: SIM | K5: SIM | L5: ADMINISTRADORA MARQUEZA DE YTU S/A | M5: 0464/23 0465/23 0466/23 0467/23 0468/23 0471/23 0473/23 0565/24 0566/24 | N5: Termo de Compromisso 001/2019 | P5: 013041 | Q5: 0022-7, 0023-5, 0024-3, 0025-1, 0026-1 | S5: Rua Cristiano Viana, 119, 127, 131, 145, 155 | T5: Jardim Paulista | U5: VMF DESENVOLVIMENTO IMOBILIARIO LTDA | V5: 001/25 | W5: 2025 | X5: Livro 2 - 005 | Y5: 0472.EXTRATO 0464.EXTRATO 0465.EXTRATO 0466.EXTRATO 0467.EXTRATO 0468.EXTRATO 0471.EXTRATO 0473.EXTRATO 0565.EXTRATO 0566.EXTRATO | Z5: Livro 6 - 060 Livro 6 - 061 Livro 6 - 062 Livro 6 - 063 Livro 6 - 064 Livro 6 - 065 Livro 6 - 066 Livro 6 - 067 Livro 6 - 068 Livro 6 - 069 | AA5: 2217.6 | AB5: 1373.27 | AC5: 3901226.6 | AD5: 45810 | AE5: DOCUMENTAL
A6: 45561 | B6: 6068.2024/0010645-7 | C6: SIM | D6: 001023 | E6: vila inglesa | F6: 137332 | G6: Rua Mauá - Vila Inglesa | H6: Sé | I6: SIM | J6: SIM | K6: SIM | L6: ADMINISTRADORA MARQUEZA DE YTU S/A | M6: 0469/23 0470/23 0475/23 0476/23 0478/23 0479/23 0480/23 0481/23 0482/23 0483/23 | N6: Termo de Compromisso 001/2019 | P6: 013041 | Q6: 0022-7, 0023-5, 0024-3, 0025-1, 0026-1 | S6: Rua Cristiano Viana, 119, 127, 131, 145, 155 | T6: Jardim Paulista | U6: VMF DESENVOLVIMENTO IMOBILIARIO LTDA | V6: 002/25 | W6: 2025 | X6: Livro 2 - 006 | Y6: 0469.EXTRATO 0470.EXTRATO 0475.EXTRATO 0476.EXTRATO 0478.EXTRATO 0479.EXTRATO 0480.EXTRATO 0481.EXTRATO 0482.EXTRATO 0483.EXTRATO | Z6: Livro 6 - 070 Livro 6 - 071 Livro 6 - 072 Livro 6 - 073 Livro 6 - 074 Livro 6 - 075 Livro 6 - 076 Livro 6 - 077 Livro 6 - 078 Livro 6 - 079 | AA6: 2380.05 | AB6: 1475.1 | AC6: 4190508.3 | AD6: 45811 | AE6: DOCUMENTAL
A7: 45560 | B7: 6068.2024/0010659-7 | C7: SIM | D7: 001023 | E7: vila inglesa | F7: 137332 | G7: Rua Mauá - Vila Inglesa | H7: Sé | I7: NÃO | J7: SIM | K7: SIM | L7: ADMINISTRADORA MARQUEZA DE YTU S/A | M7: 0474/23 0558/24 0559/24 0560/24 0561/24 0562/24 0563/24 0564/24 | N7: Termo de Compromisso 001/2019 | P7: 013041 | Q7: 0022-7, 0023-5, 0024-3, 0025-1, 0026-1 | S7: Rua Cristiano Viana, 119, 127, 131, 145, 155 | T7: Jardim Paulista | U7: VMF DESENVOLVIMENTO IMOBILIARIO LTDA | V7: 003/25 | W7: 2025 | X7: Livro 2 - 007 | Y7: 0474.EXTRATO 0558.EXTRATO 0559.EXTRATO 0560.EXTRATO 0561.EXTRATO 0562.EXTRATO 0563.EXTRATO 0564.EXTRATO 0567.EXTRATO | Z7: Livro 6 - 080 Livro 6 - 081 Livro 6 - 082 Livro 6 - 083 Livro 6 - 084 Livro 6 - 085 Livro 6 - 086 Livro 6 - 087 Livro 6 - 088 | AA7: 2139.64 | AB7: 1327.47 | AC7: 3771116.6 | AD7: 45852 | AE7: DOCUMENTAL
A8: 45635 | B8: 6068.2024/0013307-1 | C8: SIM | D8: 050008 | E8: 0025-7 | F8: 115061 | G8: Rua Labatut, 781 | H8: Ipiranga | I8: NÃO | J8: SIM | K8: NÃO | L8: MITRA ARQUIDIOCESANA DE SAO PAULO | M8: 0376/20 | N8: Termo de Compromisso 007/2023 | P8: 016047 | Q8: 0547-7 | R8: 148040 | S8: Av Nove de Julho, 5229, 5335 | T8: Itaim Bibi | U8: M.A.R. TOKIO DESENVOLVIMENTO IMOBILIARIO SPE LTDA. | V8: 006/25 | W8: 2025 | X8: Livro 2 - 010 | Y8: 0376.EXTRATO | Z8: Livro 6 - 092 | AA8: 3870 | AB8: 683.23 | AC8: 2342577 | AD8: 45845 | AE8: DOCUMENTAL
A9: 45645 | B9: 6068.2024/0013697-6 | C9: SIM | D9: 009020 | E9: 0033-0 | F9: 091910 | G9: Rua dos Ingleses, 86 | H9: Bela Vista | I9: NÃO | J9: SIM | K9: NÃO | L9: Izildo Tadeu de Andrade | M9: 0488/23 | N9: Termo de Compromisso 005/2024 | P9: 041243 | Q9: 0020-4, 0033-6 | R9: 128473 | S9: Av dos Imarés, 370, Al dos Maracatins, 1545-1555 | T9: Moema | U9: MTR-03 ADMINISTRACAO DE BENS LTDA | V9: 008/25 | W9: 2025 | X9: Livro 2 - 012 | Y9: 0488.EXTRATO | Z9: Livro 6 - 094 | AA9: 601.77 | AB9: 307.2 | AC9: 540780.61 | AD9: 45845 | AE9: DOCUMENTAL
A10: 45645 | B10: 6068.2024/0013714-0 | C10: SIM | D10: 009020 | E10: 0034-9 | F10: 091910 | G10: Rua dos Ingleses, 78 | H10: Bela Vista | I10: NÃO | J10: SIM | K10: NÃO | L10: Felipe Teodoro de Andrade e Ana Carolina Teodoro Andrade de Castro | M10: 0489/23 | N10: Termo de Compromisso 004/2024 | P10: 041243 | Q10: 0020-4, 0033-6 | R10: 128473 | S10: Av dos Imarés, 370, Al dos Maracatins, 1545-1555 | T10: Moema | U10: MTR-03 ADMINISTRACAO DE BENS LTDA | V10: 009/25 | W10: 2025 | X10: Livro 2 - 013 | Y10: 0489.EXTRATO | Z10: Livro 6 - 095 | AA10: 245.52 | AB10: 478.03 | AC10: 429581.66 | AD10: 45845 | AE10: DOCUMENTAL
A11: 45646 | B11: 6068.2024/0013740-9 | C11: SIM | D11: 009020 | E11: 0032-2 | F11: 091910 | G11: Rua dos Ingleses, 92 | H11: Bela Vista | I11: NÃO | J11: SIM | K11: NÃO | L11: Izildo Tadeu de Andrade | M11: 0495/23 | N11: Termo de Compromisso 006/2024 | P11: 041243 | Q11: 0020-4, 0033-6 | R11: 128473 | S11: Av dos Imarés, 370, Al dos Maracatins, 1545-1555 | T11: Moema | U11: MTR-03 ADMINISTRACAO DE BENS LTDA | V11: 007/25 | W11: 2025 | X11: Livro 2 - 011 | Y11: 0495.EXTRATO | Z11: Livro 6 - 093 | AA11: 324 | AB11: 647.97 | AC11: 582298.24 | AD11: 45845 | AE11: DOCUMENTAL
