Workbook
Name OUC: #REF!
Name SITUAÇÃO: #REF!
Name STATUS: #REF!

Sheet Declaração - ZEPEC
A1: N. processo | B1: SQ | C1: Lote | D1: Endereço | E1: Distrito | F1: N. Declaração | G1: Data publicação | H1: Ano publicação | I1: Situação | J1: Status Declaração
A2: 10-011.610-86*63 | B2: 002059 | C2: 0054-2 | D2: Páteo do Colégio, 34 | E2: Sé | F2: 0001 | G2: 32477 | H2: 1988 | I2: DOCUMENTAL | J2: DISPONÍVEL.T
A3: 13-000.152-96*12 | B3: 005046 | C3: 0099-0 | D3: Pç Dr Mário Margarido, 34 | E3: Sé | F3: 0002 | G3: 35390 | H3: 1996 | I3: DOCUMENTAL | J3: DISPONÍVEL
A4: 13-000.152-96*12 | B4: 005046 | C4: 0096-6 | D4: Vila Suíça, 2A | E4: Sé | F4: 0003 | G4: 35390 | H4: 1996 | I4: DOCUMENTAL | J4: DISPONÍVEL
A5: 6068.2021/0010710-5 | B5: 001049 | C5: 0235-3 | D5: Largo São Bento , s/nº | E5: Sé | F5: 0004G/18 2ª via | G5: 44991 | H5: 2023 | I5: DOCUMENTAL | J5: DISPONÍVEL.T
A6: 7810.2018/0000558-2 | B6: 005003 | C6: 0003-8 | D6: Pç do Patriarca, 49 | E6: Sé | F6: 0005A | G6: 43427 | H6: 2018 | I6: DOCUMENTAL | J6: DISPONÍVEL.T
A7: 6068.2024/0000564-2 | B7: 001049 | C7: 0235-3 | D7: R Florêncio de Abreu, 111 | E7: Sé | F7: 0549/24 | G7: 45477 | H7: 2024 | I7: DOCUMENTAL | J7: DISPONÍVEL
A8: 6068.2021/0011444-6 | B8: 001082 | C8: 0015-9 | D8: R Quinze de Novembro, 275 e 289 | E8: Sé | F8: 0007/21 - 2ª via | G8: 44588 | H8: 2022 | I8: DOCUMENTAL | J8: DISPONÍVEL
A9: 1998-0.084.005-2 | B9: 006021 | C9: 0675-3 | D9: R Major Quedinho, 28, 44, 76 | E9: República | F9: 0008A | G9: 37726 | H9: 2003 | I9: DOCUMENTAL | J9: DISPONÍVEL.T
A10: 1999-0.036.508-9 | B10: 007050 | C10: 0009, 0010, 0011 | D10: R Bento Freitas, 76, 86, 88 | E10: República | F10: 0010 | G10: 36508 | H10: 1999 | I10: DOCUMENTAL | J10: DISPONÍVEL.T
A11: 6068.2022/0005706-1 | B11: 001082 | C11: 0014-0 | D11: R Alvares Penteado, 112 | E11: Sé | F11: 0011A/23 2ª via | G11: 45097 | H11: 2023 | I11: DOCUMENTAL | J11: DISPONÍVEL.T
A12: 1999-0.099.516-3 | B12: 008039 | C12: 0048 | D12: R Mauá, 51 | E12: Bom Retiro | F12: 0012 | G12: 36663 | H12: 2000 | I12: DOCUMENTAL | J12: DISPONÍVEL
A13: 1999-0.231.617-4 | B13: 001057 | C13: 0239 a 0257 | D13: R Antonio Godoy, 88 | E13: República | F13: 0013 | G13: 36676 | H13: 2000 | I13: DOCUMENTAL | J13: DISPONÍVEL
... A234: 6068.2019/0004377-4 | B234: 004011 | C234: 0006-5 | D234: R do Glicério, 225 | E234: Sé | F234: 0313/19 | G234: 44201 | H234: 2021 | I234: DOCUMENTAL | J234: DISPONÍVEL
A235: 6068.2024/0007789-9 | B235: 004011 | C235: 38838 | D235: R do Glicério, 215 a 245 | E235: Sé | F235: 0578/24 | G235: 45579 | H235: 2024 | I235: DOCUMENTAL | J235: DISPONÍVEL
A236: 6068.2023/0005538-9 | B236: 001062 | C236: 00 11-9 | D236: R Libero Badaró, 624 e 628 | E236: Sé | F236: 0516/23 | G236: 45205 | H236: 2023 | I236: DOCUMENTAL | J236: DISPONÍVEL
A237: 6068.2019/0004681-1 | B237: 001050 | C237: 0002-7 | D237: R Florêncio de Abreu, 112 e 116 | E237: Sé | F237: 0315/20 | G237: 43876 | H237: 2020 | I237: DOCUMENTAL | J237: DISPONÍVEL
A238: 6068.2019/0004822-9 | B238: 001083 | C238: 0020-1 | D238: R Quinze de Novembro, 250, 256 e 260 | E238: Sé | F238: 0316/20 | G238: 43984 | H238: 2020 | I238: DOCUMENTAL | J238: DISPONÍVEL
A239: 6066.2019/0005619-0 | B239: 001050 | C239: 0024-8 | D239: R Florêncio de Abreu, 304 | E239: Sé | F239: 0317/20 | G239: 43907 | H239: 2020 | I239: DOCUMENTAL | J239: DISPONÍVEL
A240: 6066.2019/0005637-9 | B240: 007091 | C240: 0306-9 | D240: Av Ipiranga, 135 | E240: República | F240: 0319/20 | G240: 43909 | H240: 2020 | I240: DOCUMENTAL | J240: DISPONÍVEL
A241: 6066.2019/0005910-6 | B241: 001061 | C241: 0009-2 | D241: Av São João, 102 e 104 | E241: Sé | F241: 0320/20 | G241: 43880 | H241: 2020 | I241: DOCUMENTAL | J241: DISPONÍVEL
A242: 6068.2023/0004415-8 | B242: 005087 | C242: 0017-5 | D242: Av da Liberdade, 688, 692, 698 e 702 | E242: Liberdade | F242: 0518/23 | G242: 45205 | H242: 2023 | I242: DOCUMENTAL | J242: DISPONÍVEL
A243: 6066.2019/0005912-2 | B243: 001050 | C243: 0113-9 | D243: R Vinte e Cinco de Março, 739 | E243: Sé | F243: 0323/20 | G243: 43866 | H243: 2020 | I243: DOCUMENTAL | J243: DISPONÍVEL
A244: 6068.2019/0004679-0 | B244: 001050 | C244: 0001-9 | D244: R Florêncio de Abreu, 106 e 110 | E244: Sé | F244: 0326/20 | G244: 43875 | H244: 2020 | I244: DOCUMENTAL | J244: DISPONÍVEL
A245: 6068.2023/0011343-5 | B245: 001063 | C245: 0052-0 | D245: Pç Antônio Prado, 48 e R João Brícola, 37 e 43 | E245: Sé | F245: 0547/24 | G245: 45477 | H245: 2024 | I245: DOCUMENTAL | J245: DISPONÍVEL
A246: 6066.2019/0006779-6 | B246: 008023 | C246: 0251-3 | D246: Al Glete, 444 e 448 / R Guaianases, 983 | E246: Santa Cecília | F246: 0328/20 | G246: 43883 | H246: 2020 | I246: DOCUMENTAL | J246: DISPONÍVEL
A247: 6066.2019/0007450-4 | B247: 038003 | C247: 0006-0 | D247: R Maestro Cardim, 601, casas 01 e 01A | E247: Bela Vista | F247: 0329/20 | G247: 43921 | H247: 2020 | I247: DOCUMENTAL | J247: DISPONÍVEL
... A273: 6068.2023/0001607-3 | B273: 005014 | C273: 0030-3 | D273: Largo São Francisco, 19 | E273: Sé | F273: 0515/23 | G273: 45208 | H273: 2023 | I273: DOCUMENTAL | J273: DISPONÍVEL
A274: 6068.2023/0006142-7 | B274: 008081 | C274: 42491 | D274: RUA SANTA EFIGÊNIA, 401, 403, 407 | E274: República | F274: 0528/23 | G274: 45308 | H274: 2024 | I274: DOCUMENTAL | J274: DISPONÍVEL
A275: 6066.2020/0001532-1 | B275: 037064 | C275: 0013-8, 0014-8 | D275: R Domingos de Morais 1410, 1412, 1414 e 1416 | E275: Vila Mariana | F275: 0361/20 | G275: 44106 | H275: 2020 | I275: DOCUMENTAL | J275: DISPONÍVEL
A276: 6066.2020/0000076-6 | B276: 003006 | C276: 0019-4 | D276: R dos Carmelitas, 150 | E276: Sé | F276: 0362/20 | G276: 43991 | H276: 2020 | I276: DOCUMENTAL | J276: DISPONÍVEL
A277: 6066.2020/0001704-9 | B277: 033039 | C277: 0036-1 | D277: R do Lavapés, 336 -342 | E277: Liberdade | F277: 0363/20 | G277: 43988 | H277: 2020 | I277: DOCUMENTAL | J277: DISPONÍVEL
A278: 6066.2020/0001706-5 | B278: 033039 | C278: 0038-8 | D278: R do Lavapés, 350-354 | E278: Liberdade | F278: 0364/20 | G278: 43988 | H278: 2020 | I278: DOCUMENTAL | J278: DISPONÍVEL
A279: 6066.2019/0007762-7 | B279: 006064 | C279: 4368 à 4412 | D279: Av São Luís, 86 | E279: Sé | F279: 0365/20 | G279: 44006 | H279: 2020 | I279: DOCUMENTAL | J279: DISPONÍVEL
A280: 6068.2023/0003570-1 | B280: 006064 | C280: COND 16 | D280: Av São Luiz, 84, 86 e 96 | E280: República | F280: 0536/23 | G280: 45280 | H280: 2023 | I280: DOCUMENTAL | J280: DISPONÍVEL
A281: 6066.2020/0001702-2 | B281: 033040 | C281: 0033-7 | D281: R do Lavapés, 318-320 | E281: Liberdade | F281: 0366/20 | G281: 43991 | H281: 2020 | I281: DOCUMENTAL | J281: DISPONÍVEL
A282: 6066.2020/0002210-7 | B282: 035064 | C282: 0005-3 | D282: R Jorge Moreira, 62 | E282: Ipiranga | F282: 0367/20 | G282: 44337 | H282: 2021 | I282: DOCUMENTAL | J282: DISPONÍVEL
A283: 6066.2020/0001749-9 | B283: 021091 | C283: 0037-0 | D283: R Cardoso de Almeida, 1538 | E283: Perdizes | F283: 0368/20 | G283: 43959 | H283: 2020 | I283: DOCUMENTAL | J283: DISPONÍVEL
A284: 6066.2020/0002211-5 | B284: 015049 | C284: 0021-9 | D284: R Sampaio Vidal, 564 | E284: Pinheiros | F284: 0370/20 | G284: 44168 | H284: 2020 | I284: DOCUMENTAL | J284: DISPONÍVEL
A285: 6066.2020/0002304-9 | B285: 033021 | C285: 0417-0 | D285: R São Joaquim, 381 | E285: Liberdade | F285: 0371/20 | G285: 44091 | H285: 2020 | I285: DOCUMENTAL | J285: DISPONÍVEL
...

Sheet Sintese ZEPEC
A1: COUNTA of N. processo | B1: Status Declaração
A2: Ano publicação | B2: CANCELADA | C2: DISPONÍVEL | D2: DISPONÍVEL.T | E2: EM ANÁLISE | F2: ESGOTADA | G2: NÃO EMITIDA | H2: (vazio) | I2: Total Geral | L2: DEUSO/DMUS 2020
A3: 1988 | D3: 1 | I3: 1 | L3: ZEPEC | M3: Declarações | N3: 108 | O3: 147
A4: 1989 | D4: 1 | I4: 1 | M4: Certidões | N4: 15 | O4: 29
A5: 1996 | C5: 2 | I5: 2 | L5: ZEPAM | M5: Declarações | N5: 1 | O5: 2
A6: 1998 | B6: 4 | I6: 4 | M6: Certidões | N6: 1 | O6: 2
A7: 1999 | B7: 1 | C7: 1 | D7: 1 | F7: 1 | I7: 4 | L7: Com doação | M7: Declarações | N7: 9 | O7: 23
A8: 2000 | B8: 1 | C8: 4 | I8: 5 | M8: Certidões | N8: 9 | O8: 18
A9: 2001 | C9: 3 | F9: 1 | I9: 4
A10: 2002 | B10: 1 | F10: 1 | I10: 2
A11: 2003 | B11: 2 | C11: 2 | D11: 1 | F11: 1 | I11: 6 | L11: DEUSO/DMUS 2021
A12: 2005 | B12: 1 | C12: 1 | I12: 2 | L12: ZEPEC | M12: Declarações | N12: 39 | O12: 39
A13: 2006 | B13: 1 | F13: 1 | I13: 2 | M13: Certidões | N13: 14 | O13: 14
A14: 2008 | B14: 3 | C14: 2 | D14: 1 | I14: 6 | L14: ZEPAM | M14: Declarações | N14: 1 | O14: 1
A15: 2009 | B15: 6 | D15: 1 | F15: 2 | I15: 9 | M15: Certidões | N15: 1 | O15: 1
A16: 2010 | B16: 7 | D16: 2 | F16: 2 | I16: 11 | L16: Com doação | M16: Declarações | N16: 14 | O16: 14
A17: 2011 | B17: 8 | F17: 3 | I17: 11 | M17: Certidões | N17: 9 | O17: 9
A18: 2012 | B18: 3 | C18: 2 | D18: 2 | F18: 9 | I18: 16
A19: 2013 | B19: 5 | C19: 2 | D19: 2 | F19: 7 | G19: 1 | I19: 17
A20: 2014 | B20: 4 | C20: 3 | D20: 1 | F20: 4 | G20: 3 | I20: 15 | L20: DEUSO/DMUS 2022
A21: 2015 | B21: 7 | C21: 51 | F21: 6 | G21: 2 | I21: 66 | L21: ZEPEC | M21: Declarações | N21: 21 | O21: 21
A22: 2016 | B22: 7 | C22: 11 | F22: 5 | G22: 24 | I22: 47 | M22: Certidões | N22: 6 | O22: 6
A23: 2017 | B23: 37 | C23: 6 | D23: 2 | F23: 16 | G23: 8 | I23: 69 | L23: ZEPAM | M23: Declarações | N23: 1 | O23: 1
A24: 2018 | B24: 13 | C24: 25 | D24: 3 | F24: 12 | G24: 14 | I24: 67 | M24: Certidões | N24: 1 | O24: 1
A25: 2019 | B25: 20 | C25: 38 | D25: 3 | F25: 17 | G25: 19 | I25: 97 | L25: Com doação | M25: Declarações | N25: 10 | O25: 10
A26: 2020 | B26: 26 | C26: 60 | D26: 2 | F26: 10 | G26: 21 | I26: 119 | M26: Certidões | N26: 9 | O26: 9
A27: 2021 | B27: 9 | C27: 28 | D27: 3 | F27: 11 | G27: 46 | I27: 97
A28: 2022 | B28: 5 | C28: 11 | D28: 2 | F28: 3 | G28: 18 | I28: 39
A29: 2023 | B29: 4 | C29: 62 | D29: 4 | F29: 7 | G29: 43 | I29: 120 | L29: DEUSO/DMUS 2023
A30: 2024 | B30: 3 | C30: 49 | D30: 3 | F30: 2 | G30: 28 | I30: 85 | L30: ZEPEC | M30: Declarações | N30: 72 | O30: 72
A31: 2025 | C31: 24 | D31: 1 | E31: 1 | F31: 29 | G31: 13 | H31: 2 | I31: 70 | M31: Certidões | N31: 8 | O31: 8
A32: 2026 | C32: 3 | E32: 8 | F32: 2 | G32: 1 | H32: 3 | I32: 17 | L32: ZEPAM | M32: Declarações | N32: 2 | O32: 2
A33: - | E33: 6 | G33: 9 | I33: 15 | M33: Certidões | N33: 2 | O33: 2
A34: ? | B34: 1 | G34: 5 | I34: 6 | L34: Com doação | M34: Declarações | N34: 4 | O34: 4
A35: (vazio) | D35: 1 | E35: 38 | F35: 1 | G35: 1 | H35: 17 | I35: 58 | M35: Certidões | N35: 6 | O35: 6
A36: Total Geral | B36: 179 | C36: 390 | D36: 37 | E36: 53 | F36: 153 | G36: 256 | H36: 22 | I36: 1090
L38: DEUSO/DMUS 2024
L39: ZEPEC | M39: Declarações | N39: 43 | O39: 43
M40: Certidões | N40: 4 | O40: 4
L41: ZEPAM | M41: Declarações | N41: 1 | O41: 1
...

Sheet Certidão - ZEPEC
H3: Imóvel receptor
A4: N. processo | B4: SQ | C4: Lote | D4: Endereço | E4: Distrito | F4: N. Declaração | G4: Conservação - art. 129 PDE | H4: SQ | I4: Lote | J4: Endereço | K4: Distrito | L4: N. Certidão | M4: Ano Certidão | N4: N. Declaração Saldo | O4: Área cedida equivalente (m²) | P4: Área recebida real (m²) | Q4: Data Publicação | R4: Situação | S4: Observação | T4: Solicitação DSIZ | U4: Preenchimetno de tabela de atributos QGIS | V4: Qtd. lotes receptor | W4: REVISAR
A5: 1995-0.017.263-1 | B5: 299014 | C5: 0177-1 | D5: Av Brigadeiro Faria Lima, 3477 | E5: Itaim Bibi | F5: - | G5: - | H5: 299014 | I5: 0177-1 | J5: Av Brigadeiro Faria Lima, 3477 | K5: Itaim Bibi | L5: 16/00-OU FL | M5: 2000 | N5: 016.EXTRATO CERTIDÃO Nº 16/00/SEMPLA | O5: 46098 | P5: 46098 | Q5: 36789 | R5: DOCUMENTAL | S5: Tratado no âmbito da CNLU e da CE OUFL, não foi emtida Declaração. A construção nova se utilizou concomitantemente da TDC e deCEPAC.
A6: 10-011.610-86-63 | B6: 002059 | C6: 0054-2 | D6: Páteo do Colégio, 34 | E6: Sé | F6: 0001 | G6: - | H6: 002073 | I6: 0006 (atual 0013) | J6: R Roberto Simonsen | K6: Sé | L6: 001/89 | M6: 1989 | N6: 0001A | O6: 3827.21 | P6: 3827.21 | Q6: 32687 | R6: DOCUMENTAL | S6: Esta Certidão está no Livro 1 de Declaração. A Declaração de Saldo não foi emitida. Foi pago o valor de NCz$ 10.876,05.
A7: 2016-0.232.665-3 | B7: 001049 | C7: 0235-3 | D7: Largo São Bento, s/n | E7: Sé | F7: 0004/17 - 2a via | G7: Atestado de Conservação 001/2016 | H7: 014050 | I7: 0090-2, 0496-7, 0086-4, 0085-6, 0084-8 | J7: R José Maria Lisboa, 745, 753, 757 / Av Nove de Julho, 3.123, 3.127 e 3.133 | K7: Jardim Paulista | L7: 008/17 | M7: 2017 | N7: 004A/17 | O7: 8107.37 | P7: 6292 | Q7: 43083 | R7: DOCUMENTAL | S7: Publicada em 22/11/2017, retificada em 25/11/2017 e retificada em 14/12/2017.
A8: 2017-0.098.912-6 | B8: 001049 | C8: 0235-3 | D8: Largo São Bento, s/n | E8: Sé | F8: 0004A/17 | G8: Atestado de Conservação 001/2016 | H8: 014039 | I8: 0022-1, 0023-1 | J8: Al Lorena, 870 e 878 | K8: Jardim Paulista | L8: 018/17 | M8: 2017 | N8: 0004B/17 | O8: 1910.96 | P8: 1511.79 | Q8: 43130 | R8: DOCUMENTAL
A9: 2017-0.155.948-6 | B9: 001049 | C9: 0235-3 | D9: Largo São Bento, s/n | E9: Sé | F9: 0004B/17 | G9: Atestado de Conservação 001/2016 | H9: 036050 | I9: 0012-6, 0061-4, 0064-9 | J9: R Afonso de Freitas, 59/61 e 75/83 | K9: Vila Mariana | L9: 006/18 | M9: 2018 | N9: 0004C/18 | O9: 4314.14 | P9: 5537.23 | Q9: 43169 | R9: DOCUMENTAL
A10: 2015-0.169.394-4 | B10: 001049 | C10: 0235-3 | D10: Largo São Bento, s/n | E10: Sé | F10: 0004C/18 | G10: Atestado de Conservação 001/2016 | H10: 299036 | I10: 001-1,0002-8,0003-6,0018-4,0019-2 e0020-6. | J10: R Ministro Jesuíno Cardoso, 120, Itaim Bibi, Pinheiros | K10: Itaim Bibi | L10: 011/18 | M10: 2018 | N10: 0004D/18 | O10: 2127.37 | P10: 1692.75 | Q10: 43236 | R10: DOCUMENTAL
A11: 2018-0.020.730-8 | B11: 001049 | C11: 0235-3 | D11: Largo São Bento, s/n | E11: Sé | F11: 0004D/18 | G11: Atestado de Conservação 001/2016 | H11: 015044 | I11: 0211-1 | J11: R Cunha Gago, 444 | K11: Pinheiros | L11: 020/18 | M11: 2018 | N11: 0004E/18 | O11: 3279.07 | P11: 4392.97 | Q11: 43301 | R11: DOCUMENTAL
A12: 2018-0.037.953-2 | B12: 001049 | C12: 0235-3 | D12: Largo São Bento, s/n | E12: Sé | F12: 0004E/18 | G12: Atestado de Conservação 001/2016 | H12: 009073 | I12: 0362-5 | J12: R Pamplona, 1004 | K12: Jardim Paulista | L12: 022/18 | M12: 2018 | N12: 0004F/18 | O12: 4144.09 | P12: 3057.51 | Q12: 43361 | R12: DOCUMENTAL
A13: 2018-0.064.423-6 | B13: 001049 | C13: 0235-3 | D13: Largo São Bento, s/n | E13: Sé | F13: 0004F/18 | G13: Atestado de Conservação 001/2016 | H13: 086043 | I13: 0014-7, 0015-5, 0028-7, 0059-7 e 0060-0 | J13: R Otávio Tarquínio de Souza / R Sul / R Princesa Isabel | K13: Campo Belo | L13: 003/19 | M13: 2019 | N13: 0004G/18 | O13: 2101.46 | P13: 2756.07 | Q13: 43481 | R13: DOCUMENTAL
A14: 7810.2018/0000558-2 | B14: 005003 | C14: 0003-8 | D14: Praça Patriarca, 49 | E14: Sé | F14: 0005/98 | G14: Termo de Compromisso 008/2018 | H14: 014018 | I14: 0497-7 | J14: Al Lorena, 1335 | K14: Jardim Paulista | L14: 028/18 | M14: 2018 | N14: 0005A/18 | O14: 1632.8 | P14: 779.01 | Q14: 43427 | R14: DOCUMENTAL
A15: 1998-0.084.005-2 | B15: 008021 | C15: 0843, 0842, 0844 | D15: R Major Quedinho, 28, 44, 76 | E15: Santa Cecília | F15: 0008 | G15: Termo de Compromisso nº 016-051/2001/EMURB/OUC | H15: 072070 | I15: 0018-9, 0025-1, 0035-9, 0036-7, 0040-5, 0041-3, 0048-0, 0051-0, 0052-9, 0054-5, 0055-3, 0081-2, 0082-0 | J15: R Conselheiro Moreira de Barros, 1148 a 1218 | K15: Santana | L15: 002/03 | M15: 2003 | N15: 0008A | O15: 3367.14 | P15: 3296.25 | Q15: 37726 | R15: DOCUMENTAL | S15: Certidão 004/03 publicada em 20/12/2003 é exatamente igual a essa Certidão.
A16: 1998-0.093.770-6 | B16: 008053 | C16: 0004 | D16: Av São João, 1214, 1222, 1236, 1238 | E16: República | F16: 0009 | G16: - | H16: 042011 | I16: 0416 a 0428 | J16: R Afonso Celso, 171 | K16: Vila Mariana | L16: 003/01 SEMPLA | M16: 2001 | N16: 0009 ESGOTADO | O16: 2696.31 | P16: 3580 | Q16: 36892 | R16: DOCUMENTAL | S16: Despacho SEMPLA/CNLU 922 E 923/2000
A17: 1998-0.241.812-9 | B17: 007050 | C17: 0009, 0010, 0011 | D17: R Bento Freitas, 76, 86, 88 | E17: República | F17: 0010 | G17: Termo de Compromisso nº 034-041/2001/EMURB/OUC | H17: 045045 | I17: 0090 a 0102 | J17: Av Açocê, 562 / Al dos Anapurus, 500 | K17: Moema | L17: 004/01 SEMPLA | M17: 2001 | N17: 0010A | O17: 2657.56 | P17: 1600 | Q17: 36892 | R17: DOCUMENTAL | S17: A Declaração de Saldo não foi emitida.
A18: 1998-0.241.814-5 | B18: 001082 | C18: 0014 | D18: R Álvares Penteado, 112 / R da Quitanda, 18 | E18: Sé | F18: 0011 | G18: - | H18: 041150 | I18: 0005-8, 0006-6, 0007-4, 0008-2 | J18: Al dos Jurupis, 303 a 335 | K18: Moema | L18: 003/03 | M18: 2003 | N18: 0011A | O18: 2090.3 | P18: 2566.71 | Q18: 37761 | R18: DOCUMENTAL
A19: 2002-0.048.049-5 | B19: 005044 | C19: 0116-5 (atual 0122-1) | D19: R Conde de Sarzedas, 100 | E19: Sé | F19: 0020 | G19: - | H19: 005044 | I19: 0116-5 (atual 0122-1) | J19: R Conde de Sarzedas, 100 | K19: Sé | L19: 001/03 | M19: 2003 | N19: 0020 ESGOTADO | O19: 19027 | P19: 19027 | Q19: 37677 | R19: DOCUMENTAL | S19: DESPACHO SEMPLA/CNLU/1080/2002. Esta Certidão está no Livro 1 de Declaração. Não foi emitido Extrato.
A20: 2009-0.230.658-4 | B20: 033017 | C20: 0013-6 | D20: R Pirapitingui, 111 | E20: Liberdade | F20: 0024A | G20: - | H20: 038019 | I20: 0010-1, 0011-8, 0031-2, 0032-0, 0033-9 | J20: R Apeninos, 429, 441, 451, 453 / R Gualaxos, 156, 166 | K20: Liberdade | L20: 003/09 | M20: 2009 | N20: 0024B | O20: 3117.78 | P20: 1538 | Q20: 40053 | R20: DOCUMENTAL
A21: 2009-0.230.669-0 | B21: 033017 | C21: 0013-6 | D21: R Pirapitingui, 111 | E21: Liberdade | F21: 0024B | G21: - | H21: 103025 | I21: 4805-9, 4804-0, 4803-2, 4802-4, 4801-6, 4800-8 | J21: Av Guido Caloi, s/n | K21: Jardim São Luís | L21: 005/09 | M21: 2009 | N21: 0024C | O21: 3346.3 | P21: 9687.56 | Q21: 40155 | R21: DOCUMENTAL
A22: 2009-0.352.153-5 | B22: 033017 | C22: 0013-6 | D22: R Pirapitingui, 111 | E22: Liberdade | F22: 0024C | G22: - | H22: 069164 | I22: 0008-0, 0009-9, 0010-2, 0011-0, 0012-9, 0013-7, 0014-5, 0069-2, 0070-6 | J22: R Nunes Garcia, 114, 122 / R Conselheiro Saraiva, 207, 217, 223, 229, 241, 249, 253 | K22: Santana | L22: 002/10 | M22: 2010 | N22: 0024D | O22: 1310.67 | P22: 1666 | Q22: 40255 | R22: DOCUMENTAL
A23: 2007-0.139.554-7 | B23: 009019 | C23: 0034-6 | D23: R dos Franceses, 296 | E23: Bela Vista | F23: 0025 | G23: - | H23: 046011 | I23: 0002-1, 0031-3, 0072-0 | J23: R Visconde de Guaratiba, 301 / R Coronel Deraldo Jordão, 214, 218, 220, 228, 230, 234, 240 | K23: Cursino | L23: 001/08 | M23: 2008 | N23: 0025A | O23: 199.09 | P23: 1246.32 | Q23: 39490 | R23: DOCUMENTAL
A24: 2008-0.115.978-0 | B24: 009019 | C24: 0034-6 | D24: R dos Franceses, 296 | E24: Bela Vista | F24: 0025A | G24: - | H24: 029010 | I24: 0160-2, 0161-0 | J24: R Prof Rodolfo São Tiago, 75 | K24: Belém | L24: 002/08 | M24: 2008 | N24: 0025B | O24: 1481.45 | P24: 13340.49 | Q24: 39637 | R24: DOCUMENTAL
A25: 2008-0.210.871-3 | B25: 009019 | C25: 0034-6 | D25: R dos Franceses, 296 | E25: Bela Vista | F25: 0025B | G25: - | H25: 097009 | I25: 0001-0 | J25: Av Mofarrej, 1500 | K25: Vila Leopoldina | L25: 003/08 | M25: 2008 | N25: 0025C | O25: 944.16 | P25: 4286.5 | Q25: 39676 | R25: DOCUMENTAL
A26: 2008-0.210.877-2 | B26: 009019 | C26: 0034-6 | D26: R dos Franceses, 296 | E26: Bela Vista | F26: 0025C | G26: - | H26: 097002 | I26: 0010-8 | J26: Av Mofarrej, 1130 | K26: Vila Leopoldina | L26: 004/08 | M26: 2008 | N26: 0025D | O26: 693.17 | P26: 3147 | Q26: 39676 | R26: DOCUMENTAL
A27: 2008-0.350.586-4 | B27: 007054 | C27: 0001-8 | D27: Av Higienópolis, 18 | E27: Consolação | F27: 0026 | G27: - | H27: 062080 | I27: 0182-1 | J27: R Coronel Gustavo Santiago, 251, 265, 281 | K27: Tatuapé | L27: 001/09 | M27: 2009 | N27: 0026A | O27: 1247.17 | P27: 3195.74 | Q27: 39862 | R27: DOCUMENTAL
A28: 2008-0.350.581-3 | B28: 007054 | C28: 0001-8 | D28: Av Higienópolis, 18 | E28: Consolação | F28: 0026A | G28: - | H28: 062146 | I28: 0006-3, 0007-1, 0008-1, 0012-8, 0040-3, 0013-6, 0014-4 | J28: R Coronel Gustavo Santiago, 94 | K28: Tatuapé | L28: 002/09 | M28: 2009 | N28: 0026B | O28: 881.67 | P28: 2246.75 | Q28: 39956 | R28: DOCUMENTAL
A29: 2009-0.076.990-0 | B29: 007054 | C29: 0001-8 | D29: Av Higienópolis, 18 | E29: Consolação | F29: 0026C | G29: - | H29: 098058 | I29: 0009-1, 0044-1, 0042-3, 0046-6, 0030-1, 0007-5, 0004-0, 0040-7, 0023-7, 0024-5, 0025-3, 0026-1, 0027-1, 0028-8, 0008-3 | J29: R Sacadura Cabral, 160, 186, 206 / R Gago Coutinho 363, 365, 379, 387/ R Guaricanga, 78 | K29: Lapa | L29: 004/10 | M29: 2010 | N29: 0026D | O29: 2977.95 | P29: 3662.88 | Q29: 40313 | R29: DOCUMENTAL | S29: Não houve contrapartida financeira de OODC.
A30: 6068.2019/0004043-0 | B30: 007054 | C30: 0001-8 | D30: Av Higienópolis, 18 | E30: Consolação | F30: 0026D | G30: Termo de Compromisso 001/2018 | H30: 038084 | I30: 0002-1, 0003-1, 0019-6, 0020-1, 0021-8, 0022-6, 0023-4, 0024-2, 0025-0, 0035-8, 0036-6 | J30: R Carlos Petit, 205, 215 e 225 / R Joaquim Távora, 229 a 259 | K30: Vila Mariana | L30: 015/19 | M30: 2019 | N30: 0026E/18 | O30: 2.149,72 | P30: 6238.74 | Q30: 43701 | R30: DOCUMENTAL | S30: Esta Certidão anula e substitui a Certidão 018/18. (A área cedida é de 1.736,05 m², mas essa metragem não foi alterada por já existirem outras transferências posteriores a partir deste imóvel). | W30: Rever e se necessário, atualizar status
A31: 6068.2018/0003180-4 | B31: 007054 | C31: 0001-8 | D31: Av Higienópolis, 18 | E31: Consolação | F31: 0026E/18 | G31: Termo de Compromisso 001/2018 | H31: 021058 | I31: 0021-1, 0022-1, 0023-8, 0024-6, 0026-2, 0027-0, 0028-9, 0054-8, 0055-6, 0056-4, 0057-0, 0058-0, 0059-9, 0069-6 | J31: R Bartira, 996 a 1042 / R Apiacás, 285 a 269 | K31: Perdizes | L31: 032/18 | M31: 2018 | N31: 0026F/18 | O31: 3265.07 | P31: 8311.57 | Q31: 43488 | R31: DOCUMENTAL
A32: 6068.2019/0001521-5 | B32: 007054 | C32: 0001-8 | D32: Av Higienópolis, 18 | E32: Consolação | F32: 0026F/18 | G32: Termo de Compromisso 001/2018 | H32: 038072 | I32: 0039-8, 0040-1, 0041-1, 0042-8, 0043-6, 0044-4, 0045-2, 0046-0, 0047-9, 0048-7, 0049-5, 0050-9 | J32: R Gregório Serrão, 146, 152, 154, 160, 164, 166, 172, 182, 194, 204, 206, 214, 218, 232 | K32: Vila Mariana | L32: 007/19 | M32: 2019 | N32: 0026G/19 | O32: 2260.4 | P32: 8908.09 | Q32: 43642 | R32: DOCUMENTAL
A33: 6066.2019/0006455-0 | B33: 007054 | C33: 0001-8 | D33: Av Higienópolis, 18 | E33: Consolação | F33: 0026G/19 | G33: Termo de Compromisso 001/2018 | H33: 010023 | I33: 0116-5, 0117-3, 0058-4, 0057-6, 1534-4, 1346-5 e 0118-1 | J33: R da Consolação, 1559 a 1637 / R Bela Cintra, 306 a 314 | K33: Consolação | L33: 025/19 | M33: 2019 | N33: 0026.EXTRATO | O33: 4252.46 | P33: 3834.84 | Q33: 43813 | R33: DOCUMENTAL
A34: 2009-0.363.850-5 | B34: 306028 | C34: 0040-1 | D34: R Sóror Angélica, 364 | E34: Casa Verde | F34: 0029 | G34: - | H34: 087460 | I34: 0001-1 | J34: R Engenheiro Francisco Pitta, 702 | K34: Santo Amaro | L34: 001/09 | M34: 2010 | N34: 0029A | O34: 1663.14 | P34: 1682.93 | Q34: 40239 | R34: DOCUMENTAL
A35: 2009-0.273.045-9 | B35: 007054 | C35: 0001-8 | D35: Av Higienópolis, 18 | E35: Consolação | F35: 0029 | G35: - | H35: 047284 | I35: 0224-1 | J35: Al dos Tupinás, 33 / R José Líbero, 45 | K35: Saúde | L35: 006/09 | M35: 2009 | N35: 0026C | O35: 576.58 | P35: 1424.16 | Q35: 40185 | R35: DOCUMENTAL
A36: 2009-0.190.516-6 | B36: 040199 | C36: 0208-9 | D36: R Dr Mário Vicente, 1108 | E36: Ipiranga | F36: 0030 | G36: - | H36: 007005 | I36: 0313-7, 0314-5, 0315-3, 0316-1, 0317-1, 0318-8 | J36: Praça Marechal Deodoro, 13 / Av Angélica, 341 | K36: Santa Cecília | L36: 004/09 | M36: 2009 | N36: 0030A | O36: 2655.87 | P36: 2223.84 | Q36: 40140 | R36: DOCUMENTAL
A37: 2009-0.352.163-2 | B37: 040199 | C37: 0208-9 | D37: R Dr Mário Vicente, 1108 | E37: Ipiranga | F37: 0030A | G37: - | H37: 010037 | I37: 0068-3, 0069-1, 0070-5, 0020-9, 0021-7, 0105-1 | J37: R da Consolação, 2232, 2238, 2240, 2244, 2246, Av Angélica, 2467, 2471, 2473, 2475, 2491 | K37: Consolação | L37: 003/10 | M37: 2010 | N37: 0030B | O37: 5180.45 | P37: 2325 | Q37: 40267 | R37: DOCUMENTAL
A38: 2010-0.139.825-0 | B38: 040199 | C38: 0208-9 | D38: R Dr Mário Vicente, 1108 | E38: Ipiranga | F38: 0030B | G38: - | H38: 036003 | I38: 0101-2, 0102-0, 0103-9 | J38: Av Brigadeiro Luís Antonio, 2543, 2567, 2571 | K38: Vila Mariana | L38: 005/10 | M38: 2010 | N38: 0030C | O38: 3428.57 | P38: 1440 | Q38: 40379 | R38: DOCUMENTAL
A39: 2010-0.185.004-8 | B39: 040199 | C39: 0208-9 | D39: R Dr Mário Vicente, 1108 | E39: Ipiranga | F39: 0030C | G39: - | H39: 028025 | I39: 0025-2, 0011-2 | J39: R Leocádia Cintra, 66 / R Orville Derby, 277 | K39: Mooca | L39: 006/10 | M39: 2010 | N39: 0030D | O39: 2465.04 | P39: 4880.79 | Q39: 40417 | R39: DOCUMENTAL
A40: 2010-0.260.522-5 | B40: 040199 | C40: 0208-9 | D40: R Dr Mário Vicente, 1108 | E40: Ipiranga | F40: 0030D | G40: - | H40: 028063 | I40: 0045-2 | J40: R Borges de Figueiredo, 1325 | K40: Mooca | L40: 008/10 | M40: 2010 | N40: 0030E | O40: 4055.93 | P40: 4657.43 | Q40: 40499 | R40: DOCUMENTAL
A41: 2010-0.322.099-8 | B41: 040199 | C41: 0208-9 | D41: R Dr Mário Vicente, 1108 | E41: Ipiranga | F41: 0030E | G41: - | H41: 098051 | I41: 0060-1, 0061-8 | J41: R John Harrison, 299, 323 | K41: Lapa | L41: 001/11 | M41: 2011 | N41: 0030F | O41: 1008.06 | P41: 850 | Q41: 40575 | R41: DOCUMENTAL
A42: 2011-0.031.287-7 | B42: 040199 | C42: 0208-9 | D42: R Dr Mário Vicente, 1108 | E42: Ipiranga | F42: 0030F | G42: - | H42: 087471 | I42: 0228-4 | J42: Av Nações Unidas, 2003 | K42: Santo Amaro | L42: 004/11 | M42: 2011 | N42: 0030G | O42: 19202.44 | P42: 12984.69 | Q42: 40789 | R42: DOCUMENTAL | S42: Não passou por DEUSO para anotações de OODC.
...

Sheet Declaração COM DOAÇÃO
B2: Declarações de Potencial Construtivo Passível de Transferência COM doação
B3: Técnico (a) responsável | C3: Data de autuação | D3: Data do recebimento em DEUSO | E3: N. processo | F3: SQ | G3: Lote | H3: Codlog | I3: Endereço | J3: Distrito | K3: Subprefeitura | L3: Interessado | M3: Procurador Autorizado | N3: Área do terreno DOADO (m²) | O3: Finalidade da transferência | P3: N. Declaração | Q3: Página Livro | R3: Pcpt (m²) | S3: Área cedida (m²) | T3: N. Certidão | U3: Valor Declaração (ref.OODC) (R$) | V3: Valor de desapropriação (R$) | W3: Data publicação | X3: Situação | Y3: Observação | Z3: VIA DO INTERESSADO DEVOLVIDA? | AA3: Observação SEHAB/CRF
C4: 41992 | E4: 2014-0.356.333-7 | F4: 087068 | G4: 0133-1 | I4: Praça Dona Benta Vieira, 37 | J4: Santo Amaro | K4: Santo Amaro | L4: Isaac Salomão Sayeg | N4: - | O4: Melhoramento viário | P4: - | Q4: - | R4: - | S4: - | T4: - | U4: - | V4: - | W4: 42984 | X4: INDEFERIDO | Y4: Desistência por parte do interessado.
B5: Penha | C5: 42185 | D5: 43312 | E5: 2015-0.170.275-7 | F5: - | G5: - | I5: - | J5: - | K5: - | L5: GOLD HAVANA EMPEEDIMENTOS IMOBILIARIO LTDA | N5: - | O5: Melhoramento viário | P5: - | Q5: - | R5: - | S5: - | T5: - | U5: - | V5: - | W5: 43432 | X5: INDEFERIDO | Y5: Em face da Informação N. 309/PROJ 3/2018 que manifesta interesse em manter o melhoramento viário previsto na Lei N. 7.138/68, e na Lei N. 7.506/70, este processo foi considerado indeferido.
C6: 42256 | D6: 42774 | E6: 2015-0.239.216-6 | F6: 086228 | G6: 0013,0014, 0023 | I6: R Xavier Gouveia | J6: Campo Belo | K6: Santo Amaro | L6: José Martins Antunes | O6: Regularização fundiária | P6: SI | Q6: SI | T6: - | X6: SEHAB
C7: 42256 | E7: 2015-0.239.216-6 | F7: 086228 | G7: 0041-5 | I7: R Xavier Gouveia | J7: Campo Belo | K7: Santo Amaro | L7: José Martins Antunes | N7: 1243 | O7: Regularização fundiária | P7: SI | Q7: SI | R7: 2486 | T7: - | U7: 1391165.6 | X7: SEHAB | Y7: Processo principal (DIS 55.853/15) Em SEHAB desde 08/08/2018.
C8: 42256 | E8: 2015-0.239.231-0 | F8: 086228 | G8: 0040-7 | I8: R Xavier Gouveia | J8: Campo Belo | K8: Santo Amaro | L8: Fraternidade Rosacruciana São Paulo | N8: 2761 | O8: Regularização fundiária | P8: SI | Q8: SI | R8: 5522 | T8: - | U8: 3090111.2 | X8: CEPEUC | Y8: Processo na COORDENADORIA DE CONTROLE DA FUNÇÃO SOCIAL DA PROPRIEDADE desde 08/01/2019.
C9: 42256 | E9: 2015-0.239.245-0 | F9: 086228 | G9: 0042-3 | I9: R Xavier Gouveia | J9: Campo Belo | K9: Santo Amaro | L9: Jacinto Dias Rodrigues | N9: 1231 | O9: Regularização fundiária | P9: SI | Q9: SI | R9: 2462 | T9: - | U9: 1377735.2 | W9: 45565 | X9: INDEFERIDO | Y9: Estava SEHAB desde 08/08/2018 - retornou à DMUs em 03/09/2024. Despacho indeferido 111421273 o processo SEI 6068.2024/0010811-5
C10: 42277 | D10: 42775 | E10: 2015-0.260.736-7 | F10: 118342 | G10: 0116 | I10: Av do Oratório, 1053 | J10: São Lucas | K10: Vila Prudente | L10: MZ Empreendimentos Imobiliários Ltda. | N10: 53032 | O10: Parque | P10: SI | Q10: SI | R10: 7424.48 | T10: - | U10: 91840818 | X10: SVMA | Y10: Em SVMA desde 14/09/2018.
C11: 42395 | E11: 2016-0.017.829-0 | F11: 056070 | G11: 0048 | I11: R Dr Ismael Dias | J11: Tatuapé | K11: Mooca | L11: Goldfarb Incorporações e Contruções S/A | N11: - | O11: Melhoramento viário | P11: - | Q11: - | R11: - | S11: - | T11: - | U11: - | V11: - | W11: 43333 | X11: INDEFERIDO | Y11: SIURB rejeitou a proposta.
C12: 42398 | D12: 42775 | E12: 2016-0.021.666-4 | F12: 075025 | G12: 0315-3 | I12: R José Inácio de Oliveira, S/N | J12: Casa Verde | K12: Casa Verde/Cachoeirinha | L12: Empreendimentos Imobiliários Niazi Ltda. | N12: 23132 | O12: Parque | P12: SI | Q12: SI | R12: 3238.48 | T12: - | U12: 30409327 | X12: SVMA | Y12: Em SVMA desde 31/08/2018.
C13: 42398 | E13: 2016-0.021.672-9 | F13: 075025 | G13: 0001-4 | I13: R José Inácio de Oliveira, 393 e 395 | J13: Casa Verde | K13: Casa Verde/Cachoeirinha | L13: Jurema Chohfi Maluf | N13: 18413 | O13: Parque | P13: SI | Q13: SI | R13: 2577.82 | T13: - | U13: 24205730 | X13: SVMA | Y13: Em SVMA desde 31/08/2018.
B14: Daniel | C14: 42398 | D14: 45476 | E14: 6027.2023/0015525-8 | F14: 075025 | G14: 0315-3/0001-4 | I14: R José Inácio de Oliveira, 393 e 395 | J14: Casa Verde | K14: Casa Verde/Cachoeirinha | L14: Jurema Chohfi Maluf/ Empreendimentos Imobiliários Niazi Ltda. | O14: Parque
C15: 42416 | D15: 42768 | E15: 2016-0.037.275-5 | F15: 087421 | G15: 0036-4 | I15: R Laguna, 261 e 365 | J15: Santo Amaro | K15: Santo Amaro | L15: Vitachemie Administradora de Bens Ltda | N15: 8272 | O15: Melhoramento viário | P15: SI | Q15: SI | R15: 33088 | T15: - | U15: 28422592 | X15: PARHIS | Y15: Em PARHIS desde 26/07/2018. Desapropriação Operação Urbana Água Espraiada - Acesso à Ponte Laguna.
C16: 42541 | D16: 42776 | E16: 2016-0.140.069-8 | F16: 300048 | G16: 0001-7, 0002-5, 0003-3, 0004-1, 0005-1, 0023-8 | I16: R Barão de Castro Lima / R Conde de Itaguaí | J16: Morumbi | K16: Butantã | L16: Hermínio Reis Santos | N16: 2550 | O16: Provisão de HIS | P16: SI | Q16: SI | R16: 12112.5 | T16: - | U16: 10499115 | X16: DEUSO | Y16: Recebido em DEUSO em 22/03/2019.
E17: TID 13052005 | F17: 087068 | G17: 0133-1 | I17: R Vera Cruz, 70 | J17: Santo Amaro | K17: Santo Amaro | N17: 3568 | O17: Melhoramento viário | P17: SI | Q17: SI | R17: 28544 | T17: - | U17: 20722944 | X17: AJ | Y17: DUP 50.849/09
C18: 42705 | E18: 2016-0.265.232-1 | F18: 167226 | G18: 0004-0 | I18: Estr de Itapecerica da Serra, 5859 | J18: Capão Redondo | K18: Campo Limpo | L18: Instituto Adventista de Ensino | N18: - | O18: Melhoramento viário | P18: - | Q18: - | R18: - | S18: - | T18: - | U18: - | V18: - | W18: 43295 | X18: INDEFERIDO | Y18: Essa doação está sendo tratada pelo processo SEI 6068.2018/0001109-9.
C19: 42837 | E19: 2017-0.062.844-1 | F19: 169287 | G19: 0208-6 | I19: R Diogo Martins, s/n | J19: Campo Limpo | K19: Campo Limpo | L19: NEWCORP Empr. PART Ltda | N19: 1.000,00 | O19: Regularização fundiária | P19: SI | Q19: SI | R19: 2000 | T19: - | U19: 1178400 | X19: SEHAB | Y19: Em SEHAB desde 13/09/2018.
E20: 2017-0.117.941-1 | F20: 082402 | G20: 0001-1 | I20: Chácara da Fonte / R Santanésian, 175 | J20: Butantã | K20: Butantã | L20: Rosa Basile e outros | N20: 33448 | O20: Parque | P20: - | Q20: - | R20: 4682.72 | S20: - | T20: - | U20: 72909950 | V20: - | W20: 43535 | X20: INDEFERIDO | Y20: indeferido em 11/03/2019
B21: Penha | C21: 43091 | D21: 43103 | E21: 6068.2017/0000832-0 | F21: 170194 | G21: 0029, 0030, 0031, 0032, 0033, 0034, 0035, 0036 | I21: R Dr Antonio F. de Castilho Fº, s/n / R Dr José Pedro de C Lima s/n | J21: Vila Andrade | K21: Campo Limpo | L21: TD Tecnologia Informação Eireli e outros | N21: 7890 | O21: Parque | P21: - | Q21: - | R21: 41829 | S21: - | T21: - | U21: 19153764 | V21: - | W21: - | X21: - | Y21: 7.890,00 m² a serem doados, sendo: 89,34% em ZEIS-5 e 10,66% em ZM.
B22: Penha | C22: 43091 | D22: 43103 | E22: 6068.2017/0000832-0 | F22: 170194 | G22: 0033-6 | I22: R Dr. Antonio F. de Castilho Filho, s/nº | J22: Vila Andrade | K22: Campo Limpo | L22: TD Tecnologia Informação Eireli e outros | N22: 6619.2 | O22: Parque | P22: 005/21 | Q22: Livro 1 - 20 | R22: 6619.2 | S22: 6619.2 | T22: 004/22 | U22: SI | V22: SI | W22: 44306 | X22: DOCUMENTAL | Y22: -
B23: Daniel | C23: 44645 | D23: 44645 | E23: 6068.2022/0002792-8 | F23: 170194 | G23: 0033-6 | I23: R Dr. Antonio F. de Castilho Filho, s/nº | J23: Vila Andrade | K23: Campo Limpo | L23: Rubens Dryzun e Sheila Gasko Dryzun | N23: SI | O23: Parque | P23: 005.EXTRATO | Q23: Livro 1 - 36 | R23: 0 | S23: - | T23: - | U23: SI | V23: SI | W23: 44791 | X23: DOCUMENTAL
B24: Penha | C24: 43091 | D24: 43103 | E24: 6068.2017/0000832-0 | F24: 170194 | G24: 0034-4 | I24: Rua Dr. Antonio F. de Castilho Filho, s/nº | J24: Vila Andrade | K24: Campo Limpo | L24: TD Tecnologia Informação Eireli e outros | N24: 2721.6 | O24: Parque | P24: 006/21 | Q24: Livro 1 - 24 | R24: 2721.6 | S24: 0 | T24: 006/21 | U24: SI | V24: SI | W24: 44306 | X24: DOCUMENTAL | Y24: -
B25: Daniel | C25: 44645 | D25: 44645 | E25: 6068.2022/0002793-6 | F25: 170164 | G25: 0034-4 | I25: R Dr. Antonio F. de Castilho Filho, s/n | J25: Vila Andrade | K25: Campo Limpo | L25: Rubens Dryzun e Sheila Gasko Dryzun | N25: 2721.6 | O25: Parque | P25: 006A/22 | Q25: Livro 1 - 35 | R25: 479.16 | S25: 2242.44 | T25: 005/22 | U25: SI | V25: SI | W25: 44791 | X25: DOCUMENTAL
B26: Daniel | C26: 45117 | D26: 45118 | E26: 6068.2023/0006243-1 | F26: 170164 | G26: 0034-4 | I26: R Dr. Antonio F. de Castilho Filho, s/nº | J26: Vila Andrade | K26: Campo Limpo | L26: Rubens Dryzun e Sheila Gasko Dryzun | N26: 2721.6 | O26: Parque | P26: 006.EXTRATO | Q26: Livro 1 - 49 | R26: 0 | S26: 479.16 | T26: 005/23 | W26: 45205 | X26: DOCUMENTAL
B27: Daniel | C27: 43091 | D27: 43103 | E27: 6068.2017/0000832-0 | F27: 170194 | G27: 0032-8 | I27: Rua Dr. Antonio F. de Castilho Filho, s/nº | J27: Vila Andrade | K27: Campo Limpo | L27: Judith Rebeca Schleyer | N27: 853 | O27: Parque | P27: 007/21 | Q27: Livro 1 - 27 | R27: 2388.4 | S27: - | T27: - | U27: SI | V27: SI | W27: 44433 | X27: DOCUMENTAL | Y27: -
B28: Daniel | C28: 43091 | D28: 43103 | E28: 6068.2017/0000832-0 | F28: 170194 | G28: 0035-2 | I28: Rua Dr. Antonio F. de Castilho Filho, s/nº | J28: Vila Andrade | K28: Campo Limpo | L28: Lody Haiat Chueke e outros | N28: 882 | O28: Parque | P28: 008/21 | Q28: Livro 1 - 30 | R28: 2469.6 | S28: - | T28: - | U28: SI | V28: SI | W28: 44485 | X28: DOCUMENTAL | Y28: -
B29: Daniel | C29: 44873 | D29: 44873 | E29: 6068.2022/0010730-1 | F29: 170194 | G29: 0032-8 | I29: Rua Dr. Antonio F. de Castilho Filho, s/nº | J29: Vila Andrade | K29: Campo Limpo | L29: Judith Rebeca Schleyer | N29: 5082.4 | O29: Parque | P29: 007.EXTRATO | Q29: Livro 1 - 40 | R29: 0 | S29: SI | T29: 010/22 | U29: SI | V29: SI | W29: 44995 | X29: DOCUMENTAL
B30: Daniel | C30: 44873 | D30: 44873 | E30: 6068.2022/0010745-0 | F30: 170194 | G30: 0035-2 | I30: Rua Dr. Antonio F. de Castilho Filho, s/nº | J30: Vila Andrade | K30: Campo Limpo | L30: Lody Haiat Chueke, Carole Chueke, Mauro Rabacov, Tania Chueke, Monica Chueke Rochlin, Jacques Rochlin, Isaac Israel Chueke e Patricia Chueke | N30: 5082.4 | O30: Parque | P30: 008A/22 | Q30: Livro 1 - 41 | R30: 510.3 | S30: SI | T30: 011/22 | U30: SI | V30: SI | W30: 44995 | X30: DOCUMENTAL
B31: Daniel | E31: 6068.2023/0005868-0 | F31: 170194 | G31: 0035-2 | I31: Rua Dr. Antonio F. de Castilho Filho, s/nº | J31: Vila Andrade | K31: Campo Limpo | L31: Lody Haiat Chueke, Carole Chueke, Mauro Rabacov, Tania Chueke, Monica Chueke Rochlin, Jacques Rochlin, Isaac Israel Chueke e Patricia Chueke | N31: 510.3 | O31: Parque | P31: 008.EXTRATO | Q31: Livro 1 - 47 | R31: 0 | S31: SI | T31: 003/23 | U31: SI | V31: SI | W31: 45198 | X31: DOCUMENTAL
B32: Tales | C32: 43091 | D32: 45293 | E32: 6068.2017/0000832-0 | F32: 170194 | G32: 0031-1 | I32: Rua Dr. Antonio F. de Castilho Filho, s/nº | J32: Vila Andrade | K32: Campo Limpo | L32: Jean Grinfeld | N32: 875 | O32: Parque | P32: 012/24 | Q32: Livro 1 - 50 | R32: 2450 | W32: 45337 | X32: DOCUMENTAL
B33: Daniel | C33: 45415 | E33: 6068.2024/0004687-0 | F33: 170194 | G33: 0031-1 | I33: Rua Dr. Antonio F. de Castilho Filho, s/nº | J33: Vila Andrade | K33: Campo Limpo | L33: Jean Grinfeld | N33: 875 | O33: Parque | P33: 012.EXTRATO | Q33: Livro 1 - 52 | R33: 0 | T33: 002/24 | X33: EM ANÁLISE
B34: Daniel | C34: 43091 | D34: 45540 | E34: 6068.2017/0000832-0 | F34: 170194 | G34: 0030-1 | I34: Rua Dr. Antonio F. de Castilho Filho, s/nº | J34: Vila Andrade | K34: Campo Limpo | L34: TD TECNOLOGIA DA INFORMAÇÃO LTDA | N34: 940 | O34: Parque | P34: 015/24 | Q34: Livro 1 - 54
B35: Daniel | C35: 45777 | D35: 45777 | E35: 6068.2025/0004160-8 | F35: 170194 | G35: 0030-1 | I35: Rua Dr. Jose Pedro de C. Lima, S/N | J35: Vila Andrade | K35: Campo Limpo | L35: TD TECNOLOGIA DA INFORMAÇÃO LTDA | N35: 940 | O35: Parque | P35: 015.EXTRATO | Q35: Livro 1 - 59 | R35: 0 | T35: 007/25
B36: Daniel | C36: 43091 | D36: 45926 | E36: 6068.2017/0000832-0 | F36: 170194 | G36: 0029-8 | H36: 218421 | I36: Rua Dr. Jose Pedro de C. Lima, S/N | J36: Vila Andrade | K36: Campo Limpo | L36: TD TECNOLOGIA DA INFORMAÇÃO LTDA | N36: 1280 | O36: Parque | P36: 016/25 | Q36: Livro 1 - 60 | R36: 179.2 | Y36: Quando houver análise do Lote 0036 (ultimo)fazer infornação de correção de despachos parcialmente deferidos e o encerramento das declarações, inclusive verificar o processo físico custodiado para encerramento
B37: Penha | C37: 43111 | D37: 43111 | E37: 6068.2018/0000023-2 | F37: 170196 | G37: 0011-4, 0012-2 | I37: R Símbolo, lotes 11 e 12 | J37: Vila Andrade | K37: Campo Limpo | L37: OSP Adm., Participações, Empreendimentos e Negócio Ltda | N37: 1795.88 | O37: Parque | P37: - | Q37: - | R37: - | S37: - | T37: - | U37: - | V37: - | W37: 43242 | X37: INDEFERIDO | Y37: Os imóveis não se encontram em área definida como parque planejado no Qd 7 e Mapa 05.
B38: Penha | C38: 43111 | D38: 43111 | E38: 6068.2018/0000024-0 | F38: 170035 | G38: 0008-5, 0010-7, 0011-5 (e 170.032.0008-1) | I38: R Itanga, lote 11/ R Itanage, lote 9/ R Itamotinga, lote12 | J38: Vila Andrade | K38: Campo Limpo | L38: Silva Porto Empreendimentos Imobiliários Ltda | N38: 1509 | O38: Regularização fundiária | P38: SI | Q38: SI | R38: 3018 | T38: - | U38: 922300.8 | V38: SI | W38: 45531 | X38: INDEFERIDO | Y38: Prazo execdio §6º - art.4º
B39: Penha | C39: 43193 | D39: 43193 | E39: 6068.2018/0000474-2 | F39: 118342 | G39: 0061-9, 0063-5, 0064-3, 0077-5, 0079-1, 0080-5, 0088-0, 0089-9, 0113-5 | I39: R Gal Cunha, 577/ Av Secondino, 402 e 32 | J39: São Lucas | K39: Vila Prudente | L39: Roberto Arias | N39: 10500 | O39: Provisão de HIS | P39: - | Q39: - | R39: - | S39: - | T39: - | U39: - | V39: - | W39: 43644 | X39: INDEFERIDO | Y39: SEHAB não tem interesse em receber a área pelos seguintes motivos: - A quadra encontra-se totalmente ocupada e em sua maioria por população em estado de vulnerabilidade social, sendo identificada como favela Jardim Independência; - Não há disponibilidade de atendimento social para as famílias que ocupam a área; - Os lotes ofertados não são contínuos; - A área está fora dos perímetros de ação integrada da SEHAB; - A área não compõe nenhum programa de urbanização e/ou Provisão de HIS da SEHAB; - A área não consta no plano de metas da SEHAB para 2019-2020; - A área está inserida em uma região com total infraestrutura urbana e não está mapeada como risco geológico.
B40: Penha | C40: 02/07/2018 | D40: 02/07/2018 | E40: 6068.2018/0001109-9 | F40: 167226 | G40: 0004-0 | I40: Estr de Itapecerica da Serra, 5859 | J40: Capão Redondo | K40: Campo Limpo | L40: Instituto Adventista de Ensino | N40: 11092.92 | O40: Melhoramento viário | P40: - | Q40: - | R40: 44371.68 | S40: - | T40: - | U40: 23650105 | V40: 14135486 | W40: 43966 | X40: INDEFERIDO | Y40: CGPATRI
B41: Penha | C41: 43327 | D41: 43327 | E41: 6068.2018/0001641-4 | F41: 010014 | G41: 0131-1 | I41: R Caio Prado, 232 / R Augusta, 344 e 360 | J41: Consolação | K41: Sé | L41: Albatroz Investimentos Imobiliários Ltda. | N41: 3800 | O41: Parque | P41: 001/19 | Q41: Livro 1 - 01 | R41: 532 | S41: 20.15 | T41: 001/19 | U41: 31903967 | V41: - | W41: 43606 | X41: DOCUMENTAL | Y41: PARQUE AUGUSTA | Z41: SIM
...

Sheet Certidão COM DOAÇÃO
B2: Certidão de Transferência de Potencial Construtivo COM DOAÇÃO
E3: Imóvel cedente | M3: Imóvel receptor
B4: Técnico (a) responsável | C4: Data de protocolo | D4: N. processo | E4: SQ | F4: Lote | G4: Codlog | H4: Endereço | I4: Distrito | J4: Proprietário | K4: Procurador Autorizado | L4: N. Declaração | M4: SQ | N4: Lote | O4: Codlog | P4: Endereço | Q4: Distrito | R4: Interessado | S4: N. Certidão | T4: Página Livro Certidão | U4: N. Declaração Saldo | V4: Página Livro Saldo | W4: Área cedida equivalente (m²) | X4: Área recebida real (m²) | Y4: Valor pago pela área adquirida (R$) | Z4: Valor de referência OODC (R$) | AA4: Data Publicação | AB4: Situação | AC4: Observação
B5: Penha | C5: 43612 | D5: 6068.2019/0002575-0 | E5: 010014 | F5: 0131-1 | H5: R Caio Prado, 232 / R Augusta, 344 e 360 | I5: Consolação | J5: Albatroz Investimentos Imobiliários Ltda. | L5: 001/19 | M5: 088041 | N5: 0009-5, 0010-9 | P5: R da Fraternidade, 149 e 177 | Q5: Santo Amaro | R5: SEI Fraternidade Empreendimento Imobiliário Ltda | S5: 001/19 | T5: Livro 1 - 01 | U5: 001A/19 | V5: Livro 1 - 05 | W5: 20.15 | X5: 1671.3 | Y5: NÃO AVERBOU | Z5: 1246221.6 | AA5: 43708 | AB5: DOCUMENTAL | AC5: -
B6: Flavia | C6: 43808 | D6: 6066.2019/0007501-2 | E6: 010014 | F6: 0131-1 | H6: R Caio Prado, 232 / R Augusta, 344 e 360 | I6: Consolação | J6: Albatroz investimentos Imobiliários LTDA | L6: 001A/19 | M6: 009058 | N6: 0021-4, 0022-2 | P6: R Pamplona, 834 e 850 | Q6: Jardim Paulista | R6: SEI Novo Negócio 59 Empreendimento Imobiliário LTDA | S6: 001/20 | T6: Livro 1 - 04 | U6: 001B/20 | V6: Livro 1 - 08 | W6: 77.25 | X6: 2916.39 | Y6: 3314752.7 | Z6: 4824642.3 | AA6: 43881 | AB6: DOCUMENTAL | AC6: -
B7: Penha | C7: 43913 | D7: 6066.2020/0001960-2 | E7: 010014 | F7: 0131-1 | H7: R Caio Prado, 232 / R Augusta, 344 e 360 | I7: Consolação | J7: Albatroz Investimentos Imobiliários Ltda. | L7: 001B/20 | M7: 013055 | N7: 0025-3, 0026-1, 0027-1, 0028-8, 0029-6, 0030-1, 0031-8, 0032-6, 0033-4, 0034-2, 0035-0, 0036-9, 0037-7, 0093-8, 0095-4 | P7: Rua Francisco Leitão, 190, 198, 200, 2010, 222, 230, 236, 240 / Rua Henrique Schaumann, 267/ 297 | Q7: Pinheiros | R7: SEI FL RESIDENCIAL EMPREENDIMENTO IMOBILIÁRIO LTDA | S7: 005/20 | T7: Livro 1 - 08 | U7: 001C | V7: Livro 1 - 12 | W7: 171.32 | X7: 10913.61 | Y7: - | Z7: 10873760 | AA7: 44015 | AB7: DOCUMENTAL | AC7: CAF
B8: Penha | C8: 44054 | D8: 6068.2020/0002102-0 | E8: 010014 | F8: 0131-1 | H8: R Augusta, 344 | I8: Consolação | J8: Albatroz Investimentos Imobiliários Ltda. | L8: 001C/20 | M8: 041089 | N8: 0021-9, 0025-1, 0036-7, 0037-5, 0040-5, 0119-3 | P8: Al Jauaperi, 149, 163, 173, 185/191 e Av Agami, 164, 174 | Q8: Vila Mariana | R8: Imobiliária 516 do Brasil Projetos Imobiliários LTDA | S8: 008/20 | T8: Livro 1 - 11 | U8: 001D/20 | V8: Livro 1 - 15 | W8: - | X8: - | Y8: - | Z8: - | AA8: 44127 | AB8: INDEFERIDO | AC8: DESISTÊNCIA
B9: Penha | C9: 44124 | D9: 6068.2020/0003774-1 | E9: 010014 | F9: 0131-1 | H9: R Augusta, 344 | I9: Consolação | J9: Albatroz Investimentos Imobiliários Ltda. | L9: 001C/20 | M9: 009015 | N9: 0015-1, 0016-1, 0017-8, 0018-6 | P9: R Pamplona, 112, 114, 128 e 136/140 | Q9: Bela Vista | R9: Sei Novo Negocio 35 Empreendimento Imobiliário SPE LTDA | S9: 010/20 | T9: Livro 1 - 13 | U9: 001D/20 | V9: Livro 1 - 17 | W9: 50.51 | X9: 3117.46 | Y9: 1408992 | Z9: 3238386.3 | AA9: 44237 | AB9: DOCUMENTAL | AC9: -
B10: Daniel | C10: 44256 | D10: 6068.2021/0001527-8 | E10: 010014 | F10: 0131-1 | H10: R Augusta, 344 | I10: Consolação | J10: Albatroz Investimentos Imobiliários Ltda. | L10: 001D/20 | M10: 046218 | N10: 0270-4 | P10: R Cel Domingos Ferreira, 323 | Q10: Cursino | R10: SEI Adib Empreendimento Imobiliario SPE Ltda. | S10: 002/21 | T10: Livro 1 - 16 | U10: 001E/21 | V10: Livro 1 - 21 | W10: 50.42 | X10: 5621.77 | Y10: 786926.64 | Z10: 1651476.5 | AA10: 44349 | AB10: DOCUMENTAL | AC10: -
B11: Daniel | C11: 44355 | D11: 6068.2021/0004899-0 | E11: 010014 | F11: 0131-1 | H11: R Augusta, 344 | I11: Consolação | J11: Albatroz Investimentos Imobiliários Ltda. | L11: 001E/21 | M11: 036090 | N11: 0029-5, 0030-9, 0053-8 | P11: R Henrique Martins, 483, 493, 495-507 | Q11: Moema | R11: SEI Henrique Martins Empreendimento Imobiliário SPE LTDA | S11: 006/21 | T11: Livro 1 - 20 | U11: 001F/21 | V11: Livro 1 - 25 | W11: 49.41 | X11: 1169.63 | Y11: 1378307.2 | Z11: 3367306.3 | AA11: 44434 | AB11: DOCUMENTAL | AC11: -
B12: Daniel | C12: 44474 | D12: 6068.2021/0009931-5 | E12: 010014 | F12: 0131-1 | H12: R Augusta, 344 | I12: Consolação | J12: Albatroz Investimentos Imobiliários Ltda. | L12: 001F/21 | M12: 042079 | N12: 0010-1, 0011-1, 0013-6, 0014-4, 0015-2, 0016- 0, 0017-9, 0018-7, 0033-0, 0034-9, 0035-7, 0036-5, 0037-3, 0038-1, 0048-9, 0049-7, 0057-8, 0102-7, 0103-5, 0104-3, 0105-1, 0106-1, 0107-8, 0108-6, 0109-4 | P12: R Prof Tranquilli, 172, 178 e 186 X R Jorge Tibiriçá, 244, 250, 252, 258, 266, 276, 286, 290, 294 e 300 X R Eng José Sá Rocha, 109, 115, 119, 125, 127, 133, 141, 145, 149, 157, 159 e 167 | Q12: Vila Mariana | R12: SEI Jorge Tibiriça Empreendimento Imobliário SPE LTDA | S12: 011/21 | T12: Livro 1 - 24 | U12: 001G/21 | V12: Livro 1 - 32 | W12: 73.21 | X12: 8396.62 | Y12: 2042215.5 | Z12: 5167149.1 | AA12: 44588 | AB12: DOCUMENTAL | AC12: -
B13: Daniel | C13: 44809 | D13: 6068.2022/0008329-1 | E13: 010014 | F13: 0131-1 | H13: R Augusta, 344 | I13: Consolação | J13: Albatroz Investimentos Imobiliários Ltda. | L13: 001G/21 | M13: 085100 | N13: 0016-6, 0022-0 | P13: Av Santo Amaro, 4372 e R Francisco Dias Velho, 51 | Q13: Itaim Bibi | R13: SEI FRANCISCO DIAS VELHO EMPREENDIMENTO IMOBILIARIO SPE LTDA | S13: 007/22 | T13: Livro 1 - 30 | U13: 001H/22 | V13: Livro 1 - 38 | W13: 38.76 | X13: 4655.9 | Y13: 1102502.2 | Z13: 2940305.7 | AA13: 44923 | AB13: DOCUMENTAL | AC13: -
B14: Daniel | C14: 45667 | D14: 6068.2025/0000237-8 | E14: 010014 | F14: 0131-1 | H14: R Augusta, 344 | I14: Consolação | J14: SEI INCORPORAÇÃO E PARTICIPAÇÕES S/A | L14: 001H/22 | M14: 016119 | N14: 0002-6, 0510-9, 0511-7, 0596-6 | P14: Rua Joaquim Floriano, 585, 591, 593, 595, 597, 601, 607, 617, 629 | Q14: Itaim Bibi | R14: SEI JOAQUIM FLORIANO EMPREENDIMENTO IMOBILIÁRIO LTDA | S14: 002/25 | T14: Livro 1 - 55 | U14: 001.EXTRATO | V14: Livro 1 - 56 | W14: 23.18 | X14: 507.39 | Y14: 659339.55 | Z14: 1954395.2 | AA14: 45845 | AB14: DOCUMENTAL
B15: Penha | C15: 43899 | D15: 6066.2020/0001568-2 | E15: 010014 | F15: 0131-1 | H15: R Augusta, 344 | I15: Consolação | J15: Flamingo Investimentos Imobiliários Ltda | L15: 002/19 | M15: 041203 | N15: 0056-0 | P15: Al dos Arapanés, 1431 á 1451, Av João Castaldi, 801 e 815 | Q15: Moema | R15: Cyrela Pamplona Empreendimentos Imobiliários LTDA | S15: 004/20 | T15: Livro 1 - 06 | U15: 002A | V15: Livro 1 - 11 | W15: 124.05 | X15: 8396.53 | Y15: 4285607.2 | Z15: 8107793.4 | AA15: 43957 | AB15: DOCUMENTAL | AC15: -
B16: Penha | C16: 43873 | D16: 6066.2020/0000859-7 | E16: 010014 | F16: 0131-1 | H16: R Augusta, 344 | I16: Consolação | J16: Flamingo Investimentos Imobiliários Ltda | L16: 002/19 | M16: 041203 | N16: 0056-0 | P16: Al dos Arapanés, 1431 á 1451, Av João Castaldi, 801 e 815 | Q16: Moema | R16: Cyrela Pamplona Empreendimentos Imobiliários LTDA | S16: - | T16: - | U16: - | V16: - | W16: - | X16: - | Y16: - | Z16: - | AA16: 43936 | AB16: INDEFERIDO | AC16: DESISTÊNCIA
B17: Daniel | C17: 44182 | D17: 6068.2020/0005526-0 | E17: 010014 | F17: 0131-1 | H17: R Augusta, 344 | I17: Consolação | J17: Flamingo Investimentos Imobiliários Ltda | L17: 002A/20 | M17: 086407 | N17: 0003-6, 0005-2, 0006-0, 0007-9, 0008-7, 0009-5, 0010-9, 0011-7, 0012-5, 0013-3, 0014-1, 0023-0, 0024-9, 0026-5, 0027-3, 0028-1, 0029-1, 0030-3, 0031-1, 0032-6, 0033-8, 0034-6, 0035-4, 0036-2, 0037-0, 0038-9, 0039-7, 0040-0, 0041-9, 0043-5, 0044-3, 0045-1, 0046-1, 0047-8, 0048-6, 0049-4, 0050-8, 0051-6 | P17: R Constantino de Souza, 53 a 119, R Domingos Lopes 129 a 171, R Camanducaia 149 a 185 e 199, R Antonio Comparato 32 a 50 | Q17: Santo Amaro | R17: Cyrela Crystal Empreendimentos Imobiliários LTDA | S17: 001/21 | T17: Livro 1 - 15 | U17: 002B/21 | V17: Livro 1 - 15 | W17: 80.12 | X17: 11000.46 | Y17: 3069485 | Z17: 5220584.9 | AA17: 44252 | AB17: DOCUMENTAL | AC17: -
B18: Daniel | C18: 44263 | D18: 6068.2021/0001751-3 | E18: 010014 | F18: 0131-1 | H18: R Augusta, 344 | I18: Consolação | J18: Flamingo Investimentos Imobiliários Ltda | L18: 002B/21 | M18: 013031 | N18: 0097-5, 0096-7, 0095-9, 0094-0, 0093-2, 0092-4, 00603-5, 0089-4, 00605-1, 00607-8, 0608-6 | P18: R Cristiano Viana, 140, 142, 144, 156, 160, 162, 172, s/n°, EB, EA | Q18: Jardim Paulista | R18: Cyrella Puglia Empreendimentos Imobiliários LTDA | S18: 005/21 | T18: Livro 1 - 19 | U18: 002C/21 | V18: Livro 1 - 23 | W18: 90.31 | X18: 6231.96 | Y18: 3459875 | Z18: 6208696.3 | AA18: 44407 | AB18: DOCUMENTAL | AC18: -
B19: Daniel | C19: 44438 | D19: 6068.2021/0008294-3 | E19: 010014 | F19: 0131-1 | H19: Rua Augusta, 344 | I19: Consolação | J19: Flamingo Investimentos Imobiliários Ltda | L19: 002C/21 | M19: 021057 | N19: 0001-2, 0002-0, 0003-9, 0004-7, 0005-5, 0006-3, 0007-1, 0008-1, 0009-8, 0010-1, 0050-0, 0051-9, 0052-7, 0053-5, 0046-2, 0048-9, 0049-7, 0055-1, 0056-1, 0063-2, 0132-9, 0133-7, 0236-8, 0243-0, 0237-6, 0244-9, 0238-4, 0245-5, 0239-2, 0246-6, 0240-3, 0247-3, 0241-4, 0248-1, 0242-2, 0249-1. | P19: Rua Apiacás, 200, 190/194 e 180/182, R João Ramalho, 1339, 1147, 1153/1155, 1163/1165, 1171, 1177, 1181, 1183, 1187, 1195/1199, 1201/1203, 1205/1207/1209/1213 e 1215/1217, R Apinagés, 185, 201, 203, 211 e 215 | Q19: Perdizes | R19: Cyrela Esmeralda Empreendimentos Imobiliários LTDA | S19: 009/21 | T19: Livro 1 - 23 | U19: 002D/21 | V19: Livro 1 - 29 | W19: 117.66 | X19: 11455.29 | Y19: - | Z19: 8139043.5 | AA19: 44540 | AB19: INDEFERIDO | AC19: -
B20: Daniel | C20: 44662 | D20: 6068.2022/0003266-2 | E20: 010014 | F20: 0131-1 | H20: R. Augusta, 344 | I20: Consolação | J20: Flamingo Investimentos Imobiliários Ltda | L20: 002C/21 | M20: 021104 | N20: 0539-2 | P20: Av. Sumaré, 179, 241 | Q20: Perdizes | R20: CYRELA GENOVA EMPREENDIMENTOS IMOBILIARIOS LTDA | S20: 003/22 | T20: Livro 1 - 26 | U20: 002D/22 | V20: Livro 1 - 29 | W20: 186.52 | X20: 20137.79 | Y20: SI | Z20: SI | AA20: 44762 | AB20: DOCUMENTAL
B21: Daniel | C21: 45119 | D21: 6068.2023/0006356-0 | E21: 010014 | F21: 0131-1 | H21: R. Augusta, 344 | I21: Consolação | J21: Flamingo Investimentos Imobiliários Ltda | L21: 002D/22 | M21: 038072 | N21: 0003-7, 0004-5, 0005-3, 0009-6, 0010-1, 0011-8, 0012-6, 0013-4, 0014-2, 0112-2 | P21: Rua Manuel de Paiva, 57, 67, 77, 89, 99, 101, 109, 111, 117, 119, 125 | Q21: Vila Mariana | R21: CBR 132 EMPREENDIMENTOS IMOBILIARIOS LTDA | S21: 004/23 | T21: Livro 1 - 38 | U21: 002.EXTRATO | V21: Livro 1 - 48 | W21: 51 | X21: 6834.5 | Y21: SI | Z21: SI
B22: Penha | C22: 43622 | D22: 6068.2019/0002870-8 | E22: 010014 | F22: 0438-6 | H22: R Caio Prado, 232, R Marquês de Paranaguá, 115 | I22: Consolação | J22: Albatroz Investimentos Imobiliários Ltda. | L22: 003/19 | M22: 037006 | N22: 0045-3, 0046-1 | P22: R Correia Dias, 73 e 93 | Q22: Vila Mariana | R22: SEI CORREIA DIAS Empreendimento Imobiliário SPE LTDA | S22: 002/19 | T22: Livro 1 - 02 | U22: 003A/19 | V22: Livro 1 - 06 | W22: 40.29 | X22: 3735.76 | Y22: 1123901 | Z22: 2491509.2 | AA22: 43711 | AB22: DOCUMENTAL | AC22: -
B23: Penha | C23: 43867 | D23: 6066.2020/0000822-8 | E23: 010014 | F23: 0438-6 | H23: R Caio Prado, 232 / R Augusta, 344 e 359 | I23: Consolação | J23: Albatroz Investimentos Imobiliários Ltda. | L23: 003A/19 | M23: 042073 | N23: 0012-0, 0013-9, 0014-7, 0015-5, 0016-3, 0021-1, 0022-8 | P23: R Borges Lagoa, 269 à 323, R Coronel Lisboa, 805 | Q23: Vila Mariana | R23: SW27 Empreendimentos Imobiliários SPE LTDA | S23: 003/20 | T23: Livro 1 - 07 | U23: 003B/20 | V23: Livro 1 - 10 | W23: 72.73 | X23: 6423.68 | Y23: 3453342.2 | Z23: 4604458.6 | AA23: 44078 | AB23: DOCUMENTAL | AC23: -
B24: Penha | C24: 44096 | D24: 6068.2020/0003104-2 | E24: 010014 | F24: 0438-6 | H24: R Caio Prado, 232 | I24: Consolação | J24: Albatroz Investimentos Imobiliários Ltda. | L24: 003B/20 | M24: 015048 | N24: 0001-1, 0002-8, 0003-6, 0028-1 | P24: Av Rebouças, 2970 | Q24: Pinheiros | R24: FL Rebouças Desenvolvimento Imobiliária SPE LTDA | S24: 009/20 | T24: Livro 1 - 12 | U24: 003C/20 | V24: Livro 1 - 16 | W24: 132.98 | X24: 4173.91 | Y24: 6618073 | Z24: 8539181.5 | AA24: 44145 | AB24: DOCUMENTAL | AC24: -
B25: Daniel | C25: 44154 | D25: 6068.2020/0004657-0 | E25: 010014 | F25: 0438-6 | H25: R Caio Prado, 232 | I25: Consolação | J25: Albatroz Investimentos Imobiliários Ltda. | L25: 003C/20 | M25: 016115 | N25: 0050-8, 0051-6, 0242-1 | P25: Rua Iaiá, 52, 54-56, 62-66, 68 e 72 | Q25: Itaim Bibi | R25: M.A.R Fátima Desenvolvimento Imobiliário SPE LTDA | S25: 011/20 | T25: Livro 1 - 14 | U25: 003D/21 | V25: Livro 1 - 19 | W25: 83.02 | X25: 1294.29 | Y25: 4193565.5 | Z25: 5361357.3 | AA25: 44243 | AB25: DOCUMENTAL | AC25: -
B26: Daniel | C26: 44258 | D26: 6068.2021/0001631-2 | E26: 010014 | F26: 0438-6 | H26: R Caio Prado, 232, R Marquês de Paranaguá, 115 | I26: Consolação | J26: Albatroz Investimentos Imobiliários Ltda. | L26: 003D/21 | M26: 015060 | N26: 0008-8, 0009-6, 0010-1, 0011-8, 0012-6, 0013-4, 0014-2 | P26: R Henrique Monteiro, 14, 22, 28, 36, R Maria Carolina, 705, 719 | Q26: Pinheiros | R26: Fioretto Empreendimentos Imobiliários LTDA | S26: 003/21 | T26: Livro 1 - 17 | U26: 003E/21 | V26: Livro 1 - 22 | W26: 87.73 | X26: 2975.42 | Y26: 4539479.7 | Z26: 5857061.3 | AA26: 44349 | AB26: DOCUMENTAL | AC26: -
B27: Daniel | C27: 44404 | D27: 6068.2021/0006736-7 | E27: 010014 | F27: 0438-6 | H27: R Caio Padro, 232 | I27: Consolação | J27: Albatroz Investimentos Imobiliários Ltda. | L27: 003E/21 | M27: 086375 | N27: 0008-0, 0009-9, 0010-2, 0011-0, 0012-9, 0013-7, 0014-5, 0015-3 0016-1, 0017-1 | P27: R Eleutério, 58, 66, 70, 76, 84, 92, 98, 104 X R Comendador Noberto Jorge, 30 e 40 | Q27: Campo Belo | R27: SEI Eleuterio Empreendimento Imobiliário LTDA | S27: 008/21 | T27: Livro 1 - 22 | U27: 003F/21 | V27: Livro 1 - 28 | W27: 43.59 | X27: 5211.55 | Y27: 1215956.5 | Z27: 2986417.1 | AA27: 44475 | AB27: DOCUMENTAL | AC27: -
B28: Daniel | C28: 45677 | D28: 6068.2025/0000544-0 | E28: 010014 | F28: 0438-6 | H28: R Caio Padro, 232 | I28: Consolação | J28: Albatroz Investimentos Imobiliários Ltda. | L28: 003E/21 | M28: 016119 | N28: 0002-6, 0510-9, 0511-7, 0596-6 | P28: R Joaquim Floriano, 585, 594, 593, 595, 597, 601, 607, 617, 629 | Q28: Itaim Bibi | R28: SEI JOAQUIM FLORIANO EMPREENDIMENTO IMOBILIARIO LTDA | S28: 005/25 | T28: Livro 1 - 58 | U28: 003F/21 | V28: Livro 1 - 28 | W28: 43.59 | X28: 954.15 | Y28: 1215956.5 | Z28: 3675252.2 | AA28: 45845 | AB28: DOCUMENTAL
B29: Daniel | C29: 44628 | D29: 6068.2022/0002177-6 | E29: 010014 | F29: 0438-6 | H29: R Caio Prado, 232 | I29: Consolação | J29: Albatroz Investimentos Imobiliários Ltda. | L29: 003F/21 | M29: 036023 | N29: 0035-8, 0036-6, 0037-4, 0038-2, 0039-0, 0040- 4, 0041-2, 0042-0, 0043-9, 0044-7, 0045-5, 0046-3, 0047-1, 0048-1, 0049-8, 0052-8, 0091-9 | P29: Rua Tutoia, 110 a 126, Rua Manuel da Nobrega, 736 A 802 | Q29: Vila Mariana | R29: SEI MANOEL DA NOBREGA EMPREENDIMENTO IMOBILIARIO SPE LTDA | S29: 001/22 | T29: Livro 1 - 23 | U29: 003G/22 | V29: Livro 1 - 33 | W29: 119.95 | X29: 2574.76 | Y29: SI | Z29: SI | AA29: 44708 | AB29: DOCUMENTAL
B30: Daniel | C30: 44755 | D30: 6068.2022/0006562-5 | E30: 010014 | F30: 0438-6 | H30: R Caio Prado, 232 | I30: Consolação | J30: SEI INCORPORAÇÃO E PARTICIPAÇÕES S/A | L30: 003G/21 | M30: 016048 | N30: 0028-3, 0029-1, 0030-5, 0031-3, 0032-1, 0033-1, 0034-8, 0288- 1, 0036-4, 0018-6, 0017-8, 0343-6 | P30: R Doutor Renato Paes de Barros, 125/127, 123, 115, 113, 105, 103, 97, 95, 87, 85, 77 X R Itacema, 396/398 X R Antônio Felício, 134 | Q30: Jardim Paulista | R30: IZP ITACEMA EMPREENDIMENTOS IMOBILIÁRIOS LTDA | S30: 006/22 | T30: Livro 1 - 29 | U30: 003H/22 | V30: Livro 1 - 37 v | W30: 128.38 | X30: 4658.78 | Y30: SI | Z30: SI | AA30: 44844 | AB30: DOCUMENTAL
B31: Daniel | C31: 44845 | D31: 6068.2022/0009647-4 | E31: 010014 | F31: 0438-6 | H31: R Caio Prado, 232 | I31: Consolação | J31: SEI INCORPORAÇÃO E PARTICIPAÇÕES S/A | L31: 003H/21 | M31: 010056 | N31: 0006-6, 0007-4, 0008-2, 0009-0, 0014-7, 0013-9, 0012-0, 0011-2, 0010-4 | P31: R Haddock Lobo, 165, 167, 179, 187 e 203 X R Antonio Carlos, 452, 460, 462 e 470 | Q31: Consolação | R31: IZP HADDOCK EMPREENDIMENTOS IMOBILIÁRIOS LTDA | S31: 009/22 | T31: Livro 1 - 32 | U31: 003I/22 | V31: Livro 1 - 39 | W31: 99.45 | X31: 3787 | Y31: SI | Z31: SI | AA31: 44910 | AB31: DOCUMENTAL
B32: Daniel | C32: 44937 | D32: 6068.2023/0000187-4 | E32: 010014 | F32: 0438-6 | H32: R Caio Prado, 232 | I32: Consolação | J32: SEI INCORPORAÇÃO E PARTICIPAÇÕES S/A | L32: 003I/22 | M32: 043082 | N32: 0090-3 | P32: R Vergueiro, 6385 | Q32: Ipiranga | R32: SEI NOVO NEGOCIO 61 EMPREENDIMENTO IMOBILIARIO LTDA | S32: 001/23 | T32: Livro 1 - 35 | U32: 003J/23 | V32: Livro 1 - 42 | W32: 45.4 | X32: 8593.25 | Y32: 1306732.5 | Z32: 3490519 | AA32: 45013 | AB32: CANCELADA
B33: Daniel | C33: 45678 | D33: 6068.2025/0000578-4 | E33: 010014 | F33: 0438-6 | H33: R Caio Prado, 232 | I33: Consolação | J33: SEI INCORPORAÇÃO E PARTICIPAÇÕES S/A | L33: 003I/22 | M33: 016119 | N33: 0002-6, 0510-9, 0511-7, 0596-6 | P33: R Joaquim Floriano, 585, 594, 593, 595, 597, 601, 607, 617, 629 | Q33: Itaim Bibi | R33: SEI JOAQUIM FLORIANO EMPREENDIMENTO IMOBILIARIO LTDA | S33: 004/25 | T33: Livro 1 - 57 | U33: 003J/23 | V33: Livro 1 - 42 | W33: 45.4 | X33: 993.77 | Y33: 1306732.5 | Z33: 3827862.9 | AA33: 45845 | AB33: DOCUMENTAL
B34: Luciana | C34: 45015 | D34: 6068.2023/0002742-3 | E34: 010014 | F34: 0438-6 | H34: R Caio Prado, 232 | I34: Consolação | J34: SEI INCORPORAÇÃO E PARTICIPAÇÕES S/A | L34: 003J/23 | M34: 010014 | N34: 0002-2, 0003-0, 0006-5, 0007-3, 0089-8, 0670-5, 0671-3 | P34: Rua Cônego Eugênio Leite, 505, 507, 513/515, 523, 529, 539, 543, e 553 e Rua Dos Pinheiros, 250 | Q34: Consolação | R34: IZP CÔNEGO EMPREENDIMENTOS IMOBILIÁRIOS LTDA | S34: 002/23 | T34: Livro 1 - 36 | U34: 003K/23 | V34: Livro 1 - 46 | W34: 152.89 | X34: 5384.41 | Y34: 8757966.2 | Z34: 11914760 | AA34: 45107 | AB34: DOCUMENTAL | AC34: -
B35: Daniel | C35: 45369 | D35: 6068.2024/0002856-1 | E35: 010014 | F35: 0438-6 | H35: R Caio Prado, 232 | I35: Consolação | J35: SEI INCORPORAÇÃO E PARTICIPAÇÕES S/A | L35: 003K/23 | M35: 036042 | N35: 0001-6, 0002-4, 0003-2, 0004-0, 0005-9, 0019-9, 0020-2, 0021-0, 0022-9, 0023-7, 0024-5, 0025-3, 0026-1 | P35: Rua Sampaio Viana, 663, 671, 685, 687, 695, Rua Professor Alexandre Albuquerque, 36, 48, 52, 60, 68, Rua Alcino Braga, 178, 180, 194 | Q35: Vila Mariana | R35: SEI SAMPAIO VIANA EMPREENDIMENTO IMOBILIARIO LTDA | S35: 001/24 | T35: Livro 1 - 40 | U35: 003L/24 | V35: Livro 1 - 51 | AA35: 45450 | AB35: DOCUMENTAL
