{"text_format":"1","workbook":"xlsx","n_sheets":8,"sheets":["SPP Transparencia","Dados Saldo disponivel do VT","Dados SPP","SPP por data e Tipo de cartão","login","Análise do SPP","Análise do Saldo do VT","Planilha1"],"not_rendered":{"charts":2,"images":4,"macros":1,"external_links":0,"defined_names":13,"comments":1,"pivot_tables":0},"unopened":[],"bounds":{"document_bytes":16777216,"sheet_cells":100000,"rows_first":2000,"rows_last":500,"rows_between":2000,"halvings":0,"cell_chars":16384,"cell_head_chars":4096},"cells_cut":0,"cells_raw":0,"read":"whole","date_system":"1900"}

{"sheet":"SPP Transparencia","index":0,"n_rows":19,"n_cols":3,"rows_kept":19,"cut":false,"hidden":false,"merged":[[13,0,16,0],[1,0,2,0],[3,0,5,0],[7,0,8,0],[9,0,10,0],[11,0,12,0]]}
["Tipo","Descrição","2024-12-31"]
["ESTUDANTE","Cartões",95731]
[null,"Saldo",1590701.1304209973]
["VALE TRANSPORTE / COMUM","Cartões",12620321]
[null,"Saldo (Comum)",127557572.63021322]
[null,"Saldo (VT)",872319904.81936598]
["VALE TRANSPORTE","Carga Pendente",762822686.40999997]
["FIDELIDADE","Cartões",139959]
[null,"Saldo",8531611]
["LAZER","Cartões",462]
[null,"Saldo",11049.42]
["SALDO EM PODER DO PÚBLICO","Cartões",12856473]
[null,"Saldo",1772833525.4100003]
["PARTICIPAÇÃO"," SPTRANS",1040387354.3868585]
[null," METRÔ",318542727.84566885]
[null," CPTM",304111862.94883144]
[null," VIAQUATRO",45579549.93829111]
[null,"VIA MOBILIDADE",64212030.290350214]
["QUANTIDADE TOTAL DE CARTÕES VÁLIDOS",null,12856473]

{"sheet":"Dados Saldo disponivel do VT","index":1,"n_rows":2232,"n_cols":20,"rows_kept":2232,"cut":false,"hidden":true,"merged":[]}
["Consulta de Saldo Disponível do VT",null,null,null,null,null,null,null,null,null,null,null,{"$f":"INDEX(B:B,N1)","v":"2025-02-10"},{"$f":"COUNTA(B:B)+1","v":2232},null,null,null,null,null,"Saldo disponivel"]
["ANO","Data","Status","Quantidade","Valor a Recarregar","mês"]
["2019","01/01/19","Disponivel",3234315,429504456.45999998,{"$f":"TEXT(Saldo_Disponivel_VT[[#This Row],[Data]],\"mmmm\")","v":"janeiro"}]
["2019","02/01/19","Disponivel",3165005,414372205.06999999,{"$f":"TEXT(Saldo_Disponivel_VT[[#This Row],[Data]],\"mmmm\")","v":"janeiro"}]
["2019","03/01/19","Disponivel",3137861,408036213.69,{"$f":"TEXT(Saldo_Disponivel_VT[[#This Row],[Data]],\"mmmm\")","v":"janeiro"}]
["2019","04/01/19","Disponivel",3118579,401579783.27999997,{"$f":"TEXT(Saldo_Disponivel_VT[[#This Row],[Data]],\"mmmm\")","v":"janeiro"}]
["2019","05/01/19","Disponivel",3092788,395867475.93000001,{"$f":"TEXT(Saldo_Disponivel_VT[[#This Row],[Data]],\"mmmm\")","v":"janeiro"}]
["2019","06/01/19","Disponivel",3076749,391734978.56999999,{"$f":"TEXT(Saldo_Disponivel_VT[[#This Row],[Data]],\"mmmm\")","v":"janeiro"}]
["2019","07/01/19","Disponivel",3005843,378760580.39999998,{"$f":"TEXT(Saldo_Disponivel_VT[[#This Row],[Data]],\"mmmm\")","v":"janeiro"}]
["2019","08/01/19","Disponivel",2966468,371579256.94,{"$f":"TEXT(Saldo_Disponivel_VT[[#This Row],[Data]],\"mmmm\")","v":"janeiro"}]
["2019","09/01/19","Disponivel",2945654,366627842.77999997,{"$f":"TEXT(Saldo_Disponivel_VT[[#This Row],[Data]],\"mmmm\")","v":"janeiro"}]
["2019","10/01/19","Disponivel",2939740,364438099.12,{"$f":"TEXT(Saldo_Disponivel_VT[[#This Row],[Data]],\"mmmm\")","v":"janeiro"}]
["2019","11/01/19","Disponivel",2932220,363060785.13,{"$f":"TEXT(Saldo_Disponivel_VT[[#This Row],[Data]],\"mmmm\")","v":"janeiro"}]
["2019","12/01/19","Disponivel",2922377,361138634.58999997,{"$f":"TEXT(Saldo_Disponivel_VT[[#This Row],[Data]],\"mmmm\")","v":"janeiro"}]
["2019","13/01/19","Disponivel",2914560,359673313.56999999,{"$f":"TEXT(Saldo_Disponivel_VT[[#This Row],[Data]],\"mmmm\")","v":"janeiro"}]
["2019","14/01/19","Disponivel",2887386,355322175.06,{"$f":"TEXT(Saldo_Disponivel_VT[[#This Row],[Data]],\"mmmm\")","v":"janeiro"}]
["2019","15/01/19","Disponivel",2876460,352963071.67000002,{"$f":"TEXT(Saldo_Disponivel_VT[[#This Row],[Data]],\"mmmm\")","v":"janeiro"}]
["2019","16/01/19","Disponivel",2867769,351931799.98000002,{"$f":"TEXT(Saldo_Disponivel_VT[[#This Row],[Data]],\"mmmm\")","v":"janeiro"}]
["2019","17/01/19","Disponivel",2869810,353041789.12,{"$f":"TEXT(Saldo_Disponivel_VT[[#This Row],[Data]],\"mmmm\")","v":"janeiro"}]
["2019","18/01/19","Disponivel",2873287,354512222.57999998,{"$f":"TEXT(Saldo_Disponivel_VT[[#This Row],[Data]],\"mmmm\")","v":"janeiro"}]
["2019","19/01/19","Disponivel",2864759,352825659.50999999,{"$f":"TEXT(Saldo_Disponivel_VT[[#This Row],[Data]],\"mmmm\")","v":"janeiro"}]
["2019","20/01/19","Disponivel",2858588,351522296.25999999,{"$f":"TEXT(Saldo_Disponivel_VT[[#This Row],[Data]],\"mmmm\")","v":"janeiro"}]
["2019","21/01/19","Disponivel",2859739,353187687.48000002,{"$f":"TEXT(Saldo_Disponivel_VT[[#This Row],[Data]],\"mmmm\")","v":"janeiro"}]
["2019","22/01/19","Disponivel",2898672,363227587.66000003,{"$f":"TEXT(Saldo_Disponivel_VT[[#This Row],[Data]],\"mmmm\")","v":"janeiro"}]
["2019","23/01/19","Disponivel",2947529,373129268.05000001,{"$f":"TEXT(Saldo_Disponivel_VT[[#This Row],[Data]],\"mmmm\")","v":"janeiro"}]
["2019","24/01/19","Disponivel",3032912,391801225.74000001,{"$f":"TEXT(Saldo_Disponivel_VT[[#This Row],[Data]],\"mmmm\")","v":"janeiro"}]
["2019","25/01/19","Disponivel",3008593,386939888.08999997,{"$f":"TEXT(Saldo_Disponivel_VT[[#This Row],[Data]],\"mmmm\")","v":"janeiro"}]
["2019","26/01/19","Disponivel",3014173,388515871.25,{"$f":"TEXT(Saldo_Disponivel_VT[[#This Row],[Data]],\"mmmm\")","v":"janeiro"}]
["2019","27/01/19","Disponivel",3001346,385707682.61000001,{"$f":"TEXT(Saldo_Disponivel_VT[[#This Row],[Data]],\"mmmm\")","v":"janeiro"}]
["2019","28/01/19","Disponivel",3117423,411634250.99000001,{"$f":"TEXT(Saldo_Disponivel_VT[[#This Row],[Data]],\"mmmm\")","v":"janeiro"}]
["2019","29/01/19","Disponivel",3187446,426339877.60000002,{"$f":"TEXT(Saldo_Disponivel_VT[[#This Row],[Data]],\"mmmm\")","v":"janeiro"}]
["2019","30/01/19","Disponivel",3206640,430423342.68000001,{"$f":"TEXT(Saldo_Disponivel_VT[[#This Row],[Data]],\"mmmm\")","v":"janeiro"}]
["2019","31/01/19","Disponivel",3186202,426561628.69999999,{"$f":"TEXT(Saldo_Disponivel_VT[[#This Row],[Data]],\"mmmm\")","v":"janeiro"}]
["2019","01/02/19","Disponivel",3232343,424594739.50999999,{"$f":"TEXT(Saldo_Disponivel_VT[[#This Row],[Data]],\"mmmm\")","v":"fevereiro"}]
["2019","02/02/19","Disponivel",3242365,423746626.61000001,{"$f":"TEXT(Saldo_Disponivel_VT[[#This Row],[Data]],\"mmmm\")","v":"fevereiro"}]
["2019","03/02/19","Disponivel",3211435,418416499.55000001,{"$f":"TEXT(Saldo_Disponivel_VT[[#This Row],[Data]],\"mmmm\")","v":"fevereiro"}]
["2019","04/02/19","Disponivel",3150421,409775648.88,{"$f":"TEXT(Saldo_Disponivel_VT[[#This Row],[Data]],\"mmmm\")","v":"fevereiro"}]
["2019","05/02/19","Disponivel",3090634,398662786.19999999,{"$f":"TEXT(Saldo_Disponivel_VT[[#This Row],[Data]],\"mmmm\")","v":"fevereiro"}]
["2019","06/02/19","Disponivel",3102595,397439171.35000002,{"$f":"TEXT(Saldo_Disponivel_VT[[#This Row],[Data]],\"mmmm\")","v":"fevereiro"}]
["2019","07/02/19","Disponivel",3095845,393459494.43000001,{"$f":"TEXT(Saldo_Disponivel_VT[[#This Row],[Data]],\"mmmm\")","v":"fevereiro"}]
["2019","08/02/19","Disponivel",3076354,388605467.04000002,{"$f":"TEXT(Saldo_Disponivel_VT[[#This Row],[Data]],\"mmmm\")","v":"fevereiro"}]
["2019","09/02/19","Disponivel",3065708,386079436.41000003,{"$f":"TEXT(Saldo_Disponivel_VT[[#This Row],[Data]],\"mmmm\")","v":"fevereiro"}]
["2019","10/02/19","Disponivel",3050766,383538094.67000002,{"$f":"TEXT(Saldo_Disponivel_VT[[#This Row],[Data]],\"mmmm\")","v":"fevereiro"}]
["2019","11/02/19","Disponivel",3010416,376725899.35000002,{"$f":"TEXT(Saldo_Disponivel_VT[[#This Row],[Data]],\"mmmm\")","v":"fevereiro"}]
["2019","12/02/19","Disponivel",2994766,374033222.88999999,{"$f":"TEXT(Saldo_Disponivel_VT[[#This Row],[Data]],\"mmmm\")","v":"fevereiro"}]
["2019","13/02/19","Disponivel",3011191,374327807.92000002,{"$f":"TEXT(Saldo_Disponivel_VT[[#This Row],[Data]],\"mmmm\")","v":"fevereiro"}]
["2019","14/02/19","Disponivel",3000093,372894111.82999998,{"$f":"TEXT(Saldo_Disponivel_VT[[#This Row],[Data]],\"mmmm\")","v":"fevereiro"}]
["2019","15/02/19","Disponivel",2997409,372089279.98000002,{"$f":"TEXT(Saldo_Disponivel_VT[[#This Row],[Data]],\"mmmm\")","v":"fevereiro"}]
["2019","17/02/19","Disponivel",2981536,368946073.02999997,{"$f":"TEXT(Saldo_Disponivel_VT[[#This Row],[Data]],\"mmmm\")","v":"fevereiro"}]
["2019","18/02/19","Disponivel",2974490,369621910,{"$f":"TEXT(Saldo_Disponivel_VT[[#This Row],[Data]],\"mmmm\")","v":"fevereiro"}]
["2019","19/02/19","Disponivel",2989465,374924735.30000001,{"$f":"TEXT(Saldo_Disponivel_VT[[#This Row],[Data]],\"mmmm\")","v":"fevereiro"}]
["2019","20/02/19","Disponivel",2978830,371415066.11000001,{"$f":"TEXT(Saldo_Disponivel_VT[[#This Row],[Data]],\"mmmm\")","v":"fevereiro"}]
["2019","21/02/19","Disponivel",3083285,393985785.91000003,{"$f":"TEXT(Saldo_Disponivel_VT[[#This Row],[Data]],\"mmmm\")","v":"fevereiro"}]
["2019","22/02/19","Disponivel",3106220,398775075.60000002,{"$f":"TEXT(Saldo_Disponivel_VT[[#This Row],[Data]],\"mmmm\")","v":"fevereiro"}]
["2019","23/02/19","Disponivel",3099180,396365116.79000002,{"$f":"TEXT(Saldo_Disponivel_VT[[#This Row],[Data]],\"mmmm\")","v":"fevereiro"}]
["2019","24/02/19","Disponivel",3084733,393497825.77999997,{"$f":"TEXT(Saldo_Disponivel_VT[[#This Row],[Data]],\"mmmm\")","v":"fevereiro"}]
["2019","25/02/19","Disponivel",3236142,427080032.55000001,{"$f":"TEXT(Saldo_Disponivel_VT[[#This Row],[Data]],\"mmmm\")","v":"fevereiro"}]
["2019","26/02/19","Disponivel",3328856,443305033.19999999,{"$f":"TEXT(Saldo_Disponivel_VT[[#This Row],[Data]],\"mmmm\")","v":"fevereiro"}]
["2019","27/02/19","Disponivel",3427591,464047921.39999998,{"$f":"TEXT(Saldo_Disponivel_VT[[#This Row],[Data]],\"mmmm\")","v":"fevereiro"}]
["2019","28/02/19","Disponivel",3425346,462237609.36000001,{"$f":"TEXT(Saldo_Disponivel_VT[[#This Row],[Data]],\"mmmm\")","v":"fevereiro"}]
["2019","01/03/19","Disponivel",3922282,509908918.38,{"$f":"TEXT(Saldo_Disponivel_VT[[#This Row],[Data]],\"mmmm\")","v":"março"}]
["2019","02/03/19","Disponivel",3859910,499825067.92000002,{"$f":"TEXT(Saldo_Disponivel_VT[[#This Row],[Data]],\"mmmm\")","v":"março"}]
["2019","03/03/19","Disponivel",3815584,492532763.22000003,{"$f":"TEXT(Saldo_Disponivel_VT[[#This Row],[Data]],\"mmmm\")","v":"março"}]
["2019","04/03/19","Disponivel",3732072,478925604.63,{"$f":"TEXT(Saldo_Disponivel_VT[[#This Row],[Data]],\"mmmm\")","v":"março"}]
["2019","05/03/19","Disponivel",3677911,470357530.13999999,{"$f":"TEXT(Saldo_Disponivel_VT[[#This Row],[Data]],\"mmmm\")","v":"março"}]
["2019","06/03/19","Disponivel",3486354,442945064.38,{"$f":"TEXT(Saldo_Disponivel_VT[[#This Row],[Data]],\"mmmm\")","v":"março"}]
["2019","07/03/19","Disponivel",3351422,424140522.30000001,{"$f":"TEXT(Saldo_Disponivel_VT[[#This Row],[Data]],\"mmmm\")","v":"março"}]
["2019","08/03/19","Disponivel",3293927,415886950.16000003,{"$f":"TEXT(Saldo_Disponivel_VT[[#This Row],[Data]],\"mmmm\")","v":"março"}]
["2019","09/03/19","Disponivel",3250365,409347205,{"$f":"TEXT(Saldo_Disponivel_VT[[#This Row],[Data]],\"mmmm\")","v":"março"}]
["2019","10/03/19","Disponivel",3226148,405560774.61000001,{"$f":"TEXT(Saldo_Disponivel_VT[[#This Row],[Data]],\"mmmm\")","v":"março"}]
["2019","11/03/19","Disponivel",3141643,392878347.62,{"$f":"TEXT(Saldo_Disponivel_VT[[#This Row],[Data]],\"mmmm\")","v":"março"}]
["2019","12/03/19","Disponivel",3106355,387218306.63999999,{"$f":"TEXT(Saldo_Disponivel_VT[[#This Row],[Data]],\"mmmm\")","v":"março"}]
["2019","13/03/19","Disponivel",3084221,382526241.38,{"$f":"TEXT(Saldo_Disponivel_VT[[#This Row],[Data]],\"mmmm\")","v":"março"}]
["2019","14/03/19","Disponivel",3065546,379022127.81,{"$f":"TEXT(Saldo_Disponivel_VT[[#This Row],[Data]],\"mmmm\")","v":"março"}]
["2019","15/03/19","Disponivel",3063429,379170990.69999999,{"$f":"TEXT(Saldo_Disponivel_VT[[#This Row],[Data]],\"mmmm\")","v":"março"}]
["2019","16/03/19","Disponivel",3049121,376653783.38,{"$f":"TEXT(Saldo_Disponivel_VT[[#This Row],[Data]],\"mmmm\")","v":"março"}]
["2019","17/03/19","Disponivel",3040386,375013307.30000001,{"$f":"TEXT(Saldo_Disponivel_VT[[#This Row],[Data]],\"mmmm\")","v":"março"}]
["2019","18/03/19","Disponivel",3029264,374435338.38,{"$f":"TEXT(Saldo_Disponivel_VT[[#This Row],[Data]],\"mmmm\")","v":"março"}]
["2019","19/03/19","Disponivel",3037839,377572540.81,{"$f":"TEXT(Saldo_Disponivel_VT[[#This Row],[Data]],\"mmmm\")","v":"março"}]
["2019","20/03/19","Disponivel",3041711,379067219.41000003,{"$f":"TEXT(Saldo_Disponivel_VT[[#This Row],[Data]],\"mmmm\")","v":"março"}]
["2019","21/03/19","Disponivel",3062605,384482370.04000002,{"$f":"TEXT(Saldo_Disponivel_VT[[#This Row],[Data]],\"mmmm\")","v":"março"}]
["2019","22/03/19","Disponivel",3146681,401645076.75,{"$f":"TEXT(Saldo_Disponivel_VT[[#This Row],[Data]],\"mmmm\")","v":"março"}]
["2019","23/03/19","Disponivel",3132309,399167073.08999997,{"$f":"TEXT(Saldo_Disponivel_VT[[#This Row],[Data]],\"mmmm\")","v":"março"}]
["2019","24/03/19","Disponivel",3120427,396686110.70999998,{"$f":"TEXT(Saldo_Disponivel_VT[[#This Row],[Data]],\"mmmm\")","v":"março"}]
["2019","25/03/19","Disponivel",3177566,409995590.63,{"$f":"TEXT(Saldo_Disponivel_VT[[#This Row],[Data]],\"mmmm\")","v":"março"}]
["2019","26/03/19","Disponivel",3305611,439109546.20999998,{"$f":"TEXT(Saldo_Disponivel_VT[[#This Row],[Data]],\"mmmm\")","v":"março"}]
["2019","27/03/19","Disponivel",3375733,453527503.60000002,{"$f":"TEXT(Saldo_Disponivel_VT[[#This Row],[Data]],\"mmmm\")","v":"março"}]
["2019","28/03/19","Disponivel",3424819,465445244,{"$f":"TEXT(Saldo_Disponivel_VT[[#This Row],[Data]],\"mmmm\")","v":"março"}]
["2019","29/03/19","Disponivel",3405129,460702589.13999999,{"$f":"TEXT(Saldo_Disponivel_VT[[#This Row],[Data]],\"mmmm\")","v":"março"}]
["2019","30/03/19","Disponivel",3373646,454185766.91000003,{"$f":"TEXT(Saldo_Disponivel_VT[[#This Row],[Data]],\"mmmm\")","v":"março"}]
["2019","31/03/19","Disponivel",3351498,449341759.73000002,{"$f":"TEXT(Saldo_Disponivel_VT[[#This Row],[Data]],\"mmmm\")","v":"março"}]
["2019","01/04/19","Disponivel",3851275,494546334.56999999,{"$f":"TEXT(Saldo_Disponivel_VT[[#This Row],[Data]],\"mmmm\")","v":"abril"}]
["2019","02/04/19","Disponivel",3681822,471075014.47000003,{"$f":"TEXT(Saldo_Disponivel_VT[[#This Row],[Data]],\"mmmm\")","v":"abril"}]
["2019","03/04/19","Disponivel",3592909,459033016.77999997,{"$f":"TEXT(Saldo_Disponivel_VT[[#This Row],[Data]],\"mmmm\")","v":"abril"}]
["2019","04/04/19","Disponivel",3536021,452559758.13,{"$f":"TEXT(Saldo_Disponivel_VT[[#This Row],[Data]],\"mmmm\")","v":"abril"}]
["2019","05/04/19","Disponivel",3440499,437795004.32999998,{"$f":"TEXT(Saldo_Disponivel_VT[[#This Row],[Data]],\"mmmm\")","v":"abril"}]
["2019","06/04/19","Disponivel",3355951,426464801.56,{"$f":"TEXT(Saldo_Disponivel_VT[[#This Row],[Data]],\"mmmm\")","v":"abril"}]
["2019","07/04/19","Disponivel",3320514,421237852.05000001,{"$f":"TEXT(Saldo_Disponivel_VT[[#This Row],[Data]],\"mmmm\")","v":"abril"}]
["2019","08/04/19","Disponivel",3204545,405028339.88,{"$f":"TEXT(Saldo_Disponivel_VT[[#This Row],[Data]],\"mmmm\")","v":"abril"}]
["2019","09/04/19","Disponivel",3143035,396523102.06,{"$f":"TEXT(Saldo_Disponivel_VT[[#This Row],[Data]],\"mmmm\")","v":"abril"}]
["2019","10/04/19","Disponivel",3107350,390300971.68000001,{"$f":"TEXT(Saldo_Disponivel_VT[[#This Row],[Data]],\"mmmm\")","v":"abril"}]
["2019","11/04/19","Disponivel",3084695,385918690.74000001,{"$f":"TEXT(Saldo_Disponivel_VT[[#This Row],[Data]],\"mmmm\")","v":"abril"}]
["2019","12/04/19","Disponivel",3075915,383875546.33999997,{"$f":"TEXT(Saldo_Disponivel_VT[[#This Row],[Data]],\"mmmm\")","v":"abril"}]
["2019","13/04/19","Disponivel",3128269,381802741.51999998,{"$f":"TEXT(Saldo_Disponivel_VT[[#This Row],[Data]],\"mmmm\")","v":"abril"}]
["2019","14/04/19","Disponivel",3198239,379074580.05000001,{"$f":"TEXT(Saldo_Disponivel_VT[[#This Row],[Data]],\"mmmm\")","v":"abril"}]
["2019","15/04/19","Disponivel",3266763,377111965.39999998,{"$f":"TEXT(Saldo_Disponivel_VT[[#This Row],[Data]],\"mmmm\")","v":"abril"}]
["2019","16/04/19","Disponivel",3334283,379575627.04000002,{"$f":"TEXT(Saldo_Disponivel_VT[[#This Row],[Data]],\"mmmm\")","v":"abril"}]
["2019","17/04/19","Disponivel",3317579,378894302.87,{"$f":"TEXT(Saldo_Disponivel_VT[[#This Row],[Data]],\"mmmm\")","v":"abril"}]
["2019","18/04/19","Disponivel",3307591,380167716.38999999,{"$f":"TEXT(Saldo_Disponivel_VT[[#This Row],[Data]],\"mmmm\")","v":"abril"}]
["2019","19/04/19","Disponivel",3304295,379909871.14999998,{"$f":"TEXT(Saldo_Disponivel_VT[[#This Row],[Data]],\"mmmm\")","v":"abril"}]
["2019","20/04/19","Disponivel",3281018,376849758.05000001,{"$f":"TEXT(Saldo_Disponivel_VT[[#This Row],[Data]],\"mmmm\")","v":"abril"}]
["2019","21/04/19","Disponivel",3273207,375673069.57999998,{"$f":"TEXT(Saldo_Disponivel_VT[[#This Row],[Data]],\"mmmm\")","v":"abril"}]
["2019","22/04/19","Disponivel",3282742,383464436.04000002,{"$f":"TEXT(Saldo_Disponivel_VT[[#This Row],[Data]],\"mmmm\")","v":"abril"}]
["2019","23/04/19","Disponivel",3309002,394204538.31,{"$f":"TEXT(Saldo_Disponivel_VT[[#This Row],[Data]],\"mmmm\")","v":"abril"}]
["2019","24/04/19","Disponivel",3377534,414804272.18000001,{"$f":"TEXT(Saldo_Disponivel_VT[[#This Row],[Data]],\"mmmm\")","v":"abril"}]
["2019","25/04/19","Disponivel",3433230,433255671.77999997,{"$f":"TEXT(Saldo_Disponivel_VT[[#This Row],[Data]],\"mmmm\")","v":"abril"}]
["2019","26/04/19","Disponivel",3565080,468367204.17000002,{"$f":"TEXT(Saldo_Disponivel_VT[[#This Row],[Data]],\"mmmm\")","v":"abril"}]
["2019","27/04/19","Disponivel",3547125,468135806.76999998,{"$f":"TEXT(Saldo_Disponivel_VT[[#This Row],[Data]],\"mmmm\")","v":"abril"}]
["2019","28/04/19","Disponivel",3516210,462206579.73000002,{"$f":"TEXT(Saldo_Disponivel_VT[[#This Row],[Data]],\"mmmm\")","v":"abril"}]
["2019","29/04/19","Disponivel",3514510,469604839.56999999,{"$f":"TEXT(Saldo_Disponivel_VT[[#This Row],[Data]],\"mmmm\")","v":"abril"}]
["2019","30/04/19","Disponivel",3459389,462950947.81,{"$f":"TEXT(Saldo_Disponivel_VT[[#This Row],[Data]],\"mmmm\")","v":"abril"}]
["2019","01/05/19","Disponivel",4207113,541756393.15999997,{"$f":"TEXT(Saldo_Disponivel_VT[[#This Row],[Data]],\"mmmm\")","v":"maio"}]
["2019","02/05/19","Disponivel",3973732,513984992.06999999,{"$f":"TEXT(Saldo_Disponivel_VT[[#This Row],[Data]],\"mmmm\")","v":"maio"}]
["2019","03/05/19","Disponivel",3798871,488853875.93000001,{"$f":"TEXT(Saldo_Disponivel_VT[[#This Row],[Data]],\"mmmm\")","v":"maio"}]
["2019","04/05/19","Disponivel",3710278,475771282.58999997,{"$f":"TEXT(Saldo_Disponivel_VT[[#This Row],[Data]],\"mmmm\")","v":"maio"}]
["2019","05/05/19","Disponivel",3682720,472818168.38999999,{"$f":"TEXT(Saldo_Disponivel_VT[[#This Row],[Data]],\"mmmm\")","v":"maio"}]
["2019","06/05/19","Disponivel",3386163,434919064.68000001,{"$f":"TEXT(Saldo_Disponivel_VT[[#This Row],[Data]],\"mmmm\")","v":"maio"}]
["2019","07/05/19","Disponivel",3284314,419815987.45999998,{"$f":"TEXT(Saldo_Disponivel_VT[[#This Row],[Data]],\"mmmm\")","v":"maio"}]
["2019","08/05/19","Disponivel",3219368,409588387.81999999,{"$f":"TEXT(Saldo_Disponivel_VT[[#This Row],[Data]],\"mmmm\")","v":"maio"}]
["2019","09/05/19","Disponivel",3189824,404192172.23000002,{"$f":"TEXT(Saldo_Disponivel_VT[[#This Row],[Data]],\"mmmm\")","v":"maio"}]
["2019","10/05/19","Disponivel",3154576,398281225.94999999,{"$f":"TEXT(Saldo_Disponivel_VT[[#This Row],[Data]],\"mmmm\")","v":"maio"}]
["2019","11/05/19","Disponivel",3129631,394231588.89999998,{"$f":"TEXT(Saldo_Disponivel_VT[[#This Row],[Data]],\"mmmm\")","v":"maio"}]
["2019","12/05/19","Disponivel",3119971,392372087.44999999,{"$f":"TEXT(Saldo_Disponivel_VT[[#This Row],[Data]],\"mmmm\")","v":"maio"}]
["2019","13/05/19","Disponivel",3090367,387571021.76999998,{"$f":"TEXT(Saldo_Disponivel_VT[[#This Row],[Data]],\"mmmm\")","v":"maio"}]
["2019","14/05/19","Disponivel",3070651,383619777.04000002,{"$f":"TEXT(Saldo_Disponivel_VT[[#This Row],[Data]],\"mmmm\")","v":"maio"}]
["2019","15/05/19","Disponivel",3053723,380349602.75,{"$f":"TEXT(Saldo_Disponivel_VT[[#This Row],[Data]],\"mmmm\")","v":"maio"}]
["2019","16/05/19","Disponivel",3049317,380333124.31999999,{"$f":"TEXT(Saldo_Disponivel_VT[[#This Row],[Data]],\"mmmm\")","v":"maio"}]
["2019","17/05/19","Disponivel",3039767,379653637.44,{"$f":"TEXT(Saldo_Disponivel_VT[[#This Row],[Data]],\"mmmm\")","v":"maio"}]
["2019","18/05/19","Disponivel",3027079,377446303.52999997,{"$f":"TEXT(Saldo_Disponivel_VT[[#This Row],[Data]],\"mmmm\")","v":"maio"}]
["2019","19/05/19","Disponivel",3019264,375880823.74000001,{"$f":"TEXT(Saldo_Disponivel_VT[[#This Row],[Data]],\"mmmm\")","v":"maio"}]
["2019","20/05/19","Disponivel",3027563,379360795.10000002,{"$f":"TEXT(Saldo_Disponivel_VT[[#This Row],[Data]],\"mmmm\")","v":"maio"}]
["2019","21/05/19","Disponivel",3037367,382308532.36000001,{"$f":"TEXT(Saldo_Disponivel_VT[[#This Row],[Data]],\"mmmm\")","v":"maio"}]
["2019","22/05/19","Disponivel",3114199,386521806.27999997,{"$f":"TEXT(Saldo_Disponivel_VT[[#This Row],[Data]],\"mmmm\")","v":"maio"}]
["2019","23/05/19","Disponivel",3251050,399238086.30000001,{"$f":"TEXT(Saldo_Disponivel_VT[[#This Row],[Data]],\"mmmm\")","v":"maio"}]
["2019","24/05/19","Disponivel",3402423,413613607.22000003,{"$f":"TEXT(Saldo_Disponivel_VT[[#This Row],[Data]],\"mmmm\")","v":"maio"}]
["2019","25/05/19","Disponivel",3382826,409867993.89999998,{"$f":"TEXT(Saldo_Disponivel_VT[[#This Row],[Data]],\"mmmm\")","v":"maio"}]
["2019","26/05/19","Disponivel",3364257,406657558.38999999,{"$f":"TEXT(Saldo_Disponivel_VT[[#This Row],[Data]],\"mmmm\")","v":"maio"}]
["2019","27/05/19","Disponivel",3413291,421022785.98000002,{"$f":"TEXT(Saldo_Disponivel_VT[[#This Row],[Data]],\"mmmm\")","v":"maio"}]
["2019","28/05/19","Disponivel",3475929,438406034.56,{"$f":"TEXT(Saldo_Disponivel_VT[[#This Row],[Data]],\"mmmm\")","v":"maio"}]
["2019","29/05/19","Disponivel",3528683,453023232.64999998,{"$f":"TEXT(Saldo_Disponivel_VT[[#This Row],[Data]],\"mmmm\")","v":"maio"}]
["2019","30/05/19","Disponivel",3591056,452425527,{"$f":"TEXT(Saldo_Disponivel_VT[[#This Row],[Data]],\"mmmm\")","v":"maio"}]
["2019","31/05/19","Disponivel",3635576,447975493.19999999,{"$f":"TEXT(Saldo_Disponivel_VT[[#This Row],[Data]],\"mmmm\")","v":"maio"}]
["2019","01/06/19","Disponivel",4463636,526518936.38999999,{"$f":"TEXT(Saldo_Disponivel_VT[[#This Row],[Data]],\"mmmm\")","v":"junho"}]
["2019","02/06/19","Disponivel",4480451,516908940.98000002,{"$f":"TEXT(Saldo_Disponivel_VT[[#This Row],[Data]],\"mmmm\")","v":"junho"}]
["2019","03/06/19","Disponivel",4226193,475874099.82999998,{"$f":"TEXT(Saldo_Disponivel_VT[[#This Row],[Data]],\"mmmm\")","v":"junho"}]
["2019","04/06/19","Disponivel",4159495,461986593.91000003,{"$f":"TEXT(Saldo_Disponivel_VT[[#This Row],[Data]],\"mmmm\")","v":"junho"}]
["2019","05/06/19","Disponivel",4094005,446139377.54000002,{"$f":"TEXT(Saldo_Disponivel_VT[[#This Row],[Data]],\"mmmm\")","v":"junho"}]
["2019","06/06/19","Disponivel",3889371,423865454.72000003,{"$f":"TEXT(Saldo_Disponivel_VT[[#This Row],[Data]],\"mmmm\")","v":"junho"}]
["2019","07/06/19","Disponivel",3781021,410970438.36000001,{"$f":"TEXT(Saldo_Disponivel_VT[[#This Row],[Data]],\"mmmm\")","v":"junho"}]
["2019","08/06/19","Disponivel",3727520,404801709.12,{"$f":"TEXT(Saldo_Disponivel_VT[[#This Row],[Data]],\"mmmm\")","v":"junho"}]
["2019","09/06/19","Disponivel",3705872,402042520.88,{"$f":"TEXT(Saldo_Disponivel_VT[[#This Row],[Data]],\"mmmm\")","v":"junho"}]
["2019","10/06/19","Disponivel",3630551,393299266.95999998,{"$f":"TEXT(Saldo_Disponivel_VT[[#This Row],[Data]],\"mmmm\")","v":"junho"}]
["2019","11/06/19","Disponivel",3592426,389214298.05000001,{"$f":"TEXT(Saldo_Disponivel_VT[[#This Row],[Data]],\"mmmm\")","v":"junho"}]
["2019","12/06/19","Disponivel",3566975,386726423.97000003,{"$f":"TEXT(Saldo_Disponivel_VT[[#This Row],[Data]],\"mmmm\")","v":"junho"}]
["2019","13/06/19","Disponivel",3540381,385008882.43000001,{"$f":"TEXT(Saldo_Disponivel_VT[[#This Row],[Data]],\"mmmm\")","v":"junho"}]
["2019","14/06/19","Disponivel",3535341,386859014.16000003,{"$f":"TEXT(Saldo_Disponivel_VT[[#This Row],[Data]],\"mmmm\")","v":"junho"}]
["2019","15/06/19","Disponivel",3506802,383676831.45999998,{"$f":"TEXT(Saldo_Disponivel_VT[[#This Row],[Data]],\"mmmm\")","v":"junho"}]
["2019","16/06/19","Disponivel",3493260,382017737.33999997,{"$f":"TEXT(Saldo_Disponivel_VT[[#This Row],[Data]],\"mmmm\")","v":"junho"}]
["2019","17/06/19","Disponivel",3455505,379986325.31,{"$f":"TEXT(Saldo_Disponivel_VT[[#This Row],[Data]],\"mmmm\")","v":"junho"}]
["2019","18/06/19","Disponivel",3432973,380594291.61000001,{"$f":"TEXT(Saldo_Disponivel_VT[[#This Row],[Data]],\"mmmm\")","v":"junho"}]
["2019","19/06/19","Disponivel",3461475,392349268.25,{"$f":"TEXT(Saldo_Disponivel_VT[[#This Row],[Data]],\"mmmm\")","v":"junho"}]
["2019","20/06/19","Disponivel",3448214,390849024.56,{"$f":"TEXT(Saldo_Disponivel_VT[[#This Row],[Data]],\"mmmm\")","v":"junho"}]
["2019","21/06/19","Disponivel",3399926,384726781.13999999,{"$f":"TEXT(Saldo_Disponivel_VT[[#This Row],[Data]],\"mmmm\")","v":"junho"}]
["2019","22/06/19","Disponivel",3383401,383628920.43000001,{"$f":"TEXT(Saldo_Disponivel_VT[[#This Row],[Data]],\"mmmm\")","v":"junho"}]
["2019","23/06/19","Disponivel",3371747,382038416.79000002,{"$f":"TEXT(Saldo_Disponivel_VT[[#This Row],[Data]],\"mmmm\")","v":"junho"}]
["2019","24/06/19","Disponivel",3482740,413673324.86000001,{"$f":"TEXT(Saldo_Disponivel_VT[[#This Row],[Data]],\"mmmm\")","v":"junho"}]
["2019","25/06/19","Disponivel",3571732,440846856.5,{"$f":"TEXT(Saldo_Disponivel_VT[[#This Row],[Data]],\"mmmm\")","v":"junho"}]
["2019","26/06/19","Disponivel",3647414,464825496.43000001,{"$f":"TEXT(Saldo_Disponivel_VT[[#This Row],[Data]],\"mmmm\")","v":"junho"}]
["2019","27/06/19","Disponivel",3695962,483294875.38999999,{"$f":"TEXT(Saldo_Disponivel_VT[[#This Row],[Data]],\"mmmm\")","v":"junho"}]
["2019","28/06/19","Disponivel",3643216,477865261.91000003,{"$f":"TEXT(Saldo_Disponivel_VT[[#This Row],[Data]],\"mmmm\")","v":"junho"}]
["2019","29/06/19","Disponivel",3604655,471898929.00999999,{"$f":"TEXT(Saldo_Disponivel_VT[[#This Row],[Data]],\"mmmm\")","v":"junho"}]
["2019","30/06/19","Disponivel",3569053,465173869.67000002,{"$f":"TEXT(Saldo_Disponivel_VT[[#This Row],[Data]],\"mmmm\")","v":"junho"}]
["2019","01/07/19","Disponivel",3996131,466425928.42000002,{"$f":"TEXT(Saldo_Disponivel_VT[[#This Row],[Data]],\"mmmm\")","v":"julho"}]
["2019","02/07/19","Disponivel",3869386,451417144.75,{"$f":"TEXT(Saldo_Disponivel_VT[[#This Row],[Data]],\"mmmm\")","v":"julho"}]
["2019","03/07/19","Disponivel",3783135,442191912.75999999,{"$f":"TEXT(Saldo_Disponivel_VT[[#This Row],[Data]],\"mmmm\")","v":"julho"}]
["2019","04/07/19","Disponivel",3761625,441578718.88,{"$f":"TEXT(Saldo_Disponivel_VT[[#This Row],[Data]],\"mmmm\")","v":"julho"}]
["2019","05/07/19","Disponivel",3709012,435466914.93000001,{"$f":"TEXT(Saldo_Disponivel_VT[[#This Row],[Data]],\"mmmm\")","v":"julho"}]
["2019","06/07/19","Disponivel",3608224,425348031.38,{"$f":"TEXT(Saldo_Disponivel_VT[[#This Row],[Data]],\"mmmm\")","v":"julho"}]
["2019","07/07/19","Disponivel",3582994,422941374.88999999,{"$f":"TEXT(Saldo_Disponivel_VT[[#This Row],[Data]],\"mmmm\")","v":"julho"}]
["2019","08/07/19","Disponivel",3489260,411737098.86000001,{"$f":"TEXT(Saldo_Disponivel_VT[[#This Row],[Data]],\"mmmm\")","v":"julho"}]
["2019","09/07/19","Disponivel",3466361,408862928.16000003,{"$f":"TEXT(Saldo_Disponivel_VT[[#This Row],[Data]],\"mmmm\")","v":"julho"}]
["2019","10/07/19","Disponivel",3420175,403514444.88999999,{"$f":"TEXT(Saldo_Disponivel_VT[[#This Row],[Data]],\"mmmm\")","v":"julho"}]
["2019","11/07/19","Disponivel",3388583,398950793.45999998,{"$f":"TEXT(Saldo_Disponivel_VT[[#This Row],[Data]],\"mmmm\")","v":"julho"}]
["2019","12/07/19","Disponivel",3360062,394902819.89999998,{"$f":"TEXT(Saldo_Disponivel_VT[[#This Row],[Data]],\"mmmm\")","v":"julho"}]
["2019","13/07/19","Disponivel",3338143,392308587.24000001,{"$f":"TEXT(Saldo_Disponivel_VT[[#This Row],[Data]],\"mmmm\")","v":"julho"}]
["2019","14/07/19","Disponivel",3324853,390415599.12,{"$f":"TEXT(Saldo_Disponivel_VT[[#This Row],[Data]],\"mmmm\")","v":"julho"}]
["2019","15/07/19","Disponivel",3290036,385441570.48000002,{"$f":"TEXT(Saldo_Disponivel_VT[[#This Row],[Data]],\"mmmm\")","v":"julho"}]
["2019","16/07/19","Disponivel",3274339,383844804.73000002,{"$f":"TEXT(Saldo_Disponivel_VT[[#This Row],[Data]],\"mmmm\")","v":"julho"}]
["2019","17/07/19","Disponivel",3268310,384764722.12,{"$f":"TEXT(Saldo_Disponivel_VT[[#This Row],[Data]],\"mmmm\")","v":"julho"}]
["2019","18/07/19","Disponivel",3271372,388155247.50999999,{"$f":"TEXT(Saldo_Disponivel_VT[[#This Row],[Data]],\"mmmm\")","v":"julho"}]
["2019","19/07/19","Disponivel",3298629,396151710.60000002,{"$f":"TEXT(Saldo_Disponivel_VT[[#This Row],[Data]],\"mmmm\")","v":"julho"}]
["2019","20/07/19","Disponivel",3279105,393100416.38,{"$f":"TEXT(Saldo_Disponivel_VT[[#This Row],[Data]],\"mmmm\")","v":"julho"}]
["2019","21/07/19","Disponivel",3268659,391134959.48000002,{"$f":"TEXT(Saldo_Disponivel_VT[[#This Row],[Data]],\"mmmm\")","v":"julho"}]
["2019","22/07/19","Disponivel",3262949,392427258.66000003,{"$f":"TEXT(Saldo_Disponivel_VT[[#This Row],[Data]],\"mmmm\")","v":"julho"}]
["2019","23/07/19","Disponivel",3293207,404033378.94999999,{"$f":"TEXT(Saldo_Disponivel_VT[[#This Row],[Data]],\"mmmm\")","v":"julho"}]
["2019","24/07/19","Disponivel",3331765,416554187.06,{"$f":"TEXT(Saldo_Disponivel_VT[[#This Row],[Data]],\"mmmm\")","v":"julho"}]
["2019","25/07/19","Disponivel",3426266,439175094.19,{"$f":"TEXT(Saldo_Disponivel_VT[[#This Row],[Data]],\"mmmm\")","v":"julho"}]
["2019","26/07/19","Disponivel",3512184,461224141.11000001,{"$f":"TEXT(Saldo_Disponivel_VT[[#This Row],[Data]],\"mmmm\")","v":"julho"}]
["2019","27/07/19","Disponivel",3501929,459803711.98000002,{"$f":"TEXT(Saldo_Disponivel_VT[[#This Row],[Data]],\"mmmm\")","v":"julho"}]
["2019","28/07/19","Disponivel",3479287,454563183.22000003,{"$f":"TEXT(Saldo_Disponivel_VT[[#This Row],[Data]],\"mmmm\")","v":"julho"}]
["2019","29/07/19","Disponivel",3369430,433313303.19999999,{"$f":"TEXT(Saldo_Disponivel_VT[[#This Row],[Data]],\"mmmm\")","v":"julho"}]
["2019","30/07/19","Disponivel",3534147,471474366.93000001,{"$f":"TEXT(Saldo_Disponivel_VT[[#This Row],[Data]],\"mmmm\")","v":"julho"}]
["2019","31/07/19","Disponivel",3463570,456350588.30000001,{"$f":"TEXT(Saldo_Disponivel_VT[[#This Row],[Data]],\"mmmm\")","v":"julho"}]
["2019","01/08/19","Disponivel",3858397,503739250.38,{"$f":"TEXT(Saldo_Disponivel_VT[[#This Row],[Data]],\"mmmm\")","v":"agosto"}]
["2019","02/08/19","Disponivel",3737820,487643393.89999998,{"$f":"TEXT(Saldo_Disponivel_VT[[#This Row],[Data]],\"mmmm\")","v":"agosto"}]
["2019","03/08/19","Disponivel",3677093,479270472.06,{"$f":"TEXT(Saldo_Disponivel_VT[[#This Row],[Data]],\"mmmm\")","v":"agosto"}]
["2019","04/08/19","Disponivel",3639392,473214005.82999998,{"$f":"TEXT(Saldo_Disponivel_VT[[#This Row],[Data]],\"mmmm\")","v":"agosto"}]
["2019","05/08/19","Disponivel",3459509,447209530.24000001,{"$f":"TEXT(Saldo_Disponivel_VT[[#This Row],[Data]],\"mmmm\")","v":"agosto"}]
["2019","06/08/19","Disponivel",3317259,427910811.24000001,{"$f":"TEXT(Saldo_Disponivel_VT[[#This Row],[Data]],\"mmmm\")","v":"agosto"}]
["2019","07/08/19","Disponivel",3254293,417830270.06999999,{"$f":"TEXT(Saldo_Disponivel_VT[[#This Row],[Data]],\"mmmm\")","v":"agosto"}]
["2019","08/08/19","Disponivel",3203877,409142929.20999998,{"$f":"TEXT(Saldo_Disponivel_VT[[#This Row],[Data]],\"mmmm\")","v":"agosto"}]
["2019","09/08/19","Disponivel",3170481,403209639.94999999,{"$f":"TEXT(Saldo_Disponivel_VT[[#This Row],[Data]],\"mmmm\")","v":"agosto"}]
["2019","10/08/19","Disponivel",3144464,398875084.81,{"$f":"TEXT(Saldo_Disponivel_VT[[#This Row],[Data]],\"mmmm\")","v":"agosto"}]
["2019","11/08/19","Disponivel",3134808,396908517.47000003,{"$f":"TEXT(Saldo_Disponivel_VT[[#This Row],[Data]],\"mmmm\")","v":"agosto"}]
["2019","12/08/19","Disponivel",3104255,391873895.19,{"$f":"TEXT(Saldo_Disponivel_VT[[#This Row],[Data]],\"mmmm\")","v":"agosto"}]
["2019","13/08/19","Disponivel",3086483,388468190.06,{"$f":"TEXT(Saldo_Disponivel_VT[[#This Row],[Data]],\"mmmm\")","v":"agosto"}]
["2019","14/08/19","Disponivel",3084359,387819836.83999997,{"$f":"TEXT(Saldo_Disponivel_VT[[#This Row],[Data]],\"mmmm\")","v":"agosto"}]
["2019","15/08/19","Disponivel",3068650,385635277.02999997,{"$f":"TEXT(Saldo_Disponivel_VT[[#This Row],[Data]],\"mmmm\")","v":"agosto"}]
["2019","16/08/19","Disponivel",3053097,383562876.57999998,{"$f":"TEXT(Saldo_Disponivel_VT[[#This Row],[Data]],\"mmmm\")","v":"agosto"}]
["2019","17/08/19","Disponivel",3037463,380853922.24000001,{"$f":"TEXT(Saldo_Disponivel_VT[[#This Row],[Data]],\"mmmm\")","v":"agosto"}]
["2019","18/08/19","Disponivel",3030269,379303444.57999998,{"$f":"TEXT(Saldo_Disponivel_VT[[#This Row],[Data]],\"mmmm\")","v":"agosto"}]
["2019","19/08/19","Disponivel",3026447,380284219.61000001,{"$f":"TEXT(Saldo_Disponivel_VT[[#This Row],[Data]],\"mmmm\")","v":"agosto"}]
["2019","20/08/19","Disponivel",3036847,383525184.36000001,{"$f":"TEXT(Saldo_Disponivel_VT[[#This Row],[Data]],\"mmmm\")","v":"agosto"}]
["2019","21/08/19","Disponivel",3052681,388141773.42000002,{"$f":"TEXT(Saldo_Disponivel_VT[[#This Row],[Data]],\"mmmm\")","v":"agosto"}]
["2019","22/08/19","Disponivel",3088247,396839555.91000003,{"$f":"TEXT(Saldo_Disponivel_VT[[#This Row],[Data]],\"mmmm\")","v":"agosto"}]
["2019","23/08/19","Disponivel",3110022,402716617.83999997,{"$f":"TEXT(Saldo_Disponivel_VT[[#This Row],[Data]],\"mmmm\")","v":"agosto"}]
["2019","24/08/19","Disponivel",3099644,400863887.69999999,{"$f":"TEXT(Saldo_Disponivel_VT[[#This Row],[Data]],\"mmmm\")","v":"agosto"}]
["2019","25/08/19","Disponivel",3089531,398446426.68000001,{"$f":"TEXT(Saldo_Disponivel_VT[[#This Row],[Data]],\"mmmm\")","v":"agosto"}]
["2019","26/08/19","Disponivel",3170428,415786849.44999999,{"$f":"TEXT(Saldo_Disponivel_VT[[#This Row],[Data]],\"mmmm\")","v":"agosto"}]
["2019","27/08/19","Disponivel",3280246,441547943.75,{"$f":"TEXT(Saldo_Disponivel_VT[[#This Row],[Data]],\"mmmm\")","v":"agosto"}]
["2019","28/08/19","Disponivel",3222844,429792723.31999999,{"$f":"TEXT(Saldo_Disponivel_VT[[#This Row],[Data]],\"mmmm\")","v":"agosto"}]
["2019","29/08/19","Disponivel",3399495,468008800.01999998,{"$f":"TEXT(Saldo_Disponivel_VT[[#This Row],[Data]],\"mmmm\")","v":"agosto"}]
["2019","30/08/19","Disponivel",3347011,455400806.5,{"$f":"TEXT(Saldo_Disponivel_VT[[#This Row],[Data]],\"mmmm\")","v":"agosto"}]
["2019","31/08/19","Disponivel",3309113,447438548.47000003,{"$f":"TEXT(Saldo_Disponivel_VT[[#This Row],[Data]],\"mmmm\")","v":"agosto"}]
["2019","01/09/19","Disponivel",4127661,534785647.01999998,{"$f":"TEXT(Saldo_Disponivel_VT[[#This Row],[Data]],\"mmmm\")","v":"setembro"}]
["2019","02/09/19","Disponivel",3782548,486731149.20999998,{"$f":"TEXT(Saldo_Disponivel_VT[[#This Row],[Data]],\"mmmm\")","v":"setembro"}]
["2019","03/09/19","Disponivel",3635729,466243783.38,{"$f":"TEXT(Saldo_Disponivel_VT[[#This Row],[Data]],\"mmmm\")","v":"setembro"}]
["2019","04/09/19","Disponivel",3549143,456101524.85000002,{"$f":"TEXT(Saldo_Disponivel_VT[[#This Row],[Data]],\"mmmm\")","v":"setembro"}]
["2019","05/09/19","Disponivel",3462288,443432509.38999999,{"$f":"TEXT(Saldo_Disponivel_VT[[#This Row],[Data]],\"mmmm\")","v":"setembro"}]
["2019","06/09/19","Disponivel",3330521,425098768.31,{"$f":"TEXT(Saldo_Disponivel_VT[[#This Row],[Data]],\"mmmm\")","v":"setembro"}]
["2019","07/09/19","Disponivel",3272575,416875409.30000001,{"$f":"TEXT(Saldo_Disponivel_VT[[#This Row],[Data]],\"mmmm\")","v":"setembro"}]
["2019","08/09/19","Disponivel",3246710,412811367.76999998,{"$f":"TEXT(Saldo_Disponivel_VT[[#This Row],[Data]],\"mmmm\")","v":"setembro"}]
["2019","09/09/19","Disponivel",3149447,398794920.31999999,{"$f":"TEXT(Saldo_Disponivel_VT[[#This Row],[Data]],\"mmmm\")","v":"setembro"}]
["2019","10/09/19","Disponivel",3125555,394317074.06,{"$f":"TEXT(Saldo_Disponivel_VT[[#This Row],[Data]],\"mmmm\")","v":"setembro"}]
["2019","11/09/19","Disponivel",3099154,389434851.06999999,{"$f":"TEXT(Saldo_Disponivel_VT[[#This Row],[Data]],\"mmmm\")","v":"setembro"}]
["2019","12/09/19","Disponivel",3106862,386279924.13,{"$f":"TEXT(Saldo_Disponivel_VT[[#This Row],[Data]],\"mmmm\")","v":"setembro"}]
["2019","13/09/19","Disponivel",3129537,383009632.93000001,{"$f":"TEXT(Saldo_Disponivel_VT[[#This Row],[Data]],\"mmmm\")","v":"setembro"}]
["2019","14/09/19","Disponivel",3162876,380176706.33999997,{"$f":"TEXT(Saldo_Disponivel_VT[[#This Row],[Data]],\"mmmm\")","v":"setembro"}]
["2019","15/09/19","Disponivel",3205631,378476866.97000003,{"$f":"TEXT(Saldo_Disponivel_VT[[#This Row],[Data]],\"mmmm\")","v":"setembro"}]
["2019","16/09/19","Disponivel",3226607,375611210.68000001,{"$f":"TEXT(Saldo_Disponivel_VT[[#This Row],[Data]],\"mmmm\")","v":"setembro"}]
["2019","17/09/19","Disponivel",3281794,380045476.62,{"$f":"TEXT(Saldo_Disponivel_VT[[#This Row],[Data]],\"mmmm\")","v":"setembro"}]
["2019","18/09/19","Disponivel",3317398,379615846.95999998,{"$f":"TEXT(Saldo_Disponivel_VT[[#This Row],[Data]],\"mmmm\")","v":"setembro"}]
["2019","19/09/19","Disponivel",3377711,381929968.54000002,{"$f":"TEXT(Saldo_Disponivel_VT[[#This Row],[Data]],\"mmmm\")","v":"setembro"}]
["2019","20/09/19","Disponivel",3458969,388472526.94999999,{"$f":"TEXT(Saldo_Disponivel_VT[[#This Row],[Data]],\"mmmm\")","v":"setembro"}]
["2019","21/09/19","Disponivel",3438608,383866198.13,{"$f":"TEXT(Saldo_Disponivel_VT[[#This Row],[Data]],\"mmmm\")","v":"setembro"}]
["2019","22/09/19","Disponivel",3434630,383685219.38999999,{"$f":"TEXT(Saldo_Disponivel_VT[[#This Row],[Data]],\"mmmm\")","v":"setembro"}]
["2019","23/09/19","Disponivel",3443697,392496762.85000002,{"$f":"TEXT(Saldo_Disponivel_VT[[#This Row],[Data]],\"mmmm\")","v":"setembro"}]
["2019","24/09/19","Disponivel",3518735,414620175.62,{"$f":"TEXT(Saldo_Disponivel_VT[[#This Row],[Data]],\"mmmm\")","v":"setembro"}]
["2019","25/09/19","Disponivel",3627056,445956086.98000002,{"$f":"TEXT(Saldo_Disponivel_VT[[#This Row],[Data]],\"mmmm\")","v":"setembro"}]
["2019","26/09/19","Disponivel",3709343,472827489.56,{"$f":"TEXT(Saldo_Disponivel_VT[[#This Row],[Data]],\"mmmm\")","v":"setembro"}]
["2019","27/09/19","Disponivel",3723953,483447787.92000002,{"$f":"TEXT(Saldo_Disponivel_VT[[#This Row],[Data]],\"mmmm\")","v":"setembro"}]
["2019","28/09/19","Disponivel",3701072,481755105.19,{"$f":"TEXT(Saldo_Disponivel_VT[[#This Row],[Data]],\"mmmm\")","v":"setembro"}]
["2019","29/09/19","Disponivel",3662488,474148714.33999997,{"$f":"TEXT(Saldo_Disponivel_VT[[#This Row],[Data]],\"mmmm\")","v":"setembro"}]
["2019","30/09/19","Disponivel",3530848,450769586.58999997,{"$f":"TEXT(Saldo_Disponivel_VT[[#This Row],[Data]],\"mmmm\")","v":"setembro"}]
["2019","01/10/19","Disponivel",4121377,509893815.92000002,{"$f":"TEXT(Saldo_Disponivel_VT[[#This Row],[Data]],\"mmmm\")","v":"outubro"}]
["2019","02/10/19","Disponivel",3935437,484799930.05000001,{"$f":"TEXT(Saldo_Disponivel_VT[[#This Row],[Data]],\"mmmm\")","v":"outubro"}]
["2019","03/10/19","Disponivel",3834355,474762424.02999997,{"$f":"TEXT(Saldo_Disponivel_VT[[#This Row],[Data]],\"mmmm\")","v":"outubro"}]
["2019","04/10/19","Disponivel",3727826,459895773.91000003,{"$f":"TEXT(Saldo_Disponivel_VT[[#This Row],[Data]],\"mmmm\")","v":"outubro"}]
["2019","05/10/19","Disponivel",3652051,448544209.08999997,{"$f":"TEXT(Saldo_Disponivel_VT[[#This Row],[Data]],\"mmmm\")","v":"outubro"}]
["2019","06/10/19","Disponivel",3592124,440343243.44999999,{"$f":"TEXT(Saldo_Disponivel_VT[[#This Row],[Data]],\"mmmm\")","v":"outubro"}]
["2019","07/10/19","Disponivel",3393166,415015694.88,{"$f":"TEXT(Saldo_Disponivel_VT[[#This Row],[Data]],\"mmmm\")","v":"outubro"}]
["2019","08/10/19","Disponivel",3333558,407321211.44,{"$f":"TEXT(Saldo_Disponivel_VT[[#This Row],[Data]],\"mmmm\")","v":"outubro"}]
["2019","09/10/19","Disponivel",3283870,399692784,{"$f":"TEXT(Saldo_Disponivel_VT[[#This Row],[Data]],\"mmmm\")","v":"outubro"}]
["2019","10/10/19","Disponivel",3251401,394728873.44999999,{"$f":"TEXT(Saldo_Disponivel_VT[[#This Row],[Data]],\"mmmm\")","v":"outubro"}]
["2019","11/10/19","Disponivel",3230647,391572496.64999998,{"$f":"TEXT(Saldo_Disponivel_VT[[#This Row],[Data]],\"mmmm\")","v":"outubro"}]
["2019","12/10/19","Disponivel",3207837,388183837.91000003,{"$f":"TEXT(Saldo_Disponivel_VT[[#This Row],[Data]],\"mmmm\")","v":"outubro"}]
["2019","13/10/19","Disponivel",3196722,386267312.18000001,{"$f":"TEXT(Saldo_Disponivel_VT[[#This Row],[Data]],\"mmmm\")","v":"outubro"}]
["2019","14/10/19","Disponivel",3174647,382903942.5,{"$f":"TEXT(Saldo_Disponivel_VT[[#This Row],[Data]],\"mmmm\")","v":"outubro"}]
["2019","15/10/19","Disponivel",3153607,379800587.17000002,{"$f":"TEXT(Saldo_Disponivel_VT[[#This Row],[Data]],\"mmmm\")","v":"outubro"}]
["2019","16/10/19","Disponivel",3132898,377619172.44,{"$f":"TEXT(Saldo_Disponivel_VT[[#This Row],[Data]],\"mmmm\")","v":"outubro"}]
["2019","17/10/19","Disponivel",3130457,378254429.63,{"$f":"TEXT(Saldo_Disponivel_VT[[#This Row],[Data]],\"mmmm\")","v":"outubro"}]
["2019","18/10/19","Disponivel",3122719,378280650.12,{"$f":"TEXT(Saldo_Disponivel_VT[[#This Row],[Data]],\"mmmm\")","v":"outubro"}]
["2019","19/10/19","Disponivel",3100712,374741814.10000002,{"$f":"TEXT(Saldo_Disponivel_VT[[#This Row],[Data]],\"mmmm\")","v":"outubro"}]
["2019","20/10/19","Disponivel",3092941,373177694.01999998,{"$f":"TEXT(Saldo_Disponivel_VT[[#This Row],[Data]],\"mmmm\")","v":"outubro"}]
["2019","21/10/19","Disponivel",3108967,378113125.70999998,{"$f":"TEXT(Saldo_Disponivel_VT[[#This Row],[Data]],\"mmmm\")","v":"outubro"}]
["2019","22/10/19","Disponivel",3111259,380274358.85000002,{"$f":"TEXT(Saldo_Disponivel_VT[[#This Row],[Data]],\"mmmm\")","v":"outubro"}]
["2019","23/10/19","Disponivel",3172936,394649554.31999999,{"$f":"TEXT(Saldo_Disponivel_VT[[#This Row],[Data]],\"mmmm\")","v":"outubro"}]
["2019","24/10/19","Disponivel",3219691,406588185.22000003,{"$f":"TEXT(Saldo_Disponivel_VT[[#This Row],[Data]],\"mmmm\")","v":"outubro"}]
["2019","25/10/19","Disponivel",3330564,430515747.19999999,{"$f":"TEXT(Saldo_Disponivel_VT[[#This Row],[Data]],\"mmmm\")","v":"outubro"}]
["2019","26/10/19","Disponivel",3313548,427890732.08999997,{"$f":"TEXT(Saldo_Disponivel_VT[[#This Row],[Data]],\"mmmm\")","v":"outubro"}]
["2019","27/10/19","Disponivel",3293999,423620938.55000001,{"$f":"TEXT(Saldo_Disponivel_VT[[#This Row],[Data]],\"mmmm\")","v":"outubro"}]
["2019","28/10/19","Disponivel",3210866,407094763.13999999,{"$f":"TEXT(Saldo_Disponivel_VT[[#This Row],[Data]],\"mmmm\")","v":"outubro"}]
["2019","29/10/19","Disponivel",3378098,444299741.26999998,{"$f":"TEXT(Saldo_Disponivel_VT[[#This Row],[Data]],\"mmmm\")","v":"outubro"}]
["2019","30/10/19","Disponivel",3418832,453402603.23000002,{"$f":"TEXT(Saldo_Disponivel_VT[[#This Row],[Data]],\"mmmm\")","v":"outubro"}]
["2019","31/10/19","Disponivel",3353053,440057426.88999999,{"$f":"TEXT(Saldo_Disponivel_VT[[#This Row],[Data]],\"mmmm\")","v":"outubro"}]
["2019","01/11/19","Disponivel",4002298,504817162.60000002,{"$f":"TEXT(Saldo_Disponivel_VT[[#This Row],[Data]],\"mmmm\")","v":"novembro"}]
["2019","02/11/19","Disponivel",3925096,493522211.13,{"$f":"TEXT(Saldo_Disponivel_VT[[#This Row],[Data]],\"mmmm\")","v":"novembro"}]
["2019","03/11/19","Disponivel",3879546,487097515.30000001,{"$f":"TEXT(Saldo_Disponivel_VT[[#This Row],[Data]],\"mmmm\")","v":"novembro"}]
["2019","04/11/19","Disponivel",3692852,463838249.69999999,{"$f":"TEXT(Saldo_Disponivel_VT[[#This Row],[Data]],\"mmmm\")","v":"novembro"}]
["2019","05/11/19","Disponivel",3555818,443580366.01999998,{"$f":"TEXT(Saldo_Disponivel_VT[[#This Row],[Data]],\"mmmm\")","v":"novembro"}]
["2019","06/11/19","Disponivel",3366161,420566598.75,{"$f":"TEXT(Saldo_Disponivel_VT[[#This Row],[Data]],\"mmmm\")","v":"novembro"}]
["2019","07/11/19","Disponivel",3276930,407198023.86000001,{"$f":"TEXT(Saldo_Disponivel_VT[[#This Row],[Data]],\"mmmm\")","v":"novembro"}]
["2019","08/11/19","Disponivel",3229164,399117805.92000002,{"$f":"TEXT(Saldo_Disponivel_VT[[#This Row],[Data]],\"mmmm\")","v":"novembro"}]
["2019","09/11/19","Disponivel",3193021,393679554.45999998,{"$f":"TEXT(Saldo_Disponivel_VT[[#This Row],[Data]],\"mmmm\")","v":"novembro"}]
["2019","10/11/19","Disponivel",3179089,391195136.72000003,{"$f":"TEXT(Saldo_Disponivel_VT[[#This Row],[Data]],\"mmmm\")","v":"novembro"}]
["2019","11/11/19","Disponivel",3146285,385572193.76999998,{"$f":"TEXT(Saldo_Disponivel_VT[[#This Row],[Data]],\"mmmm\")","v":"novembro"}]
["2019","12/11/19","Disponivel",3137279,383212827.31999999,{"$f":"TEXT(Saldo_Disponivel_VT[[#This Row],[Data]],\"mmmm\")","v":"novembro"}]
["2019","13/11/19","Disponivel",3117878,380382379.19999999,{"$f":"TEXT(Saldo_Disponivel_VT[[#This Row],[Data]],\"mmmm\")","v":"novembro"}]
["2019","14/11/19","Disponivel",3112585,379902742.19999999,{"$f":"TEXT(Saldo_Disponivel_VT[[#This Row],[Data]],\"mmmm\")","v":"novembro"}]
["2019","15/11/19","Disponivel",3104807,378364069.42000002,{"$f":"TEXT(Saldo_Disponivel_VT[[#This Row],[Data]],\"mmmm\")","v":"novembro"}]
["2019","16/11/19","Disponivel",3082546,374976547.23000002,{"$f":"TEXT(Saldo_Disponivel_VT[[#This Row],[Data]],\"mmmm\")","v":"novembro"}]
["2019","17/11/19","Disponivel",3074280,373392566.12,{"$f":"TEXT(Saldo_Disponivel_VT[[#This Row],[Data]],\"mmmm\")","v":"novembro"}]
["2019","18/11/19","Disponivel",3051242,370652008.16000003,{"$f":"TEXT(Saldo_Disponivel_VT[[#This Row],[Data]],\"mmmm\")","v":"novembro"}]
["2019","19/11/19","Disponivel",3067307,376263179.81,{"$f":"TEXT(Saldo_Disponivel_VT[[#This Row],[Data]],\"mmmm\")","v":"novembro"}]
["2019","20/11/19","Disponivel",3055397,373648427.89999998,{"$f":"TEXT(Saldo_Disponivel_VT[[#This Row],[Data]],\"mmmm\")","v":"novembro"}]
["2019","21/11/19","Disponivel",3087189,382397772.58999997,{"$f":"TEXT(Saldo_Disponivel_VT[[#This Row],[Data]],\"mmmm\")","v":"novembro"}]
["2019","22/11/19","Disponivel",3113718,389297475.67000002,{"$f":"TEXT(Saldo_Disponivel_VT[[#This Row],[Data]],\"mmmm\")","v":"novembro"}]
["2019","23/11/19","Disponivel",3105645,388076906.80000001,{"$f":"TEXT(Saldo_Disponivel_VT[[#This Row],[Data]],\"mmmm\")","v":"novembro"}]
["2019","24/11/19","Disponivel",3096165,385782369.88999999,{"$f":"TEXT(Saldo_Disponivel_VT[[#This Row],[Data]],\"mmmm\")","v":"novembro"}]
["2019","25/11/19","Disponivel",3180713,406968132.5,{"$f":"TEXT(Saldo_Disponivel_VT[[#This Row],[Data]],\"mmmm\")","v":"novembro"}]
["2019","26/11/19","Disponivel",3331620,438525406.89999998,{"$f":"TEXT(Saldo_Disponivel_VT[[#This Row],[Data]],\"mmmm\")","v":"novembro"}]
["2019","27/11/19","Disponivel",3421262,458402050.04000002,{"$f":"TEXT(Saldo_Disponivel_VT[[#This Row],[Data]],\"mmmm\")","v":"novembro"}]
["2019","28/11/19","Disponivel",3459946,467696931.32999998,{"$f":"TEXT(Saldo_Disponivel_VT[[#This Row],[Data]],\"mmmm\")","v":"novembro"}]
["2019","29/11/19","Disponivel",3413456,456908855.75999999,{"$f":"TEXT(Saldo_Disponivel_VT[[#This Row],[Data]],\"mmmm\")","v":"novembro"}]
["2019","30/11/19","Disponivel",3375693,448592119.20999998,{"$f":"TEXT(Saldo_Disponivel_VT[[#This Row],[Data]],\"mmmm\")","v":"novembro"}]
["2019","01/12/19","Disponivel",4223238,484483982.26999998,{"$f":"TEXT(Saldo_Disponivel_VT[[#This Row],[Data]],\"mmmm\")","v":"dezembro"}]
["2019","02/12/19","Disponivel",3930654,454095732.47000003,{"$f":"TEXT(Saldo_Disponivel_VT[[#This Row],[Data]],\"mmmm\")","v":"dezembro"}]
["2019","03/12/19","Disponivel",3785247,439203427.06999999,{"$f":"TEXT(Saldo_Disponivel_VT[[#This Row],[Data]],\"mmmm\")","v":"dezembro"}]
["2019","04/12/19","Disponivel",3691241,431905382.73000002,{"$f":"TEXT(Saldo_Disponivel_VT[[#This Row],[Data]],\"mmmm\")","v":"dezembro"}]
["2019","05/12/19","Disponivel",3592899,421631655.61000001,{"$f":"TEXT(Saldo_Disponivel_VT[[#This Row],[Data]],\"mmmm\")","v":"dezembro"}]
["2019","06/12/19","Disponivel",3416598,406309843.95999998,{"$f":"TEXT(Saldo_Disponivel_VT[[#This Row],[Data]],\"mmmm\")","v":"dezembro"}]
["2019","07/12/19","Disponivel",3347537,399421454.83999997,{"$f":"TEXT(Saldo_Disponivel_VT[[#This Row],[Data]],\"mmmm\")","v":"dezembro"}]
["2019","08/12/19","Disponivel",3319387,395920179.89999998,{"$f":"TEXT(Saldo_Disponivel_VT[[#This Row],[Data]],\"mmmm\")","v":"dezembro"}]
["2019","09/12/19","Disponivel",3259905,389361222.81999999,{"$f":"TEXT(Saldo_Disponivel_VT[[#This Row],[Data]],\"mmmm\")","v":"dezembro"}]
["2019","10/12/19","Disponivel",3227565,384873025.41000003,{"$f":"TEXT(Saldo_Disponivel_VT[[#This Row],[Data]],\"mmmm\")","v":"dezembro"}]
["2019","11/12/19","Disponivel",3193498,380388787.24000001,{"$f":"TEXT(Saldo_Disponivel_VT[[#This Row],[Data]],\"mmmm\")","v":"dezembro"}]
["2019","12/12/19","Disponivel",3155198,374908590.5,{"$f":"TEXT(Saldo_Disponivel_VT[[#This Row],[Data]],\"mmmm\")","v":"dezembro"}]
["2019","13/12/19","Disponivel",3187621,381860295.50999999,{"$f":"TEXT(Saldo_Disponivel_VT[[#This Row],[Data]],\"mmmm\")","v":"dezembro"}]
["2019","14/12/19","Disponivel",3163539,378891526.98000002,{"$f":"TEXT(Saldo_Disponivel_VT[[#This Row],[Data]],\"mmmm\")","v":"dezembro"}]
["2019","15/12/19","Disponivel",3149368,376692024.52999997,{"$f":"TEXT(Saldo_Disponivel_VT[[#This Row],[Data]],\"mmmm\")","v":"dezembro"}]
["2019","16/12/19","Disponivel",3145705,378834270.87,{"$f":"TEXT(Saldo_Disponivel_VT[[#This Row],[Data]],\"mmmm\")","v":"dezembro"}]
["2019","17/12/19","Disponivel",3168610,385524778.44,{"$f":"TEXT(Saldo_Disponivel_VT[[#This Row],[Data]],\"mmmm\")","v":"dezembro"}]
["2019","18/12/19","Disponivel",3189690,391763882.37,{"$f":"TEXT(Saldo_Disponivel_VT[[#This Row],[Data]],\"mmmm\")","v":"dezembro"}]
["2019","19/12/19","Disponivel",3239408,404860077.47000003,{"$f":"TEXT(Saldo_Disponivel_VT[[#This Row],[Data]],\"mmmm\")","v":"dezembro"}]
["2019","20/12/19","Disponivel",3329854,426852496.69,{"$f":"TEXT(Saldo_Disponivel_VT[[#This Row],[Data]],\"mmmm\")","v":"dezembro"}]
["2019","21/12/19","Disponivel",3323279,426981344.08999997,{"$f":"TEXT(Saldo_Disponivel_VT[[#This Row],[Data]],\"mmmm\")","v":"dezembro"}]
["2019","22/12/19","Disponivel",3306539,423517473.25,{"$f":"TEXT(Saldo_Disponivel_VT[[#This Row],[Data]],\"mmmm\")","v":"dezembro"}]
["2019","23/12/19","Disponivel",3371374,439268446.24000001,{"$f":"TEXT(Saldo_Disponivel_VT[[#This Row],[Data]],\"mmmm\")","v":"dezembro"}]
["2019","24/12/19","Disponivel",3374092,440740140.81999999,{"$f":"TEXT(Saldo_Disponivel_VT[[#This Row],[Data]],\"mmmm\")","v":"dezembro"}]
["2019","25/12/19","Disponivel",3373943,440472314.13999999,{"$f":"TEXT(Saldo_Disponivel_VT[[#This Row],[Data]],\"mmmm\")","v":"dezembro"}]
["2019","26/12/19","Disponivel",3474035,462374368.86000001,{"$f":"TEXT(Saldo_Disponivel_VT[[#This Row],[Data]],\"mmmm\")","v":"dezembro"}]
["2019","27/12/19","Disponivel",3575268,485617076.06999999,{"$f":"TEXT(Saldo_Disponivel_VT[[#This Row],[Data]],\"mmmm\")","v":"dezembro"}]
["2019","28/12/19","Disponivel",3547892,479965030.14999998,{"$f":"TEXT(Saldo_Disponivel_VT[[#This Row],[Data]],\"mmmm\")","v":"dezembro"}]
["2019","29/12/19","Disponivel",3528275,475598850.55000001,{"$f":"TEXT(Saldo_Disponivel_VT[[#This Row],[Data]],\"mmmm\")","v":"dezembro"}]
["2019","30/12/19","Disponivel",3556627,481102614.05000001,{"$f":"TEXT(Saldo_Disponivel_VT[[#This Row],[Data]],\"mmmm\")","v":"dezembro"}]
["2019","31/12/19","Disponivel",3539903,477235327.61000001,{"$f":"TEXT(Saldo_Disponivel_VT[[#This Row],[Data]],\"mmmm\")","v":"dezembro"}]
["2020","01/01/20","Disponivel",3383118,465391799.95999998,{"$f":"TEXT(Saldo_Disponivel_VT[[#This Row],[Data]],\"mmmm\")","v":"janeiro"}]
["2020","02/01/20","Disponivel",3278479,441212258.54000002,{"$f":"TEXT(Saldo_Disponivel_VT[[#This Row],[Data]],\"mmmm\")","v":"janeiro"}]
["2020","03/01/20","Disponivel",3218624,427886369.39999998,{"$f":"TEXT(Saldo_Disponivel_VT[[#This Row],[Data]],\"mmmm\")","v":"janeiro"}]
["2020","04/01/20","Disponivel",3191756,421874850.36000001,{"$f":"TEXT(Saldo_Disponivel_VT[[#This Row],[Data]],\"mmmm\")","v":"janeiro"}]
["2020","05/01/20","Disponivel",3175426,417724938.12,{"$f":"TEXT(Saldo_Disponivel_VT[[#This Row],[Data]],\"mmmm\")","v":"janeiro"}]
["2020","06/01/20","Disponivel",3096660,400261418.16000003,{"$f":"TEXT(Saldo_Disponivel_VT[[#This Row],[Data]],\"mmmm\")","v":"janeiro"}]
["2020","07/01/20","Disponivel",3060911,392221390.64999998,{"$f":"TEXT(Saldo_Disponivel_VT[[#This Row],[Data]],\"mmmm\")","v":"janeiro"}]
["2020","08/01/20","Disponivel",3036934,386378820.23000002,{"$f":"TEXT(Saldo_Disponivel_VT[[#This Row],[Data]],\"mmmm\")","v":"janeiro"}]
["2020","09/01/20","Disponivel",3008969,380368145.07999998,{"$f":"TEXT(Saldo_Disponivel_VT[[#This Row],[Data]],\"mmmm\")","v":"janeiro"}]
["2020","10/01/20","Disponivel",2997049,376877288.49000001,{"$f":"TEXT(Saldo_Disponivel_VT[[#This Row],[Data]],\"mmmm\")","v":"janeiro"}]
["2020","11/01/20","Disponivel",2987851,374995725.56,{"$f":"TEXT(Saldo_Disponivel_VT[[#This Row],[Data]],\"mmmm\")","v":"janeiro"}]
["2020","12/01/20","Disponivel",2982472,373444008.20999998,{"$f":"TEXT(Saldo_Disponivel_VT[[#This Row],[Data]],\"mmmm\")","v":"janeiro"}]
["2020","13/01/20","Disponivel",2964250,369553911.93000001,{"$f":"TEXT(Saldo_Disponivel_VT[[#This Row],[Data]],\"mmmm\")","v":"janeiro"}]
["2020","14/01/20","Disponivel",2959649,367656149.56,{"$f":"TEXT(Saldo_Disponivel_VT[[#This Row],[Data]],\"mmmm\")","v":"janeiro"}]
["2020","15/01/20","Disponivel",2945231,365615818.48000002,{"$f":"TEXT(Saldo_Disponivel_VT[[#This Row],[Data]],\"mmmm\")","v":"janeiro"}]
["2020","16/01/20","Disponivel",2941465,364808420.60000002,{"$f":"TEXT(Saldo_Disponivel_VT[[#This Row],[Data]],\"mmmm\")","v":"janeiro"}]
["2020","17/01/20","Disponivel",2943763,366438786.16000003,{"$f":"TEXT(Saldo_Disponivel_VT[[#This Row],[Data]],\"mmmm\")","v":"janeiro"}]
["2020","18/01/20","Disponivel",2933885,364119950.42000002,{"$f":"TEXT(Saldo_Disponivel_VT[[#This Row],[Data]],\"mmmm\")","v":"janeiro"}]
["2020","19/01/20","Disponivel",2928961,362707932.76999998,{"$f":"TEXT(Saldo_Disponivel_VT[[#This Row],[Data]],\"mmmm\")","v":"janeiro"}]
["2020","20/01/20","Disponivel",2898510,357088103.16000003,{"$f":"TEXT(Saldo_Disponivel_VT[[#This Row],[Data]],\"mmmm\")","v":"janeiro"}]
["2020","21/01/20","Disponivel",2957343,371292403.62,{"$f":"TEXT(Saldo_Disponivel_VT[[#This Row],[Data]],\"mmmm\")","v":"janeiro"}]
["2020","22/01/20","Disponivel",2996417,381351030.95999998,{"$f":"TEXT(Saldo_Disponivel_VT[[#This Row],[Data]],\"mmmm\")","v":"janeiro"}]
["2020","23/01/20","Disponivel",3026960,388063107.69,{"$f":"TEXT(Saldo_Disponivel_VT[[#This Row],[Data]],\"mmmm\")","v":"janeiro"}]
["2020","24/01/20","Disponivel",3089211,404494168.13,{"$f":"TEXT(Saldo_Disponivel_VT[[#This Row],[Data]],\"mmmm\")","v":"janeiro"}]
["2020","25/01/20","Disponivel",3081019,401593550.69999999,{"$f":"TEXT(Saldo_Disponivel_VT[[#This Row],[Data]],\"mmmm\")","v":"janeiro"}]
["2020","26/01/20","Disponivel",3069759,398499305.13999999,{"$f":"TEXT(Saldo_Disponivel_VT[[#This Row],[Data]],\"mmmm\")","v":"janeiro"}]
["2020","27/01/20","Disponivel",3149307,416090715.33999997,{"$f":"TEXT(Saldo_Disponivel_VT[[#This Row],[Data]],\"mmmm\")","v":"janeiro"}]
["2020","28/01/20","Disponivel",3235127,436906471.44,{"$f":"TEXT(Saldo_Disponivel_VT[[#This Row],[Data]],\"mmmm\")","v":"janeiro"}]
["2020","29/01/20","Disponivel",3277399,447176632.99000001,{"$f":"TEXT(Saldo_Disponivel_VT[[#This Row],[Data]],\"mmmm\")","v":"janeiro"}]
["2020","30/01/20","Disponivel",3315261,453424836.58999997,{"$f":"TEXT(Saldo_Disponivel_VT[[#This Row],[Data]],\"mmmm\")","v":"janeiro"}]
["2020","31/01/20","Disponivel",3264631,442129850.5,{"$f":"TEXT(Saldo_Disponivel_VT[[#This Row],[Data]],\"mmmm\")","v":"janeiro"}]
["2020","01/02/20","Disponivel",3376278,448690244.76999998,{"$f":"TEXT(Saldo_Disponivel_VT[[#This Row],[Data]],\"mmmm\")","v":"fevereiro"}]
["2020","02/02/20","Disponivel",3354558,444372810.73000002,{"$f":"TEXT(Saldo_Disponivel_VT[[#This Row],[Data]],\"mmmm\")","v":"fevereiro"}]
["2020","03/02/20","Disponivel",3220651,420847058.49000001,{"$f":"TEXT(Saldo_Disponivel_VT[[#This Row],[Data]],\"mmmm\")","v":"fevereiro"}]
["2020","04/02/20","Disponivel",3190378,415743349.48000002,{"$f":"TEXT(Saldo_Disponivel_VT[[#This Row],[Data]],\"mmmm\")","v":"fevereiro"}]
["2020","05/02/20","Disponivel",3117109,402240345.44,{"$f":"TEXT(Saldo_Disponivel_VT[[#This Row],[Data]],\"mmmm\")","v":"fevereiro"}]
["2020","06/02/20","Disponivel",3177511,406676215.02999997,{"$f":"TEXT(Saldo_Disponivel_VT[[#This Row],[Data]],\"mmmm\")","v":"fevereiro"}]
["2020","07/02/20","Disponivel",3147477,400155720.39999998,{"$f":"TEXT(Saldo_Disponivel_VT[[#This Row],[Data]],\"mmmm\")","v":"fevereiro"}]
["2020","08/02/20","Disponivel",3146408,398551991.08999997,{"$f":"TEXT(Saldo_Disponivel_VT[[#This Row],[Data]],\"mmmm\")","v":"fevereiro"}]
["2020","09/02/20","Disponivel",3133615,395909514.01999998,{"$f":"TEXT(Saldo_Disponivel_VT[[#This Row],[Data]],\"mmmm\")","v":"fevereiro"}]
["2020","10/02/20","Disponivel",3107813,391440270.54000002,{"$f":"TEXT(Saldo_Disponivel_VT[[#This Row],[Data]],\"mmmm\")","v":"fevereiro"}]
["2020","11/02/20","Disponivel",3096225,387921505.44999999,{"$f":"TEXT(Saldo_Disponivel_VT[[#This Row],[Data]],\"mmmm\")","v":"fevereiro"}]
["2020","12/02/20","Disponivel",3075389,384513813.69,{"$f":"TEXT(Saldo_Disponivel_VT[[#This Row],[Data]],\"mmmm\")","v":"fevereiro"}]
["2020","13/02/20","Disponivel",3071364,384089381.85000002,{"$f":"TEXT(Saldo_Disponivel_VT[[#This Row],[Data]],\"mmmm\")","v":"fevereiro"}]
["2020","14/02/20","Disponivel",3076864,386451768.32999998,{"$f":"TEXT(Saldo_Disponivel_VT[[#This Row],[Data]],\"mmmm\")","v":"fevereiro"}]
["2020","15/02/20","Disponivel",3064468,383798740.19,{"$f":"TEXT(Saldo_Disponivel_VT[[#This Row],[Data]],\"mmmm\")","v":"fevereiro"}]
["2020","16/02/20","Disponivel",3055268,381743141.35000002,{"$f":"TEXT(Saldo_Disponivel_VT[[#This Row],[Data]],\"mmmm\")","v":"fevereiro"}]
["2020","17/02/20","Disponivel",3027238,379384127.82999998,{"$f":"TEXT(Saldo_Disponivel_VT[[#This Row],[Data]],\"mmmm\")","v":"fevereiro"}]
["2020","18/02/20","Disponivel",3043952,382804246.41000003,{"$f":"TEXT(Saldo_Disponivel_VT[[#This Row],[Data]],\"mmmm\")","v":"fevereiro"}]
["2020","19/02/20","Disponivel",3112824,402620449.06,{"$f":"TEXT(Saldo_Disponivel_VT[[#This Row],[Data]],\"mmmm\")","v":"fevereiro"}]
["2020","20/02/20","Disponivel",3097906,397901906.57999998,{"$f":"TEXT(Saldo_Disponivel_VT[[#This Row],[Data]],\"mmmm\")","v":"fevereiro"}]
["2020","21/02/20","Disponivel",3396172,464043397.38999999,{"$f":"TEXT(Saldo_Disponivel_VT[[#This Row],[Data]],\"mmmm\")","v":"fevereiro"}]
["2020","22/02/20","Disponivel",3366553,449576655.91000003,{"$f":"TEXT(Saldo_Disponivel_VT[[#This Row],[Data]],\"mmmm\")","v":"fevereiro"}]
["2020","23/02/20","Disponivel",3383259,453666758.61000001,{"$f":"TEXT(Saldo_Disponivel_VT[[#This Row],[Data]],\"mmmm\")","v":"fevereiro"}]
["2020","24/02/20","Disponivel",3342245,445601328.86000001,{"$f":"TEXT(Saldo_Disponivel_VT[[#This Row],[Data]],\"mmmm\")","v":"fevereiro"}]
["2020","25/02/20","Disponivel",3318195,440352809.51999998,{"$f":"TEXT(Saldo_Disponivel_VT[[#This Row],[Data]],\"mmmm\")","v":"fevereiro"}]
["2020","26/02/20","Disponivel",3337221,445227882.18000001,{"$f":"TEXT(Saldo_Disponivel_VT[[#This Row],[Data]],\"mmmm\")","v":"fevereiro"}]
["2020","27/02/20","Disponivel",3459632,473083625.75,{"$f":"TEXT(Saldo_Disponivel_VT[[#This Row],[Data]],\"mmmm\")","v":"fevereiro"}]
["2020","28/02/20","Disponivel",3505401,479001630.12,{"$f":"TEXT(Saldo_Disponivel_VT[[#This Row],[Data]],\"mmmm\")","v":"fevereiro"}]
["2020","29/02/20","Disponivel",3470373,471026806.88999999,{"$f":"TEXT(Saldo_Disponivel_VT[[#This Row],[Data]],\"mmmm\")","v":"fevereiro"}]
["2020","01/03/20","Disponivel",4041766,531115950.82999998,{"$f":"TEXT(Saldo_Disponivel_VT[[#This Row],[Data]],\"mmmm\")","v":"março"}]
["2020","02/03/20","Disponivel",3786047,491980418.57999998,{"$f":"TEXT(Saldo_Disponivel_VT[[#This Row],[Data]],\"mmmm\")","v":"março"}]
["2020","03/03/20","Disponivel",3653443,470108399.88,{"$f":"TEXT(Saldo_Disponivel_VT[[#This Row],[Data]],\"mmmm\")","v":"março"}]
["2020","04/03/20","Disponivel",3587662,462366618.48000002,{"$f":"TEXT(Saldo_Disponivel_VT[[#This Row],[Data]],\"mmmm\")","v":"março"}]
["2020","05/03/20","Disponivel",3502048,448779853.18000001,{"$f":"TEXT(Saldo_Disponivel_VT[[#This Row],[Data]],\"mmmm\")","v":"março"}]
["2020","06/03/20","Disponivel",3331320,425345532.88999999,{"$f":"TEXT(Saldo_Disponivel_VT[[#This Row],[Data]],\"mmmm\")","v":"março"}]
["2020","07/03/20","Disponivel",3283078,417975523.64999998,{"$f":"TEXT(Saldo_Disponivel_VT[[#This Row],[Data]],\"mmmm\")","v":"março"}]
["2020","08/03/20","Disponivel",3264154,414484223.08999997,{"$f":"TEXT(Saldo_Disponivel_VT[[#This Row],[Data]],\"mmmm\")","v":"março"}]
["2020","09/03/20","Disponivel",3200920,403630847.5,{"$f":"TEXT(Saldo_Disponivel_VT[[#This Row],[Data]],\"mmmm\")","v":"março"}]
["2020","10/03/20","Disponivel",3163635,396342963,{"$f":"TEXT(Saldo_Disponivel_VT[[#This Row],[Data]],\"mmmm\")","v":"março"}]
["2020","11/03/20","Disponivel",3146934,392573672.81999999,{"$f":"TEXT(Saldo_Disponivel_VT[[#This Row],[Data]],\"mmmm\")","v":"março"}]
["2020","12/03/20","Disponivel",3138827,390092204.79000002,{"$f":"TEXT(Saldo_Disponivel_VT[[#This Row],[Data]],\"mmmm\")","v":"março"}]
["2020","13/03/20","Disponivel",3119575,386860533.81,{"$f":"TEXT(Saldo_Disponivel_VT[[#This Row],[Data]],\"mmmm\")","v":"março"}]
["2020","14/03/20","Disponivel",3107905,384593049.98000002,{"$f":"TEXT(Saldo_Disponivel_VT[[#This Row],[Data]],\"mmmm\")","v":"março"}]
["2020","15/03/20","Disponivel",3100982,383053193.42000002,{"$f":"TEXT(Saldo_Disponivel_VT[[#This Row],[Data]],\"mmmm\")","v":"março"}]
["2020","16/03/20","Disponivel",3094920,383157779.49000001,{"$f":"TEXT(Saldo_Disponivel_VT[[#This Row],[Data]],\"mmmm\")","v":"março"}]
["2020","17/03/20","Disponivel",3100045,384291744.48000002,{"$f":"TEXT(Saldo_Disponivel_VT[[#This Row],[Data]],\"mmmm\")","v":"março"}]
["2020","18/03/20","Disponivel",3105771,386112867.12,{"$f":"TEXT(Saldo_Disponivel_VT[[#This Row],[Data]],\"mmmm\")","v":"março"}]
["2020","19/03/20","Disponivel",3131244,392486901.39999998,{"$f":"TEXT(Saldo_Disponivel_VT[[#This Row],[Data]],\"mmmm\")","v":"março"}]
["2020","20/03/20","Disponivel",3155621,398137171.23000002,{"$f":"TEXT(Saldo_Disponivel_VT[[#This Row],[Data]],\"mmmm\")","v":"março"}]
["2020","21/03/20","Disponivel",3149502,396908532.99000001,{"$f":"TEXT(Saldo_Disponivel_VT[[#This Row],[Data]],\"mmmm\")","v":"março"}]
["2020","22/03/20","Disponivel",3145153,395887721.23000002,{"$f":"TEXT(Saldo_Disponivel_VT[[#This Row],[Data]],\"mmmm\")","v":"março"}]
["2020","23/03/20","Disponivel",3199837,408277326.49000001,{"$f":"TEXT(Saldo_Disponivel_VT[[#This Row],[Data]],\"mmmm\")","v":"março"}]
["2020","24/03/20","Disponivel",3245005,417633826.44999999,{"$f":"TEXT(Saldo_Disponivel_VT[[#This Row],[Data]],\"mmmm\")","v":"março"}]
["2020","25/03/20","Disponivel",3344382,437218286.44,{"$f":"TEXT(Saldo_Disponivel_VT[[#This Row],[Data]],\"mmmm\")","v":"março"}]
["2020","26/03/20","Disponivel",3416818,451161429.38999999,{"$f":"TEXT(Saldo_Disponivel_VT[[#This Row],[Data]],\"mmmm\")","v":"março"}]
["2020","27/03/20","Disponivel",3472532,463696245.63999999,{"$f":"TEXT(Saldo_Disponivel_VT[[#This Row],[Data]],\"mmmm\")","v":"março"}]
["2020","28/03/20","Disponivel",3450606,459356190.80000001,{"$f":"TEXT(Saldo_Disponivel_VT[[#This Row],[Data]],\"mmmm\")","v":"março"}]
["2020","29/03/20","Disponivel",3454493,459689149.88,{"$f":"TEXT(Saldo_Disponivel_VT[[#This Row],[Data]],\"mmmm\")","v":"março"}]
["2020","30/03/20","Disponivel",3497158,468138675.25999999,{"$f":"TEXT(Saldo_Disponivel_VT[[#This Row],[Data]],\"mmmm\")","v":"março"}]
["2020","31/03/20","Disponivel",3490438,465987659.07999998,{"$f":"TEXT(Saldo_Disponivel_VT[[#This Row],[Data]],\"mmmm\")","v":"março"}]
["2020","01/04/20","Disponivel",3379458,449913567.35000002,{"$f":"TEXT(Saldo_Disponivel_VT[[#This Row],[Data]],\"mmmm\")","v":"abril"}]
["2020","02/04/20","Disponivel",3390690,451907869.05000001,{"$f":"TEXT(Saldo_Disponivel_VT[[#This Row],[Data]],\"mmmm\")","v":"abril"}]
["2020","03/04/20","Disponivel",3387098,451482855.58999997,{"$f":"TEXT(Saldo_Disponivel_VT[[#This Row],[Data]],\"mmmm\")","v":"abril"}]
["2020","04/04/20","Disponivel",3364286,447020325.89999998,{"$f":"TEXT(Saldo_Disponivel_VT[[#This Row],[Data]],\"mmmm\")","v":"abril"}]
["2020","05/04/20","Disponivel",3353891,444825173.44,{"$f":"TEXT(Saldo_Disponivel_VT[[#This Row],[Data]],\"mmmm\")","v":"abril"}]
["2020","06/04/20","Disponivel",3345041,440882578.95999998,{"$f":"TEXT(Saldo_Disponivel_VT[[#This Row],[Data]],\"mmmm\")","v":"abril"}]
["2020","07/04/20","Disponivel",3336859,437042334.69,{"$f":"TEXT(Saldo_Disponivel_VT[[#This Row],[Data]],\"mmmm\")","v":"abril"}]
["2020","08/04/20","Disponivel",3342792,434083367.70999998,{"$f":"TEXT(Saldo_Disponivel_VT[[#This Row],[Data]],\"mmmm\")","v":"abril"}]
["2020","09/04/20","Disponivel",3336086,431899741.22000003,{"$f":"TEXT(Saldo_Disponivel_VT[[#This Row],[Data]],\"mmmm\")","v":"abril"}]
["2020","10/04/20","Disponivel",3326526,430168351.31,{"$f":"TEXT(Saldo_Disponivel_VT[[#This Row],[Data]],\"mmmm\")","v":"abril"}]
["2020","11/04/20","Disponivel",3314678,428076846.66000003,{"$f":"TEXT(Saldo_Disponivel_VT[[#This Row],[Data]],\"mmmm\")","v":"abril"}]
["2020","12/04/20","Disponivel",3309432,427091889.77999997,{"$f":"TEXT(Saldo_Disponivel_VT[[#This Row],[Data]],\"mmmm\")","v":"abril"}]
["2020","13/04/20","Disponivel",3312045,426218412.43000001,{"$f":"TEXT(Saldo_Disponivel_VT[[#This Row],[Data]],\"mmmm\")","v":"abril"}]
["2020","14/04/20","Disponivel",3319616,425771244.01999998,{"$f":"TEXT(Saldo_Disponivel_VT[[#This Row],[Data]],\"mmmm\")","v":"abril"}]
["2020","15/04/20","Disponivel",3329480,425422640.64999998,{"$f":"TEXT(Saldo_Disponivel_VT[[#This Row],[Data]],\"mmmm\")","v":"abril"}]
["2020","16/04/20","Disponivel",3342438,424737393.51999998,{"$f":"TEXT(Saldo_Disponivel_VT[[#This Row],[Data]],\"mmmm\")","v":"abril"}]
["2020","17/04/20","Disponivel",3409041,424944723.87,{"$f":"TEXT(Saldo_Disponivel_VT[[#This Row],[Data]],\"mmmm\")","v":"abril"}]
["2020","18/04/20","Disponivel",3484150,423862435.74000001,{"$f":"TEXT(Saldo_Disponivel_VT[[#This Row],[Data]],\"mmmm\")","v":"abril"}]
["2020","19/04/20","Disponivel",3596478,423550312.63,{"$f":"TEXT(Saldo_Disponivel_VT[[#This Row],[Data]],\"mmmm\")","v":"abril"}]
["2020","20/04/20","Disponivel",3674133,427093125.68000001,{"$f":"TEXT(Saldo_Disponivel_VT[[#This Row],[Data]],\"mmmm\")","v":"abril"}]
["2020","21/04/20","Disponivel",3775909,426266646.47000003,{"$f":"TEXT(Saldo_Disponivel_VT[[#This Row],[Data]],\"mmmm\")","v":"abril"}]
["2020","22/04/20","Disponivel",3851331,426668847.22000003,{"$f":"TEXT(Saldo_Disponivel_VT[[#This Row],[Data]],\"mmmm\")","v":"abril"}]
["2020","23/04/20","Disponivel",3939117,433031355.17000002,{"$f":"TEXT(Saldo_Disponivel_VT[[#This Row],[Data]],\"mmmm\")","v":"abril"}]
["2020","24/04/20","Disponivel",4029893,439968610.63,{"$f":"TEXT(Saldo_Disponivel_VT[[#This Row],[Data]],\"mmmm\")","v":"abril"}]
["2020","25/04/20","Disponivel",4083429,438307140.29000002,{"$f":"TEXT(Saldo_Disponivel_VT[[#This Row],[Data]],\"mmmm\")","v":"abril"}]
["2020","26/04/20","Disponivel",4143100,436975473.04000002,{"$f":"TEXT(Saldo_Disponivel_VT[[#This Row],[Data]],\"mmmm\")","v":"abril"}]
["2020","27/04/20","Disponivel",4216564,449975235.69,{"$f":"TEXT(Saldo_Disponivel_VT[[#This Row],[Data]],\"mmmm\")","v":"abril"}]
["2020","28/04/20","Disponivel",4242653,458173047.06,{"$f":"TEXT(Saldo_Disponivel_VT[[#This Row],[Data]],\"mmmm\")","v":"abril"}]
["2020","29/04/20","Disponivel",4300087,467673124.50999999,{"$f":"TEXT(Saldo_Disponivel_VT[[#This Row],[Data]],\"mmmm\")","v":"abril"}]
["2020","30/04/20","Disponivel",4276058,464475460.06,{"$f":"TEXT(Saldo_Disponivel_VT[[#This Row],[Data]],\"mmmm\")","v":"abril"}]
["2020","01/05/20","Disponivel",4269322,463034180.26999998,{"$f":"TEXT(Saldo_Disponivel_VT[[#This Row],[Data]],\"mmmm\")","v":"maio"}]
["2020","02/05/20","Disponivel",4343801,458157871.29000002,{"$f":"TEXT(Saldo_Disponivel_VT[[#This Row],[Data]],\"mmmm\")","v":"maio"}]
["2020","03/05/20","Disponivel",4600887,457350822.31999999,{"$f":"TEXT(Saldo_Disponivel_VT[[#This Row],[Data]],\"mmmm\")","v":"maio"}]
["2020","04/05/20","Disponivel",4829566,458755243.18000001,{"$f":"TEXT(Saldo_Disponivel_VT[[#This Row],[Data]],\"mmmm\")","v":"maio"}]
["2020","05/05/20","Disponivel",5034861,454664969.12,{"$f":"TEXT(Saldo_Disponivel_VT[[#This Row],[Data]],\"mmmm\")","v":"maio"}]
["2020","06/05/20","Disponivel",5262526,455114143.43000001,{"$f":"TEXT(Saldo_Disponivel_VT[[#This Row],[Data]],\"mmmm\")","v":"maio"}]
["2020","07/05/20","Disponivel",5483290,453971313.20999998,{"$f":"TEXT(Saldo_Disponivel_VT[[#This Row],[Data]],\"mmmm\")","v":"maio"}]
["2020","08/05/20","Disponivel",5697517,451409129.73000002,{"$f":"TEXT(Saldo_Disponivel_VT[[#This Row],[Data]],\"mmmm\")","v":"maio"}]
["2020","09/05/20","Disponivel",5940753,451524913.41000003,{"$f":"TEXT(Saldo_Disponivel_VT[[#This Row],[Data]],\"mmmm\")","v":"maio"}]
["2020","10/05/20","Disponivel",6193532,452043115.19,{"$f":"TEXT(Saldo_Disponivel_VT[[#This Row],[Data]],\"mmmm\")","v":"maio"}]
["2020","11/05/20","Disponivel",6389443,449462776.58999997,{"$f":"TEXT(Saldo_Disponivel_VT[[#This Row],[Data]],\"mmmm\")","v":"maio"}]
["2020","12/05/20","Disponivel",6584279,448401949.66000003,{"$f":"TEXT(Saldo_Disponivel_VT[[#This Row],[Data]],\"mmmm\")","v":"maio"}]
["2020","13/05/20","Disponivel",6789253,447775551.88999999,{"$f":"TEXT(Saldo_Disponivel_VT[[#This Row],[Data]],\"mmmm\")","v":"maio"}]
["2020","14/05/20","Disponivel",7000567,448402119.63999999,{"$f":"TEXT(Saldo_Disponivel_VT[[#This Row],[Data]],\"mmmm\")","v":"maio"}]
["2020","15/05/20","Disponivel",7207856,449445778.33999997,{"$f":"TEXT(Saldo_Disponivel_VT[[#This Row],[Data]],\"mmmm\")","v":"maio"}]
["2020","16/05/20","Disponivel",7429824,449452117.86000001,{"$f":"TEXT(Saldo_Disponivel_VT[[#This Row],[Data]],\"mmmm\")","v":"maio"}]
["2020","17/05/20","Disponivel",7670358,450076067.88,{"$f":"TEXT(Saldo_Disponivel_VT[[#This Row],[Data]],\"mmmm\")","v":"maio"}]
["2020","18/05/20","Disponivel",7864462,450166054.62,{"$f":"TEXT(Saldo_Disponivel_VT[[#This Row],[Data]],\"mmmm\")","v":"maio"}]
["2020","19/05/20","Disponivel",8069637,455999590.81,{"$f":"TEXT(Saldo_Disponivel_VT[[#This Row],[Data]],\"mmmm\")","v":"maio"}]
["2020","20/05/20","Disponivel",8251096,455243451.22000003,{"$f":"TEXT(Saldo_Disponivel_VT[[#This Row],[Data]],\"mmmm\")","v":"maio"}]
["2020","21/05/20","Disponivel",8444320,456561632.77999997,{"$f":"TEXT(Saldo_Disponivel_VT[[#This Row],[Data]],\"mmmm\")","v":"maio"}]
["2020","22/05/20","Disponivel",8679722,468907157.48000002,{"$f":"TEXT(Saldo_Disponivel_VT[[#This Row],[Data]],\"mmmm\")","v":"maio"}]
["2020","23/05/20","Disponivel",8889735,468773754.42000002,{"$f":"TEXT(Saldo_Disponivel_VT[[#This Row],[Data]],\"mmmm\")","v":"maio"}]
["2020","24/05/20","Disponivel",9122986,469320774.99000001,{"$f":"TEXT(Saldo_Disponivel_VT[[#This Row],[Data]],\"mmmm\")","v":"maio"}]
["2020","25/05/20","Disponivel",18514553,937710799.36000001,{"$f":"TEXT(Saldo_Disponivel_VT[[#This Row],[Data]],\"mmmm\")","v":"maio"}]
["2020","26/05/20","Disponivel",9540059,492114258,{"$f":"TEXT(Saldo_Disponivel_VT[[#This Row],[Data]],\"mmmm\")","v":"maio"}]
["2020","27/05/20","Disponivel",9694595,501991206.45999998,{"$f":"TEXT(Saldo_Disponivel_VT[[#This Row],[Data]],\"mmmm\")","v":"maio"}]
["2020","28/05/20","Disponivel",9641000,509388966.25,{"$f":"TEXT(Saldo_Disponivel_VT[[#This Row],[Data]],\"mmmm\")","v":"maio"}]
["2020","29/05/20","Disponivel",9495313,511167428.56999999,{"$f":"TEXT(Saldo_Disponivel_VT[[#This Row],[Data]],\"mmmm\")","v":"maio"}]
["2020","30/05/20","Disponivel",9376529,507794207.37,{"$f":"TEXT(Saldo_Disponivel_VT[[#This Row],[Data]],\"mmmm\")","v":"maio"}]
["2020","31/05/20","Disponivel",9312446,505079924.13999999,{"$f":"TEXT(Saldo_Disponivel_VT[[#This Row],[Data]],\"mmmm\")","v":"maio"}]
["2020","01/06/20","Disponivel",9089081,498362356.49000001,{"$f":"TEXT(Saldo_Disponivel_VT[[#This Row],[Data]],\"mmmm\")","v":"junho"}]
["2020","02/06/20","Disponivel",8913693,493122557.69999999,{"$f":"TEXT(Saldo_Disponivel_VT[[#This Row],[Data]],\"mmmm\")","v":"junho"}]
["2020","03/06/20","Disponivel",8792381,495208945.91000003,{"$f":"TEXT(Saldo_Disponivel_VT[[#This Row],[Data]],\"mmmm\")","v":"junho"}]
["2020","04/06/20","Disponivel",8661387,490258752.68000001,{"$f":"TEXT(Saldo_Disponivel_VT[[#This Row],[Data]],\"mmmm\")","v":"junho"}]
["2020","05/06/20","Disponivel",8537724,485630282.13,{"$f":"TEXT(Saldo_Disponivel_VT[[#This Row],[Data]],\"mmmm\")","v":"junho"}]
["2020","06/06/20","Disponivel",8464273,483262063.67000002,{"$f":"TEXT(Saldo_Disponivel_VT[[#This Row],[Data]],\"mmmm\")","v":"junho"}]
["2020","07/06/20","Disponivel",8428128,481534843.98000002,{"$f":"TEXT(Saldo_Disponivel_VT[[#This Row],[Data]],\"mmmm\")","v":"junho"}]
["2020","08/06/20","Disponivel",8451642,476278195.00999999,{"$f":"TEXT(Saldo_Disponivel_VT[[#This Row],[Data]],\"mmmm\")","v":"junho"}]
["2020","09/06/20","Disponivel",8616883,473129071.22000003,{"$f":"TEXT(Saldo_Disponivel_VT[[#This Row],[Data]],\"mmmm\")","v":"junho"}]
["2020","10/06/20","Disponivel",8784566,471278000.14999998,{"$f":"TEXT(Saldo_Disponivel_VT[[#This Row],[Data]],\"mmmm\")","v":"junho"}]
["2020","11/06/20","Disponivel",8762095,467868860.31999999,{"$f":"TEXT(Saldo_Disponivel_VT[[#This Row],[Data]],\"mmmm\")","v":"junho"}]
["2020","12/06/20","Disponivel",8667803,464926381.63999999,{"$f":"TEXT(Saldo_Disponivel_VT[[#This Row],[Data]],\"mmmm\")","v":"junho"}]
["2020","13/06/20","Disponivel",8612778,463547488.56999999,{"$f":"TEXT(Saldo_Disponivel_VT[[#This Row],[Data]],\"mmmm\")","v":"junho"}]
["2020","14/06/20","Disponivel",8585456,462613669.95999998,{"$f":"TEXT(Saldo_Disponivel_VT[[#This Row],[Data]],\"mmmm\")","v":"junho"}]
["2020","15/06/20","Disponivel",8478143,459370372.89999998,{"$f":"TEXT(Saldo_Disponivel_VT[[#This Row],[Data]],\"mmmm\")","v":"junho"}]
["2020","16/06/20","Disponivel",8384510,457078092.93000001,{"$f":"TEXT(Saldo_Disponivel_VT[[#This Row],[Data]],\"mmmm\")","v":"junho"}]
["2020","17/06/20","Disponivel",8317268,457547674.19999999,{"$f":"TEXT(Saldo_Disponivel_VT[[#This Row],[Data]],\"mmmm\")","v":"junho"}]
["2020","18/06/20","Disponivel",8254263,458161492.22000003,{"$f":"TEXT(Saldo_Disponivel_VT[[#This Row],[Data]],\"mmmm\")","v":"junho"}]
["2020","19/06/20","Disponivel",8193810,459002584.16000003,{"$f":"TEXT(Saldo_Disponivel_VT[[#This Row],[Data]],\"mmmm\")","v":"junho"}]
["2020","20/06/20","Disponivel",8139433,456711068.81999999,{"$f":"TEXT(Saldo_Disponivel_VT[[#This Row],[Data]],\"mmmm\")","v":"junho"}]
["2020","21/06/20","Disponivel",8113064,455647531.30000001,{"$f":"TEXT(Saldo_Disponivel_VT[[#This Row],[Data]],\"mmmm\")","v":"junho"}]
["2020","22/06/20","Disponivel",8033488,454044031.99000001,{"$f":"TEXT(Saldo_Disponivel_VT[[#This Row],[Data]],\"mmmm\")","v":"junho"}]
["2020","23/06/20","Disponivel",7981307,457045518.75999999,{"$f":"TEXT(Saldo_Disponivel_VT[[#This Row],[Data]],\"mmmm\")","v":"junho"}]
["2020","24/06/20","Disponivel",7971144,467913551.19999999,{"$f":"TEXT(Saldo_Disponivel_VT[[#This Row],[Data]],\"mmmm\")","v":"junho"}]
["2020","25/06/20","Disponivel",8006068,488830069.22000003,{"$f":"TEXT(Saldo_Disponivel_VT[[#This Row],[Data]],\"mmmm\")","v":"junho"}]
["2020","26/06/20","Disponivel",8019408,503894870.01999998,{"$f":"TEXT(Saldo_Disponivel_VT[[#This Row],[Data]],\"mmmm\")","v":"junho"}]
["2020","27/06/20","Disponivel",7981012,503839501.66000003,{"$f":"TEXT(Saldo_Disponivel_VT[[#This Row],[Data]],\"mmmm\")","v":"junho"}]
["2020","28/06/20","Disponivel",7942543,500665787.31,{"$f":"TEXT(Saldo_Disponivel_VT[[#This Row],[Data]],\"mmmm\")","v":"junho"}]
["2020","29/06/20","Disponivel",7842570,497983061.29000002,{"$f":"TEXT(Saldo_Disponivel_VT[[#This Row],[Data]],\"mmmm\")","v":"junho"}]
["2020","30/06/20","Disponivel",7741508,495058900.92000002,{"$f":"TEXT(Saldo_Disponivel_VT[[#This Row],[Data]],\"mmmm\")","v":"junho"}]
["2020","01/07/20","Disponivel",7592910,484186506.27999997,{"$f":"TEXT(Saldo_Disponivel_VT[[#This Row],[Data]],\"mmmm\")","v":"julho"}]
["2020","02/07/20","Disponivel",7518898,484548275.80000001,{"$f":"TEXT(Saldo_Disponivel_VT[[#This Row],[Data]],\"mmmm\")","v":"julho"}]
["2020","03/07/20","Disponivel",7437295,480560965.70999998,{"$f":"TEXT(Saldo_Disponivel_VT[[#This Row],[Data]],\"mmmm\")","v":"julho"}]
["2020","04/07/20","Disponivel",7425885,477148668.06,{"$f":"TEXT(Saldo_Disponivel_VT[[#This Row],[Data]],\"mmmm\")","v":"julho"}]
["2020","05/07/20","Disponivel",7537922,475751096.50999999,{"$f":"TEXT(Saldo_Disponivel_VT[[#This Row],[Data]],\"mmmm\")","v":"julho"}]
["2020","06/07/20","Disponivel",7707549,470701265.57999998,{"$f":"TEXT(Saldo_Disponivel_VT[[#This Row],[Data]],\"mmmm\")","v":"julho"}]
["2020","07/07/20","Disponivel",7887856,467494429.11000001,{"$f":"TEXT(Saldo_Disponivel_VT[[#This Row],[Data]],\"mmmm\")","v":"julho"}]
["2020","08/07/20","Disponivel",8029731,464661882.81999999,{"$f":"TEXT(Saldo_Disponivel_VT[[#This Row],[Data]],\"mmmm\")","v":"julho"}]
["2020","09/07/20","Disponivel",7946833,461410814.85000002,{"$f":"TEXT(Saldo_Disponivel_VT[[#This Row],[Data]],\"mmmm\")","v":"julho"}]
["2020","10/07/20","Disponivel",7877093,459383404.26999998,{"$f":"TEXT(Saldo_Disponivel_VT[[#This Row],[Data]],\"mmmm\")","v":"julho"}]
["2020","11/07/20","Disponivel",7823997,457027425.04000002,{"$f":"TEXT(Saldo_Disponivel_VT[[#This Row],[Data]],\"mmmm\")","v":"julho"}]
["2020","12/07/20","Disponivel",7799258,455839072.70999998,{"$f":"TEXT(Saldo_Disponivel_VT[[#This Row],[Data]],\"mmmm\")","v":"julho"}]
["2020","13/07/20","Disponivel",7729573,453292683.31999999,{"$f":"TEXT(Saldo_Disponivel_VT[[#This Row],[Data]],\"mmmm\")","v":"julho"}]
["2020","14/07/20","Disponivel",7661462,451015426.77999997,{"$f":"TEXT(Saldo_Disponivel_VT[[#This Row],[Data]],\"mmmm\")","v":"julho"}]
["2020","15/07/20","Disponivel",7600343,449618880.00999999,{"$f":"TEXT(Saldo_Disponivel_VT[[#This Row],[Data]],\"mmmm\")","v":"julho"}]
["2020","16/07/20","Disponivel",7555503,447995216.67000002,{"$f":"TEXT(Saldo_Disponivel_VT[[#This Row],[Data]],\"mmmm\")","v":"julho"}]
["2020","17/07/20","Disponivel",7581150,447179445.05000001,{"$f":"TEXT(Saldo_Disponivel_VT[[#This Row],[Data]],\"mmmm\")","v":"julho"}]
["2020","18/07/20","Disponivel",7820456,446344429.35000002,{"$f":"TEXT(Saldo_Disponivel_VT[[#This Row],[Data]],\"mmmm\")","v":"julho"}]
["2020","19/07/20","Disponivel",8080031,446549552.95999998,{"$f":"TEXT(Saldo_Disponivel_VT[[#This Row],[Data]],\"mmmm\")","v":"julho"}]
["2020","20/07/20","Disponivel",8267944,445280671.83999997,{"$f":"TEXT(Saldo_Disponivel_VT[[#This Row],[Data]],\"mmmm\")","v":"julho"}]
["2020","21/07/20","Disponivel",8234862,447613491.36000001,{"$f":"TEXT(Saldo_Disponivel_VT[[#This Row],[Data]],\"mmmm\")","v":"julho"}]
["2020","22/07/20","Disponivel",8177791,452471610.62,{"$f":"TEXT(Saldo_Disponivel_VT[[#This Row],[Data]],\"mmmm\")","v":"julho"}]
["2020","23/07/20","Disponivel",8236099,456193745.66000003,{"$f":"TEXT(Saldo_Disponivel_VT[[#This Row],[Data]],\"mmmm\")","v":"julho"}]
["2020","24/07/20","Disponivel",8466717,462843516.72000003,{"$f":"TEXT(Saldo_Disponivel_VT[[#This Row],[Data]],\"mmmm\")","v":"julho"}]
["2020","25/07/20","Disponivel",8521576,461404563.51999998,{"$f":"TEXT(Saldo_Disponivel_VT[[#This Row],[Data]],\"mmmm\")","v":"julho"}]
["2020","26/07/20","Disponivel",8474156,459782795.91000003,{"$f":"TEXT(Saldo_Disponivel_VT[[#This Row],[Data]],\"mmmm\")","v":"julho"}]
["2020","27/07/20","Disponivel",8401686,472318366.31999999,{"$f":"TEXT(Saldo_Disponivel_VT[[#This Row],[Data]],\"mmmm\")","v":"julho"}]
["2020","28/07/20","Disponivel",8349354,488543507.29000002,{"$f":"TEXT(Saldo_Disponivel_VT[[#This Row],[Data]],\"mmmm\")","v":"julho"}]
["2020","29/07/20","Disponivel",8262645,497493403.45999998,{"$f":"TEXT(Saldo_Disponivel_VT[[#This Row],[Data]],\"mmmm\")","v":"julho"}]
["2020","30/07/20","Disponivel",8121939,496282780.36000001,{"$f":"TEXT(Saldo_Disponivel_VT[[#This Row],[Data]],\"mmmm\")","v":"julho"}]
["2020","31/07/20","Disponivel",7954000,490836258.62,{"$f":"TEXT(Saldo_Disponivel_VT[[#This Row],[Data]],\"mmmm\")","v":"julho"}]
["2020","01/08/20","Disponivel",7834057,485926412.77999997,{"$f":"TEXT(Saldo_Disponivel_VT[[#This Row],[Data]],\"mmmm\")","v":"agosto"}]
["2020","02/08/20","Disponivel",7777899,482718879.86000001,{"$f":"TEXT(Saldo_Disponivel_VT[[#This Row],[Data]],\"mmmm\")","v":"agosto"}]
["2020","03/08/20","Disponivel",7605426,477571707.72000003,{"$f":"TEXT(Saldo_Disponivel_VT[[#This Row],[Data]],\"mmmm\")","v":"agosto"}]
["2020","04/08/20","Disponivel",7455221,470267060.99000001,{"$f":"TEXT(Saldo_Disponivel_VT[[#This Row],[Data]],\"mmmm\")","v":"agosto"}]
["2020","05/08/20","Disponivel",7355854,468875908.82999998,{"$f":"TEXT(Saldo_Disponivel_VT[[#This Row],[Data]],\"mmmm\")","v":"agosto"}]
["2020","06/08/20","Disponivel",7247008,463224995.56999999,{"$f":"TEXT(Saldo_Disponivel_VT[[#This Row],[Data]],\"mmmm\")","v":"agosto"}]
["2020","07/08/20","Disponivel",7159944,459405982.80000001,{"$f":"TEXT(Saldo_Disponivel_VT[[#This Row],[Data]],\"mmmm\")","v":"agosto"}]
["2020","08/08/20","Disponivel",7106078,456613858.88,{"$f":"TEXT(Saldo_Disponivel_VT[[#This Row],[Data]],\"mmmm\")","v":"agosto"}]
["2020","09/08/20","Disponivel",7128045,455387712.74000001,{"$f":"TEXT(Saldo_Disponivel_VT[[#This Row],[Data]],\"mmmm\")","v":"agosto"}]
["2020","10/08/20","Disponivel",7136165,450962025.16000003,{"$f":"TEXT(Saldo_Disponivel_VT[[#This Row],[Data]],\"mmmm\")","v":"agosto"}]
["2020","11/08/20","Disponivel",7164042,448634957.36000001,{"$f":"TEXT(Saldo_Disponivel_VT[[#This Row],[Data]],\"mmmm\")","v":"agosto"}]
["2020","12/08/20","Disponivel",7195055,446498981.85000002,{"$f":"TEXT(Saldo_Disponivel_VT[[#This Row],[Data]],\"mmmm\")","v":"agosto"}]
["2020","13/08/20","Disponivel",7227137,445047528.86000001,{"$f":"TEXT(Saldo_Disponivel_VT[[#This Row],[Data]],\"mmmm\")","v":"agosto"}]
["2020","14/08/20","Disponivel",7261498,443901915.94,{"$f":"TEXT(Saldo_Disponivel_VT[[#This Row],[Data]],\"mmmm\")","v":"agosto"}]
["2020","15/08/20","Disponivel",7310226,442381116.81,{"$f":"TEXT(Saldo_Disponivel_VT[[#This Row],[Data]],\"mmmm\")","v":"agosto"}]
["2020","16/08/20","Disponivel",7384173,441759180,{"$f":"TEXT(Saldo_Disponivel_VT[[#This Row],[Data]],\"mmmm\")","v":"agosto"}]
["2020","17/08/20","Disponivel",7401844,439170317.67000002,{"$f":"TEXT(Saldo_Disponivel_VT[[#This Row],[Data]],\"mmmm\")","v":"agosto"}]
["2020","18/08/20","Disponivel",7384928,440706628.64999998,{"$f":"TEXT(Saldo_Disponivel_VT[[#This Row],[Data]],\"mmmm\")","v":"agosto"}]
["2020","19/08/20","Disponivel",7331038,441124321.63999999,{"$f":"TEXT(Saldo_Disponivel_VT[[#This Row],[Data]],\"mmmm\")","v":"agosto"}]
["2020","20/08/20","Disponivel",7280299,441800080.04000002,{"$f":"TEXT(Saldo_Disponivel_VT[[#This Row],[Data]],\"mmmm\")","v":"agosto"}]
["2020","21/08/20","Disponivel",7247569,443535185.86000001,{"$f":"TEXT(Saldo_Disponivel_VT[[#This Row],[Data]],\"mmmm\")","v":"agosto"}]
["2020","22/08/20","Disponivel",7208410,441852455.45999998,{"$f":"TEXT(Saldo_Disponivel_VT[[#This Row],[Data]],\"mmmm\")","v":"agosto"}]
["2020","23/08/20","Disponivel",7187778,440766133.10000002,{"$f":"TEXT(Saldo_Disponivel_VT[[#This Row],[Data]],\"mmmm\")","v":"agosto"}]
["2020","24/08/20","Disponivel",7181909,446257996.57999998,{"$f":"TEXT(Saldo_Disponivel_VT[[#This Row],[Data]],\"mmmm\")","v":"agosto"}]
["2020","25/08/20","Disponivel",7272084,460092063.88999999,{"$f":"TEXT(Saldo_Disponivel_VT[[#This Row],[Data]],\"mmmm\")","v":"agosto"}]
["2020","26/08/20","Disponivel",7240131,467858629.41000003,{"$f":"TEXT(Saldo_Disponivel_VT[[#This Row],[Data]],\"mmmm\")","v":"agosto"}]
["2020","27/08/20","Disponivel",7295914,493354279.37,{"$f":"TEXT(Saldo_Disponivel_VT[[#This Row],[Data]],\"mmmm\")","v":"agosto"}]
["2020","28/08/20","Disponivel",7238282,496848699.75,{"$f":"TEXT(Saldo_Disponivel_VT[[#This Row],[Data]],\"mmmm\")","v":"agosto"}]
["2020","29/08/20","Disponivel",7175664,494625000.25999999,{"$f":"TEXT(Saldo_Disponivel_VT[[#This Row],[Data]],\"mmmm\")","v":"agosto"}]
["2020","30/08/20","Disponivel",7132860,490704094.36000001,{"$f":"TEXT(Saldo_Disponivel_VT[[#This Row],[Data]],\"mmmm\")","v":"agosto"}]
["2020","31/08/20","Disponivel",7031543,479501932.83999997,{"$f":"TEXT(Saldo_Disponivel_VT[[#This Row],[Data]],\"mmmm\")","v":"agosto"}]
["2020","01/09/20","Disponivel",6999357,474032577.11000001,{"$f":"TEXT(Saldo_Disponivel_VT[[#This Row],[Data]],\"mmmm\")","v":"setembro"}]
["2020","02/09/20","Disponivel",6990943,471923997.17000002,{"$f":"TEXT(Saldo_Disponivel_VT[[#This Row],[Data]],\"mmmm\")","v":"setembro"}]
["2020","03/09/20","Disponivel",6966219,467809439.80000001,{"$f":"TEXT(Saldo_Disponivel_VT[[#This Row],[Data]],\"mmmm\")","v":"setembro"}]
["2020","04/09/20","Disponivel",6880313,463411772.94,{"$f":"TEXT(Saldo_Disponivel_VT[[#This Row],[Data]],\"mmmm\")","v":"setembro"}]
["2020","05/09/20","Disponivel",6896653,462203797.93000001,{"$f":"TEXT(Saldo_Disponivel_VT[[#This Row],[Data]],\"mmmm\")","v":"setembro"}]
["2020","06/09/20","Disponivel",6960280,463672045.58999997,{"$f":"TEXT(Saldo_Disponivel_VT[[#This Row],[Data]],\"mmmm\")","v":"setembro"}]
["2020","07/09/20","Disponivel",7017440,464751755.5,{"$f":"TEXT(Saldo_Disponivel_VT[[#This Row],[Data]],\"mmmm\")","v":"setembro"}]
["2020","08/09/20","Disponivel",6956782,460150534.58999997,{"$f":"TEXT(Saldo_Disponivel_VT[[#This Row],[Data]],\"mmmm\")","v":"setembro"}]
["2020","09/09/20","Disponivel",6893508,457387940.39999998,{"$f":"TEXT(Saldo_Disponivel_VT[[#This Row],[Data]],\"mmmm\")","v":"setembro"}]
["2020","10/09/20","Disponivel",6838280,454280891.97000003,{"$f":"TEXT(Saldo_Disponivel_VT[[#This Row],[Data]],\"mmmm\")","v":"setembro"}]
["2020","11/09/20","Disponivel",6793000,451785013.17000002,{"$f":"TEXT(Saldo_Disponivel_VT[[#This Row],[Data]],\"mmmm\")","v":"setembro"}]
["2020","12/09/20","Disponivel",6753121,449326983.14999998,{"$f":"TEXT(Saldo_Disponivel_VT[[#This Row],[Data]],\"mmmm\")","v":"setembro"}]
["2020","13/09/20","Disponivel",6736355,448184599.55000001,{"$f":"TEXT(Saldo_Disponivel_VT[[#This Row],[Data]],\"mmmm\")","v":"setembro"}]
["2020","14/09/20","Disponivel",6674946,444472508.36000001,{"$f":"TEXT(Saldo_Disponivel_VT[[#This Row],[Data]],\"mmmm\")","v":"setembro"}]
["2020","15/09/20","Disponivel",6698398,444589455.23000002,{"$f":"TEXT(Saldo_Disponivel_VT[[#This Row],[Data]],\"mmmm\")","v":"setembro"}]
["2020","16/09/20","Disponivel",6704922,446078544.07999998,{"$f":"TEXT(Saldo_Disponivel_VT[[#This Row],[Data]],\"mmmm\")","v":"setembro"}]
["2020","17/09/20","Disponivel",6683758,446582391.33999997,{"$f":"TEXT(Saldo_Disponivel_VT[[#This Row],[Data]],\"mmmm\")","v":"setembro"}]
["2020","18/09/20","Disponivel",6651334,447168353.02999997,{"$f":"TEXT(Saldo_Disponivel_VT[[#This Row],[Data]],\"mmmm\")","v":"setembro"}]
["2020","19/09/20","Disponivel",6618364,444771504.36000001,{"$f":"TEXT(Saldo_Disponivel_VT[[#This Row],[Data]],\"mmmm\")","v":"setembro"}]
["2020","20/09/20","Disponivel",6605584,443612703.16000003,{"$f":"TEXT(Saldo_Disponivel_VT[[#This Row],[Data]],\"mmmm\")","v":"setembro"}]
["2020","21/09/20","Disponivel",6575303,444568838.39999998,{"$f":"TEXT(Saldo_Disponivel_VT[[#This Row],[Data]],\"mmmm\")","v":"setembro"}]
["2020","22/09/20","Disponivel",6556599,448080686.16000003,{"$f":"TEXT(Saldo_Disponivel_VT[[#This Row],[Data]],\"mmmm\")","v":"setembro"}]
["2020","23/09/20","Disponivel",6642838,463588488.63999999,{"$f":"TEXT(Saldo_Disponivel_VT[[#This Row],[Data]],\"mmmm\")","v":"setembro"}]
["2020","24/09/20","Disponivel",6742962,480200763.75999999,{"$f":"TEXT(Saldo_Disponivel_VT[[#This Row],[Data]],\"mmmm\")","v":"setembro"}]
["2020","25/09/20","Disponivel",6878181,505907395.86000001,{"$f":"TEXT(Saldo_Disponivel_VT[[#This Row],[Data]],\"mmmm\")","v":"setembro"}]
["2020","26/09/20","Disponivel",6937614,510706366.58999997,{"$f":"TEXT(Saldo_Disponivel_VT[[#This Row],[Data]],\"mmmm\")","v":"setembro"}]
["2020","27/09/20","Disponivel",7006632,513578069.33999997,{"$f":"TEXT(Saldo_Disponivel_VT[[#This Row],[Data]],\"mmmm\")","v":"setembro"}]
["2020","28/09/20","Disponivel",7090925,530829180.63,{"$f":"TEXT(Saldo_Disponivel_VT[[#This Row],[Data]],\"mmmm\")","v":"setembro"}]
["2020","29/09/20","Disponivel",7153045,543837128.10000002,{"$f":"TEXT(Saldo_Disponivel_VT[[#This Row],[Data]],\"mmmm\")","v":"setembro"}]
["2020","30/09/20","Disponivel",7149582,540617953.95000005,{"$f":"TEXT(Saldo_Disponivel_VT[[#This Row],[Data]],\"mmmm\")","v":"setembro"}]
["2020","01/10/20","Disponivel",7179693,543559445.50999999,{"$f":"TEXT(Saldo_Disponivel_VT[[#This Row],[Data]],\"mmmm\")","v":"outubro"}]
["2020","02/10/20","Disponivel",7113940,534575964.56,{"$f":"TEXT(Saldo_Disponivel_VT[[#This Row],[Data]],\"mmmm\")","v":"outubro"}]
["2020","03/10/20","Disponivel",7062036,529849307.32999998,{"$f":"TEXT(Saldo_Disponivel_VT[[#This Row],[Data]],\"mmmm\")","v":"outubro"}]
["2020","04/10/20","Disponivel",7036230,526336726.50999999,{"$f":"TEXT(Saldo_Disponivel_VT[[#This Row],[Data]],\"mmmm\")","v":"outubro"}]
["2020","05/10/20","Disponivel",6950946,517506183.25999999,{"$f":"TEXT(Saldo_Disponivel_VT[[#This Row],[Data]],\"mmmm\")","v":"outubro"}]
["2020","06/10/20","Disponivel",6879761,509905651.18000001,{"$f":"TEXT(Saldo_Disponivel_VT[[#This Row],[Data]],\"mmmm\")","v":"outubro"}]
["2020","07/10/20","Disponivel",6814890,502970121.61000001,{"$f":"TEXT(Saldo_Disponivel_VT[[#This Row],[Data]],\"mmmm\")","v":"outubro"}]
["2020","08/10/20","Disponivel",6770677,498839878.50999999,{"$f":"TEXT(Saldo_Disponivel_VT[[#This Row],[Data]],\"mmmm\")","v":"outubro"}]
["2020","09/10/20","Disponivel",6733492,495226533.62,{"$f":"TEXT(Saldo_Disponivel_VT[[#This Row],[Data]],\"mmmm\")","v":"outubro"}]
["2020","10/10/20","Disponivel",6698019,491739861.93000001,{"$f":"TEXT(Saldo_Disponivel_VT[[#This Row],[Data]],\"mmmm\")","v":"outubro"}]
["2020","11/10/20","Disponivel",6680122,489834044.95999998,{"$f":"TEXT(Saldo_Disponivel_VT[[#This Row],[Data]],\"mmmm\")","v":"outubro"}]
["2020","12/10/20","Disponivel",6661252,487498681.36000001,{"$f":"TEXT(Saldo_Disponivel_VT[[#This Row],[Data]],\"mmmm\")","v":"outubro"}]
["2020","13/10/20","Disponivel",6614178,482935277.16000003,{"$f":"TEXT(Saldo_Disponivel_VT[[#This Row],[Data]],\"mmmm\")","v":"outubro"}]
["2020","14/10/20","Disponivel",6573782,479768136.47000003,{"$f":"TEXT(Saldo_Disponivel_VT[[#This Row],[Data]],\"mmmm\")","v":"outubro"}]
["2020","15/10/20","Disponivel",6538998,477130245.45999998,{"$f":"TEXT(Saldo_Disponivel_VT[[#This Row],[Data]],\"mmmm\")","v":"outubro"}]
["2020","16/10/20","Disponivel",6505574,474566692.54000002,{"$f":"TEXT(Saldo_Disponivel_VT[[#This Row],[Data]],\"mmmm\")","v":"outubro"}]
["2020","17/10/20","Disponivel",6477198,471924883.35000002,{"$f":"TEXT(Saldo_Disponivel_VT[[#This Row],[Data]],\"mmmm\")","v":"outubro"}]
["2020","18/10/20","Disponivel",6465354,470468758.70999998,{"$f":"TEXT(Saldo_Disponivel_VT[[#This Row],[Data]],\"mmmm\")","v":"outubro"}]
["2020","19/10/20","Disponivel",6426776,467381364.25999999,{"$f":"TEXT(Saldo_Disponivel_VT[[#This Row],[Data]],\"mmmm\")","v":"outubro"}]
["2020","20/10/20","Disponivel",6421670,472169239.00999999,{"$f":"TEXT(Saldo_Disponivel_VT[[#This Row],[Data]],\"mmmm\")","v":"outubro"}]
["2020","21/10/20","Disponivel",6393334,471509558.04000002,{"$f":"TEXT(Saldo_Disponivel_VT[[#This Row],[Data]],\"mmmm\")","v":"outubro"}]
["2020","22/10/20","Disponivel",6391960,476480086.19999999,{"$f":"TEXT(Saldo_Disponivel_VT[[#This Row],[Data]],\"mmmm\")","v":"outubro"}]
["2020","23/10/20","Disponivel",6403865,484153277.32999998,{"$f":"TEXT(Saldo_Disponivel_VT[[#This Row],[Data]],\"mmmm\")","v":"outubro"}]
["2020","25/10/20","Disponivel",6367745,480349983.45999998,{"$f":"TEXT(Saldo_Disponivel_VT[[#This Row],[Data]],\"mmmm\")","v":"outubro"}]
["2020","26/10/20","Disponivel",6368440,486131896.00999999,{"$f":"TEXT(Saldo_Disponivel_VT[[#This Row],[Data]],\"mmmm\")","v":"outubro"}]
["2020","27/10/20","Disponivel",6416530,504445069.06999999,{"$f":"TEXT(Saldo_Disponivel_VT[[#This Row],[Data]],\"mmmm\")","v":"outubro"}]
["2020","28/10/20","Disponivel",6477091,523791140.51999998,{"$f":"TEXT(Saldo_Disponivel_VT[[#This Row],[Data]],\"mmmm\")","v":"outubro"}]
["2020","29/10/20","Disponivel",6490414,531362422.11000001,{"$f":"TEXT(Saldo_Disponivel_VT[[#This Row],[Data]],\"mmmm\")","v":"outubro"}]
["2020","30/10/20","Disponivel",6421440,519135042.75999999,{"$f":"TEXT(Saldo_Disponivel_VT[[#This Row],[Data]],\"mmmm\")","v":"outubro"}]
["2020","31/10/20","Disponivel",6380934,513053659.49000001,{"$f":"TEXT(Saldo_Disponivel_VT[[#This Row],[Data]],\"mmmm\")","v":"outubro"}]
["2020","01/11/20","Disponivel",6393739,512834527.54000002,{"$f":"TEXT(Saldo_Disponivel_VT[[#This Row],[Data]],\"mmmm\")","v":"novembro"}]
["2020","02/11/20","Disponivel",6363062,507362010.42000002,{"$f":"TEXT(Saldo_Disponivel_VT[[#This Row],[Data]],\"mmmm\")","v":"novembro"}]
["2020","03/11/20","Disponivel",6299217,500836103.27999997,{"$f":"TEXT(Saldo_Disponivel_VT[[#This Row],[Data]],\"mmmm\")","v":"novembro"}]
["2020","04/11/20","Disponivel",6695223,516812868.14999998,{"$f":"TEXT(Saldo_Disponivel_VT[[#This Row],[Data]],\"mmmm\")","v":"novembro"}]
["2020","05/11/20","Disponivel",6653030,512758046.18000001,{"$f":"TEXT(Saldo_Disponivel_VT[[#This Row],[Data]],\"mmmm\")","v":"novembro"}]
["2020","06/11/20","Disponivel",6592885,505046665.35000002,{"$f":"TEXT(Saldo_Disponivel_VT[[#This Row],[Data]],\"mmmm\")","v":"novembro"}]
["2020","07/11/20","Disponivel",6549569,500075158.69,{"$f":"TEXT(Saldo_Disponivel_VT[[#This Row],[Data]],\"mmmm\")","v":"novembro"}]
["2020","08/11/20","Disponivel",6529809,497337387.43000001,{"$f":"TEXT(Saldo_Disponivel_VT[[#This Row],[Data]],\"mmmm\")","v":"novembro"}]
["2020","09/11/20","Disponivel",6469614,489270469.31,{"$f":"TEXT(Saldo_Disponivel_VT[[#This Row],[Data]],\"mmmm\")","v":"novembro"}]
["2020","10/11/20","Disponivel",6419440,483427060.62,{"$f":"TEXT(Saldo_Disponivel_VT[[#This Row],[Data]],\"mmmm\")","v":"novembro"}]
["2020","11/11/20","Disponivel",6390912,480830268.82999998,{"$f":"TEXT(Saldo_Disponivel_VT[[#This Row],[Data]],\"mmmm\")","v":"novembro"}]
["2020","12/11/20","Disponivel",6355556,476660468.30000001,{"$f":"TEXT(Saldo_Disponivel_VT[[#This Row],[Data]],\"mmmm\")","v":"novembro"}]
["2020","13/11/20","Disponivel",6322550,473556475.88999999,{"$f":"TEXT(Saldo_Disponivel_VT[[#This Row],[Data]],\"mmmm\")","v":"novembro"}]
["2020","14/11/20","Disponivel",6295035,470821894.88,{"$f":"TEXT(Saldo_Disponivel_VT[[#This Row],[Data]],\"mmmm\")","v":"novembro"}]
["2020","15/11/20","Disponivel",6277338,468716206.52999997,{"$f":"TEXT(Saldo_Disponivel_VT[[#This Row],[Data]],\"mmmm\")","v":"novembro"}]
["2020","16/11/20","Disponivel",6240101,465316603.69999999,{"$f":"TEXT(Saldo_Disponivel_VT[[#This Row],[Data]],\"mmmm\")","v":"novembro"}]
["2020","17/11/20","Disponivel",6227530,466311661.25999999,{"$f":"TEXT(Saldo_Disponivel_VT[[#This Row],[Data]],\"mmmm\")","v":"novembro"}]
["2020","18/11/20","Disponivel",6204614,465985876.51999998,{"$f":"TEXT(Saldo_Disponivel_VT[[#This Row],[Data]],\"mmmm\")","v":"novembro"}]
["2020","19/11/20","Disponivel",6189680,467032860.38,{"$f":"TEXT(Saldo_Disponivel_VT[[#This Row],[Data]],\"mmmm\")","v":"novembro"}]
["2020","20/11/20","Disponivel",6159628,463489225.55000001,{"$f":"TEXT(Saldo_Disponivel_VT[[#This Row],[Data]],\"mmmm\")","v":"novembro"}]
["2020","21/11/20","Disponivel",6133273,460456977.33999997,{"$f":"TEXT(Saldo_Disponivel_VT[[#This Row],[Data]],\"mmmm\")","v":"novembro"}]
["2020","22/11/20","Disponivel",6122045,458670888.50999999,{"$f":"TEXT(Saldo_Disponivel_VT[[#This Row],[Data]],\"mmmm\")","v":"novembro"}]
["2020","23/11/20","Disponivel",6145232,469769091.63,{"$f":"TEXT(Saldo_Disponivel_VT[[#This Row],[Data]],\"mmmm\")","v":"novembro"}]
["2020","24/11/20","Disponivel",6167501,479572691.45999998,{"$f":"TEXT(Saldo_Disponivel_VT[[#This Row],[Data]],\"mmmm\")","v":"novembro"}]
["2020","25/11/20","Disponivel",6229022,499334221.00999999,{"$f":"TEXT(Saldo_Disponivel_VT[[#This Row],[Data]],\"mmmm\")","v":"novembro"}]
["2020","26/11/20","Disponivel",6305567,521620319.36000001,{"$f":"TEXT(Saldo_Disponivel_VT[[#This Row],[Data]],\"mmmm\")","v":"novembro"}]
["2020","27/11/20","Disponivel",6340143,533700019.51999998,{"$f":"TEXT(Saldo_Disponivel_VT[[#This Row],[Data]],\"mmmm\")","v":"novembro"}]
["2020","28/11/20","Disponivel",6312395,529040753.80000001,{"$f":"TEXT(Saldo_Disponivel_VT[[#This Row],[Data]],\"mmmm\")","v":"novembro"}]
["2020","29/11/20","Disponivel",6281154,522597144.91000003,{"$f":"TEXT(Saldo_Disponivel_VT[[#This Row],[Data]],\"mmmm\")","v":"novembro"}]
["2020","30/11/20","Disponivel",6203632,507584135.31,{"$f":"TEXT(Saldo_Disponivel_VT[[#This Row],[Data]],\"mmmm\")","v":"novembro"}]
["2020","01/12/20","Disponivel",6308103,504809955.81,{"$f":"TEXT(Saldo_Disponivel_VT[[#This Row],[Data]],\"mmmm\")","v":"dezembro"}]
["2020","02/12/20","Disponivel",6257641,500535395.04000002,{"$f":"TEXT(Saldo_Disponivel_VT[[#This Row],[Data]],\"mmmm\")","v":"dezembro"}]
["2020","03/12/20","Disponivel",6208045,494244662.27999997,{"$f":"TEXT(Saldo_Disponivel_VT[[#This Row],[Data]],\"mmmm\")","v":"dezembro"}]
["2020","04/12/20","Disponivel",6157272,486826051.54000002,{"$f":"TEXT(Saldo_Disponivel_VT[[#This Row],[Data]],\"mmmm\")","v":"dezembro"}]
["2020","05/12/20","Disponivel",6118393,481376234.11000001,{"$f":"TEXT(Saldo_Disponivel_VT[[#This Row],[Data]],\"mmmm\")","v":"dezembro"}]
["2020","06/12/20","Disponivel",6095524,477981463.17000002,{"$f":"TEXT(Saldo_Disponivel_VT[[#This Row],[Data]],\"mmmm\")","v":"dezembro"}]
["2020","07/12/20","Disponivel",6033058,469750678.07999998,{"$f":"TEXT(Saldo_Disponivel_VT[[#This Row],[Data]],\"mmmm\")","v":"dezembro"}]
["2020","08/12/20","Disponivel",5987113,464117688.57999998,{"$f":"TEXT(Saldo_Disponivel_VT[[#This Row],[Data]],\"mmmm\")","v":"dezembro"}]
["2020","09/12/20","Disponivel",5955905,460393162.19999999,{"$f":"TEXT(Saldo_Disponivel_VT[[#This Row],[Data]],\"mmmm\")","v":"dezembro"}]
["2020","10/12/20","Disponivel",5932296,457405975.25999999,{"$f":"TEXT(Saldo_Disponivel_VT[[#This Row],[Data]],\"mmmm\")","v":"dezembro"}]
["2020","11/12/20","Disponivel",5911308,454846249.86000001,{"$f":"TEXT(Saldo_Disponivel_VT[[#This Row],[Data]],\"mmmm\")","v":"dezembro"}]
["2020","12/12/20","Disponivel",5885435,451767074.36000001,{"$f":"TEXT(Saldo_Disponivel_VT[[#This Row],[Data]],\"mmmm\")","v":"dezembro"}]
["2020","13/12/20","Disponivel",5874042,449859358.08999997,{"$f":"TEXT(Saldo_Disponivel_VT[[#This Row],[Data]],\"mmmm\")","v":"dezembro"}]
["2020","14/12/20","Disponivel",5835485,445817965.30000001,{"$f":"TEXT(Saldo_Disponivel_VT[[#This Row],[Data]],\"mmmm\")","v":"dezembro"}]
["2020","15/12/20","Disponivel",5818061,445244351.30000001,{"$f":"TEXT(Saldo_Disponivel_VT[[#This Row],[Data]],\"mmmm\")","v":"dezembro"}]
["2020","16/12/20","Disponivel",5819764,448683196.72000003,{"$f":"TEXT(Saldo_Disponivel_VT[[#This Row],[Data]],\"mmmm\")","v":"dezembro"}]
["2020","17/12/20","Disponivel",5817055,450665674.92000002,{"$f":"TEXT(Saldo_Disponivel_VT[[#This Row],[Data]],\"mmmm\")","v":"dezembro"}]
["2020","18/12/20","Disponivel",5811165,452750610.76999998,{"$f":"TEXT(Saldo_Disponivel_VT[[#This Row],[Data]],\"mmmm\")","v":"dezembro"}]
["2020","19/12/20","Disponivel",5791921,450527983.31,{"$f":"TEXT(Saldo_Disponivel_VT[[#This Row],[Data]],\"mmmm\")","v":"dezembro"}]
["2020","20/12/20","Disponivel",5781169,448550002,{"$f":"TEXT(Saldo_Disponivel_VT[[#This Row],[Data]],\"mmmm\")","v":"dezembro"}]
["2020","21/12/20","Disponivel",5807791,458759995.93000001,{"$f":"TEXT(Saldo_Disponivel_VT[[#This Row],[Data]],\"mmmm\")","v":"dezembro"}]
["2020","22/12/20","Disponivel",5837574,468312262.42000002,{"$f":"TEXT(Saldo_Disponivel_VT[[#This Row],[Data]],\"mmmm\")","v":"dezembro"}]
["2020","23/12/20","Disponivel",5915063,489311586.31999999,{"$f":"TEXT(Saldo_Disponivel_VT[[#This Row],[Data]],\"mmmm\")","v":"dezembro"}]
["2020","24/12/20","Disponivel",5905440,488426674.12,{"$f":"TEXT(Saldo_Disponivel_VT[[#This Row],[Data]],\"mmmm\")","v":"dezembro"}]
["2020","25/12/20","Disponivel",5901575,487820652.87,{"$f":"TEXT(Saldo_Disponivel_VT[[#This Row],[Data]],\"mmmm\")","v":"dezembro"}]
["2020","26/12/20","Disponivel",5876317,482798432.05000001,{"$f":"TEXT(Saldo_Disponivel_VT[[#This Row],[Data]],\"mmmm\")","v":"dezembro"}]
["2020","27/12/20","Disponivel",5861929,479657066.63999999,{"$f":"TEXT(Saldo_Disponivel_VT[[#This Row],[Data]],\"mmmm\")","v":"dezembro"}]
["2020","28/12/20","Disponivel",5928733,497127404.18000001,{"$f":"TEXT(Saldo_Disponivel_VT[[#This Row],[Data]],\"mmmm\")","v":"dezembro"}]
["2020","29/12/20","Disponivel",5968999,509602230.66000003,{"$f":"TEXT(Saldo_Disponivel_VT[[#This Row],[Data]],\"mmmm\")","v":"dezembro"}]
["2020","30/12/20","Disponivel",5969603,510733152.27999997,{"$f":"TEXT(Saldo_Disponivel_VT[[#This Row],[Data]],\"mmmm\")","v":"dezembro"}]
["2020","31/12/20","Disponivel",5948519,506701354.44999999,{"$f":"TEXT(Saldo_Disponivel_VT[[#This Row],[Data]],\"mmmm\")","v":"dezembro"}]
["2021","01/01/21","Disponivel",5576644,483585883.30000001,{"$f":"TEXT(Saldo_Disponivel_VT[[#This Row],[Data]],\"mmmm\")","v":"janeiro"}]
["2021","02/01/21","Disponivel",5544208,476659515.02999997,{"$f":"TEXT(Saldo_Disponivel_VT[[#This Row],[Data]],\"mmmm\")","v":"janeiro"}]
["2021","03/01/21","Disponivel",5526541,472518145.60000002,{"$f":"TEXT(Saldo_Disponivel_VT[[#This Row],[Data]],\"mmmm\")","v":"janeiro"}]
["2021","04/01/21","Disponivel",5423791,451659620.63999999,{"$f":"TEXT(Saldo_Disponivel_VT[[#This Row],[Data]],\"mmmm\")","v":"janeiro"}]
["2021","05/01/21","Disponivel",5365774,440942883.16000003,{"$f":"TEXT(Saldo_Disponivel_VT[[#This Row],[Data]],\"mmmm\")","v":"janeiro"}]
["2021","06/01/21","Disponivel",5350676,438722285.17000002,{"$f":"TEXT(Saldo_Disponivel_VT[[#This Row],[Data]],\"mmmm\")","v":"janeiro"}]
["2021","07/01/21","Disponivel",5314212,432291539.44999999,{"$f":"TEXT(Saldo_Disponivel_VT[[#This Row],[Data]],\"mmmm\")","v":"janeiro"}]
["2021","08/01/21","Disponivel",5291292,428303842.23000002,{"$f":"TEXT(Saldo_Disponivel_VT[[#This Row],[Data]],\"mmmm\")","v":"janeiro"}]
["2021","09/01/21","Disponivel",5270603,424942044.17000002,{"$f":"TEXT(Saldo_Disponivel_VT[[#This Row],[Data]],\"mmmm\")","v":"janeiro"}]
["2021","10/01/21","Disponivel",5264128,423437461.13999999,{"$f":"TEXT(Saldo_Disponivel_VT[[#This Row],[Data]],\"mmmm\")","v":"janeiro"}]
["2021","11/01/21","Disponivel",5230113,417662570.07999998,{"$f":"TEXT(Saldo_Disponivel_VT[[#This Row],[Data]],\"mmmm\")","v":"janeiro"}]
["2021","12/01/21","Disponivel",5214557,415077418.50999999,{"$f":"TEXT(Saldo_Disponivel_VT[[#This Row],[Data]],\"mmmm\")","v":"janeiro"}]
["2021","13/01/21","Disponivel",5193294,411841669.61000001,{"$f":"TEXT(Saldo_Disponivel_VT[[#This Row],[Data]],\"mmmm\")","v":"janeiro"}]
["2021","14/01/21","Disponivel",5186149,411878750.27999997,{"$f":"TEXT(Saldo_Disponivel_VT[[#This Row],[Data]],\"mmmm\")","v":"janeiro"}]
["2021","15/01/21","Disponivel",5175028,410696235.57999998,{"$f":"TEXT(Saldo_Disponivel_VT[[#This Row],[Data]],\"mmmm\")","v":"janeiro"}]
["2021","16/01/21","Disponivel",5158197,408313978.20999998,{"$f":"TEXT(Saldo_Disponivel_VT[[#This Row],[Data]],\"mmmm\")","v":"janeiro"}]
["2021","17/01/21","Disponivel",5150786,406959645.07999998,{"$f":"TEXT(Saldo_Disponivel_VT[[#This Row],[Data]],\"mmmm\")","v":"janeiro"}]
["2021","18/01/21","Disponivel",5136995,406629858.64999998,{"$f":"TEXT(Saldo_Disponivel_VT[[#This Row],[Data]],\"mmmm\")","v":"janeiro"}]
["2021","19/01/21","Disponivel",5129948,407376266.31999999,{"$f":"TEXT(Saldo_Disponivel_VT[[#This Row],[Data]],\"mmmm\")","v":"janeiro"}]
["2021","20/01/21","Disponivel",5128749,409253910.55000001,{"$f":"TEXT(Saldo_Disponivel_VT[[#This Row],[Data]],\"mmmm\")","v":"janeiro"}]
["2021","21/01/21","Disponivel",5137713,413927364.18000001,{"$f":"TEXT(Saldo_Disponivel_VT[[#This Row],[Data]],\"mmmm\")","v":"janeiro"}]
["2021","22/01/21","Disponivel",5332256,461486735.33999997,{"$f":"TEXT(Saldo_Disponivel_VT[[#This Row],[Data]],\"mmmm\")","v":"janeiro"}]
["2021","23/01/21","Disponivel",5313204,458118640.19999999,{"$f":"TEXT(Saldo_Disponivel_VT[[#This Row],[Data]],\"mmmm\")","v":"janeiro"}]
["2021","24/01/21","Disponivel",5298953,455244285.98000002,{"$f":"TEXT(Saldo_Disponivel_VT[[#This Row],[Data]],\"mmmm\")","v":"janeiro"}]
["2021","25/01/21","Disponivel",5280904,450986931.52999997,{"$f":"TEXT(Saldo_Disponivel_VT[[#This Row],[Data]],\"mmmm\")","v":"janeiro"}]
["2021","26/01/21","Disponivel",5316403,462831771.07999998,{"$f":"TEXT(Saldo_Disponivel_VT[[#This Row],[Data]],\"mmmm\")","v":"janeiro"}]
["2021","27/01/21","Disponivel",5334218,467901274.75,{"$f":"TEXT(Saldo_Disponivel_VT[[#This Row],[Data]],\"mmmm\")","v":"janeiro"}]
["2021","28/01/21","Disponivel",5341651,471422280.13999999,{"$f":"TEXT(Saldo_Disponivel_VT[[#This Row],[Data]],\"mmmm\")","v":"janeiro"}]
["2021","29/01/21","Disponivel",5345788,473751814.56,{"$f":"TEXT(Saldo_Disponivel_VT[[#This Row],[Data]],\"mmmm\")","v":"janeiro"}]
["2021","30/01/21","Disponivel",5332945,471038250.62,{"$f":"TEXT(Saldo_Disponivel_VT[[#This Row],[Data]],\"mmmm\")","v":"janeiro"}]
["2021","31/01/21","Disponivel",5319351,467316238.98000002,{"$f":"TEXT(Saldo_Disponivel_VT[[#This Row],[Data]],\"mmmm\")","v":"janeiro"}]
["2021","01/02/21","Disponivel",5240544,451340609.52999997,{"$f":"TEXT(Saldo_Disponivel_VT[[#This Row],[Data]],\"mmmm\")","v":"fevereiro"}]
["2021","02/02/21","Disponivel",5198232,443337651.95999998,{"$f":"TEXT(Saldo_Disponivel_VT[[#This Row],[Data]],\"mmmm\")","v":"fevereiro"}]
["2021","03/02/21","Disponivel",5174266,437958904.98000002,{"$f":"TEXT(Saldo_Disponivel_VT[[#This Row],[Data]],\"mmmm\")","v":"fevereiro"}]
["2021","04/02/21","Disponivel",5153286,432196585.83999997,{"$f":"TEXT(Saldo_Disponivel_VT[[#This Row],[Data]],\"mmmm\")","v":"fevereiro"}]
["2021","05/02/21","Disponivel",5124533,426518033.62,{"$f":"TEXT(Saldo_Disponivel_VT[[#This Row],[Data]],\"mmmm\")","v":"fevereiro"}]
["2021","06/02/21","Disponivel",5112342,424023755.11000001,{"$f":"TEXT(Saldo_Disponivel_VT[[#This Row],[Data]],\"mmmm\")","v":"fevereiro"}]
["2021","07/02/21","Disponivel",5104373,421942364.69,{"$f":"TEXT(Saldo_Disponivel_VT[[#This Row],[Data]],\"mmmm\")","v":"fevereiro"}]
["2021","08/02/21","Disponivel",5068038,416085127.61000001,{"$f":"TEXT(Saldo_Disponivel_VT[[#This Row],[Data]],\"mmmm\")","v":"fevereiro"}]
["2021","09/02/21","Disponivel",5051738,412150234.79000002,{"$f":"TEXT(Saldo_Disponivel_VT[[#This Row],[Data]],\"mmmm\")","v":"fevereiro"}]
["2021","10/02/21","Disponivel",5036428,409314892.5,{"$f":"TEXT(Saldo_Disponivel_VT[[#This Row],[Data]],\"mmmm\")","v":"fevereiro"}]
["2021","11/02/21","Disponivel",5029771,408089301.00999999,{"$f":"TEXT(Saldo_Disponivel_VT[[#This Row],[Data]],\"mmmm\")","v":"fevereiro"}]
["2021","12/02/21","Disponivel",5026101,406789367.06999999,{"$f":"TEXT(Saldo_Disponivel_VT[[#This Row],[Data]],\"mmmm\")","v":"fevereiro"}]
["2021","13/02/21","Disponivel",5019651,405548428.02999997,{"$f":"TEXT(Saldo_Disponivel_VT[[#This Row],[Data]],\"mmmm\")","v":"fevereiro"}]
["2021","14/02/21","Disponivel",5014075,404362486.11000001,{"$f":"TEXT(Saldo_Disponivel_VT[[#This Row],[Data]],\"mmmm\")","v":"fevereiro"}]
["2021","15/02/21","Disponivel",4995292,403028687.58999997,{"$f":"TEXT(Saldo_Disponivel_VT[[#This Row],[Data]],\"mmmm\")","v":"fevereiro"}]
["2021","16/02/21","Disponivel",4967749,398812663.38999999,{"$f":"TEXT(Saldo_Disponivel_VT[[#This Row],[Data]],\"mmmm\")","v":"fevereiro"}]
["2021","17/02/21","Disponivel",4976805,402343486.81,{"$f":"TEXT(Saldo_Disponivel_VT[[#This Row],[Data]],\"mmmm\")","v":"fevereiro"}]
["2021","18/02/21","Disponivel",4999008,408360499.88,{"$f":"TEXT(Saldo_Disponivel_VT[[#This Row],[Data]],\"mmmm\")","v":"fevereiro"}]
["2021","19/02/21","Disponivel",5015947,414933164.83999997,{"$f":"TEXT(Saldo_Disponivel_VT[[#This Row],[Data]],\"mmmm\")","v":"fevereiro"}]
["2021","20/02/21","Disponivel",5000779,412309671.42000002,{"$f":"TEXT(Saldo_Disponivel_VT[[#This Row],[Data]],\"mmmm\")","v":"fevereiro"}]
["2021","21/02/21","Disponivel",4996854,410915692.49000001,{"$f":"TEXT(Saldo_Disponivel_VT[[#This Row],[Data]],\"mmmm\")","v":"fevereiro"}]
["2021","22/02/21","Disponivel",5024539,422563027.44,{"$f":"TEXT(Saldo_Disponivel_VT[[#This Row],[Data]],\"mmmm\")","v":"fevereiro"}]
["2021","23/02/21","Disponivel",5118501,447688974.70999998,{"$f":"TEXT(Saldo_Disponivel_VT[[#This Row],[Data]],\"mmmm\")","v":"fevereiro"}]
["2021","24/02/21","Disponivel",5227747,476006295.81999999,{"$f":"TEXT(Saldo_Disponivel_VT[[#This Row],[Data]],\"mmmm\")","v":"fevereiro"}]
["2021","25/02/21","Disponivel",5290642,492004180.37,{"$f":"TEXT(Saldo_Disponivel_VT[[#This Row],[Data]],\"mmmm\")","v":"fevereiro"}]
["2021","26/02/21","Disponivel",5292859,493295214.29000002,{"$f":"TEXT(Saldo_Disponivel_VT[[#This Row],[Data]],\"mmmm\")","v":"fevereiro"}]
["2021","27/02/21","Disponivel",5269770,488436007.66000003,{"$f":"TEXT(Saldo_Disponivel_VT[[#This Row],[Data]],\"mmmm\")","v":"fevereiro"}]
["2021","28/02/21","Disponivel",5250169,482903812.52999997,{"$f":"TEXT(Saldo_Disponivel_VT[[#This Row],[Data]],\"mmmm\")","v":"fevereiro"}]
["2021","01/03/21","Disponivel",5259830,468613619.07999998,{"$f":"TEXT(Saldo_Disponivel_VT[[#This Row],[Data]],\"mmmm\")","v":"março"}]
["2021","02/03/21","Disponivel",5214425,460714220.11000001,{"$f":"TEXT(Saldo_Disponivel_VT[[#This Row],[Data]],\"mmmm\")","v":"março"}]
["2021","03/03/21","Disponivel",5191170,458515803.44999999,{"$f":"TEXT(Saldo_Disponivel_VT[[#This Row],[Data]],\"mmmm\")","v":"março"}]
["2021","04/03/21","Disponivel",5157266,452030241.31,{"$f":"TEXT(Saldo_Disponivel_VT[[#This Row],[Data]],\"mmmm\")","v":"março"}]
["2021","05/03/21","Disponivel",5117615,444220661.12,{"$f":"TEXT(Saldo_Disponivel_VT[[#This Row],[Data]],\"mmmm\")","v":"março"}]
["2021","06/03/21","Disponivel",5097751,440387331.31999999,{"$f":"TEXT(Saldo_Disponivel_VT[[#This Row],[Data]],\"mmmm\")","v":"março"}]
["2021","07/03/21","Disponivel",5091340,438567119.91000003,{"$f":"TEXT(Saldo_Disponivel_VT[[#This Row],[Data]],\"mmmm\")","v":"março"}]
["2021","08/03/21","Disponivel",5053257,431989142.06,{"$f":"TEXT(Saldo_Disponivel_VT[[#This Row],[Data]],\"mmmm\")","v":"março"}]
["2021","09/03/21","Disponivel",5032193,427951634.56,{"$f":"TEXT(Saldo_Disponivel_VT[[#This Row],[Data]],\"mmmm\")","v":"março"}]
["2021","10/03/21","Disponivel",5013282,424297823.73000002,{"$f":"TEXT(Saldo_Disponivel_VT[[#This Row],[Data]],\"mmmm\")","v":"março"}]
["2021","11/03/21","Disponivel",5001188,422216848.56999999,{"$f":"TEXT(Saldo_Disponivel_VT[[#This Row],[Data]],\"mmmm\")","v":"março"}]
["2021","12/03/21","Disponivel",4986567,420069605.81999999,{"$f":"TEXT(Saldo_Disponivel_VT[[#This Row],[Data]],\"mmmm\")","v":"março"}]
["2021","13/03/21","Disponivel",4976108,418334570.06,{"$f":"TEXT(Saldo_Disponivel_VT[[#This Row],[Data]],\"mmmm\")","v":"março"}]
["2021","14/03/21","Disponivel",4974224,417436270.30000001,{"$f":"TEXT(Saldo_Disponivel_VT[[#This Row],[Data]],\"mmmm\")","v":"março"}]
["2021","15/03/21","Disponivel",4953882,414054127.41000003,{"$f":"TEXT(Saldo_Disponivel_VT[[#This Row],[Data]],\"mmmm\")","v":"março"}]
["2021","16/03/21","Disponivel",4951234,413932933.26999998,{"$f":"TEXT(Saldo_Disponivel_VT[[#This Row],[Data]],\"mmmm\")","v":"março"}]
["2021","17/03/21","Disponivel",4937331,411947024.35000002,{"$f":"TEXT(Saldo_Disponivel_VT[[#This Row],[Data]],\"mmmm\")","v":"março"}]
["2021","18/03/21","Disponivel",4954994,416960214.61000001,{"$f":"TEXT(Saldo_Disponivel_VT[[#This Row],[Data]],\"mmmm\")","v":"março"}]
["2021","19/03/21","Disponivel",4958050,418421787.97000003,{"$f":"TEXT(Saldo_Disponivel_VT[[#This Row],[Data]],\"mmmm\")","v":"março"}]
["2021","20/03/21","Disponivel",4946668,416138820.18000001,{"$f":"TEXT(Saldo_Disponivel_VT[[#This Row],[Data]],\"mmmm\")","v":"março"}]
["2021","21/03/21","Disponivel",4944992,415169736.22000003,{"$f":"TEXT(Saldo_Disponivel_VT[[#This Row],[Data]],\"mmmm\")","v":"março"}]
["2021","22/03/21","Disponivel",4942209,416678620,{"$f":"TEXT(Saldo_Disponivel_VT[[#This Row],[Data]],\"mmmm\")","v":"março"}]
["2021","23/03/21","Disponivel",4958615,421748740.51999998,{"$f":"TEXT(Saldo_Disponivel_VT[[#This Row],[Data]],\"mmmm\")","v":"março"}]
["2021","24/03/21","Disponivel",5018667,437546302.00999999,{"$f":"TEXT(Saldo_Disponivel_VT[[#This Row],[Data]],\"mmmm\")","v":"março"}]
["2021","25/03/21","Disponivel",5141833,468794584.31,{"$f":"TEXT(Saldo_Disponivel_VT[[#This Row],[Data]],\"mmmm\")","v":"março"}]
["2021","26/03/21","Disponivel",5180056,477773470.38999999,{"$f":"TEXT(Saldo_Disponivel_VT[[#This Row],[Data]],\"mmmm\")","v":"março"}]
["2021","27/03/21","Disponivel",5163500,474364575.06999999,{"$f":"TEXT(Saldo_Disponivel_VT[[#This Row],[Data]],\"mmmm\")","v":"março"}]
["2021","28/03/21","Disponivel",5152479,471309516.22000003,{"$f":"TEXT(Saldo_Disponivel_VT[[#This Row],[Data]],\"mmmm\")","v":"março"}]
["2021","29/03/21","Disponivel",5187388,478690993.89999998,{"$f":"TEXT(Saldo_Disponivel_VT[[#This Row],[Data]],\"mmmm\")","v":"março"}]
["2021","30/03/21","Disponivel",5200495,479718914.13999999,{"$f":"TEXT(Saldo_Disponivel_VT[[#This Row],[Data]],\"mmmm\")","v":"março"}]
["2021","31/03/21","Disponivel",5184224,476428883.60000002,{"$f":"TEXT(Saldo_Disponivel_VT[[#This Row],[Data]],\"mmmm\")","v":"março"}]
["2021","01/04/21","Disponivel",5268528,476774492.25,{"$f":"TEXT(Saldo_Disponivel_VT[[#This Row],[Data]],\"mmmm\")","v":"abril"}]
["2021","02/04/21","Disponivel",5253854,473920164.88999999,{"$f":"TEXT(Saldo_Disponivel_VT[[#This Row],[Data]],\"mmmm\")","v":"abril"}]
["2021","03/04/21","Disponivel",5220426,467626256.88999999,{"$f":"TEXT(Saldo_Disponivel_VT[[#This Row],[Data]],\"mmmm\")","v":"abril"}]
["2021","04/04/21","Disponivel",5211190,465181062.01999998,{"$f":"TEXT(Saldo_Disponivel_VT[[#This Row],[Data]],\"mmmm\")","v":"abril"}]
["2021","05/04/21","Disponivel",5142417,452166463.82999998,{"$f":"TEXT(Saldo_Disponivel_VT[[#This Row],[Data]],\"mmmm\")","v":"abril"}]
["2021","06/04/21","Disponivel",5114287,448308346.81999999,{"$f":"TEXT(Saldo_Disponivel_VT[[#This Row],[Data]],\"mmmm\")","v":"abril"}]
["2021","07/04/21","Disponivel",5078906,441916153.94999999,{"$f":"TEXT(Saldo_Disponivel_VT[[#This Row],[Data]],\"mmmm\")","v":"abril"}]
["2021","08/04/21","Disponivel",5056261,437851571.18000001,{"$f":"TEXT(Saldo_Disponivel_VT[[#This Row],[Data]],\"mmmm\")","v":"abril"}]
["2021","09/04/21","Disponivel",5042488,434949422.80000001,{"$f":"TEXT(Saldo_Disponivel_VT[[#This Row],[Data]],\"mmmm\")","v":"abril"}]
["2021","10/04/21","Disponivel",5028681,432919348.87,{"$f":"TEXT(Saldo_Disponivel_VT[[#This Row],[Data]],\"mmmm\")","v":"abril"}]
["2021","11/04/21","Disponivel",5025358,431686387.67000002,{"$f":"TEXT(Saldo_Disponivel_VT[[#This Row],[Data]],\"mmmm\")","v":"abril"}]
["2021","12/04/21","Disponivel",4983885,424858449.47000003,{"$f":"TEXT(Saldo_Disponivel_VT[[#This Row],[Data]],\"mmmm\")","v":"abril"}]
["2021","13/04/21","Disponivel",4985294,424858464.43000001,{"$f":"TEXT(Saldo_Disponivel_VT[[#This Row],[Data]],\"mmmm\")","v":"abril"}]
["2021","14/04/21","Disponivel",4967921,422286682.52999997,{"$f":"TEXT(Saldo_Disponivel_VT[[#This Row],[Data]],\"mmmm\")","v":"abril"}]
["2021","15/04/21","Disponivel",4956424,420487682.85000002,{"$f":"TEXT(Saldo_Disponivel_VT[[#This Row],[Data]],\"mmmm\")","v":"abril"}]
["2021","16/04/21","Disponivel",4947998,420032466.38999999,{"$f":"TEXT(Saldo_Disponivel_VT[[#This Row],[Data]],\"mmmm\")","v":"abril"}]
["2021","17/04/21","Disponivel",4935508,418141563,{"$f":"TEXT(Saldo_Disponivel_VT[[#This Row],[Data]],\"mmmm\")","v":"abril"}]
["2021","18/04/21","Disponivel",4933643,417179232.44,{"$f":"TEXT(Saldo_Disponivel_VT[[#This Row],[Data]],\"mmmm\")","v":"abril"}]
["2021","19/04/21","Disponivel",4917445,416249673.17000002,{"$f":"TEXT(Saldo_Disponivel_VT[[#This Row],[Data]],\"mmmm\")","v":"abril"}]
["2021","20/04/21","Disponivel",4929885,421432754.25,{"$f":"TEXT(Saldo_Disponivel_VT[[#This Row],[Data]],\"mmmm\")","v":"abril"}]
["2021","21/04/21","Disponivel",4923227,419504932.36000001,{"$f":"TEXT(Saldo_Disponivel_VT[[#This Row],[Data]],\"mmmm\")","v":"abril"}]
["2021","22/04/21","Disponivel",4926033,423238554.06,{"$f":"TEXT(Saldo_Disponivel_VT[[#This Row],[Data]],\"mmmm\")","v":"abril"}]
["2021","23/04/21","Disponivel",4971197,433590765.35000002,{"$f":"TEXT(Saldo_Disponivel_VT[[#This Row],[Data]],\"mmmm\")","v":"abril"}]
["2021","24/04/21","Disponivel",4953484,430641866.44,{"$f":"TEXT(Saldo_Disponivel_VT[[#This Row],[Data]],\"mmmm\")","v":"abril"}]
["2021","25/04/21","Disponivel",4948345,428817337.55000001,{"$f":"TEXT(Saldo_Disponivel_VT[[#This Row],[Data]],\"mmmm\")","v":"abril"}]
["2021","26/04/21","Disponivel",4978566,438630064.69,{"$f":"TEXT(Saldo_Disponivel_VT[[#This Row],[Data]],\"mmmm\")","v":"abril"}]
["2021","27/04/21","Disponivel",5064524,461487138.54000002,{"$f":"TEXT(Saldo_Disponivel_VT[[#This Row],[Data]],\"mmmm\")","v":"abril"}]
["2021","28/04/21","Disponivel",5122800,476092511.26999998,{"$f":"TEXT(Saldo_Disponivel_VT[[#This Row],[Data]],\"mmmm\")","v":"abril"}]
["2021","29/04/21","Disponivel",5142669,480480846.30000001,{"$f":"TEXT(Saldo_Disponivel_VT[[#This Row],[Data]],\"mmmm\")","v":"abril"}]
["2021","30/04/21","Disponivel",5113594,473704192.55000001,{"$f":"TEXT(Saldo_Disponivel_VT[[#This Row],[Data]],\"mmmm\")","v":"abril"}]
["2021","01/05/21","Disponivel",5217104,477551643.48000002,{"$f":"TEXT(Saldo_Disponivel_VT[[#This Row],[Data]],\"mmmm\")","v":"maio"}]
["2021","02/05/21","Disponivel",5196925,472994992.47000003,{"$f":"TEXT(Saldo_Disponivel_VT[[#This Row],[Data]],\"mmmm\")","v":"maio"}]
["2021","03/05/21","Disponivel",5108962,457546904.95999998,{"$f":"TEXT(Saldo_Disponivel_VT[[#This Row],[Data]],\"mmmm\")","v":"maio"}]
["2021","04/05/21","Disponivel",5078927,454300723.38999999,{"$f":"TEXT(Saldo_Disponivel_VT[[#This Row],[Data]],\"mmmm\")","v":"maio"}]
["2021","05/05/21","Disponivel",5049115,450119545.25,{"$f":"TEXT(Saldo_Disponivel_VT[[#This Row],[Data]],\"mmmm\")","v":"maio"}]
["2021","06/05/21","Disponivel",5011152,444416835.73000002,{"$f":"TEXT(Saldo_Disponivel_VT[[#This Row],[Data]],\"mmmm\")","v":"maio"}]
["2021","07/05/21","Disponivel",4973973,438019515.54000002,{"$f":"TEXT(Saldo_Disponivel_VT[[#This Row],[Data]],\"mmmm\")","v":"maio"}]
["2021","08/05/21","Disponivel",4947600,433963397.69,{"$f":"TEXT(Saldo_Disponivel_VT[[#This Row],[Data]],\"mmmm\")","v":"maio"}]
["2021","09/05/21","Disponivel",4942428,432390200.05000001,{"$f":"TEXT(Saldo_Disponivel_VT[[#This Row],[Data]],\"mmmm\")","v":"maio"}]
["2021","10/05/21","Disponivel",4912898,427221997.66000003,{"$f":"TEXT(Saldo_Disponivel_VT[[#This Row],[Data]],\"mmmm\")","v":"maio"}]
["2021","11/05/21","Disponivel",4900904,424798380.25999999,{"$f":"TEXT(Saldo_Disponivel_VT[[#This Row],[Data]],\"mmmm\")","v":"maio"}]
["2021","12/05/21","Disponivel",4885145,421694636.39999998,{"$f":"TEXT(Saldo_Disponivel_VT[[#This Row],[Data]],\"mmmm\")","v":"maio"}]
["2021","13/05/21","Disponivel",4871559,419870985.94,{"$f":"TEXT(Saldo_Disponivel_VT[[#This Row],[Data]],\"mmmm\")","v":"maio"}]
["2021","14/05/21","Disponivel",4854562,417819295.23000002,{"$f":"TEXT(Saldo_Disponivel_VT[[#This Row],[Data]],\"mmmm\")","v":"maio"}]
["2021","15/05/21","Disponivel",4839237,415399014.25,{"$f":"TEXT(Saldo_Disponivel_VT[[#This Row],[Data]],\"mmmm\")","v":"maio"}]
["2021","16/05/21","Disponivel",4837486,414377913.11000001,{"$f":"TEXT(Saldo_Disponivel_VT[[#This Row],[Data]],\"mmmm\")","v":"maio"}]
["2021","17/05/21","Disponivel",4820791,412307931.25999999,{"$f":"TEXT(Saldo_Disponivel_VT[[#This Row],[Data]],\"mmmm\")","v":"maio"}]
["2021","18/05/21","Disponivel",4811655,412448216.81,{"$f":"TEXT(Saldo_Disponivel_VT[[#This Row],[Data]],\"mmmm\")","v":"maio"}]
["2021","19/05/21","Disponivel",4816638,415016194.51999998,{"$f":"TEXT(Saldo_Disponivel_VT[[#This Row],[Data]],\"mmmm\")","v":"maio"}]
["2021","20/05/21","Disponivel",4827427,418925467.24000001,{"$f":"TEXT(Saldo_Disponivel_VT[[#This Row],[Data]],\"mmmm\")","v":"maio"}]
["2021","21/05/21","Disponivel",4847079,426277298.86000001,{"$f":"TEXT(Saldo_Disponivel_VT[[#This Row],[Data]],\"mmmm\")","v":"maio"}]
["2021","22/05/21","Disponivel",4832641,423473372.76999998,{"$f":"TEXT(Saldo_Disponivel_VT[[#This Row],[Data]],\"mmmm\")","v":"maio"}]
["2021","23/05/21","Disponivel",4830775,422005079.68000001,{"$f":"TEXT(Saldo_Disponivel_VT[[#This Row],[Data]],\"mmmm\")","v":"maio"}]
["2021","24/05/21","Disponivel",4856244,429562711.27999997,{"$f":"TEXT(Saldo_Disponivel_VT[[#This Row],[Data]],\"mmmm\")","v":"maio"}]
["2021","25/05/21","Disponivel",4896089,440361886.56999999,{"$f":"TEXT(Saldo_Disponivel_VT[[#This Row],[Data]],\"mmmm\")","v":"maio"}]
["2021","26/05/21","Disponivel",4973668,462455652.74000001,{"$f":"TEXT(Saldo_Disponivel_VT[[#This Row],[Data]],\"mmmm\")","v":"maio"}]
["2021","27/05/21","Disponivel",5050555,482481322.12,{"$f":"TEXT(Saldo_Disponivel_VT[[#This Row],[Data]],\"mmmm\")","v":"maio"}]
["2021","28/05/21","Disponivel",5067843,486687692.70999998,{"$f":"TEXT(Saldo_Disponivel_VT[[#This Row],[Data]],\"mmmm\")","v":"maio"}]
["2021","29/05/21","Disponivel",5047211,482564449.98000002,{"$f":"TEXT(Saldo_Disponivel_VT[[#This Row],[Data]],\"mmmm\")","v":"maio"}]
["2021","30/05/21","Disponivel",5033269,477957268.66000003,{"$f":"TEXT(Saldo_Disponivel_VT[[#This Row],[Data]],\"mmmm\")","v":"maio"}]
["2021","31/05/21","Disponivel",4987455,466183801.51999998,{"$f":"TEXT(Saldo_Disponivel_VT[[#This Row],[Data]],\"mmmm\")","v":"maio"}]
["2021","01/06/21","Disponivel",5098235,470093772.12,{"$f":"TEXT(Saldo_Disponivel_VT[[#This Row],[Data]],\"mmmm\")","v":"junho"}]
["2021","02/06/21","Disponivel",5046041,462142425.14999998,{"$f":"TEXT(Saldo_Disponivel_VT[[#This Row],[Data]],\"mmmm\")","v":"junho"}]
["2021","03/06/21","Disponivel",5009594,455725057.73000002,{"$f":"TEXT(Saldo_Disponivel_VT[[#This Row],[Data]],\"mmmm\")","v":"junho"}]
["2021","04/06/21","Disponivel",4964401,447889726.12,{"$f":"TEXT(Saldo_Disponivel_VT[[#This Row],[Data]],\"mmmm\")","v":"junho"}]
["2021","05/06/21","Disponivel",4939197,444111080.60000002,{"$f":"TEXT(Saldo_Disponivel_VT[[#This Row],[Data]],\"mmmm\")","v":"junho"}]
["2021","06/06/21","Disponivel",4927477,441546740.98000002,{"$f":"TEXT(Saldo_Disponivel_VT[[#This Row],[Data]],\"mmmm\")","v":"junho"}]
["2021","07/06/21","Disponivel",4881957,434745627.23000002,{"$f":"TEXT(Saldo_Disponivel_VT[[#This Row],[Data]],\"mmmm\")","v":"junho"}]
["2021","08/06/21","Disponivel",4852621,429995280.11000001,{"$f":"TEXT(Saldo_Disponivel_VT[[#This Row],[Data]],\"mmmm\")","v":"junho"}]
["2021","09/06/21","Disponivel",4830702,425648938.5,{"$f":"TEXT(Saldo_Disponivel_VT[[#This Row],[Data]],\"mmmm\")","v":"junho"}]
["2021","10/06/21","Disponivel",4807360,421470970.51999998,{"$f":"TEXT(Saldo_Disponivel_VT[[#This Row],[Data]],\"mmmm\")","v":"junho"}]
["2021","11/06/21","Disponivel",4795170,419515897.13,{"$f":"TEXT(Saldo_Disponivel_VT[[#This Row],[Data]],\"mmmm\")","v":"junho"}]
["2021","12/06/21","Disponivel",4779649,417212874.02999997,{"$f":"TEXT(Saldo_Disponivel_VT[[#This Row],[Data]],\"mmmm\")","v":"junho"}]
["2021","13/06/21","Disponivel",4777648,416128622.81,{"$f":"TEXT(Saldo_Disponivel_VT[[#This Row],[Data]],\"mmmm\")","v":"junho"}]
["2021","14/06/21","Disponivel",4754075,412406643.69999999,{"$f":"TEXT(Saldo_Disponivel_VT[[#This Row],[Data]],\"mmmm\")","v":"junho"}]
["2021","15/06/21","Disponivel",4740344,410151404.75999999,{"$f":"TEXT(Saldo_Disponivel_VT[[#This Row],[Data]],\"mmmm\")","v":"junho"}]
["2021","16/06/21","Disponivel",4731194,409293155.85000002,{"$f":"TEXT(Saldo_Disponivel_VT[[#This Row],[Data]],\"mmmm\")","v":"junho"}]
["2021","17/06/21","Disponivel",4734101,412151874.72000003,{"$f":"TEXT(Saldo_Disponivel_VT[[#This Row],[Data]],\"mmmm\")","v":"junho"}]
["2021","18/06/21","Disponivel",4725923,412330335.98000002,{"$f":"TEXT(Saldo_Disponivel_VT[[#This Row],[Data]],\"mmmm\")","v":"junho"}]
["2021","19/06/21","Disponivel",4712097,409921352.20999998,{"$f":"TEXT(Saldo_Disponivel_VT[[#This Row],[Data]],\"mmmm\")","v":"junho"}]
["2021","20/06/21","Disponivel",4712611,408971261.27999997,{"$f":"TEXT(Saldo_Disponivel_VT[[#This Row],[Data]],\"mmmm\")","v":"junho"}]
["2021","21/06/21","Disponivel",4699112,408032213.86000001,{"$f":"TEXT(Saldo_Disponivel_VT[[#This Row],[Data]],\"mmmm\")","v":"junho"}]
["2021","22/06/21","Disponivel",4733658,418453860.43000001,{"$f":"TEXT(Saldo_Disponivel_VT[[#This Row],[Data]],\"mmmm\")","v":"junho"}]
["2021","23/06/21","Disponivel",4759757,426051263.81999999,{"$f":"TEXT(Saldo_Disponivel_VT[[#This Row],[Data]],\"mmmm\")","v":"junho"}]
["2021","24/06/21","Disponivel",4821022,442377036.17000002,{"$f":"TEXT(Saldo_Disponivel_VT[[#This Row],[Data]],\"mmmm\")","v":"junho"}]
["2021","25/06/21","Disponivel",4888374,460416643.52999997,{"$f":"TEXT(Saldo_Disponivel_VT[[#This Row],[Data]],\"mmmm\")","v":"junho"}]
["2021","26/06/21","Disponivel",4871304,457488987.74000001,{"$f":"TEXT(Saldo_Disponivel_VT[[#This Row],[Data]],\"mmmm\")","v":"junho"}]
["2021","27/06/21","Disponivel",4862864,454172074.56,{"$f":"TEXT(Saldo_Disponivel_VT[[#This Row],[Data]],\"mmmm\")","v":"junho"}]
["2021","28/06/21","Disponivel",4911353,467976553.08999997,{"$f":"TEXT(Saldo_Disponivel_VT[[#This Row],[Data]],\"mmmm\")","v":"junho"}]
["2021","29/06/21","Disponivel",4940373,474625572.36000001,{"$f":"TEXT(Saldo_Disponivel_VT[[#This Row],[Data]],\"mmmm\")","v":"junho"}]
["2021","30/06/21","Disponivel",4928503,470935828.00999999,{"$f":"TEXT(Saldo_Disponivel_VT[[#This Row],[Data]],\"mmmm\")","v":"junho"}]
["2021","01/07/21","Disponivel",5017845,464811094.81,{"$f":"TEXT(Saldo_Disponivel_VT[[#This Row],[Data]],\"mmmm\")","v":"julho"}]
["2021","02/07/21","Disponivel",4962592,455723814.88,{"$f":"TEXT(Saldo_Disponivel_VT[[#This Row],[Data]],\"mmmm\")","v":"julho"}]
["2021","03/07/21","Disponivel",4930894,451256287.39999998,{"$f":"TEXT(Saldo_Disponivel_VT[[#This Row],[Data]],\"mmmm\")","v":"julho"}]
["2021","04/07/21","Disponivel",4920528,448402873.81999999,{"$f":"TEXT(Saldo_Disponivel_VT[[#This Row],[Data]],\"mmmm\")","v":"julho"}]
["2021","05/07/21","Disponivel",4871075,440246515.87,{"$f":"TEXT(Saldo_Disponivel_VT[[#This Row],[Data]],\"mmmm\")","v":"julho"}]
["2021","06/07/21","Disponivel",4828083,433111058.92000002,{"$f":"TEXT(Saldo_Disponivel_VT[[#This Row],[Data]],\"mmmm\")","v":"julho"}]
["2021","07/07/21","Disponivel",4795809,428208817.29000002,{"$f":"TEXT(Saldo_Disponivel_VT[[#This Row],[Data]],\"mmmm\")","v":"julho"}]
["2021","08/07/21","Disponivel",4769132,423808879.81999999,{"$f":"TEXT(Saldo_Disponivel_VT[[#This Row],[Data]],\"mmmm\")","v":"julho"}]
["2021","09/07/21","Disponivel",4755458,421444030.07999998,{"$f":"TEXT(Saldo_Disponivel_VT[[#This Row],[Data]],\"mmmm\")","v":"julho"}]
["2021","10/07/21","Disponivel",4733611,418127233.58999997,{"$f":"TEXT(Saldo_Disponivel_VT[[#This Row],[Data]],\"mmmm\")","v":"julho"}]
["2021","11/07/21","Disponivel",4731938,417016076.72000003,{"$f":"TEXT(Saldo_Disponivel_VT[[#This Row],[Data]],\"mmmm\")","v":"julho"}]
["2021","12/07/21","Disponivel",4712895,413654301.94999999,{"$f":"TEXT(Saldo_Disponivel_VT[[#This Row],[Data]],\"mmmm\")","v":"julho"}]
["2021","13/07/21","Disponivel",4694587,410264900.52999997,{"$f":"TEXT(Saldo_Disponivel_VT[[#This Row],[Data]],\"mmmm\")","v":"julho"}]
["2021","14/07/21","Disponivel",4685810,408497689.37,{"$f":"TEXT(Saldo_Disponivel_VT[[#This Row],[Data]],\"mmmm\")","v":"julho"}]
["2021","15/07/21","Disponivel",4677289,406484669.05000001,{"$f":"TEXT(Saldo_Disponivel_VT[[#This Row],[Data]],\"mmmm\")","v":"julho"}]
["2021","16/07/21","Disponivel",4667213,405665832.49000001,{"$f":"TEXT(Saldo_Disponivel_VT[[#This Row],[Data]],\"mmmm\")","v":"julho"}]
["2021","17/07/21","Disponivel",4654428,403866182.44999999,{"$f":"TEXT(Saldo_Disponivel_VT[[#This Row],[Data]],\"mmmm\")","v":"julho"}]
["2021","18/07/21","Disponivel",4655015,403164306.17000002,{"$f":"TEXT(Saldo_Disponivel_VT[[#This Row],[Data]],\"mmmm\")","v":"julho"}]
["2021","19/07/21","Disponivel",4647118,403994838.50999999,{"$f":"TEXT(Saldo_Disponivel_VT[[#This Row],[Data]],\"mmmm\")","v":"julho"}]
["2021","20/07/21","Disponivel",4645062,405489535.27999997,{"$f":"TEXT(Saldo_Disponivel_VT[[#This Row],[Data]],\"mmmm\")","v":"julho"}]
["2021","21/07/21","Disponivel",4672323,414227610.72000003,{"$f":"TEXT(Saldo_Disponivel_VT[[#This Row],[Data]],\"mmmm\")","v":"julho"}]
["2021","22/07/21","Disponivel",4686843,418619345.62,{"$f":"TEXT(Saldo_Disponivel_VT[[#This Row],[Data]],\"mmmm\")","v":"julho"}]
["2021","23/07/21","Disponivel",4747373,435914927.27999997,{"$f":"TEXT(Saldo_Disponivel_VT[[#This Row],[Data]],\"mmmm\")","v":"julho"}]
["2021","24/07/21","Disponivel",4809485,459146043.89999998,{"$f":"TEXT(Saldo_Disponivel_VT[[#This Row],[Data]],\"mmmm\")","v":"julho"}]
["2021","25/07/21","Disponivel",4828123,464068459.26999998,{"$f":"TEXT(Saldo_Disponivel_VT[[#This Row],[Data]],\"mmmm\")","v":"julho"}]
["2021","26/07/21","Disponivel",4868860,475686604.17000002,{"$f":"TEXT(Saldo_Disponivel_VT[[#This Row],[Data]],\"mmmm\")","v":"julho"}]
["2021","27/07/21","Disponivel",4928633,492537990.86000001,{"$f":"TEXT(Saldo_Disponivel_VT[[#This Row],[Data]],\"mmmm\")","v":"julho"}]
["2021","28/07/21","Disponivel",4975258,504402011.77999997,{"$f":"TEXT(Saldo_Disponivel_VT[[#This Row],[Data]],\"mmmm\")","v":"julho"}]
["2021","29/07/21","Disponivel",5031968,518923633.17000002,{"$f":"TEXT(Saldo_Disponivel_VT[[#This Row],[Data]],\"mmmm\")","v":"julho"}]
["2021","30/07/21","Disponivel",5020849,514646826.06999999,{"$f":"TEXT(Saldo_Disponivel_VT[[#This Row],[Data]],\"mmmm\")","v":"julho"}]
["2021","31/07/21","Disponivel",4987857,507242461.25999999,{"$f":"TEXT(Saldo_Disponivel_VT[[#This Row],[Data]],\"mmmm\")","v":"julho"}]
["2021","01/08/21","Disponivel",5355136,528165114.44,{"$f":"TEXT(Saldo_Disponivel_VT[[#This Row],[Data]],\"mmmm\")","v":"agosto"}]
["2021","02/08/21","Disponivel",5223918,507320119.87,{"$f":"TEXT(Saldo_Disponivel_VT[[#This Row],[Data]],\"mmmm\")","v":"agosto"}]
["2021","03/08/21","Disponivel",5185199,503663161.44,{"$f":"TEXT(Saldo_Disponivel_VT[[#This Row],[Data]],\"mmmm\")","v":"agosto"}]
["2021","04/08/21","Disponivel",5146892,497954542.17000002,{"$f":"TEXT(Saldo_Disponivel_VT[[#This Row],[Data]],\"mmmm\")","v":"agosto"}]
["2021","05/08/21","Disponivel",5166199,509916049.01999998,{"$f":"TEXT(Saldo_Disponivel_VT[[#This Row],[Data]],\"mmmm\")","v":"agosto"}]
["2021","06/08/21","Disponivel",5126949,502918416.62,{"$f":"TEXT(Saldo_Disponivel_VT[[#This Row],[Data]],\"mmmm\")","v":"agosto"}]
["2021","07/08/21","Disponivel",5101685,498719975.89999998,{"$f":"TEXT(Saldo_Disponivel_VT[[#This Row],[Data]],\"mmmm\")","v":"agosto"}]
["2021","08/08/21","Disponivel",5100566,497284219,{"$f":"TEXT(Saldo_Disponivel_VT[[#This Row],[Data]],\"mmmm\")","v":"agosto"}]
["2021","09/08/21","Disponivel",5070100,492513061.38999999,{"$f":"TEXT(Saldo_Disponivel_VT[[#This Row],[Data]],\"mmmm\")","v":"agosto"}]
["2021","10/08/21","Disponivel",5046739,488445107.41000003,{"$f":"TEXT(Saldo_Disponivel_VT[[#This Row],[Data]],\"mmmm\")","v":"agosto"}]
["2021","11/08/21","Disponivel",5023148,484376978.25,{"$f":"TEXT(Saldo_Disponivel_VT[[#This Row],[Data]],\"mmmm\")","v":"agosto"}]
["2021","12/08/21","Disponivel",5013233,482210845.49000001,{"$f":"TEXT(Saldo_Disponivel_VT[[#This Row],[Data]],\"mmmm\")","v":"agosto"}]
["2021","13/08/21","Disponivel",5001167,479957783.56999999,{"$f":"TEXT(Saldo_Disponivel_VT[[#This Row],[Data]],\"mmmm\")","v":"agosto"}]
["2021","14/08/21","Disponivel",4984851,477338523.68000001,{"$f":"TEXT(Saldo_Disponivel_VT[[#This Row],[Data]],\"mmmm\")","v":"agosto"}]
["2021","15/08/21","Disponivel",4990091,477084020.77999997,{"$f":"TEXT(Saldo_Disponivel_VT[[#This Row],[Data]],\"mmmm\")","v":"agosto"}]
["2021","16/08/21","Disponivel",4962698,473527740.25999999,{"$f":"TEXT(Saldo_Disponivel_VT[[#This Row],[Data]],\"mmmm\")","v":"agosto"}]
["2021","17/08/21","Disponivel",4949388,471182506.00999999,{"$f":"TEXT(Saldo_Disponivel_VT[[#This Row],[Data]],\"mmmm\")","v":"agosto"}]
["2021","18/08/21","Disponivel",4947948,472348263.75999999,{"$f":"TEXT(Saldo_Disponivel_VT[[#This Row],[Data]],\"mmmm\")","v":"agosto"}]
["2021","19/08/21","Disponivel",4959647,477466129.55000001,{"$f":"TEXT(Saldo_Disponivel_VT[[#This Row],[Data]],\"mmmm\")","v":"agosto"}]
["2021","20/08/21","Disponivel",4969146,480671325.02999997,{"$f":"TEXT(Saldo_Disponivel_VT[[#This Row],[Data]],\"mmmm\")","v":"agosto"}]
["2021","21/08/21","Disponivel",4954928,478131704.66000003,{"$f":"TEXT(Saldo_Disponivel_VT[[#This Row],[Data]],\"mmmm\")","v":"agosto"}]
["2021","22/08/21","Disponivel",4956950,477263646.91000003,{"$f":"TEXT(Saldo_Disponivel_VT[[#This Row],[Data]],\"mmmm\")","v":"agosto"}]
["2021","23/08/21","Disponivel",4949838,478847688.47000003,{"$f":"TEXT(Saldo_Disponivel_VT[[#This Row],[Data]],\"mmmm\")","v":"agosto"}]
["2021","24/08/21","Disponivel",4996358,490321847.99000001,{"$f":"TEXT(Saldo_Disponivel_VT[[#This Row],[Data]],\"mmmm\")","v":"agosto"}]
["2021","25/08/21","Disponivel",5048014,506050652.72000003,{"$f":"TEXT(Saldo_Disponivel_VT[[#This Row],[Data]],\"mmmm\")","v":"agosto"}]
["2021","26/08/21","Disponivel",5102032,520812755.45999998,{"$f":"TEXT(Saldo_Disponivel_VT[[#This Row],[Data]],\"mmmm\")","v":"agosto"}]
["2021","27/08/21","Disponivel",5186195,543307165.77999997,{"$f":"TEXT(Saldo_Disponivel_VT[[#This Row],[Data]],\"mmmm\")","v":"agosto"}]
["2021","28/08/21","Disponivel",5173217,540718899.98000002,{"$f":"TEXT(Saldo_Disponivel_VT[[#This Row],[Data]],\"mmmm\")","v":"agosto"}]
["2021","29/08/21","Disponivel",5163618,536859529.63,{"$f":"TEXT(Saldo_Disponivel_VT[[#This Row],[Data]],\"mmmm\")","v":"agosto"}]
["2021","30/08/21","Disponivel",5195327,544822663.83000004,{"$f":"TEXT(Saldo_Disponivel_VT[[#This Row],[Data]],\"mmmm\")","v":"agosto"}]
["2021","31/08/21","Disponivel",5151791,534268539.82999998,{"$f":"TEXT(Saldo_Disponivel_VT[[#This Row],[Data]],\"mmmm\")","v":"agosto"}]
["2021","01/09/21","Disponivel",5127608,536602492.41000003,{"$f":"TEXT(Saldo_Disponivel_VT[[#This Row],[Data]],\"mmmm\")","v":"setembro"}]
["2021","02/09/21","Disponivel",5056295,524983724.69,{"$f":"TEXT(Saldo_Disponivel_VT[[#This Row],[Data]],\"mmmm\")","v":"setembro"}]
["2021","03/09/21","Disponivel",5020538,519924513.85000002,{"$f":"TEXT(Saldo_Disponivel_VT[[#This Row],[Data]],\"mmmm\")","v":"setembro"}]
["2021","04/09/21","Disponivel",4993485,516031793.66000003,{"$f":"TEXT(Saldo_Disponivel_VT[[#This Row],[Data]],\"mmmm\")","v":"setembro"}]
["2021","05/09/21","Disponivel",4989121,516551200.14999998,{"$f":"TEXT(Saldo_Disponivel_VT[[#This Row],[Data]],\"mmmm\")","v":"setembro"}]
["2021","06/09/21","Disponivel",4913701,502992923.61000001,{"$f":"TEXT(Saldo_Disponivel_VT[[#This Row],[Data]],\"mmmm\")","v":"setembro"}]
["2021","07/09/21","Disponivel",4901307,500408156.39999998,{"$f":"TEXT(Saldo_Disponivel_VT[[#This Row],[Data]],\"mmmm\")","v":"setembro"}]
["2021","08/09/21","Disponivel",4831647,486811696.92000002,{"$f":"TEXT(Saldo_Disponivel_VT[[#This Row],[Data]],\"mmmm\")","v":"setembro"}]
["2021","09/09/21","Disponivel",4803773,482537594.76999998,{"$f":"TEXT(Saldo_Disponivel_VT[[#This Row],[Data]],\"mmmm\")","v":"setembro"}]
["2021","10/09/21","Disponivel",4769313,476648360.85000002,{"$f":"TEXT(Saldo_Disponivel_VT[[#This Row],[Data]],\"mmmm\")","v":"setembro"}]
["2021","11/09/21","Disponivel",4753287,475215847.32999998,{"$f":"TEXT(Saldo_Disponivel_VT[[#This Row],[Data]],\"mmmm\")","v":"setembro"}]
["2021","12/09/21","Disponivel",4757592,476250626.81,{"$f":"TEXT(Saldo_Disponivel_VT[[#This Row],[Data]],\"mmmm\")","v":"setembro"}]
["2021","13/09/21","Disponivel",4722416,469638376.64999998,{"$f":"TEXT(Saldo_Disponivel_VT[[#This Row],[Data]],\"mmmm\")","v":"setembro"}]
["2021","14/09/21","Disponivel",4705276,465867605.72000003,{"$f":"TEXT(Saldo_Disponivel_VT[[#This Row],[Data]],\"mmmm\")","v":"setembro"}]
["2021","15/09/21","Disponivel",4689042,463278070.12,{"$f":"TEXT(Saldo_Disponivel_VT[[#This Row],[Data]],\"mmmm\")","v":"setembro"}]
["2021","16/09/21","Disponivel",4677108,462206004.41000003,{"$f":"TEXT(Saldo_Disponivel_VT[[#This Row],[Data]],\"mmmm\")","v":"setembro"}]
["2021","17/09/21","Disponivel",4665418,462030484.75,{"$f":"TEXT(Saldo_Disponivel_VT[[#This Row],[Data]],\"mmmm\")","v":"setembro"}]
["2021","18/09/21","Disponivel",4653792,460755016.79000002,{"$f":"TEXT(Saldo_Disponivel_VT[[#This Row],[Data]],\"mmmm\")","v":"setembro"}]
["2021","19/09/21","Disponivel",4659071,461168508.75999999,{"$f":"TEXT(Saldo_Disponivel_VT[[#This Row],[Data]],\"mmmm\")","v":"setembro"}]
["2021","20/09/21","Disponivel",4640355,458937243.99000001,{"$f":"TEXT(Saldo_Disponivel_VT[[#This Row],[Data]],\"mmmm\")","v":"setembro"}]
["2021","21/09/21","Disponivel",4650125,463821850.29000002,{"$f":"TEXT(Saldo_Disponivel_VT[[#This Row],[Data]],\"mmmm\")","v":"setembro"}]
["2021","22/09/21","Disponivel",4676472,472051350.69,{"$f":"TEXT(Saldo_Disponivel_VT[[#This Row],[Data]],\"mmmm\")","v":"setembro"}]
["2021","23/09/21","Disponivel",4711285,480804780.97000003,{"$f":"TEXT(Saldo_Disponivel_VT[[#This Row],[Data]],\"mmmm\")","v":"setembro"}]
["2021","24/09/21","Disponivel",4756873,493366202.75,{"$f":"TEXT(Saldo_Disponivel_VT[[#This Row],[Data]],\"mmmm\")","v":"setembro"}]
["2021","25/09/21","Disponivel",4745478,491327426.88999999,{"$f":"TEXT(Saldo_Disponivel_VT[[#This Row],[Data]],\"mmmm\")","v":"setembro"}]
["2021","26/09/21","Disponivel",4744203,489522504.33999997,{"$f":"TEXT(Saldo_Disponivel_VT[[#This Row],[Data]],\"mmmm\")","v":"setembro"}]
["2021","27/09/21","Disponivel",4785472,501480776.33999997,{"$f":"TEXT(Saldo_Disponivel_VT[[#This Row],[Data]],\"mmmm\")","v":"setembro"}]
["2021","28/09/21","Disponivel",4848496,518731520.54000002,{"$f":"TEXT(Saldo_Disponivel_VT[[#This Row],[Data]],\"mmmm\")","v":"setembro"}]
["2021","29/09/21","Disponivel",4871877,524244298.68000001,{"$f":"TEXT(Saldo_Disponivel_VT[[#This Row],[Data]],\"mmmm\")","v":"setembro"}]
["2021","30/09/21","Disponivel",4882447,525048093.00999999,{"$f":"TEXT(Saldo_Disponivel_VT[[#This Row],[Data]],\"mmmm\")","v":"setembro"}]
["2021","01/10/21","Disponivel",5119381,548216806.21000004,{"$f":"TEXT(Saldo_Disponivel_VT[[#This Row],[Data]],\"mmmm\")","v":"outubro"}]
["2021","02/10/21","Disponivel",5058291,537104847.89999998,{"$f":"TEXT(Saldo_Disponivel_VT[[#This Row],[Data]],\"mmmm\")","v":"outubro"}]
["2021","03/10/21","Disponivel",5041586,532898672.88999999,{"$f":"TEXT(Saldo_Disponivel_VT[[#This Row],[Data]],\"mmmm\")","v":"outubro"}]
["2021","04/10/21","Disponivel",4950802,517294548.38,{"$f":"TEXT(Saldo_Disponivel_VT[[#This Row],[Data]],\"mmmm\")","v":"outubro"}]
["2021","05/10/21","Disponivel",4890024,507506823.37,{"$f":"TEXT(Saldo_Disponivel_VT[[#This Row],[Data]],\"mmmm\")","v":"outubro"}]
["2021","06/10/21","Disponivel",4787634,492762981.43000001,{"$f":"TEXT(Saldo_Disponivel_VT[[#This Row],[Data]],\"mmmm\")","v":"outubro"}]
["2021","07/10/21","Disponivel",4734395,484384665.45999998,{"$f":"TEXT(Saldo_Disponivel_VT[[#This Row],[Data]],\"mmmm\")","v":"outubro"}]
["2021","08/10/21","Disponivel",4711114,480665120.29000002,{"$f":"TEXT(Saldo_Disponivel_VT[[#This Row],[Data]],\"mmmm\")","v":"outubro"}]
["2021","09/10/21","Disponivel",4687416,476798317.48000002,{"$f":"TEXT(Saldo_Disponivel_VT[[#This Row],[Data]],\"mmmm\")","v":"outubro"}]
["2021","10/10/21","Disponivel",4684189,475529142.30000001,{"$f":"TEXT(Saldo_Disponivel_VT[[#This Row],[Data]],\"mmmm\")","v":"outubro"}]
["2021","11/10/21","Disponivel",4645873,469202379.75,{"$f":"TEXT(Saldo_Disponivel_VT[[#This Row],[Data]],\"mmmm\")","v":"outubro"}]
["2021","12/10/21","Disponivel",4643615,467771362.69999999,{"$f":"TEXT(Saldo_Disponivel_VT[[#This Row],[Data]],\"mmmm\")","v":"outubro"}]
["2021","13/10/21","Disponivel",4610498,462603724.80000001,{"$f":"TEXT(Saldo_Disponivel_VT[[#This Row],[Data]],\"mmmm\")","v":"outubro"}]
["2021","14/10/21","Disponivel",4597123,460781136.13,{"$f":"TEXT(Saldo_Disponivel_VT[[#This Row],[Data]],\"mmmm\")","v":"outubro"}]
["2021","15/10/21","Disponivel",4572209,457013166.77999997,{"$f":"TEXT(Saldo_Disponivel_VT[[#This Row],[Data]],\"mmmm\")","v":"outubro"}]
["2021","16/10/21","Disponivel",4551011,454216380.63999999,{"$f":"TEXT(Saldo_Disponivel_VT[[#This Row],[Data]],\"mmmm\")","v":"outubro"}]
["2021","17/10/21","Disponivel",4553847,453608899.68000001,{"$f":"TEXT(Saldo_Disponivel_VT[[#This Row],[Data]],\"mmmm\")","v":"outubro"}]
["2021","18/10/21","Disponivel",4547224,453578016.57999998,{"$f":"TEXT(Saldo_Disponivel_VT[[#This Row],[Data]],\"mmmm\")","v":"outubro"}]
["2021","19/10/21","Disponivel",4553151,456377467.38999999,{"$f":"TEXT(Saldo_Disponivel_VT[[#This Row],[Data]],\"mmmm\")","v":"outubro"}]
["2021","20/10/21","Disponivel",4575745,463289857.01999998,{"$f":"TEXT(Saldo_Disponivel_VT[[#This Row],[Data]],\"mmmm\")","v":"outubro"}]
["2021","21/10/21","Disponivel",4589913,467613392.29000002,{"$f":"TEXT(Saldo_Disponivel_VT[[#This Row],[Data]],\"mmmm\")","v":"outubro"}]
["2021","22/10/21","Disponivel",4614920,475562417.77999997,{"$f":"TEXT(Saldo_Disponivel_VT[[#This Row],[Data]],\"mmmm\")","v":"outubro"}]
["2021","23/10/21","Disponivel",4597940,472706566.68000001,{"$f":"TEXT(Saldo_Disponivel_VT[[#This Row],[Data]],\"mmmm\")","v":"outubro"}]
["2021","24/10/21","Disponivel",4597894,470786737.86000001,{"$f":"TEXT(Saldo_Disponivel_VT[[#This Row],[Data]],\"mmmm\")","v":"outubro"}]
["2021","25/10/21","Disponivel",4628810,480932525.25999999,{"$f":"TEXT(Saldo_Disponivel_VT[[#This Row],[Data]],\"mmmm\")","v":"outubro"}]
["2021","26/10/21","Disponivel",4684502,497235925.61000001,{"$f":"TEXT(Saldo_Disponivel_VT[[#This Row],[Data]],\"mmmm\")","v":"outubro"}]
["2021","27/10/21","Disponivel",4802237,526453019.19999999,{"$f":"TEXT(Saldo_Disponivel_VT[[#This Row],[Data]],\"mmmm\")","v":"outubro"}]
["2021","28/10/21","Disponivel",4830827,532858836.16000003,{"$f":"TEXT(Saldo_Disponivel_VT[[#This Row],[Data]],\"mmmm\")","v":"outubro"}]
["2021","29/10/21","Disponivel",4828839,531458027.92000002,{"$f":"TEXT(Saldo_Disponivel_VT[[#This Row],[Data]],\"mmmm\")","v":"outubro"}]
["2021","30/10/21","Disponivel",4797280,524610764.87,{"$f":"TEXT(Saldo_Disponivel_VT[[#This Row],[Data]],\"mmmm\")","v":"outubro"}]
["2021","31/10/21","Disponivel",4768676,519284297.39999998,{"$f":"TEXT(Saldo_Disponivel_VT[[#This Row],[Data]],\"mmmm\")","v":"outubro"}]
["2021","01/11/21","Disponivel",5009968,537297352.05999994,{"$f":"TEXT(Saldo_Disponivel_VT[[#This Row],[Data]],\"mmmm\")","v":"novembro"}]
["2021","02/11/21","Disponivel",4986911,531685970.37,{"$f":"TEXT(Saldo_Disponivel_VT[[#This Row],[Data]],\"mmmm\")","v":"novembro"}]
["2021","03/11/21","Disponivel",4876926,518185189.08999997,{"$f":"TEXT(Saldo_Disponivel_VT[[#This Row],[Data]],\"mmmm\")","v":"novembro"}]
["2021","04/11/21","Disponivel",4821398,509302404.51999998,{"$f":"TEXT(Saldo_Disponivel_VT[[#This Row],[Data]],\"mmmm\")","v":"novembro"}]
["2021","05/11/21","Disponivel",4761234,499362892.01999998,{"$f":"TEXT(Saldo_Disponivel_VT[[#This Row],[Data]],\"mmmm\")","v":"novembro"}]
["2021","06/11/21","Disponivel",4703376,490368018.58999997,{"$f":"TEXT(Saldo_Disponivel_VT[[#This Row],[Data]],\"mmmm\")","v":"novembro"}]
["2021","07/11/21","Disponivel",4693095,487514567.39999998,{"$f":"TEXT(Saldo_Disponivel_VT[[#This Row],[Data]],\"mmmm\")","v":"novembro"}]
["2021","08/11/21","Disponivel",4611289,475543039.13,{"$f":"TEXT(Saldo_Disponivel_VT[[#This Row],[Data]],\"mmmm\")","v":"novembro"}]
["2021","09/11/21","Disponivel",4574225,469807082.30000001,{"$f":"TEXT(Saldo_Disponivel_VT[[#This Row],[Data]],\"mmmm\")","v":"novembro"}]
["2021","10/11/21","Disponivel",4549698,465455682.44999999,{"$f":"TEXT(Saldo_Disponivel_VT[[#This Row],[Data]],\"mmmm\")","v":"novembro"}]
["2021","11/11/21","Disponivel",4526500,461270105.98000002,{"$f":"TEXT(Saldo_Disponivel_VT[[#This Row],[Data]],\"mmmm\")","v":"novembro"}]
["2021","12/11/21","Disponivel",4516196,459443206.55000001,{"$f":"TEXT(Saldo_Disponivel_VT[[#This Row],[Data]],\"mmmm\")","v":"novembro"}]
["2021","13/11/21","Disponivel",4499144,456600310.39999998,{"$f":"TEXT(Saldo_Disponivel_VT[[#This Row],[Data]],\"mmmm\")","v":"novembro"}]
["2021","14/11/21","Disponivel",4500117,456629398.58999997,{"$f":"TEXT(Saldo_Disponivel_VT[[#This Row],[Data]],\"mmmm\")","v":"novembro"}]
["2021","15/11/21","Disponivel",4498934,455150390.00999999,{"$f":"TEXT(Saldo_Disponivel_VT[[#This Row],[Data]],\"mmmm\")","v":"novembro"}]
["2021","16/11/21","Disponivel",4462660,449811012.17000002,{"$f":"TEXT(Saldo_Disponivel_VT[[#This Row],[Data]],\"mmmm\")","v":"novembro"}]
["2021","17/11/21","Disponivel",4458282,450884733.31,{"$f":"TEXT(Saldo_Disponivel_VT[[#This Row],[Data]],\"mmmm\")","v":"novembro"}]
["2021","18/11/21","Disponivel",4464065,453857868.73000002,{"$f":"TEXT(Saldo_Disponivel_VT[[#This Row],[Data]],\"mmmm\")","v":"novembro"}]
["2021","19/11/21","Disponivel",4466225,456727901.25999999,{"$f":"TEXT(Saldo_Disponivel_VT[[#This Row],[Data]],\"mmmm\")","v":"novembro"}]
["2021","20/11/21","Disponivel",4450202,453444085.42000002,{"$f":"TEXT(Saldo_Disponivel_VT[[#This Row],[Data]],\"mmmm\")","v":"novembro"}]
["2021","21/11/21","Disponivel",4456322,452878118.01999998,{"$f":"TEXT(Saldo_Disponivel_VT[[#This Row],[Data]],\"mmmm\")","v":"novembro"}]
["2021","22/11/21","Disponivel",4415468,446498437.36000001,{"$f":"TEXT(Saldo_Disponivel_VT[[#This Row],[Data]],\"mmmm\")","v":"novembro"}]
["2021","23/11/21","Disponivel",4491769,465646646.98000002,{"$f":"TEXT(Saldo_Disponivel_VT[[#This Row],[Data]],\"mmmm\")","v":"novembro"}]
["2021","24/11/21","Disponivel",4537212,478643633.08999997,{"$f":"TEXT(Saldo_Disponivel_VT[[#This Row],[Data]],\"mmmm\")","v":"novembro"}]
["2021","25/11/21","Disponivel",4597834,494662422.16000003,{"$f":"TEXT(Saldo_Disponivel_VT[[#This Row],[Data]],\"mmmm\")","v":"novembro"}]
["2021","26/11/21","Disponivel",4723221,527399279.19,{"$f":"TEXT(Saldo_Disponivel_VT[[#This Row],[Data]],\"mmmm\")","v":"novembro"}]
["2021","27/11/21","Disponivel",4711153,525049369.38999999,{"$f":"TEXT(Saldo_Disponivel_VT[[#This Row],[Data]],\"mmmm\")","v":"novembro"}]
["2021","28/11/21","Disponivel",4705902,520844281.97000003,{"$f":"TEXT(Saldo_Disponivel_VT[[#This Row],[Data]],\"mmmm\")","v":"novembro"}]
["2021","29/11/21","Disponivel",4727036,526056687.44,{"$f":"TEXT(Saldo_Disponivel_VT[[#This Row],[Data]],\"mmmm\")","v":"novembro"}]
["2021","30/11/21","Disponivel",4744235,526445194.08999997,{"$f":"TEXT(Saldo_Disponivel_VT[[#This Row],[Data]],\"mmmm\")","v":"novembro"}]
["2021","01/12/21","Disponivel",4948281,538036325.47000003,{"$f":"TEXT(Saldo_Disponivel_VT[[#This Row],[Data]],\"mmmm\")","v":"dezembro"}]
["2021","02/12/21","Disponivel",4888729,529867504.74000001,{"$f":"TEXT(Saldo_Disponivel_VT[[#This Row],[Data]],\"mmmm\")","v":"dezembro"}]
["2021","03/12/21","Disponivel",4828860,520128798.05000001,{"$f":"TEXT(Saldo_Disponivel_VT[[#This Row],[Data]],\"mmmm\")","v":"dezembro"}]
["2021","04/12/21","Disponivel",4784692,512881453.20999998,{"$f":"TEXT(Saldo_Disponivel_VT[[#This Row],[Data]],\"mmmm\")","v":"dezembro"}]
["2021","05/12/21","Disponivel",5002086,586952936.74000001,{"$f":"TEXT(Saldo_Disponivel_VT[[#This Row],[Data]],\"mmmm\")","v":"dezembro"}]
["2021","06/12/21","Disponivel",4870989,567261816.91999996,{"$f":"TEXT(Saldo_Disponivel_VT[[#This Row],[Data]],\"mmmm\")","v":"dezembro"}]
["2021","07/12/21","Disponivel",4811736,557301189.38,{"$f":"TEXT(Saldo_Disponivel_VT[[#This Row],[Data]],\"mmmm\")","v":"dezembro"}]
["2021","08/12/21","Disponivel",4780201,552010901.47000003,{"$f":"TEXT(Saldo_Disponivel_VT[[#This Row],[Data]],\"mmmm\")","v":"dezembro"}]
["2021","09/12/21","Disponivel",4755264,547347396.50999999,{"$f":"TEXT(Saldo_Disponivel_VT[[#This Row],[Data]],\"mmmm\")","v":"dezembro"}]
["2021","10/12/21","Disponivel",4731208,543482034.78999996,{"$f":"TEXT(Saldo_Disponivel_VT[[#This Row],[Data]],\"mmmm\")","v":"dezembro"}]
["2021","11/12/21","Disponivel",4710425,540136742.07000005,{"$f":"TEXT(Saldo_Disponivel_VT[[#This Row],[Data]],\"mmmm\")","v":"dezembro"}]
["2021","12/12/21","Disponivel",4709798,538798313.95000005,{"$f":"TEXT(Saldo_Disponivel_VT[[#This Row],[Data]],\"mmmm\")","v":"dezembro"}]
["2021","13/12/21","Disponivel",4692059,536170691.57999998,{"$f":"TEXT(Saldo_Disponivel_VT[[#This Row],[Data]],\"mmmm\")","v":"dezembro"}]
["2021","14/12/21","Disponivel",4684813,535054127.11000001,{"$f":"TEXT(Saldo_Disponivel_VT[[#This Row],[Data]],\"mmmm\")","v":"dezembro"}]
["2021","15/12/21","Disponivel",4685750,536408732.05000001,{"$f":"TEXT(Saldo_Disponivel_VT[[#This Row],[Data]],\"mmmm\")","v":"dezembro"}]
["2021","16/12/21","Disponivel",4684298,537609925.45000005,{"$f":"TEXT(Saldo_Disponivel_VT[[#This Row],[Data]],\"mmmm\")","v":"dezembro"}]
["2021","17/12/21","Disponivel",4698532,542163619.08000004,{"$f":"TEXT(Saldo_Disponivel_VT[[#This Row],[Data]],\"mmmm\")","v":"dezembro"}]
["2021","18/12/21","Disponivel",4680547,539343223.98000002,{"$f":"TEXT(Saldo_Disponivel_VT[[#This Row],[Data]],\"mmmm\")","v":"dezembro"}]
["2021","19/12/21","Disponivel",4676598,537805498.40999997,{"$f":"TEXT(Saldo_Disponivel_VT[[#This Row],[Data]],\"mmmm\")","v":"dezembro"}]
["2021","20/12/21","Disponivel",4688527,541864245.61000001,{"$f":"TEXT(Saldo_Disponivel_VT[[#This Row],[Data]],\"mmmm\")","v":"dezembro"}]
["2021","21/12/21","Disponivel",4714189,550386743.50999999,{"$f":"TEXT(Saldo_Disponivel_VT[[#This Row],[Data]],\"mmmm\")","v":"dezembro"}]
["2021","22/12/21","Disponivel",4755586,561553350,{"$f":"TEXT(Saldo_Disponivel_VT[[#This Row],[Data]],\"mmmm\")","v":"dezembro"}]
["2021","23/12/21","Disponivel",4851944,585037279.48000002,{"$f":"TEXT(Saldo_Disponivel_VT[[#This Row],[Data]],\"mmmm\")","v":"dezembro"}]
["2021","24/12/21","Disponivel",4841982,583089136.64999998,{"$f":"TEXT(Saldo_Disponivel_VT[[#This Row],[Data]],\"mmmm\")","v":"dezembro"}]
["2021","25/12/21","Disponivel",4840272,582340979.69000006,{"$f":"TEXT(Saldo_Disponivel_VT[[#This Row],[Data]],\"mmmm\")","v":"dezembro"}]
["2021","26/12/21","Disponivel",4832576,579095441.39999998,{"$f":"TEXT(Saldo_Disponivel_VT[[#This Row],[Data]],\"mmmm\")","v":"dezembro"}]
["2021","27/12/21","Disponivel",4898437,595927312.05999994,{"$f":"TEXT(Saldo_Disponivel_VT[[#This Row],[Data]],\"mmmm\")","v":"dezembro"}]
["2021","28/12/21","Disponivel",4931384,604381515.51999998,{"$f":"TEXT(Saldo_Disponivel_VT[[#This Row],[Data]],\"mmmm\")","v":"dezembro"}]
["2021","29/12/21","Disponivel",5019393,626109955.00999999,{"$f":"TEXT(Saldo_Disponivel_VT[[#This Row],[Data]],\"mmmm\")","v":"dezembro"}]
["2021","30/12/21","Disponivel",5002301,620793285.17999995,{"$f":"TEXT(Saldo_Disponivel_VT[[#This Row],[Data]],\"mmmm\")","v":"dezembro"}]
["2021","31/12/21","Disponivel",4986835,617097277.98000002,{"$f":"TEXT(Saldo_Disponivel_VT[[#This Row],[Data]],\"mmmm\")","v":"dezembro"}]
["2022","01/01/22","Disponivel",4892433,604794944.11000001,{"$f":"TEXT(Saldo_Disponivel_VT[[#This Row],[Data]],\"mmmm\")","v":"janeiro"}]
["2022","02/01/22","Disponivel",4880433,599951135.96000004,{"$f":"TEXT(Saldo_Disponivel_VT[[#This Row],[Data]],\"mmmm\")","v":"janeiro"}]
["2022","03/01/22","Disponivel",4787407,576960564.42999995,{"$f":"TEXT(Saldo_Disponivel_VT[[#This Row],[Data]],\"mmmm\")","v":"janeiro"}]
["2022","04/01/22","Disponivel",4743262,566260816.78999996,{"$f":"TEXT(Saldo_Disponivel_VT[[#This Row],[Data]],\"mmmm\")","v":"janeiro"}]
["2022","05/01/22","Disponivel",4708240,558590178.90999997,{"$f":"TEXT(Saldo_Disponivel_VT[[#This Row],[Data]],\"mmmm\")","v":"janeiro"}]
["2022","06/01/22","Disponivel",4683374,552927412.48000002,{"$f":"TEXT(Saldo_Disponivel_VT[[#This Row],[Data]],\"mmmm\")","v":"janeiro"}]
["2022","07/01/22","Disponivel",4658469,547331654.82000005,{"$f":"TEXT(Saldo_Disponivel_VT[[#This Row],[Data]],\"mmmm\")","v":"janeiro"}]
["2022","08/01/22","Disponivel",4647625,544852313.05999994,{"$f":"TEXT(Saldo_Disponivel_VT[[#This Row],[Data]],\"mmmm\")","v":"janeiro"}]
["2022","09/01/22","Disponivel",4652139,543744935.75,{"$f":"TEXT(Saldo_Disponivel_VT[[#This Row],[Data]],\"mmmm\")","v":"janeiro"}]
["2022","10/01/22","Disponivel",4621210,537096940.63999999,{"$f":"TEXT(Saldo_Disponivel_VT[[#This Row],[Data]],\"mmmm\")","v":"janeiro"}]
["2022","11/01/22","Disponivel",4602769,533463988.76999998,{"$f":"TEXT(Saldo_Disponivel_VT[[#This Row],[Data]],\"mmmm\")","v":"janeiro"}]
["2022","12/01/22","Disponivel",4599417,532102260.38,{"$f":"TEXT(Saldo_Disponivel_VT[[#This Row],[Data]],\"mmmm\")","v":"janeiro"}]
["2022","13/01/22","Disponivel",4586757,529167029.94,{"$f":"TEXT(Saldo_Disponivel_VT[[#This Row],[Data]],\"mmmm\")","v":"janeiro"}]
["2022","14/01/22","Disponivel",4577613,528062951,{"$f":"TEXT(Saldo_Disponivel_VT[[#This Row],[Data]],\"mmmm\")","v":"janeiro"}]
["2022","15/01/22","Disponivel",4568995,526285131.5,{"$f":"TEXT(Saldo_Disponivel_VT[[#This Row],[Data]],\"mmmm\")","v":"janeiro"}]
["2022","16/01/22","Disponivel",4571716,525550886.17000002,{"$f":"TEXT(Saldo_Disponivel_VT[[#This Row],[Data]],\"mmmm\")","v":"janeiro"}]
["2022","17/01/22","Disponivel",4552722,522519387.81,{"$f":"TEXT(Saldo_Disponivel_VT[[#This Row],[Data]],\"mmmm\")","v":"janeiro"}]
["2022","18/01/22","Disponivel",4555433,522987109.10000002,{"$f":"TEXT(Saldo_Disponivel_VT[[#This Row],[Data]],\"mmmm\")","v":"janeiro"}]
["2022","19/01/22","Disponivel",4567938,527374039.95999998,{"$f":"TEXT(Saldo_Disponivel_VT[[#This Row],[Data]],\"mmmm\")","v":"janeiro"}]
["2022","20/01/22","Disponivel",4585725,531549815.19,{"$f":"TEXT(Saldo_Disponivel_VT[[#This Row],[Data]],\"mmmm\")","v":"janeiro"}]
["2022","21/01/22","Disponivel",4617691,541145752.86000001,{"$f":"TEXT(Saldo_Disponivel_VT[[#This Row],[Data]],\"mmmm\")","v":"janeiro"}]
["2022","22/01/22","Disponivel",4606494,538821280.32000005,{"$f":"TEXT(Saldo_Disponivel_VT[[#This Row],[Data]],\"mmmm\")","v":"janeiro"}]
["2022","23/01/22","Disponivel",4609292,537534805.33000004,{"$f":"TEXT(Saldo_Disponivel_VT[[#This Row],[Data]],\"mmmm\")","v":"janeiro"}]
["2022","24/01/22","Disponivel",4655588,550692510.34000003,{"$f":"TEXT(Saldo_Disponivel_VT[[#This Row],[Data]],\"mmmm\")","v":"janeiro"}]
["2022","25/01/22","Disponivel",4648532,547572047.49000001,{"$f":"TEXT(Saldo_Disponivel_VT[[#This Row],[Data]],\"mmmm\")","v":"janeiro"}]
["2022","26/01/22","Disponivel",4763870,575585032.59000003,{"$f":"TEXT(Saldo_Disponivel_VT[[#This Row],[Data]],\"mmmm\")","v":"janeiro"}]
["2022","27/01/22","Disponivel",4824610,589247402.09000003,{"$f":"TEXT(Saldo_Disponivel_VT[[#This Row],[Data]],\"mmmm\")","v":"janeiro"}]
["2022","28/01/22","Disponivel",4903590,605699212.00999999,{"$f":"TEXT(Saldo_Disponivel_VT[[#This Row],[Data]],\"mmmm\")","v":"janeiro"}]
["2022","29/01/22","Disponivel",4904138,604564979.13999999,{"$f":"TEXT(Saldo_Disponivel_VT[[#This Row],[Data]],\"mmmm\")","v":"janeiro"}]
["2022","30/01/22","Disponivel",4902015,601072712.52999997,{"$f":"TEXT(Saldo_Disponivel_VT[[#This Row],[Data]],\"mmmm\")","v":"janeiro"}]
["2022","31/01/22","Disponivel",4879952,595933447.40999997,{"$f":"TEXT(Saldo_Disponivel_VT[[#This Row],[Data]],\"mmmm\")","v":"janeiro"}]
["2022","01/02/22","Disponivel",4854013,586417697.87,{"$f":"TEXT(Saldo_Disponivel_VT[[#This Row],[Data]],\"mmmm\")","v":"fevereiro"}]
["2022","02/02/22","Disponivel",4808236,578336872.88999999,{"$f":"TEXT(Saldo_Disponivel_VT[[#This Row],[Data]],\"mmmm\")","v":"fevereiro"}]
["2022","03/02/22","Disponivel",4781472,571757274.63,{"$f":"TEXT(Saldo_Disponivel_VT[[#This Row],[Data]],\"mmmm\")","v":"fevereiro"}]
["2022","04/02/22","Disponivel",4762897,566134636.80999994,{"$f":"TEXT(Saldo_Disponivel_VT[[#This Row],[Data]],\"mmmm\")","v":"fevereiro"}]
["2022","05/02/22","Disponivel",4748196,562281676.53999996,{"$f":"TEXT(Saldo_Disponivel_VT[[#This Row],[Data]],\"mmmm\")","v":"fevereiro"}]
["2022","06/02/22","Disponivel",4751097,560395844.75,{"$f":"TEXT(Saldo_Disponivel_VT[[#This Row],[Data]],\"mmmm\")","v":"fevereiro"}]
["2022","07/02/22","Disponivel",4693726,550424189.53999996,{"$f":"TEXT(Saldo_Disponivel_VT[[#This Row],[Data]],\"mmmm\")","v":"fevereiro"}]
["2022","08/02/22","Disponivel",4670442,545737841.22000003,{"$f":"TEXT(Saldo_Disponivel_VT[[#This Row],[Data]],\"mmmm\")","v":"fevereiro"}]
["2022","09/02/22","Disponivel",4653479,541031019.05999994,{"$f":"TEXT(Saldo_Disponivel_VT[[#This Row],[Data]],\"mmmm\")","v":"fevereiro"}]
["2022","10/02/22","Disponivel",4645401,538862282.57000005,{"$f":"TEXT(Saldo_Disponivel_VT[[#This Row],[Data]],\"mmmm\")","v":"fevereiro"}]
["2022","11/02/22","Disponivel",4625587,535357601.79000002,{"$f":"TEXT(Saldo_Disponivel_VT[[#This Row],[Data]],\"mmmm\")","v":"fevereiro"}]
["2022","12/02/22","Disponivel",4616423,533699484.38,{"$f":"TEXT(Saldo_Disponivel_VT[[#This Row],[Data]],\"mmmm\")","v":"fevereiro"}]
["2022","13/02/22","Disponivel",4621749,532839917.93000001,{"$f":"TEXT(Saldo_Disponivel_VT[[#This Row],[Data]],\"mmmm\")","v":"fevereiro"}]
["2022","14/02/22","Disponivel",4594314,528929056.16000003,{"$f":"TEXT(Saldo_Disponivel_VT[[#This Row],[Data]],\"mmmm\")","v":"fevereiro"}]
["2022","15/02/22","Disponivel",4595240,530359014.13,{"$f":"TEXT(Saldo_Disponivel_VT[[#This Row],[Data]],\"mmmm\")","v":"fevereiro"}]
["2022","16/02/22","Disponivel",4591280,530491106.29000002,{"$f":"TEXT(Saldo_Disponivel_VT[[#This Row],[Data]],\"mmmm\")","v":"fevereiro"}]
["2022","17/02/22","Disponivel",4607957,536133886.45999998,{"$f":"TEXT(Saldo_Disponivel_VT[[#This Row],[Data]],\"mmmm\")","v":"fevereiro"}]
["2022","18/02/22","Disponivel",4626781,542851298.38,{"$f":"TEXT(Saldo_Disponivel_VT[[#This Row],[Data]],\"mmmm\")","v":"fevereiro"}]
["2022","19/02/22","Disponivel",4612515,539779219.99000001,{"$f":"TEXT(Saldo_Disponivel_VT[[#This Row],[Data]],\"mmmm\")","v":"fevereiro"}]
["2022","20/02/22","Disponivel",4618396,538525946.74000001,{"$f":"TEXT(Saldo_Disponivel_VT[[#This Row],[Data]],\"mmmm\")","v":"fevereiro"}]
["2022","21/02/22","Disponivel",4625805,543947530.97000003,{"$f":"TEXT(Saldo_Disponivel_VT[[#This Row],[Data]],\"mmmm\")","v":"fevereiro"}]
["2022","22/02/22","Disponivel",4684638,560039328.88,{"$f":"TEXT(Saldo_Disponivel_VT[[#This Row],[Data]],\"mmmm\")","v":"fevereiro"}]
["2022","23/02/22","Disponivel",4800996,591090673.05999994,{"$f":"TEXT(Saldo_Disponivel_VT[[#This Row],[Data]],\"mmmm\")","v":"fevereiro"}]
["2022","24/02/22","Disponivel",4883054,611167450.44000006,{"$f":"TEXT(Saldo_Disponivel_VT[[#This Row],[Data]],\"mmmm\")","v":"fevereiro"}]
["2022","25/02/22","Disponivel",4963951,632545762.01999998,{"$f":"TEXT(Saldo_Disponivel_VT[[#This Row],[Data]],\"mmmm\")","v":"fevereiro"}]
["2022","26/02/22","Disponivel",4958559,631215012.47000003,{"$f":"TEXT(Saldo_Disponivel_VT[[#This Row],[Data]],\"mmmm\")","v":"fevereiro"}]
["2022","27/02/22","Disponivel",4940731,625469376.57000005,{"$f":"TEXT(Saldo_Disponivel_VT[[#This Row],[Data]],\"mmmm\")","v":"fevereiro"}]
["2022","28/02/22","Disponivel",4875086,609087255.23000002,{"$f":"TEXT(Saldo_Disponivel_VT[[#This Row],[Data]],\"mmmm\")","v":"fevereiro"}]
["2022","01/03/22","Disponivel",5120852,630010183.28999996,{"$f":"TEXT(Saldo_Disponivel_VT[[#This Row],[Data]],\"mmmm\")","v":"março"}]
["2022","02/03/22","Disponivel",5068824,620672958.67999995,{"$f":"TEXT(Saldo_Disponivel_VT[[#This Row],[Data]],\"mmmm\")","v":"março"}]
["2022","03/03/22","Disponivel",4995369,608945069.44000006,{"$f":"TEXT(Saldo_Disponivel_VT[[#This Row],[Data]],\"mmmm\")","v":"março"}]
["2022","04/03/22","Disponivel",4944854,599133408.87,{"$f":"TEXT(Saldo_Disponivel_VT[[#This Row],[Data]],\"mmmm\")","v":"março"}]
["2022","05/03/22","Disponivel",4905945,591106062.23000002,{"$f":"TEXT(Saldo_Disponivel_VT[[#This Row],[Data]],\"mmmm\")","v":"março"}]
["2022","06/03/22","Disponivel",4900651,588936966.61000001,{"$f":"TEXT(Saldo_Disponivel_VT[[#This Row],[Data]],\"mmmm\")","v":"março"}]
["2022","07/03/22","Disponivel",4761290,569064982.58000004,{"$f":"TEXT(Saldo_Disponivel_VT[[#This Row],[Data]],\"mmmm\")","v":"março"}]
["2022","08/03/22","Disponivel",4712199,561095802.07000005,{"$f":"TEXT(Saldo_Disponivel_VT[[#This Row],[Data]],\"mmmm\")","v":"março"}]
["2022","09/03/22","Disponivel",4676519,554344474.78999996,{"$f":"TEXT(Saldo_Disponivel_VT[[#This Row],[Data]],\"mmmm\")","v":"março"}]
["2022","10/03/22","Disponivel",4653881,550072125.04999995,{"$f":"TEXT(Saldo_Disponivel_VT[[#This Row],[Data]],\"mmmm\")","v":"março"}]
["2022","11/03/22","Disponivel",4632907,546826306.22000003,{"$f":"TEXT(Saldo_Disponivel_VT[[#This Row],[Data]],\"mmmm\")","v":"março"}]
["2022","12/03/22","Disponivel",4620356,544373408.38999999,{"$f":"TEXT(Saldo_Disponivel_VT[[#This Row],[Data]],\"mmmm\")","v":"março"}]
["2022","13/03/22","Disponivel",4626947,543461837.98000002,{"$f":"TEXT(Saldo_Disponivel_VT[[#This Row],[Data]],\"mmmm\")","v":"março"}]
["2022","14/03/22","Disponivel",4602515,538949295.28999996,{"$f":"TEXT(Saldo_Disponivel_VT[[#This Row],[Data]],\"mmmm\")","v":"março"}]
["2022","15/03/22","Disponivel",4581171,535142356.56,{"$f":"TEXT(Saldo_Disponivel_VT[[#This Row],[Data]],\"mmmm\")","v":"março"}]
["2022","16/03/22","Disponivel",4569724,533433082.81,{"$f":"TEXT(Saldo_Disponivel_VT[[#This Row],[Data]],\"mmmm\")","v":"março"}]
["2022","17/03/22","Disponivel",4556523,532243628.10000002,{"$f":"TEXT(Saldo_Disponivel_VT[[#This Row],[Data]],\"mmmm\")","v":"março"}]
["2022","18/03/22","Disponivel",4561589,534671982.55000001,{"$f":"TEXT(Saldo_Disponivel_VT[[#This Row],[Data]],\"mmmm\")","v":"março"}]
["2022","19/03/22","Disponivel",4548914,532197925.22000003,{"$f":"TEXT(Saldo_Disponivel_VT[[#This Row],[Data]],\"mmmm\")","v":"março"}]
["2022","20/03/22","Disponivel",4559005,531649581.10000002,{"$f":"TEXT(Saldo_Disponivel_VT[[#This Row],[Data]],\"mmmm\")","v":"março"}]
["2022","21/03/22","Disponivel",4542541,530296248.50999999,{"$f":"TEXT(Saldo_Disponivel_VT[[#This Row],[Data]],\"mmmm\")","v":"março"}]
["2022","22/03/22","Disponivel",4568947,538426032.04999995,{"$f":"TEXT(Saldo_Disponivel_VT[[#This Row],[Data]],\"mmmm\")","v":"março"}]
["2022","23/03/22","Disponivel",4607365,549906422.20000005,{"$f":"TEXT(Saldo_Disponivel_VT[[#This Row],[Data]],\"mmmm\")","v":"março"}]
["2022","24/03/22","Disponivel",4660869,562343779.32000005,{"$f":"TEXT(Saldo_Disponivel_VT[[#This Row],[Data]],\"mmmm\")","v":"março"}]
["2022","25/03/22","Disponivel",4700324,573057568.88999999,{"$f":"TEXT(Saldo_Disponivel_VT[[#This Row],[Data]],\"mmmm\")","v":"março"}]
["2022","26/03/22","Disponivel",4666999,565981279.95000005,{"$f":"TEXT(Saldo_Disponivel_VT[[#This Row],[Data]],\"mmmm\")","v":"março"}]
["2022","27/03/22","Disponivel",4688516,568088456.25,{"$f":"TEXT(Saldo_Disponivel_VT[[#This Row],[Data]],\"mmmm\")","v":"março"}]
["2022","28/03/22","Disponivel",4749340,583823293.29999995,{"$f":"TEXT(Saldo_Disponivel_VT[[#This Row],[Data]],\"mmmm\")","v":"março"}]
["2022","29/03/22","Disponivel",4810088,597512729.77999997,{"$f":"TEXT(Saldo_Disponivel_VT[[#This Row],[Data]],\"mmmm\")","v":"março"}]
["2022","30/03/22","Disponivel",4813835,598668554.96000004,{"$f":"TEXT(Saldo_Disponivel_VT[[#This Row],[Data]],\"mmmm\")","v":"março"}]
["2022","31/03/22","Disponivel",4793942,592959737.67999995,{"$f":"TEXT(Saldo_Disponivel_VT[[#This Row],[Data]],\"mmmm\")","v":"março"}]
["2022","01/04/22","Disponivel",5097165,622635646.38999999,{"$f":"TEXT(Saldo_Disponivel_VT[[#This Row],[Data]],\"mmmm\")","v":"abril"}]
["2022","02/04/22","Disponivel",5039444,612544837.09000003,{"$f":"TEXT(Saldo_Disponivel_VT[[#This Row],[Data]],\"mmmm\")","v":"abril"}]
["2022","03/04/22","Disponivel",5026597,608080252.37,{"$f":"TEXT(Saldo_Disponivel_VT[[#This Row],[Data]],\"mmmm\")","v":"abril"}]
["2022","04/04/22","Disponivel",4912248,590312418.00999999,{"$f":"TEXT(Saldo_Disponivel_VT[[#This Row],[Data]],\"mmmm\")","v":"abril"}]
["2022","05/04/22","Disponivel",4840534,578828243.45000005,{"$f":"TEXT(Saldo_Disponivel_VT[[#This Row],[Data]],\"mmmm\")","v":"abril"}]
["2022","06/04/22","Disponivel",4714583,561875452.64999998,{"$f":"TEXT(Saldo_Disponivel_VT[[#This Row],[Data]],\"mmmm\")","v":"abril"}]
["2022","07/04/22","Disponivel",4658225,553065812.00999999,{"$f":"TEXT(Saldo_Disponivel_VT[[#This Row],[Data]],\"mmmm\")","v":"abril"}]
["2022","08/04/22","Disponivel",4630097,548420709.34000003,{"$f":"TEXT(Saldo_Disponivel_VT[[#This Row],[Data]],\"mmmm\")","v":"abril"}]
["2022","09/04/22","Disponivel",4605274,544352604.75,{"$f":"TEXT(Saldo_Disponivel_VT[[#This Row],[Data]],\"mmmm\")","v":"abril"}]
["2022","10/04/22","Disponivel",4607951,542843035.30999994,{"$f":"TEXT(Saldo_Disponivel_VT[[#This Row],[Data]],\"mmmm\")","v":"abril"}]
["2022","11/04/22","Disponivel",4572285,536782995.61000001,{"$f":"TEXT(Saldo_Disponivel_VT[[#This Row],[Data]],\"mmmm\")","v":"abril"}]
["2022","12/04/22","Disponivel",4551451,533150383.97000003,{"$f":"TEXT(Saldo_Disponivel_VT[[#This Row],[Data]],\"mmmm\")","v":"abril"}]
["2022","13/04/22","Disponivel",4538777,530822250.5,{"$f":"TEXT(Saldo_Disponivel_VT[[#This Row],[Data]],\"mmmm\")","v":"abril"}]
["2022","14/04/22","Disponivel",4541854,533011627.82999998,{"$f":"TEXT(Saldo_Disponivel_VT[[#This Row],[Data]],\"mmmm\")","v":"abril"}]
["2022","15/04/22","Disponivel",4541405,532024265.44,{"$f":"TEXT(Saldo_Disponivel_VT[[#This Row],[Data]],\"mmmm\")","v":"abril"}]
["2022","16/04/22","Disponivel",4523431,529076980.70999998,{"$f":"TEXT(Saldo_Disponivel_VT[[#This Row],[Data]],\"mmmm\")","v":"abril"}]
["2022","17/04/22","Disponivel",4531457,528393221.69999999,{"$f":"TEXT(Saldo_Disponivel_VT[[#This Row],[Data]],\"mmmm\")","v":"abril"}]
["2022","18/04/22","Disponivel",4530518,529899207.89999998,{"$f":"TEXT(Saldo_Disponivel_VT[[#This Row],[Data]],\"mmmm\")","v":"abril"}]
["2022","19/04/22","Disponivel",4532284,532724458.75999999,{"$f":"TEXT(Saldo_Disponivel_VT[[#This Row],[Data]],\"mmmm\")","v":"abril"}]
["2022","20/04/22","Disponivel",4576641,546645742.19000006,{"$f":"TEXT(Saldo_Disponivel_VT[[#This Row],[Data]],\"mmmm\")","v":"abril"}]
["2022","21/04/22","Disponivel",4577344,545496818.58000004,{"$f":"TEXT(Saldo_Disponivel_VT[[#This Row],[Data]],\"mmmm\")","v":"abril"}]
["2022","22/04/22","Disponivel",4543085,539181067.78999996,{"$f":"TEXT(Saldo_Disponivel_VT[[#This Row],[Data]],\"mmmm\")","v":"abril"}]
["2022","23/04/22","Disponivel",4533450,537512042.45000005,{"$f":"TEXT(Saldo_Disponivel_VT[[#This Row],[Data]],\"mmmm\")","v":"abril"}]
["2022","24/04/22","Disponivel",4541175,536304483.64999998,{"$f":"TEXT(Saldo_Disponivel_VT[[#This Row],[Data]],\"mmmm\")","v":"abril"}]
["2022","25/04/22","Disponivel",4643458,564845376.83000004,{"$f":"TEXT(Saldo_Disponivel_VT[[#This Row],[Data]],\"mmmm\")","v":"abril"}]
["2022","26/04/22","Disponivel",4703792,582892493.59000003,{"$f":"TEXT(Saldo_Disponivel_VT[[#This Row],[Data]],\"mmmm\")","v":"abril"}]
["2022","27/04/22","Disponivel",4785811,605225923.75,{"$f":"TEXT(Saldo_Disponivel_VT[[#This Row],[Data]],\"mmmm\")","v":"abril"}]
["2022","28/04/22","Disponivel",4847722,620900752.13,{"$f":"TEXT(Saldo_Disponivel_VT[[#This Row],[Data]],\"mmmm\")","v":"abril"}]
["2022","29/04/22","Disponivel",4815778,612542037.74000001,{"$f":"TEXT(Saldo_Disponivel_VT[[#This Row],[Data]],\"mmmm\")","v":"abril"}]
["2022","30/04/22","Disponivel",4786300,605222137.34000003,{"$f":"TEXT(Saldo_Disponivel_VT[[#This Row],[Data]],\"mmmm\")","v":"abril"}]
["2022","01/05/22","Disponivel",5242698,651559277.27999997,{"$f":"TEXT(Saldo_Disponivel_VT[[#This Row],[Data]],\"mmmm\")","v":"maio"}]
["2022","02/05/22","Disponivel",5048252,618304591.00999999,{"$f":"TEXT(Saldo_Disponivel_VT[[#This Row],[Data]],\"mmmm\")","v":"maio"}]
["2022","03/05/22","Disponivel",4978400,610097274.82000005,{"$f":"TEXT(Saldo_Disponivel_VT[[#This Row],[Data]],\"mmmm\")","v":"maio"}]
["2022","04/05/22","Disponivel",4903981,596786416.46000004,{"$f":"TEXT(Saldo_Disponivel_VT[[#This Row],[Data]],\"mmmm\")","v":"maio"}]
["2022","05/05/22","Disponivel",4860148,589087727.54999995,{"$f":"TEXT(Saldo_Disponivel_VT[[#This Row],[Data]],\"mmmm\")","v":"maio"}]
["2022","06/05/22","Disponivel",4739437,572956084.95000005,{"$f":"TEXT(Saldo_Disponivel_VT[[#This Row],[Data]],\"mmmm\")","v":"maio"}]
["2022","07/05/22","Disponivel",4693475,565550780.62,{"$f":"TEXT(Saldo_Disponivel_VT[[#This Row],[Data]],\"mmmm\")","v":"maio"}]
["2022","08/05/22","Disponivel",4693275,563525852.51999998,{"$f":"TEXT(Saldo_Disponivel_VT[[#This Row],[Data]],\"mmmm\")","v":"maio"}]
["2022","09/05/22","Disponivel",4630273,553179620.70000005,{"$f":"TEXT(Saldo_Disponivel_VT[[#This Row],[Data]],\"mmmm\")","v":"maio"}]
["2022","10/05/22","Disponivel",4590481,546485316.55999994,{"$f":"TEXT(Saldo_Disponivel_VT[[#This Row],[Data]],\"mmmm\")","v":"maio"}]
["2022","11/05/22","Disponivel",4563785,541636154.63,{"$f":"TEXT(Saldo_Disponivel_VT[[#This Row],[Data]],\"mmmm\")","v":"maio"}]
["2022","12/05/22","Disponivel",4559988,541037997.55999994,{"$f":"TEXT(Saldo_Disponivel_VT[[#This Row],[Data]],\"mmmm\")","v":"maio"}]
["2022","13/05/22","Disponivel",4544429,538345641.72000003,{"$f":"TEXT(Saldo_Disponivel_VT[[#This Row],[Data]],\"mmmm\")","v":"maio"}]
["2022","14/05/22","Disponivel",4528105,535563626.5,{"$f":"TEXT(Saldo_Disponivel_VT[[#This Row],[Data]],\"mmmm\")","v":"maio"}]
["2022","15/05/22","Disponivel",4535786,534698063.06999999,{"$f":"TEXT(Saldo_Disponivel_VT[[#This Row],[Data]],\"mmmm\")","v":"maio"}]
["2022","16/05/22","Disponivel",4506740,530680391.64999998,{"$f":"TEXT(Saldo_Disponivel_VT[[#This Row],[Data]],\"mmmm\")","v":"maio"}]
["2022","17/05/22","Disponivel",4496450,529870377.41000003,{"$f":"TEXT(Saldo_Disponivel_VT[[#This Row],[Data]],\"mmmm\")","v":"maio"}]
["2022","18/05/22","Disponivel",4501225,532332321.20999998,{"$f":"TEXT(Saldo_Disponivel_VT[[#This Row],[Data]],\"mmmm\")","v":"maio"}]
["2022","19/05/22","Disponivel",4532122,540242519.38999999,{"$f":"TEXT(Saldo_Disponivel_VT[[#This Row],[Data]],\"mmmm\")","v":"maio"}]
["2022","20/05/22","Disponivel",4554558,547338136.80999994,{"$f":"TEXT(Saldo_Disponivel_VT[[#This Row],[Data]],\"mmmm\")","v":"maio"}]
["2022","21/05/22","Disponivel",4537961,543906209.15999997,{"$f":"TEXT(Saldo_Disponivel_VT[[#This Row],[Data]],\"mmmm\")","v":"maio"}]
["2022","22/05/22","Disponivel",4546741,542760362.63999999,{"$f":"TEXT(Saldo_Disponivel_VT[[#This Row],[Data]],\"mmmm\")","v":"maio"}]
["2022","23/05/22","Disponivel",4553489,547614094.95000005,{"$f":"TEXT(Saldo_Disponivel_VT[[#This Row],[Data]],\"mmmm\")","v":"maio"}]
["2022","24/05/22","Disponivel",4600446,561806289.32000005,{"$f":"TEXT(Saldo_Disponivel_VT[[#This Row],[Data]],\"mmmm\")","v":"maio"}]
["2022","25/05/22","Disponivel",4665773,578824869.36000001,{"$f":"TEXT(Saldo_Disponivel_VT[[#This Row],[Data]],\"mmmm\")","v":"maio"}]
["2022","26/05/22","Disponivel",4739899,598357575.80999994,{"$f":"TEXT(Saldo_Disponivel_VT[[#This Row],[Data]],\"mmmm\")","v":"maio"}]
["2022","27/05/22","Disponivel",4804809,616110416.39999998,{"$f":"TEXT(Saldo_Disponivel_VT[[#This Row],[Data]],\"mmmm\")","v":"maio"}]
["2022","28/05/22","Disponivel",4787333,612248952.37,{"$f":"TEXT(Saldo_Disponivel_VT[[#This Row],[Data]],\"mmmm\")","v":"maio"}]
["2022","29/05/22","Disponivel",4781292,607241667.07000005,{"$f":"TEXT(Saldo_Disponivel_VT[[#This Row],[Data]],\"mmmm\")","v":"maio"}]
["2022","30/05/22","Disponivel",4780338,605662391.41999996,{"$f":"TEXT(Saldo_Disponivel_VT[[#This Row],[Data]],\"mmmm\")","v":"maio"}]
["2022","31/05/22","Disponivel",4748092,597273198.02999997,{"$f":"TEXT(Saldo_Disponivel_VT[[#This Row],[Data]],\"mmmm\")","v":"maio"}]
["2022","01/06/22","Disponivel",5140946,636503086.17999995,{"$f":"TEXT(Saldo_Disponivel_VT[[#This Row],[Data]],\"mmmm\")","v":"junho"}]
["2022","02/06/22","Disponivel",5025114,617579909.66999996,{"$f":"TEXT(Saldo_Disponivel_VT[[#This Row],[Data]],\"mmmm\")","v":"junho"}]
["2022","03/06/22","Disponivel",4954628,606955605.59000003,{"$f":"TEXT(Saldo_Disponivel_VT[[#This Row],[Data]],\"mmmm\")","v":"junho"}]
["2022","04/06/22","Disponivel",4904581,598049597,{"$f":"TEXT(Saldo_Disponivel_VT[[#This Row],[Data]],\"mmmm\")","v":"junho"}]
["2022","05/06/22","Disponivel",4900056,595039537.88999999,{"$f":"TEXT(Saldo_Disponivel_VT[[#This Row],[Data]],\"mmmm\")","v":"junho"}]
["2022","06/06/22","Disponivel",4742096,574241048.78999996,{"$f":"TEXT(Saldo_Disponivel_VT[[#This Row],[Data]],\"mmmm\")","v":"junho"}]
["2022","07/06/22","Disponivel",4674068,563445806.59000003,{"$f":"TEXT(Saldo_Disponivel_VT[[#This Row],[Data]],\"mmmm\")","v":"junho"}]
["2022","08/06/22","Disponivel",4635128,556253581.59000003,{"$f":"TEXT(Saldo_Disponivel_VT[[#This Row],[Data]],\"mmmm\")","v":"junho"}]
["2022","09/06/22","Disponivel",4615675,552505100.64999998,{"$f":"TEXT(Saldo_Disponivel_VT[[#This Row],[Data]],\"mmmm\")","v":"junho"}]
["2022","10/06/22","Disponivel",4591159,548120580.62,{"$f":"TEXT(Saldo_Disponivel_VT[[#This Row],[Data]],\"mmmm\")","v":"junho"}]
["2022","11/06/22","Disponivel",4571792,544934246.15999997,{"$f":"TEXT(Saldo_Disponivel_VT[[#This Row],[Data]],\"mmmm\")","v":"junho"}]
["2022","12/06/22","Disponivel",4575093,543714412.51999998,{"$f":"TEXT(Saldo_Disponivel_VT[[#This Row],[Data]],\"mmmm\")","v":"junho"}]
["2022","13/06/22","Disponivel",4550084,539725600.78999996,{"$f":"TEXT(Saldo_Disponivel_VT[[#This Row],[Data]],\"mmmm\")","v":"junho"}]
["2022","14/06/22","Disponivel",4553779,538856411.97000003,{"$f":"TEXT(Saldo_Disponivel_VT[[#This Row],[Data]],\"mmmm\")","v":"junho"}]
["2022","15/06/22","Disponivel",4535135,537895061.71000004,{"$f":"TEXT(Saldo_Disponivel_VT[[#This Row],[Data]],\"mmmm\")","v":"junho"}]
["2022","16/06/22","Disponivel",4526427,535598449.62,{"$f":"TEXT(Saldo_Disponivel_VT[[#This Row],[Data]],\"mmmm\")","v":"junho"}]
["2022","17/06/22","Disponivel",4502572,532400325.36000001,{"$f":"TEXT(Saldo_Disponivel_VT[[#This Row],[Data]],\"mmmm\")","v":"junho"}]
["2022","18/06/22","Disponivel",4492342,530749997.43000001,{"$f":"TEXT(Saldo_Disponivel_VT[[#This Row],[Data]],\"mmmm\")","v":"junho"}]
["2022","19/06/22","Disponivel",4498780,530044972.97000003,{"$f":"TEXT(Saldo_Disponivel_VT[[#This Row],[Data]],\"mmmm\")","v":"junho"}]
["2022","20/06/22","Disponivel",4512358,535520392.70999998,{"$f":"TEXT(Saldo_Disponivel_VT[[#This Row],[Data]],\"mmmm\")","v":"junho"}]
["2022","21/06/22","Disponivel",4524662,541234633.15999997,{"$f":"TEXT(Saldo_Disponivel_VT[[#This Row],[Data]],\"mmmm\")","v":"junho"}]
["2022","22/06/22","Disponivel",4563333,552351062.07000005,{"$f":"TEXT(Saldo_Disponivel_VT[[#This Row],[Data]],\"mmmm\")","v":"junho"}]
["2022","23/06/22","Disponivel",4612876,565926392.15999997,{"$f":"TEXT(Saldo_Disponivel_VT[[#This Row],[Data]],\"mmmm\")","v":"junho"}]
["2022","24/06/22","Disponivel",4659303,579544410.74000001,{"$f":"TEXT(Saldo_Disponivel_VT[[#This Row],[Data]],\"mmmm\")","v":"junho"}]
["2022","25/06/22","Disponivel",4628125,572591323.41999996,{"$f":"TEXT(Saldo_Disponivel_VT[[#This Row],[Data]],\"mmmm\")","v":"junho"}]
["2022","26/06/22","Disponivel",4647987,574435749.61000001,{"$f":"TEXT(Saldo_Disponivel_VT[[#This Row],[Data]],\"mmmm\")","v":"junho"}]
["2022","27/06/22","Disponivel",4682514,584706727.67999995,{"$f":"TEXT(Saldo_Disponivel_VT[[#This Row],[Data]],\"mmmm\")","v":"junho"}]
["2022","28/06/22","Disponivel",4773515,607727233.16999996,{"$f":"TEXT(Saldo_Disponivel_VT[[#This Row],[Data]],\"mmmm\")","v":"junho"}]
["2022","29/06/22","Disponivel",4844059,623982155.16999996,{"$f":"TEXT(Saldo_Disponivel_VT[[#This Row],[Data]],\"mmmm\")","v":"junho"}]
["2022","30/06/22","Disponivel",4805970,612051281.88999999,{"$f":"TEXT(Saldo_Disponivel_VT[[#This Row],[Data]],\"mmmm\")","v":"junho"}]
["2022","01/07/22","Disponivel",5122876,615298102.74000001,{"$f":"TEXT(Saldo_Disponivel_VT[[#This Row],[Data]],\"mmmm\")","v":"julho"}]
["2022","02/07/22","Disponivel",5060329,605722640.88999999,{"$f":"TEXT(Saldo_Disponivel_VT[[#This Row],[Data]],\"mmmm\")","v":"julho"}]
["2022","03/07/22","Disponivel",5044831,601247303.07000005,{"$f":"TEXT(Saldo_Disponivel_VT[[#This Row],[Data]],\"mmmm\")","v":"julho"}]
["2022","04/07/22","Disponivel",4951007,586394880.46000004,{"$f":"TEXT(Saldo_Disponivel_VT[[#This Row],[Data]],\"mmmm\")","v":"julho"}]
["2022","05/07/22","Disponivel",4891119,577237875.97000003,{"$f":"TEXT(Saldo_Disponivel_VT[[#This Row],[Data]],\"mmmm\")","v":"julho"}]
["2022","06/07/22","Disponivel",4800621,566211204.69000006,{"$f":"TEXT(Saldo_Disponivel_VT[[#This Row],[Data]],\"mmmm\")","v":"julho"}]
["2022","07/07/22","Disponivel",4748697,559045542.77999997,{"$f":"TEXT(Saldo_Disponivel_VT[[#This Row],[Data]],\"mmmm\")","v":"julho"}]
["2022","08/07/22","Disponivel",4702015,552863198.25999999,{"$f":"TEXT(Saldo_Disponivel_VT[[#This Row],[Data]],\"mmmm\")","v":"julho"}]
["2022","09/07/22","Disponivel",4674467,549446900.64999998,{"$f":"TEXT(Saldo_Disponivel_VT[[#This Row],[Data]],\"mmmm\")","v":"julho"}]
["2022","10/07/22","Disponivel",4673041,548016957.48000002,{"$f":"TEXT(Saldo_Disponivel_VT[[#This Row],[Data]],\"mmmm\")","v":"julho"}]
["2022","11/07/22","Disponivel",4644054,542837786.96000004,{"$f":"TEXT(Saldo_Disponivel_VT[[#This Row],[Data]],\"mmmm\")","v":"julho"}]
["2022","12/07/22","Disponivel",4623616,539029424.17999995,{"$f":"TEXT(Saldo_Disponivel_VT[[#This Row],[Data]],\"mmmm\")","v":"julho"}]
["2022","13/07/22","Disponivel",4614292,537502069.51999998,{"$f":"TEXT(Saldo_Disponivel_VT[[#This Row],[Data]],\"mmmm\")","v":"julho"}]
["2022","14/07/22","Disponivel",4603964,535633422.31999999,{"$f":"TEXT(Saldo_Disponivel_VT[[#This Row],[Data]],\"mmmm\")","v":"julho"}]
["2022","15/07/22","Disponivel",4595270,535917632.63999999,{"$f":"TEXT(Saldo_Disponivel_VT[[#This Row],[Data]],\"mmmm\")","v":"julho"}]
["2022","16/07/22","Disponivel",4577706,533468174.94999999,{"$f":"TEXT(Saldo_Disponivel_VT[[#This Row],[Data]],\"mmmm\")","v":"julho"}]
["2022","17/07/22","Disponivel",4583277,532662367.30000001,{"$f":"TEXT(Saldo_Disponivel_VT[[#This Row],[Data]],\"mmmm\")","v":"julho"}]
["2022","18/07/22","Disponivel",4568696,531542927.82999998,{"$f":"TEXT(Saldo_Disponivel_VT[[#This Row],[Data]],\"mmmm\")","v":"julho"}]
["2022","19/07/22","Disponivel",4572122,534913442.17000002,{"$f":"TEXT(Saldo_Disponivel_VT[[#This Row],[Data]],\"mmmm\")","v":"julho"}]
["2022","20/07/22","Disponivel",4590305,541484095.11000001,{"$f":"TEXT(Saldo_Disponivel_VT[[#This Row],[Data]],\"mmmm\")","v":"julho"}]
["2022","21/07/22","Disponivel",4614036,550246876.25,{"$f":"TEXT(Saldo_Disponivel_VT[[#This Row],[Data]],\"mmmm\")","v":"julho"}]
["2022","22/07/22","Disponivel",4640305,560179063.21000004,{"$f":"TEXT(Saldo_Disponivel_VT[[#This Row],[Data]],\"mmmm\")","v":"julho"}]
["2022","23/07/22","Disponivel",4621946,556804867.32000005,{"$f":"TEXT(Saldo_Disponivel_VT[[#This Row],[Data]],\"mmmm\")","v":"julho"}]
["2022","24/07/22","Disponivel",4627212,554893782.88,{"$f":"TEXT(Saldo_Disponivel_VT[[#This Row],[Data]],\"mmmm\")","v":"julho"}]
["2022","25/07/22","Disponivel",4659604,565475773.40999997,{"$f":"TEXT(Saldo_Disponivel_VT[[#This Row],[Data]],\"mmmm\")","v":"julho"}]
["2022","26/07/22","Disponivel",4736324,591639429.10000002,{"$f":"TEXT(Saldo_Disponivel_VT[[#This Row],[Data]],\"mmmm\")","v":"julho"}]
["2022","27/07/22","Disponivel",4815959,614398349.03999996,{"$f":"TEXT(Saldo_Disponivel_VT[[#This Row],[Data]],\"mmmm\")","v":"julho"}]
["2022","28/07/22","Disponivel",4883719,631248358.52999997,{"$f":"TEXT(Saldo_Disponivel_VT[[#This Row],[Data]],\"mmmm\")","v":"julho"}]
["2022","29/07/22","Disponivel",4863014,624424134.49000001,{"$f":"TEXT(Saldo_Disponivel_VT[[#This Row],[Data]],\"mmmm\")","v":"julho"}]
["2022","30/07/22","Disponivel",4829317,617084860.63,{"$f":"TEXT(Saldo_Disponivel_VT[[#This Row],[Data]],\"mmmm\")","v":"julho"}]
["2022","31/07/22","Disponivel",4824368,612091744.5,{"$f":"TEXT(Saldo_Disponivel_VT[[#This Row],[Data]],\"mmmm\")","v":"julho"}]
["2022","01/08/22","Disponivel",5044164,633314448,{"$f":"TEXT(Saldo_Disponivel_VT[[#This Row],[Data]],\"mmmm\")","v":"agosto"}]
["2022","02/08/22","Disponivel",4938504,615285207.95000005,{"$f":"TEXT(Saldo_Disponivel_VT[[#This Row],[Data]],\"mmmm\")","v":"agosto"}]
["2022","03/08/22","Disponivel",4890995,609973603.62,{"$f":"TEXT(Saldo_Disponivel_VT[[#This Row],[Data]],\"mmmm\")","v":"agosto"}]
["2022","04/08/22","Disponivel",4829421,598059453.5,{"$f":"TEXT(Saldo_Disponivel_VT[[#This Row],[Data]],\"mmmm\")","v":"agosto"}]
["2022","05/08/22","Disponivel",4788483,590126725.41999996,{"$f":"TEXT(Saldo_Disponivel_VT[[#This Row],[Data]],\"mmmm\")","v":"agosto"}]
["2022","06/08/22","Disponivel",4738579,582188195.55999994,{"$f":"TEXT(Saldo_Disponivel_VT[[#This Row],[Data]],\"mmmm\")","v":"agosto"}]
["2022","07/08/22","Disponivel",4736797,579680692.41999996,{"$f":"TEXT(Saldo_Disponivel_VT[[#This Row],[Data]],\"mmmm\")","v":"agosto"}]
["2022","08/08/22","Disponivel",4650992,567720897.35000002,{"$f":"TEXT(Saldo_Disponivel_VT[[#This Row],[Data]],\"mmmm\")","v":"agosto"}]
["2022","09/08/22","Disponivel",4611619,561319573.44000006,{"$f":"TEXT(Saldo_Disponivel_VT[[#This Row],[Data]],\"mmmm\")","v":"agosto"}]
["2022","10/08/22","Disponivel",4577697,554866874.09000003,{"$f":"TEXT(Saldo_Disponivel_VT[[#This Row],[Data]],\"mmmm\")","v":"agosto"}]
["2022","11/08/22","Disponivel",4566028,552574777.40999997,{"$f":"TEXT(Saldo_Disponivel_VT[[#This Row],[Data]],\"mmmm\")","v":"agosto"}]
["2022","12/08/22","Disponivel",4547690,549126197.25999999,{"$f":"TEXT(Saldo_Disponivel_VT[[#This Row],[Data]],\"mmmm\")","v":"agosto"}]
["2022","13/08/22","Disponivel",4533301,546634674.66999996,{"$f":"TEXT(Saldo_Disponivel_VT[[#This Row],[Data]],\"mmmm\")","v":"agosto"}]
["2022","14/08/22","Disponivel",4539584,545699820.42999995,{"$f":"TEXT(Saldo_Disponivel_VT[[#This Row],[Data]],\"mmmm\")","v":"agosto"}]
["2022","15/08/22","Disponivel",4503672,539507466.25,{"$f":"TEXT(Saldo_Disponivel_VT[[#This Row],[Data]],\"mmmm\")","v":"agosto"}]
["2022","16/08/22","Disponivel",4487115,537608001.62,{"$f":"TEXT(Saldo_Disponivel_VT[[#This Row],[Data]],\"mmmm\")","v":"agosto"}]
["2022","17/08/22","Disponivel",4484616,538349417.57000005,{"$f":"TEXT(Saldo_Disponivel_VT[[#This Row],[Data]],\"mmmm\")","v":"agosto"}]
["2022","18/08/22","Disponivel",4488968,540692842.75999999,{"$f":"TEXT(Saldo_Disponivel_VT[[#This Row],[Data]],\"mmmm\")","v":"agosto"}]
["2022","19/08/22","Disponivel",4492704,543101398.95000005,{"$f":"TEXT(Saldo_Disponivel_VT[[#This Row],[Data]],\"mmmm\")","v":"agosto"}]
["2022","20/08/22","Disponivel",4479269,540339796.41999996,{"$f":"TEXT(Saldo_Disponivel_VT[[#This Row],[Data]],\"mmmm\")","v":"agosto"}]
["2022","21/08/22","Disponivel",4491308,539660267.38,{"$f":"TEXT(Saldo_Disponivel_VT[[#This Row],[Data]],\"mmmm\")","v":"agosto"}]
["2022","22/08/22","Disponivel",4483473,540494704.23000002,{"$f":"TEXT(Saldo_Disponivel_VT[[#This Row],[Data]],\"mmmm\")","v":"agosto"}]
["2022","23/08/22","Disponivel",4529558,553486769.51999998,{"$f":"TEXT(Saldo_Disponivel_VT[[#This Row],[Data]],\"mmmm\")","v":"agosto"}]
["2022","24/08/22","Disponivel",4581256,568352667.74000001,{"$f":"TEXT(Saldo_Disponivel_VT[[#This Row],[Data]],\"mmmm\")","v":"agosto"}]
["2022","25/08/22","Disponivel",4646400,585588203.37,{"$f":"TEXT(Saldo_Disponivel_VT[[#This Row],[Data]],\"mmmm\")","v":"agosto"}]
["2022","26/08/22","Disponivel",4711542,603242199.78999996,{"$f":"TEXT(Saldo_Disponivel_VT[[#This Row],[Data]],\"mmmm\")","v":"agosto"}]
["2022","27/08/22","Disponivel",4697682,600570903.63999999,{"$f":"TEXT(Saldo_Disponivel_VT[[#This Row],[Data]],\"mmmm\")","v":"agosto"}]
["2022","28/08/22","Disponivel",4698302,596963546.85000002,{"$f":"TEXT(Saldo_Disponivel_VT[[#This Row],[Data]],\"mmmm\")","v":"agosto"}]
["2022","29/08/22","Disponivel",4761294,613175034.90999997,{"$f":"TEXT(Saldo_Disponivel_VT[[#This Row],[Data]],\"mmmm\")","v":"agosto"}]
["2022","30/08/22","Disponivel",4770075,615699149.79999995,{"$f":"TEXT(Saldo_Disponivel_VT[[#This Row],[Data]],\"mmmm\")","v":"agosto"}]
["2022","31/08/22","Disponivel",4730313,604297143.21000004,{"$f":"TEXT(Saldo_Disponivel_VT[[#This Row],[Data]],\"mmmm\")","v":"agosto"}]
["2022","01/09/22","Disponivel",5115321,641956737.96000004,{"$f":"TEXT(Saldo_Disponivel_VT[[#This Row],[Data]],\"mmmm\")","v":"setembro"}]
["2022","02/09/22","Disponivel",5012772,625197462.40999997,{"$f":"TEXT(Saldo_Disponivel_VT[[#This Row],[Data]],\"mmmm\")","v":"setembro"}]
["2022","03/09/22","Disponivel",4969270,618400411.92999995,{"$f":"TEXT(Saldo_Disponivel_VT[[#This Row],[Data]],\"mmmm\")","v":"setembro"}]
["2022","04/09/22","Disponivel",4964758,615060445.96000004,{"$f":"TEXT(Saldo_Disponivel_VT[[#This Row],[Data]],\"mmmm\")","v":"setembro"}]
["2022","05/09/22","Disponivel",4866836,599869697.62,{"$f":"TEXT(Saldo_Disponivel_VT[[#This Row],[Data]],\"mmmm\")","v":"setembro"}]
["2022","06/09/22","Disponivel",4710386,579246059.10000002,{"$f":"TEXT(Saldo_Disponivel_VT[[#This Row],[Data]],\"mmmm\")","v":"setembro"}]
["2022","07/09/22","Disponivel",4702343,576033625.54999995,{"$f":"TEXT(Saldo_Disponivel_VT[[#This Row],[Data]],\"mmmm\")","v":"setembro"}]
["2022","08/09/22","Disponivel",4634717,565878576.80999994,{"$f":"TEXT(Saldo_Disponivel_VT[[#This Row],[Data]],\"mmmm\")","v":"setembro"}]
["2022","09/09/22","Disponivel",4602589,560959650.51999998,{"$f":"TEXT(Saldo_Disponivel_VT[[#This Row],[Data]],\"mmmm\")","v":"setembro"}]
["2022","10/09/22","Disponivel",4576967,556526990.86000001,{"$f":"TEXT(Saldo_Disponivel_VT[[#This Row],[Data]],\"mmmm\")","v":"setembro"}]
["2022","11/09/22","Disponivel",4583555,555461623.11000001,{"$f":"TEXT(Saldo_Disponivel_VT[[#This Row],[Data]],\"mmmm\")","v":"setembro"}]
["2022","12/09/22","Disponivel",4549598,549779186.82000005,{"$f":"TEXT(Saldo_Disponivel_VT[[#This Row],[Data]],\"mmmm\")","v":"setembro"}]
["2022","13/09/22","Disponivel",4531848,546505975.67999995,{"$f":"TEXT(Saldo_Disponivel_VT[[#This Row],[Data]],\"mmmm\")","v":"setembro"}]
["2022","14/09/22","Disponivel",4519345,544174037.36000001,{"$f":"TEXT(Saldo_Disponivel_VT[[#This Row],[Data]],\"mmmm\")","v":"setembro"}]
["2022","15/09/22","Disponivel",4505430,542353170.91999996,{"$f":"TEXT(Saldo_Disponivel_VT[[#This Row],[Data]],\"mmmm\")","v":"setembro"}]
["2022","16/09/22","Disponivel",4495283,541451761.5,{"$f":"TEXT(Saldo_Disponivel_VT[[#This Row],[Data]],\"mmmm\")","v":"setembro"}]
["2022","17/09/22","Disponivel",4494587,539564815.53999996,{"$f":"TEXT(Saldo_Disponivel_VT[[#This Row],[Data]],\"mmmm\")","v":"setembro"}]
["2022","18/09/22","Disponivel",4502866,538801777.92999995,{"$f":"TEXT(Saldo_Disponivel_VT[[#This Row],[Data]],\"mmmm\")","v":"setembro"}]
["2022","19/09/22","Disponivel",4482737,538019974.88999999,{"$f":"TEXT(Saldo_Disponivel_VT[[#This Row],[Data]],\"mmmm\")","v":"setembro"}]
["2022","20/09/22","Disponivel",4502258,544139783.89999998,{"$f":"TEXT(Saldo_Disponivel_VT[[#This Row],[Data]],\"mmmm\")","v":"setembro"}]
["2022","21/09/22","Disponivel",4531435,551461050.75999999,{"$f":"TEXT(Saldo_Disponivel_VT[[#This Row],[Data]],\"mmmm\")","v":"setembro"}]
["2022","22/09/22","Disponivel",4546323,557969867.33000004,{"$f":"TEXT(Saldo_Disponivel_VT[[#This Row],[Data]],\"mmmm\")","v":"setembro"}]
["2022","23/09/22","Disponivel",4597180,571554634.55999994,{"$f":"TEXT(Saldo_Disponivel_VT[[#This Row],[Data]],\"mmmm\")","v":"setembro"}]
["2022","24/09/22","Disponivel",4581254,568429119.36000001,{"$f":"TEXT(Saldo_Disponivel_VT[[#This Row],[Data]],\"mmmm\")","v":"setembro"}]
["2022","25/09/22","Disponivel",4587830,566457602.37,{"$f":"TEXT(Saldo_Disponivel_VT[[#This Row],[Data]],\"mmmm\")","v":"setembro"}]
["2022","26/09/22","Disponivel",4644119,581435970.07000005,{"$f":"TEXT(Saldo_Disponivel_VT[[#This Row],[Data]],\"mmmm\")","v":"setembro"}]
["2022","27/09/22","Disponivel",4737344,606762514.45000005,{"$f":"TEXT(Saldo_Disponivel_VT[[#This Row],[Data]],\"mmmm\")","v":"setembro"}]
["2022","28/09/22","Disponivel",4806601,623746169.08000004,{"$f":"TEXT(Saldo_Disponivel_VT[[#This Row],[Data]],\"mmmm\")","v":"setembro"}]
["2022","29/09/22","Disponivel",4799039,622718168.84000003,{"$f":"TEXT(Saldo_Disponivel_VT[[#This Row],[Data]],\"mmmm\")","v":"setembro"}]
["2022","30/09/22","Disponivel",4763474,613158917.76999998,{"$f":"TEXT(Saldo_Disponivel_VT[[#This Row],[Data]],\"mmmm\")","v":"setembro"}]
["2022","01/10/22","Disponivel",5269107,665444541.29999995,{"$f":"TEXT(Saldo_Disponivel_VT[[#This Row],[Data]],\"mmmm\")","v":"outubro"}]
["2022","02/10/22","Disponivel",5240279,658092047.01999998,{"$f":"TEXT(Saldo_Disponivel_VT[[#This Row],[Data]],\"mmmm\")","v":"outubro"}]
["2022","03/10/22","Disponivel",5080068,634163082.25999999,{"$f":"TEXT(Saldo_Disponivel_VT[[#This Row],[Data]],\"mmmm\")","v":"outubro"}]
["2022","04/10/22","Disponivel",4985383,618974981.47000003,{"$f":"TEXT(Saldo_Disponivel_VT[[#This Row],[Data]],\"mmmm\")","v":"outubro"}]
["2022","05/10/22","Disponivel",4916951,607280998.36000001,{"$f":"TEXT(Saldo_Disponivel_VT[[#This Row],[Data]],\"mmmm\")","v":"outubro"}]
["2022","06/10/22","Disponivel",4782975,588578818.17999995,{"$f":"TEXT(Saldo_Disponivel_VT[[#This Row],[Data]],\"mmmm\")","v":"outubro"}]
["2022","07/10/22","Disponivel",4734530,581117133.87,{"$f":"TEXT(Saldo_Disponivel_VT[[#This Row],[Data]],\"mmmm\")","v":"outubro"}]
["2022","08/10/22","Disponivel",4690476,574377093.52999997,{"$f":"TEXT(Saldo_Disponivel_VT[[#This Row],[Data]],\"mmmm\")","v":"outubro"}]
["2022","09/10/22","Disponivel",4693210,572798425.11000001,{"$f":"TEXT(Saldo_Disponivel_VT[[#This Row],[Data]],\"mmmm\")","v":"outubro"}]
["2022","10/10/22","Disponivel",4645063,564803288.46000004,{"$f":"TEXT(Saldo_Disponivel_VT[[#This Row],[Data]],\"mmmm\")","v":"outubro"}]
["2022","11/10/22","Disponivel",4608440,559491198.70000005,{"$f":"TEXT(Saldo_Disponivel_VT[[#This Row],[Data]],\"mmmm\")","v":"outubro"}]
["2022","12/10/22","Disponivel",4603547,557304673.84000003,{"$f":"TEXT(Saldo_Disponivel_VT[[#This Row],[Data]],\"mmmm\")","v":"outubro"}]
["2022","13/10/22","Disponivel",4578737,552941805.13,{"$f":"TEXT(Saldo_Disponivel_VT[[#This Row],[Data]],\"mmmm\")","v":"outubro"}]
["2022","14/10/22","Disponivel",4561457,550585746.32000005,{"$f":"TEXT(Saldo_Disponivel_VT[[#This Row],[Data]],\"mmmm\")","v":"outubro"}]
["2022","15/10/22","Disponivel",4543276,547527649.38999999,{"$f":"TEXT(Saldo_Disponivel_VT[[#This Row],[Data]],\"mmmm\")","v":"outubro"}]
["2022","16/10/22","Disponivel",4550278,546586837.29999995,{"$f":"TEXT(Saldo_Disponivel_VT[[#This Row],[Data]],\"mmmm\")","v":"outubro"}]
["2022","17/10/22","Disponivel",4509004,541301441.22000003,{"$f":"TEXT(Saldo_Disponivel_VT[[#This Row],[Data]],\"mmmm\")","v":"outubro"}]
["2022","18/10/22","Disponivel",4498903,541097164.35000002,{"$f":"TEXT(Saldo_Disponivel_VT[[#This Row],[Data]],\"mmmm\")","v":"outubro"}]
["2022","19/10/22","Disponivel",4513077,546006905.37,{"$f":"TEXT(Saldo_Disponivel_VT[[#This Row],[Data]],\"mmmm\")","v":"outubro"}]
["2022","20/10/22","Disponivel",4531491,550981656.52999997,{"$f":"TEXT(Saldo_Disponivel_VT[[#This Row],[Data]],\"mmmm\")","v":"outubro"}]
["2022","21/10/22","Disponivel",4546453,557131579.94000006,{"$f":"TEXT(Saldo_Disponivel_VT[[#This Row],[Data]],\"mmmm\")","v":"outubro"}]
["2022","22/10/22","Disponivel",4529374,553776712.47000003,{"$f":"TEXT(Saldo_Disponivel_VT[[#This Row],[Data]],\"mmmm\")","v":"outubro"}]
["2022","23/10/22","Disponivel",4534921,552341629.22000003,{"$f":"TEXT(Saldo_Disponivel_VT[[#This Row],[Data]],\"mmmm\")","v":"outubro"}]
["2022","24/10/22","Disponivel",4563491,562187977.30999994,{"$f":"TEXT(Saldo_Disponivel_VT[[#This Row],[Data]],\"mmmm\")","v":"outubro"}]
["2022","25/10/22","Disponivel",4649653,583693465.09000003,{"$f":"TEXT(Saldo_Disponivel_VT[[#This Row],[Data]],\"mmmm\")","v":"outubro"}]
["2022","26/10/22","Disponivel",4748899,609452837.04999995,{"$f":"TEXT(Saldo_Disponivel_VT[[#This Row],[Data]],\"mmmm\")","v":"outubro"}]
["2022","27/10/22","Disponivel",4830161,630439449.15999997,{"$f":"TEXT(Saldo_Disponivel_VT[[#This Row],[Data]],\"mmmm\")","v":"outubro"}]
["2022","28/10/22","Disponivel",4768010,616457103.13999999,{"$f":"TEXT(Saldo_Disponivel_VT[[#This Row],[Data]],\"mmmm\")","v":"outubro"}]
["2022","29/10/22","Disponivel",4757642,614079192.64999998,{"$f":"TEXT(Saldo_Disponivel_VT[[#This Row],[Data]],\"mmmm\")","v":"outubro"}]
["2022","30/10/22","Disponivel",4767831,611757815.29999995,{"$f":"TEXT(Saldo_Disponivel_VT[[#This Row],[Data]],\"mmmm\")","v":"outubro"}]
["2022","31/10/22","Disponivel",4772438,611845552.14999998,{"$f":"TEXT(Saldo_Disponivel_VT[[#This Row],[Data]],\"mmmm\")","v":"outubro"}]
["2022","01/11/22","Disponivel",5213413,656764112.28999996,{"$f":"TEXT(Saldo_Disponivel_VT[[#This Row],[Data]],\"mmmm\")","v":"novembro"}]
["2022","02/11/22","Disponivel",5188977,650156542.77999997,{"$f":"TEXT(Saldo_Disponivel_VT[[#This Row],[Data]],\"mmmm\")","v":"novembro"}]
["2022","03/11/22","Disponivel",5057291,629053885.99000001,{"$f":"TEXT(Saldo_Disponivel_VT[[#This Row],[Data]],\"mmmm\")","v":"novembro"}]
["2022","04/11/22","Disponivel",4991699,619748567.05999994,{"$f":"TEXT(Saldo_Disponivel_VT[[#This Row],[Data]],\"mmmm\")","v":"novembro"}]
["2022","05/11/22","Disponivel",4940834,611307441.95000005,{"$f":"TEXT(Saldo_Disponivel_VT[[#This Row],[Data]],\"mmmm\")","v":"novembro"}]
["2022","06/11/22","Disponivel",4910034,605430563,{"$f":"TEXT(Saldo_Disponivel_VT[[#This Row],[Data]],\"mmmm\")","v":"novembro"}]
["2022","07/11/22","Disponivel",4738103,582433440.99000001,{"$f":"TEXT(Saldo_Disponivel_VT[[#This Row],[Data]],\"mmmm\")","v":"novembro"}]
["2022","08/11/22","Disponivel",4670060,572330787.66999996,{"$f":"TEXT(Saldo_Disponivel_VT[[#This Row],[Data]],\"mmmm\")","v":"novembro"}]
["2022","09/11/22","Disponivel",4626122,564618196.01999998,{"$f":"TEXT(Saldo_Disponivel_VT[[#This Row],[Data]],\"mmmm\")","v":"novembro"}]
["2022","10/11/22","Disponivel",4596080,559006583.72000003,{"$f":"TEXT(Saldo_Disponivel_VT[[#This Row],[Data]],\"mmmm\")","v":"novembro"}]
["2022","11/11/22","Disponivel",4590097,557874852.03999996,{"$f":"TEXT(Saldo_Disponivel_VT[[#This Row],[Data]],\"mmmm\")","v":"novembro"}]
["2022","12/11/22","Disponivel",4571094,554858554.69000006,{"$f":"TEXT(Saldo_Disponivel_VT[[#This Row],[Data]],\"mmmm\")","v":"novembro"}]
["2022","13/11/22","Disponivel",4569977,553359798.86000001,{"$f":"TEXT(Saldo_Disponivel_VT[[#This Row],[Data]],\"mmmm\")","v":"novembro"}]
["2022","14/11/22","Disponivel",4534334,547721396.60000002,{"$f":"TEXT(Saldo_Disponivel_VT[[#This Row],[Data]],\"mmmm\")","v":"novembro"}]
["2022","15/11/22","Disponivel",4538720,546531207.61000001,{"$f":"TEXT(Saldo_Disponivel_VT[[#This Row],[Data]],\"mmmm\")","v":"novembro"}]
["2022","16/11/22","Disponivel",4524942,546206298.38999999,{"$f":"TEXT(Saldo_Disponivel_VT[[#This Row],[Data]],\"mmmm\")","v":"novembro"}]
["2022","17/11/22","Disponivel",4506960,543833095.38999999,{"$f":"TEXT(Saldo_Disponivel_VT[[#This Row],[Data]],\"mmmm\")","v":"novembro"}]
["2022","18/11/22","Disponivel",4494233,542734831.88,{"$f":"TEXT(Saldo_Disponivel_VT[[#This Row],[Data]],\"mmmm\")","v":"novembro"}]
["2022","19/11/22","Disponivel",4481131,540401340.55999994,{"$f":"TEXT(Saldo_Disponivel_VT[[#This Row],[Data]],\"mmmm\")","v":"novembro"}]
["2022","20/11/22","Disponivel",4492863,539920457.77999997,{"$f":"TEXT(Saldo_Disponivel_VT[[#This Row],[Data]],\"mmmm\")","v":"novembro"}]
["2022","21/11/22","Disponivel",4516950,548891077.74000001,{"$f":"TEXT(Saldo_Disponivel_VT[[#This Row],[Data]],\"mmmm\")","v":"novembro"}]
["2022","22/11/22","Disponivel",4560554,561664341.89999998,{"$f":"TEXT(Saldo_Disponivel_VT[[#This Row],[Data]],\"mmmm\")","v":"novembro"}]
["2022","23/11/22","Disponivel",4624095,577525007.27999997,{"$f":"TEXT(Saldo_Disponivel_VT[[#This Row],[Data]],\"mmmm\")","v":"novembro"}]
["2022","24/11/22","Disponivel",4700792,598292982.37,{"$f":"TEXT(Saldo_Disponivel_VT[[#This Row],[Data]],\"mmmm\")","v":"novembro"}]
["2022","25/11/22","Disponivel",4786003,621713001.33000004,{"$f":"TEXT(Saldo_Disponivel_VT[[#This Row],[Data]],\"mmmm\")","v":"novembro"}]
["2022","26/11/22","Disponivel",4764567,617298798.72000003,{"$f":"TEXT(Saldo_Disponivel_VT[[#This Row],[Data]],\"mmmm\")","v":"novembro"}]
["2022","27/11/22","Disponivel",4757724,612508625.23000002,{"$f":"TEXT(Saldo_Disponivel_VT[[#This Row],[Data]],\"mmmm\")","v":"novembro"}]
["2022","28/11/22","Disponivel",4764279,613310373.10000002,{"$f":"TEXT(Saldo_Disponivel_VT[[#This Row],[Data]],\"mmmm\")","v":"novembro"}]
["2022","29/11/22","Disponivel",4830246,630922675.38999999,{"$f":"TEXT(Saldo_Disponivel_VT[[#This Row],[Data]],\"mmmm\")","v":"novembro"}]
["2022","30/11/22","Disponivel",4802293,621921381.07000005,{"$f":"TEXT(Saldo_Disponivel_VT[[#This Row],[Data]],\"mmmm\")","v":"novembro"}]
["2022","01/12/22","Disponivel",5267290,632231148.00999999,{"$f":"TEXT(Saldo_Disponivel_VT[[#This Row],[Data]],\"mmmm\")","v":"dezembro"}]
["2022","02/12/22","Disponivel",5192449,621686579.02999997,{"$f":"TEXT(Saldo_Disponivel_VT[[#This Row],[Data]],\"mmmm\")","v":"dezembro"}]
["2022","03/12/22","Disponivel",5134634,613021540.23000002,{"$f":"TEXT(Saldo_Disponivel_VT[[#This Row],[Data]],\"mmmm\")","v":"dezembro"}]
["2022","04/12/22","Disponivel",5121974,609217790.74000001,{"$f":"TEXT(Saldo_Disponivel_VT[[#This Row],[Data]],\"mmmm\")","v":"dezembro"}]
["2022","05/12/22","Disponivel",5049047,598934052.73000002,{"$f":"TEXT(Saldo_Disponivel_VT[[#This Row],[Data]],\"mmmm\")","v":"dezembro"}]
["2022","06/12/22","Disponivel",4880029,583613974.13,{"$f":"TEXT(Saldo_Disponivel_VT[[#This Row],[Data]],\"mmmm\")","v":"dezembro"}]
["2022","07/12/22","Disponivel",4786456,572634081.72000003,{"$f":"TEXT(Saldo_Disponivel_VT[[#This Row],[Data]],\"mmmm\")","v":"dezembro"}]
["2022","08/12/22","Disponivel",4739087,567555564.30999994,{"$f":"TEXT(Saldo_Disponivel_VT[[#This Row],[Data]],\"mmmm\")","v":"dezembro"}]
["2022","09/12/22","Disponivel",4707847,562761012.95000005,{"$f":"TEXT(Saldo_Disponivel_VT[[#This Row],[Data]],\"mmmm\")","v":"dezembro"}]
["2022","10/12/22","Disponivel",4676514,558695504.86000001,{"$f":"TEXT(Saldo_Disponivel_VT[[#This Row],[Data]],\"mmmm\")","v":"dezembro"}]
["2022","11/12/22","Disponivel",4675926,557113150.80999994,{"$f":"TEXT(Saldo_Disponivel_VT[[#This Row],[Data]],\"mmmm\")","v":"dezembro"}]
["2022","12/12/22","Disponivel",4653691,553961807.07000005,{"$f":"TEXT(Saldo_Disponivel_VT[[#This Row],[Data]],\"mmmm\")","v":"dezembro"}]
["2022","13/12/22","Disponivel",4640448,552277160.66999996,{"$f":"TEXT(Saldo_Disponivel_VT[[#This Row],[Data]],\"mmmm\")","v":"dezembro"}]
["2022","14/12/22","Disponivel",4621023,549937661.66999996,{"$f":"TEXT(Saldo_Disponivel_VT[[#This Row],[Data]],\"mmmm\")","v":"dezembro"}]
["2022","15/12/22","Disponivel",4616192,550267067.41999996,{"$f":"TEXT(Saldo_Disponivel_VT[[#This Row],[Data]],\"mmmm\")","v":"dezembro"}]
["2022","16/12/22","Disponivel",4598511,549181268.13,{"$f":"TEXT(Saldo_Disponivel_VT[[#This Row],[Data]],\"mmmm\")","v":"dezembro"}]
["2022","17/12/22","Disponivel",4582308,546701349.63999999,{"$f":"TEXT(Saldo_Disponivel_VT[[#This Row],[Data]],\"mmmm\")","v":"dezembro"}]
["2022","18/12/22","Disponivel",4590794,545879326.32000005,{"$f":"TEXT(Saldo_Disponivel_VT[[#This Row],[Data]],\"mmmm\")","v":"dezembro"}]
["2022","19/12/22","Disponivel",4586348,548098030.47000003,{"$f":"TEXT(Saldo_Disponivel_VT[[#This Row],[Data]],\"mmmm\")","v":"dezembro"}]
["2022","20/12/22","Disponivel",4627231,559576025.91999996,{"$f":"TEXT(Saldo_Disponivel_VT[[#This Row],[Data]],\"mmmm\")","v":"dezembro"}]
["2022","21/12/22","Disponivel",4627837,561494135.65999997,{"$f":"TEXT(Saldo_Disponivel_VT[[#This Row],[Data]],\"mmmm\")","v":"dezembro"}]
["2022","22/12/22","Disponivel",4708154,582861711,{"$f":"TEXT(Saldo_Disponivel_VT[[#This Row],[Data]],\"mmmm\")","v":"dezembro"}]
["2022","23/12/22","Disponivel",4776959,601258534.95000005,{"$f":"TEXT(Saldo_Disponivel_VT[[#This Row],[Data]],\"mmmm\")","v":"dezembro"}]
["2022","24/12/22","Disponivel",4768666,599721454.13,{"$f":"TEXT(Saldo_Disponivel_VT[[#This Row],[Data]],\"mmmm\")","v":"dezembro"}]
["2022","25/12/22","Disponivel",4771099,598200374.46000004,{"$f":"TEXT(Saldo_Disponivel_VT[[#This Row],[Data]],\"mmmm\")","v":"dezembro"}]
["2022","26/12/22","Disponivel",4817702,609577530.15999997,{"$f":"TEXT(Saldo_Disponivel_VT[[#This Row],[Data]],\"mmmm\")","v":"dezembro"}]
["2022","27/12/22","Disponivel",4858793,620152585.61000001,{"$f":"TEXT(Saldo_Disponivel_VT[[#This Row],[Data]],\"mmmm\")","v":"dezembro"}]
["2022","28/12/22","Disponivel",4943812,641149919.99000001,{"$f":"TEXT(Saldo_Disponivel_VT[[#This Row],[Data]],\"mmmm\")","v":"dezembro"}]
["2022","29/12/22","Disponivel",4947655,640990917.32000005,{"$f":"TEXT(Saldo_Disponivel_VT[[#This Row],[Data]],\"mmmm\")","v":"dezembro"}]
["2022","30/12/22","Disponivel",4903121,630819553.32000005,{"$f":"TEXT(Saldo_Disponivel_VT[[#This Row],[Data]],\"mmmm\")","v":"dezembro"}]
["2022","31/12/22","Disponivel",4881348,625571932,{"$f":"TEXT(Saldo_Disponivel_VT[[#This Row],[Data]],\"mmmm\")","v":"dezembro"}]
["2023","01/01/23","Disponivel",4710622,613403764.5,{"$f":"TEXT(Saldo_Disponivel_VT[[#This Row],[Data]],\"mmmm\")","v":"janeiro"}]
["2023","02/01/23","Disponivel",4654014,598811948.29999995,{"$f":"TEXT(Saldo_Disponivel_VT[[#This Row],[Data]],\"mmmm\")","v":"janeiro"}]
["2023","03/01/23","Disponivel",4613941,590383815.34000003,{"$f":"TEXT(Saldo_Disponivel_VT[[#This Row],[Data]],\"mmmm\")","v":"janeiro"}]
["2023","04/01/23","Disponivel",4580010,582091600.13999999,{"$f":"TEXT(Saldo_Disponivel_VT[[#This Row],[Data]],\"mmmm\")","v":"janeiro"}]
["2023","05/01/23","Disponivel",4547575,573516718.63,{"$f":"TEXT(Saldo_Disponivel_VT[[#This Row],[Data]],\"mmmm\")","v":"janeiro"}]
["2023","06/01/23","Disponivel",4520025,567300630.44000006,{"$f":"TEXT(Saldo_Disponivel_VT[[#This Row],[Data]],\"mmmm\")","v":"janeiro"}]
["2023","07/01/23","Disponivel",4501869,562976857.28999996,{"$f":"TEXT(Saldo_Disponivel_VT[[#This Row],[Data]],\"mmmm\")","v":"janeiro"}]
["2023","08/01/23","Disponivel",4515335,561790930.63,{"$f":"TEXT(Saldo_Disponivel_VT[[#This Row],[Data]],\"mmmm\")","v":"janeiro"}]
["2023","09/01/23","Disponivel",4475381,553429179.61000001,{"$f":"TEXT(Saldo_Disponivel_VT[[#This Row],[Data]],\"mmmm\")","v":"janeiro"}]
["2023","10/01/23","Disponivel",4448703,547200650.47000003,{"$f":"TEXT(Saldo_Disponivel_VT[[#This Row],[Data]],\"mmmm\")","v":"janeiro"}]
["2023","11/01/23","Disponivel",4436423,543757767.39999998,{"$f":"TEXT(Saldo_Disponivel_VT[[#This Row],[Data]],\"mmmm\")","v":"janeiro"}]
["2023","12/01/23","Disponivel",4427073,541180397.36000001,{"$f":"TEXT(Saldo_Disponivel_VT[[#This Row],[Data]],\"mmmm\")","v":"janeiro"}]
["2023","13/01/23","Disponivel",4421072,539821839.78999996,{"$f":"TEXT(Saldo_Disponivel_VT[[#This Row],[Data]],\"mmmm\")","v":"janeiro"}]
["2023","14/01/23","Disponivel",4411695,537659834.91999996,{"$f":"TEXT(Saldo_Disponivel_VT[[#This Row],[Data]],\"mmmm\")","v":"janeiro"}]
["2023","15/01/23","Disponivel",4421612,537059658.01999998,{"$f":"TEXT(Saldo_Disponivel_VT[[#This Row],[Data]],\"mmmm\")","v":"janeiro"}]
["2023","16/01/23","Disponivel",4396429,533009097.05000001,{"$f":"TEXT(Saldo_Disponivel_VT[[#This Row],[Data]],\"mmmm\")","v":"janeiro"}]
["2023","17/01/23","Disponivel",4391647,531377612.38999999,{"$f":"TEXT(Saldo_Disponivel_VT[[#This Row],[Data]],\"mmmm\")","v":"janeiro"}]
["2023","18/01/23","Disponivel",4392447,532272096.04000002,{"$f":"TEXT(Saldo_Disponivel_VT[[#This Row],[Data]],\"mmmm\")","v":"janeiro"}]
["2023","19/01/23","Disponivel",4406547,536459097.58999997,{"$f":"TEXT(Saldo_Disponivel_VT[[#This Row],[Data]],\"mmmm\")","v":"janeiro"}]
["2023","20/01/23","Disponivel",4424052,540514411.69000006,{"$f":"TEXT(Saldo_Disponivel_VT[[#This Row],[Data]],\"mmmm\")","v":"janeiro"}]
["2023","21/01/23","Disponivel",4413040,537924581.59000003,{"$f":"TEXT(Saldo_Disponivel_VT[[#This Row],[Data]],\"mmmm\")","v":"janeiro"}]
["2023","22/01/23","Disponivel",4422012,536918869.38999999,{"$f":"TEXT(Saldo_Disponivel_VT[[#This Row],[Data]],\"mmmm\")","v":"janeiro"}]
["2023","23/01/23","Disponivel",4477157,549738464.50999999,{"$f":"TEXT(Saldo_Disponivel_VT[[#This Row],[Data]],\"mmmm\")","v":"janeiro"}]
["2023","24/01/23","Disponivel",4554110,569434864.38999999,{"$f":"TEXT(Saldo_Disponivel_VT[[#This Row],[Data]],\"mmmm\")","v":"janeiro"}]
["2023","25/01/23","Disponivel",4553964,566474514.48000002,{"$f":"TEXT(Saldo_Disponivel_VT[[#This Row],[Data]],\"mmmm\")","v":"janeiro"}]
["2023","26/01/23","Disponivel",4634503,586744955.01999998,{"$f":"TEXT(Saldo_Disponivel_VT[[#This Row],[Data]],\"mmmm\")","v":"janeiro"}]
["2023","27/01/23","Disponivel",4717448,606040507.29999995,{"$f":"TEXT(Saldo_Disponivel_VT[[#This Row],[Data]],\"mmmm\")","v":"janeiro"}]
["2023","28/01/23","Disponivel",4708255,603375337.69000006,{"$f":"TEXT(Saldo_Disponivel_VT[[#This Row],[Data]],\"mmmm\")","v":"janeiro"}]
["2023","29/01/23","Disponivel",4711752,599848198.00999999,{"$f":"TEXT(Saldo_Disponivel_VT[[#This Row],[Data]],\"mmmm\")","v":"janeiro"}]
["2023","30/01/23","Disponivel",4744654,607098439.82000005,{"$f":"TEXT(Saldo_Disponivel_VT[[#This Row],[Data]],\"mmmm\")","v":"janeiro"}]
["2023","31/01/23","Disponivel",4720886,597351914.5,{"$f":"TEXT(Saldo_Disponivel_VT[[#This Row],[Data]],\"mmmm\")","v":"janeiro"}]
["2023","01/02/23","Disponivel",5349683,613156817.08000004,{"$f":"TEXT(Saldo_Disponivel_VT[[#This Row],[Data]],\"mmmm\")","v":"fevereiro"}]
["2023","02/02/23","Disponivel",5257324,601167015.99000001,{"$f":"TEXT(Saldo_Disponivel_VT[[#This Row],[Data]],\"mmmm\")","v":"fevereiro"}]
["2023","03/02/23","Disponivel",5192374,593097512.13999999,{"$f":"TEXT(Saldo_Disponivel_VT[[#This Row],[Data]],\"mmmm\")","v":"fevereiro"}]
["2023","04/02/23","Disponivel",5149679,587371782.80999994,{"$f":"TEXT(Saldo_Disponivel_VT[[#This Row],[Data]],\"mmmm\")","v":"fevereiro"}]
["2023","05/02/23","Disponivel",5149741,585058184.98000002,{"$f":"TEXT(Saldo_Disponivel_VT[[#This Row],[Data]],\"mmmm\")","v":"fevereiro"}]
["2023","06/02/23","Disponivel",5112196,579233134.98000002,{"$f":"TEXT(Saldo_Disponivel_VT[[#This Row],[Data]],\"mmmm\")","v":"fevereiro"}]
["2023","07/02/23","Disponivel",5074644,573217066.23000002,{"$f":"TEXT(Saldo_Disponivel_VT[[#This Row],[Data]],\"mmmm\")","v":"fevereiro"}]
["2023","08/02/23","Disponivel",5027430,567215751.13,{"$f":"TEXT(Saldo_Disponivel_VT[[#This Row],[Data]],\"mmmm\")","v":"fevereiro"}]
["2023","09/02/23","Disponivel",5024047,565887098.91999996,{"$f":"TEXT(Saldo_Disponivel_VT[[#This Row],[Data]],\"mmmm\")","v":"fevereiro"}]
["2023","10/02/23","Disponivel",4997928,562906839.13,{"$f":"TEXT(Saldo_Disponivel_VT[[#This Row],[Data]],\"mmmm\")","v":"fevereiro"}]
["2023","11/02/23","Disponivel",4981389,560698706.73000002,{"$f":"TEXT(Saldo_Disponivel_VT[[#This Row],[Data]],\"mmmm\")","v":"fevereiro"}]
["2023","12/02/23","Disponivel",4996643,560183642.33000004,{"$f":"TEXT(Saldo_Disponivel_VT[[#This Row],[Data]],\"mmmm\")","v":"fevereiro"}]
["2023","13/02/23","Disponivel",4950555,554994751.27999997,{"$f":"TEXT(Saldo_Disponivel_VT[[#This Row],[Data]],\"mmmm\")","v":"fevereiro"}]
["2023","14/02/23","Disponivel",4951921,557677418,{"$f":"TEXT(Saldo_Disponivel_VT[[#This Row],[Data]],\"mmmm\")","v":"fevereiro"}]
["2023","15/02/23","Disponivel",4954606,561118797.38999999,{"$f":"TEXT(Saldo_Disponivel_VT[[#This Row],[Data]],\"mmmm\")","v":"fevereiro"}]
["2023","16/02/23","Disponivel",4964954,566077379.40999997,{"$f":"TEXT(Saldo_Disponivel_VT[[#This Row],[Data]],\"mmmm\")","v":"fevereiro"}]
["2023","17/02/23","Disponivel",5013704,581114666.13999999,{"$f":"TEXT(Saldo_Disponivel_VT[[#This Row],[Data]],\"mmmm\")","v":"fevereiro"}]
["2023","18/02/23","Disponivel",5002365,579205163.69000006,{"$f":"TEXT(Saldo_Disponivel_VT[[#This Row],[Data]],\"mmmm\")","v":"fevereiro"}]
["2023","19/02/23","Disponivel",5002994,577775815.04999995,{"$f":"TEXT(Saldo_Disponivel_VT[[#This Row],[Data]],\"mmmm\")","v":"fevereiro"}]
["2023","20/02/23","Disponivel",4978156,572916102.05999994,{"$f":"TEXT(Saldo_Disponivel_VT[[#This Row],[Data]],\"mmmm\")","v":"fevereiro"}]
["2023","21/02/23","Disponivel",4972165,569998028.67999995,{"$f":"TEXT(Saldo_Disponivel_VT[[#This Row],[Data]],\"mmmm\")","v":"fevereiro"}]
["2023","22/02/23","Disponivel",5013084,580802237.80999994,{"$f":"TEXT(Saldo_Disponivel_VT[[#This Row],[Data]],\"mmmm\")","v":"fevereiro"}]
["2023","23/02/23","Disponivel",5155378,621550841.13,{"$f":"TEXT(Saldo_Disponivel_VT[[#This Row],[Data]],\"mmmm\")","v":"fevereiro"}]
["2023","24/02/23","Disponivel",5249015,649730450.13,{"$f":"TEXT(Saldo_Disponivel_VT[[#This Row],[Data]],\"mmmm\")","v":"fevereiro"}]
["2023","25/02/23","Disponivel",5252404,650495455.73000002,{"$f":"TEXT(Saldo_Disponivel_VT[[#This Row],[Data]],\"mmmm\")","v":"fevereiro"}]
["2023","26/02/23","Disponivel",5257690,646641537.60000002,{"$f":"TEXT(Saldo_Disponivel_VT[[#This Row],[Data]],\"mmmm\")","v":"fevereiro"}]
["2023","27/02/23","Disponivel",5298631,656882859.26999998,{"$f":"TEXT(Saldo_Disponivel_VT[[#This Row],[Data]],\"mmmm\")","v":"fevereiro"}]
["2023","28/02/23","Disponivel",5294144,653499535.94000006,{"$f":"TEXT(Saldo_Disponivel_VT[[#This Row],[Data]],\"mmmm\")","v":"fevereiro"}]
["2023","01/03/23","Disponivel",6344979,705675833.28999996,{"$f":"TEXT(Saldo_Disponivel_VT[[#This Row],[Data]],\"mmmm\")","v":"março"}]
["2023","02/03/23","Disponivel",6207384,685743368.62,{"$f":"TEXT(Saldo_Disponivel_VT[[#This Row],[Data]],\"mmmm\")","v":"março"}]
["2023","03/03/23","Disponivel",6110726,672260616.65999997,{"$f":"TEXT(Saldo_Disponivel_VT[[#This Row],[Data]],\"mmmm\")","v":"março"}]
["2023","04/03/23","Disponivel",6058359,664316033.62,{"$f":"TEXT(Saldo_Disponivel_VT[[#This Row],[Data]],\"mmmm\")","v":"março"}]
["2023","05/03/23","Disponivel",6051353,660783051.76999998,{"$f":"TEXT(Saldo_Disponivel_VT[[#This Row],[Data]],\"mmmm\")","v":"março"}]
["2023","06/03/23","Disponivel",5828984,632695962.25,{"$f":"TEXT(Saldo_Disponivel_VT[[#This Row],[Data]],\"mmmm\")","v":"março"}]
["2023","07/03/23","Disponivel",5728053,620448092.07000005,{"$f":"TEXT(Saldo_Disponivel_VT[[#This Row],[Data]],\"mmmm\")","v":"março"}]
["2023","08/03/23","Disponivel",5656646,611557841.69000006,{"$f":"TEXT(Saldo_Disponivel_VT[[#This Row],[Data]],\"mmmm\")","v":"março"}]
["2023","09/03/23","Disponivel",5606240,606139970.72000003,{"$f":"TEXT(Saldo_Disponivel_VT[[#This Row],[Data]],\"mmmm\")","v":"março"}]
["2023","10/03/23","Disponivel",5565185,601983588.21000004,{"$f":"TEXT(Saldo_Disponivel_VT[[#This Row],[Data]],\"mmmm\")","v":"março"}]
["2023","11/03/23","Disponivel",5528785,598205023.5,{"$f":"TEXT(Saldo_Disponivel_VT[[#This Row],[Data]],\"mmmm\")","v":"março"}]
["2023","12/03/23","Disponivel",5536318,597239872.66999996,{"$f":"TEXT(Saldo_Disponivel_VT[[#This Row],[Data]],\"mmmm\")","v":"março"}]
["2023","13/03/23","Disponivel",5481970,591029043.73000002,{"$f":"TEXT(Saldo_Disponivel_VT[[#This Row],[Data]],\"mmmm\")","v":"março"}]
["2023","14/03/23","Disponivel",5447923,587596109.66999996,{"$f":"TEXT(Saldo_Disponivel_VT[[#This Row],[Data]],\"mmmm\")","v":"março"}]
["2023","15/03/23","Disponivel",5410677,583456380.16999996,{"$f":"TEXT(Saldo_Disponivel_VT[[#This Row],[Data]],\"mmmm\")","v":"março"}]
["2023","16/03/23","Disponivel",5399362,582846609.97000003,{"$f":"TEXT(Saldo_Disponivel_VT[[#This Row],[Data]],\"mmmm\")","v":"março"}]
["2023","17/03/23","Disponivel",5379614,582073554.89999998,{"$f":"TEXT(Saldo_Disponivel_VT[[#This Row],[Data]],\"mmmm\")","v":"março"}]
["2023","18/03/23","Disponivel",5359978,579422179.78999996,{"$f":"TEXT(Saldo_Disponivel_VT[[#This Row],[Data]],\"mmmm\")","v":"março"}]
["2023","19/03/23","Disponivel",5369322,578869452.5,{"$f":"TEXT(Saldo_Disponivel_VT[[#This Row],[Data]],\"mmmm\")","v":"março"}]
["2023","20/03/23","Disponivel",5355145,577579564.86000001,{"$f":"TEXT(Saldo_Disponivel_VT[[#This Row],[Data]],\"mmmm\")","v":"março"}]
["2023","21/03/23","Disponivel",5364293,583696137.90999997,{"$f":"TEXT(Saldo_Disponivel_VT[[#This Row],[Data]],\"mmmm\")","v":"março"}]
["2023","22/03/23","Disponivel",5371879,588245190.83000004,{"$f":"TEXT(Saldo_Disponivel_VT[[#This Row],[Data]],\"mmmm\")","v":"março"}]
["2023","23/03/23","Disponivel",5459547,607294256.48000002,{"$f":"TEXT(Saldo_Disponivel_VT[[#This Row],[Data]],\"mmmm\")","v":"março"}]
["2023","24/03/23","Disponivel",5517650,623059750.77999997,{"$f":"TEXT(Saldo_Disponivel_VT[[#This Row],[Data]],\"mmmm\")","v":"março"}]
["2023","25/03/23","Disponivel",5492685,618736928.27999997,{"$f":"TEXT(Saldo_Disponivel_VT[[#This Row],[Data]],\"mmmm\")","v":"março"}]
["2023","26/03/23","Disponivel",5500266,616268794.63999999,{"$f":"TEXT(Saldo_Disponivel_VT[[#This Row],[Data]],\"mmmm\")","v":"março"}]
["2023","27/03/23","Disponivel",5523845,625419649.67999995,{"$f":"TEXT(Saldo_Disponivel_VT[[#This Row],[Data]],\"mmmm\")","v":"março"}]
["2023","28/03/23","Disponivel",5594729,643368331.70000005,{"$f":"TEXT(Saldo_Disponivel_VT[[#This Row],[Data]],\"mmmm\")","v":"março"}]
["2023","29/03/23","Disponivel",5638026,655488295.38999999,{"$f":"TEXT(Saldo_Disponivel_VT[[#This Row],[Data]],\"mmmm\")","v":"março"}]
["2023","30/03/23","Disponivel",5639685,656128613.40999997,{"$f":"TEXT(Saldo_Disponivel_VT[[#This Row],[Data]],\"mmmm\")","v":"março"}]
["2023","31/03/23","Disponivel",5601976,648022772.03999996,{"$f":"TEXT(Saldo_Disponivel_VT[[#This Row],[Data]],\"mmmm\")","v":"março"}]
["2023","01/04/23","Disponivel",6798627,707924910.24000001,{"$f":"TEXT(Saldo_Disponivel_VT[[#This Row],[Data]],\"mmmm\")","v":"abril"}]
["2023","02/04/23","Disponivel",6767216,701873771.01999998,{"$f":"TEXT(Saldo_Disponivel_VT[[#This Row],[Data]],\"mmmm\")","v":"abril"}]
["2023","03/04/23","Disponivel",6553946,678525555.10000002,{"$f":"TEXT(Saldo_Disponivel_VT[[#This Row],[Data]],\"mmmm\")","v":"abril"}]
["2023","04/04/23","Disponivel",6436245,664201014.96000004,{"$f":"TEXT(Saldo_Disponivel_VT[[#This Row],[Data]],\"mmmm\")","v":"abril"}]
["2023","05/04/23","Disponivel",6343022,652652357.72000003,{"$f":"TEXT(Saldo_Disponivel_VT[[#This Row],[Data]],\"mmmm\")","v":"abril"}]
["2023","06/04/23","Disponivel",6179871,635900915.14999998,{"$f":"TEXT(Saldo_Disponivel_VT[[#This Row],[Data]],\"mmmm\")","v":"abril"}]
["2023","07/04/23","Disponivel",6157337,632849761.32000005,{"$f":"TEXT(Saldo_Disponivel_VT[[#This Row],[Data]],\"mmmm\")","v":"abril"}]
["2023","08/04/23","Disponivel",6092015,626047042.61000001,{"$f":"TEXT(Saldo_Disponivel_VT[[#This Row],[Data]],\"mmmm\")","v":"abril"}]
["2023","09/04/23","Disponivel",6090116,624327112.66999996,{"$f":"TEXT(Saldo_Disponivel_VT[[#This Row],[Data]],\"mmmm\")","v":"abril"}]
["2023","10/04/23","Disponivel",5954430,610548812.63999999,{"$f":"TEXT(Saldo_Disponivel_VT[[#This Row],[Data]],\"mmmm\")","v":"abril"}]
["2023","11/04/23","Disponivel",5868421,602821681,{"$f":"TEXT(Saldo_Disponivel_VT[[#This Row],[Data]],\"mmmm\")","v":"abril"}]
["2023","12/04/23","Disponivel",5807213,597852884.24000001,{"$f":"TEXT(Saldo_Disponivel_VT[[#This Row],[Data]],\"mmmm\")","v":"abril"}]
["2023","13/04/23","Disponivel",5760296,593486397.71000004,{"$f":"TEXT(Saldo_Disponivel_VT[[#This Row],[Data]],\"mmmm\")","v":"abril"}]
["2023","14/04/23","Disponivel",5737140,591235679.86000001,{"$f":"TEXT(Saldo_Disponivel_VT[[#This Row],[Data]],\"mmmm\")","v":"abril"}]
["2023","15/04/23","Disponivel",5709155,588180414.20000005,{"$f":"TEXT(Saldo_Disponivel_VT[[#This Row],[Data]],\"mmmm\")","v":"abril"}]
["2023","16/04/23","Disponivel",5714673,587368016.86000001,{"$f":"TEXT(Saldo_Disponivel_VT[[#This Row],[Data]],\"mmmm\")","v":"abril"}]
["2023","17/04/23","Disponivel",5699867,590124256.88,{"$f":"TEXT(Saldo_Disponivel_VT[[#This Row],[Data]],\"mmmm\")","v":"abril"}]
["2023","18/04/23","Disponivel",5697456,594449159.88999999,{"$f":"TEXT(Saldo_Disponivel_VT[[#This Row],[Data]],\"mmmm\")","v":"abril"}]
["2023","19/04/23","Disponivel",5713633,604049242.50999999,{"$f":"TEXT(Saldo_Disponivel_VT[[#This Row],[Data]],\"mmmm\")","v":"abril"}]
["2023","20/04/23","Disponivel",5729599,612499329.51999998,{"$f":"TEXT(Saldo_Disponivel_VT[[#This Row],[Data]],\"mmmm\")","v":"abril"}]
["2023","21/04/23","Disponivel",5723719,610930335.16999996,{"$f":"TEXT(Saldo_Disponivel_VT[[#This Row],[Data]],\"mmmm\")","v":"abril"}]
["2023","22/04/23","Disponivel",5696644,606420649.79999995,{"$f":"TEXT(Saldo_Disponivel_VT[[#This Row],[Data]],\"mmmm\")","v":"abril"}]
["2023","23/04/23","Disponivel",5704240,605019812.08000004,{"$f":"TEXT(Saldo_Disponivel_VT[[#This Row],[Data]],\"mmmm\")","v":"abril"}]
["2023","24/04/23","Disponivel",5728704,616688457.38,{"$f":"TEXT(Saldo_Disponivel_VT[[#This Row],[Data]],\"mmmm\")","v":"abril"}]
["2023","25/04/23","Disponivel",5803103,641600304.35000002,{"$f":"TEXT(Saldo_Disponivel_VT[[#This Row],[Data]],\"mmmm\")","v":"abril"}]
["2023","26/04/23","Disponivel",5925612,676708247.00999999,{"$f":"TEXT(Saldo_Disponivel_VT[[#This Row],[Data]],\"mmmm\")","v":"abril"}]
["2023","27/04/23","Disponivel",5959215,686199855.84000003,{"$f":"TEXT(Saldo_Disponivel_VT[[#This Row],[Data]],\"mmmm\")","v":"abril"}]
["2023","28/04/23","Disponivel",5927177,679688281.71000004,{"$f":"TEXT(Saldo_Disponivel_VT[[#This Row],[Data]],\"mmmm\")","v":"abril"}]
["2023","29/04/23","Disponivel",5870878,666938242.50999999,{"$f":"TEXT(Saldo_Disponivel_VT[[#This Row],[Data]],\"mmmm\")","v":"abril"}]
["2023","30/04/23","Disponivel",5877671,668425327.80999994,{"$f":"TEXT(Saldo_Disponivel_VT[[#This Row],[Data]],\"mmmm\")","v":"abril"}]
["2023","01/05/23","Disponivel",7232575,738340410.85000002,{"$f":"TEXT(Saldo_Disponivel_VT[[#This Row],[Data]],\"mmmm\")","v":"maio"}]
["2023","02/05/23","Disponivel",6945731,702726777.71000004,{"$f":"TEXT(Saldo_Disponivel_VT[[#This Row],[Data]],\"mmmm\")","v":"maio"}]
["2023","03/05/23","Disponivel",6806510,688870736.90999997,{"$f":"TEXT(Saldo_Disponivel_VT[[#This Row],[Data]],\"mmmm\")","v":"maio"}]
["2023","04/05/23","Disponivel",6696687,675463596.50999999,{"$f":"TEXT(Saldo_Disponivel_VT[[#This Row],[Data]],\"mmmm\")","v":"maio"}]
["2023","05/05/23","Disponivel",6615872,664222134.27999997,{"$f":"TEXT(Saldo_Disponivel_VT[[#This Row],[Data]],\"mmmm\")","v":"maio"}]
["2023","06/05/23","Disponivel",6503410,651203004.89999998,{"$f":"TEXT(Saldo_Disponivel_VT[[#This Row],[Data]],\"mmmm\")","v":"maio"}]
["2023","07/05/23","Disponivel",6481619,648054041.52999997,{"$f":"TEXT(Saldo_Disponivel_VT[[#This Row],[Data]],\"mmmm\")","v":"maio"}]
["2023","08/05/23","Disponivel",6312444,629379210.15999997,{"$f":"TEXT(Saldo_Disponivel_VT[[#This Row],[Data]],\"mmmm\")","v":"maio"}]
["2023","09/05/23","Disponivel",6199430,619028257.34000003,{"$f":"TEXT(Saldo_Disponivel_VT[[#This Row],[Data]],\"mmmm\")","v":"maio"}]
["2023","10/05/23","Disponivel",6122347,612194798.03999996,{"$f":"TEXT(Saldo_Disponivel_VT[[#This Row],[Data]],\"mmmm\")","v":"maio"}]
["2023","11/05/23","Disponivel",6073965,608554336.86000001,{"$f":"TEXT(Saldo_Disponivel_VT[[#This Row],[Data]],\"mmmm\")","v":"maio"}]
["2023","12/05/23","Disponivel",6018632,604419656.24000001,{"$f":"TEXT(Saldo_Disponivel_VT[[#This Row],[Data]],\"mmmm\")","v":"maio"}]
["2023","13/05/23","Disponivel",5986504,601197670.17999995,{"$f":"TEXT(Saldo_Disponivel_VT[[#This Row],[Data]],\"mmmm\")","v":"maio"}]
["2023","14/05/23","Disponivel",5988896,600265740.57000005,{"$f":"TEXT(Saldo_Disponivel_VT[[#This Row],[Data]],\"mmmm\")","v":"maio"}]
["2023","15/05/23","Disponivel",5934065,594028749.52999997,{"$f":"TEXT(Saldo_Disponivel_VT[[#This Row],[Data]],\"mmmm\")","v":"maio"}]
["2023","16/05/23","Disponivel",5899561,590692792.47000003,{"$f":"TEXT(Saldo_Disponivel_VT[[#This Row],[Data]],\"mmmm\")","v":"maio"}]
["2023","17/05/23","Disponivel",5872547,589574116.39999998,{"$f":"TEXT(Saldo_Disponivel_VT[[#This Row],[Data]],\"mmmm\")","v":"maio"}]
["2023","18/05/23","Disponivel",5862683,590538984.55999994,{"$f":"TEXT(Saldo_Disponivel_VT[[#This Row],[Data]],\"mmmm\")","v":"maio"}]
["2023","19/05/23","Disponivel",5880657,598000783.57000005,{"$f":"TEXT(Saldo_Disponivel_VT[[#This Row],[Data]],\"mmmm\")","v":"maio"}]
["2023","20/05/23","Disponivel",5859557,594907697.29999995,{"$f":"TEXT(Saldo_Disponivel_VT[[#This Row],[Data]],\"mmmm\")","v":"maio"}]
["2023","21/05/23","Disponivel",5867935,593933954.5,{"$f":"TEXT(Saldo_Disponivel_VT[[#This Row],[Data]],\"mmmm\")","v":"maio"}]
["2023","22/05/23","Disponivel",5879465,602681326.59000003,{"$f":"TEXT(Saldo_Disponivel_VT[[#This Row],[Data]],\"mmmm\")","v":"maio"}]
["2023","23/05/23","Disponivel",5906427,612964633.95000005,{"$f":"TEXT(Saldo_Disponivel_VT[[#This Row],[Data]],\"mmmm\")","v":"maio"}]
["2023","24/05/23","Disponivel",5948299,626755470.52999997,{"$f":"TEXT(Saldo_Disponivel_VT[[#This Row],[Data]],\"mmmm\")","v":"maio"}]
["2023","25/05/23","Disponivel",6025580,648964969.70000005,{"$f":"TEXT(Saldo_Disponivel_VT[[#This Row],[Data]],\"mmmm\")","v":"maio"}]
["2023","26/05/23","Disponivel",6073400,662719332.83000004,{"$f":"TEXT(Saldo_Disponivel_VT[[#This Row],[Data]],\"mmmm\")","v":"maio"}]
["2023","27/05/23","Disponivel",6028234,652874240.38999999,{"$f":"TEXT(Saldo_Disponivel_VT[[#This Row],[Data]],\"mmmm\")","v":"maio"}]
["2023","28/05/23","Disponivel",6040057,652365056.80999994,{"$f":"TEXT(Saldo_Disponivel_VT[[#This Row],[Data]],\"mmmm\")","v":"maio"}]
["2023","29/05/23","Disponivel",6084147,666697668.38999999,{"$f":"TEXT(Saldo_Disponivel_VT[[#This Row],[Data]],\"mmmm\")","v":"maio"}]
["2023","30/05/23","Disponivel",6068286,664135687.70000005,{"$f":"TEXT(Saldo_Disponivel_VT[[#This Row],[Data]],\"mmmm\")","v":"maio"}]
["2023","31/05/23","Disponivel",6043129,657601208.65999997,{"$f":"TEXT(Saldo_Disponivel_VT[[#This Row],[Data]],\"mmmm\")","v":"maio"}]
["2023","01/06/23","Disponivel",7266896,717847214.71000004,{"$f":"TEXT(Saldo_Disponivel_VT[[#This Row],[Data]],\"mmmm\")","v":"junho"}]
["2023","02/06/23","Disponivel",7109931,698865708.64999998,{"$f":"TEXT(Saldo_Disponivel_VT[[#This Row],[Data]],\"mmmm\")","v":"junho"}]
["2023","03/06/23","Disponivel",7028227,688518821.28999996,{"$f":"TEXT(Saldo_Disponivel_VT[[#This Row],[Data]],\"mmmm\")","v":"junho"}]
["2023","04/06/23","Disponivel",7007056,684108118.45000005,{"$f":"TEXT(Saldo_Disponivel_VT[[#This Row],[Data]],\"mmmm\")","v":"junho"}]
["2023","05/06/23","Disponivel",6860750,665782630.30999994,{"$f":"TEXT(Saldo_Disponivel_VT[[#This Row],[Data]],\"mmmm\")","v":"junho"}]
["2023","06/06/23","Disponivel",6637202,643570555.55999994,{"$f":"TEXT(Saldo_Disponivel_VT[[#This Row],[Data]],\"mmmm\")","v":"junho"}]
["2023","07/06/23","Disponivel",6509963,632229587,{"$f":"TEXT(Saldo_Disponivel_VT[[#This Row],[Data]],\"mmmm\")","v":"junho"}]
["2023","08/06/23","Disponivel",6473719,628347002.03999996,{"$f":"TEXT(Saldo_Disponivel_VT[[#This Row],[Data]],\"mmmm\")","v":"junho"}]
["2023","09/06/23","Disponivel",6378281,619312259.38999999,{"$f":"TEXT(Saldo_Disponivel_VT[[#This Row],[Data]],\"mmmm\")","v":"junho"}]
["2023","10/06/23","Disponivel",6328065,614778843.86000001,{"$f":"TEXT(Saldo_Disponivel_VT[[#This Row],[Data]],\"mmmm\")","v":"junho"}]
["2023","11/06/23","Disponivel",6316656,612792446.39999998,{"$f":"TEXT(Saldo_Disponivel_VT[[#This Row],[Data]],\"mmmm\")","v":"junho"}]
["2023","12/06/23","Disponivel",6237613,606846340.79999995,{"$f":"TEXT(Saldo_Disponivel_VT[[#This Row],[Data]],\"mmmm\")","v":"junho"}]
["2023","13/06/23","Disponivel",6194121,603304880.87,{"$f":"TEXT(Saldo_Disponivel_VT[[#This Row],[Data]],\"mmmm\")","v":"junho"}]
["2023","14/06/23","Disponivel",6169565,600479308.27999997,{"$f":"TEXT(Saldo_Disponivel_VT[[#This Row],[Data]],\"mmmm\")","v":"junho"}]
["2023","15/06/23","Disponivel",6143488,598775202.77999997,{"$f":"TEXT(Saldo_Disponivel_VT[[#This Row],[Data]],\"mmmm\")","v":"junho"}]
["2023","16/06/23","Disponivel",6113140,596398392.74000001,{"$f":"TEXT(Saldo_Disponivel_VT[[#This Row],[Data]],\"mmmm\")","v":"junho"}]
["2023","17/06/23","Disponivel",6085549,593438512.74000001,{"$f":"TEXT(Saldo_Disponivel_VT[[#This Row],[Data]],\"mmmm\")","v":"junho"}]
["2023","18/06/23","Disponivel",6091301,592756066.75999999,{"$f":"TEXT(Saldo_Disponivel_VT[[#This Row],[Data]],\"mmmm\")","v":"junho"}]
["2023","19/06/23","Disponivel",6050913,589637278.28999996,{"$f":"TEXT(Saldo_Disponivel_VT[[#This Row],[Data]],\"mmmm\")","v":"junho"}]
["2023","20/06/23","Disponivel",6061859,597666272.61000001,{"$f":"TEXT(Saldo_Disponivel_VT[[#This Row],[Data]],\"mmmm\")","v":"junho"}]
["2023","21/06/23","Disponivel",6070900,604246835.24000001,{"$f":"TEXT(Saldo_Disponivel_VT[[#This Row],[Data]],\"mmmm\")","v":"junho"}]
["2023","22/06/23","Disponivel",6094425,613790917.11000001,{"$f":"TEXT(Saldo_Disponivel_VT[[#This Row],[Data]],\"mmmm\")","v":"junho"}]
["2023","23/06/23","Disponivel",6096340,619306841.47000003,{"$f":"TEXT(Saldo_Disponivel_VT[[#This Row],[Data]],\"mmmm\")","v":"junho"}]
["2023","24/06/23","Disponivel",6073956,614788378.35000002,{"$f":"TEXT(Saldo_Disponivel_VT[[#This Row],[Data]],\"mmmm\")","v":"junho"}]
["2023","25/06/23","Disponivel",6078002,612760045.38,{"$f":"TEXT(Saldo_Disponivel_VT[[#This Row],[Data]],\"mmmm\")","v":"junho"}]
["2023","26/06/23","Disponivel",6144096,634083901.38,{"$f":"TEXT(Saldo_Disponivel_VT[[#This Row],[Data]],\"mmmm\")","v":"junho"}]
["2023","27/06/23","Disponivel",6198280,650497807.54999995,{"$f":"TEXT(Saldo_Disponivel_VT[[#This Row],[Data]],\"mmmm\")","v":"junho"}]
["2023","28/06/23","Disponivel",6302927,677260156.59000003,{"$f":"TEXT(Saldo_Disponivel_VT[[#This Row],[Data]],\"mmmm\")","v":"junho"}]
["2023","29/06/23","Disponivel",6308461,680097436.33000004,{"$f":"TEXT(Saldo_Disponivel_VT[[#This Row],[Data]],\"mmmm\")","v":"junho"}]
["2023","30/06/23","Disponivel",6255060,668310589.48000002,{"$f":"TEXT(Saldo_Disponivel_VT[[#This Row],[Data]],\"mmmm\")","v":"junho"}]
["2023","01/07/23","Disponivel",6631787,676160196.61000001,{"$f":"TEXT(Saldo_Disponivel_VT[[#This Row],[Data]],\"mmmm\")","v":"julho"}]
["2023","02/07/23","Disponivel",6758189,674471457.63,{"$f":"TEXT(Saldo_Disponivel_VT[[#This Row],[Data]],\"mmmm\")","v":"julho"}]
["2023","03/07/23","Disponivel",7373301,676231579.77999997,{"$f":"TEXT(Saldo_Disponivel_VT[[#This Row],[Data]],\"mmmm\")","v":"julho"}]
["2023","04/07/23","Disponivel",7247942,662459803.84000003,{"$f":"TEXT(Saldo_Disponivel_VT[[#This Row],[Data]],\"mmmm\")","v":"julho"}]
["2023","05/07/23","Disponivel",7154832,653878135.36000001,{"$f":"TEXT(Saldo_Disponivel_VT[[#This Row],[Data]],\"mmmm\")","v":"julho"}]
["2023","06/07/23","Disponivel",7011167,642559109.49000001,{"$f":"TEXT(Saldo_Disponivel_VT[[#This Row],[Data]],\"mmmm\")","v":"julho"}]
["2023","07/07/23","Disponivel",6896743,633436310.25,{"$f":"TEXT(Saldo_Disponivel_VT[[#This Row],[Data]],\"mmmm\")","v":"julho"}]
["2023","08/07/23","Disponivel",6821408,627756143.76999998,{"$f":"TEXT(Saldo_Disponivel_VT[[#This Row],[Data]],\"mmmm\")","v":"julho"}]
["2023","09/07/23","Disponivel",6810233,626282191.05999994,{"$f":"TEXT(Saldo_Disponivel_VT[[#This Row],[Data]],\"mmmm\")","v":"julho"}]
["2023","10/07/23","Disponivel",6717402,618583281.54999995,{"$f":"TEXT(Saldo_Disponivel_VT[[#This Row],[Data]],\"mmmm\")","v":"julho"}]
["2023","11/07/23","Disponivel",6649756,613703443.73000002,{"$f":"TEXT(Saldo_Disponivel_VT[[#This Row],[Data]],\"mmmm\")","v":"julho"}]
["2023","12/07/23","Disponivel",6586651,609618539.86000001,{"$f":"TEXT(Saldo_Disponivel_VT[[#This Row],[Data]],\"mmmm\")","v":"julho"}]
["2023","13/07/23","Disponivel",6544233,606536941,{"$f":"TEXT(Saldo_Disponivel_VT[[#This Row],[Data]],\"mmmm\")","v":"julho"}]
["2023","14/07/23","Disponivel",6510027,605382257.77999997,{"$f":"TEXT(Saldo_Disponivel_VT[[#This Row],[Data]],\"mmmm\")","v":"julho"}]
["2023","15/07/23","Disponivel",6483659,602853578.87,{"$f":"TEXT(Saldo_Disponivel_VT[[#This Row],[Data]],\"mmmm\")","v":"julho"}]
["2023","16/07/23","Disponivel",6482450,601846161.96000004,{"$f":"TEXT(Saldo_Disponivel_VT[[#This Row],[Data]],\"mmmm\")","v":"julho"}]
["2023","17/07/23","Disponivel",6447801,598973109.94000006,{"$f":"TEXT(Saldo_Disponivel_VT[[#This Row],[Data]],\"mmmm\")","v":"julho"}]
["2023","18/07/23","Disponivel",6427787,600771837.20000005,{"$f":"TEXT(Saldo_Disponivel_VT[[#This Row],[Data]],\"mmmm\")","v":"julho"}]
["2023","19/07/23","Disponivel",6416434,603946772.5,{"$f":"TEXT(Saldo_Disponivel_VT[[#This Row],[Data]],\"mmmm\")","v":"julho"}]
["2023","20/07/23","Disponivel",6430436,612300011.5,{"$f":"TEXT(Saldo_Disponivel_VT[[#This Row],[Data]],\"mmmm\")","v":"julho"}]
["2023","21/07/23","Disponivel",6430271,618411263.34000003,{"$f":"TEXT(Saldo_Disponivel_VT[[#This Row],[Data]],\"mmmm\")","v":"julho"}]
["2023","22/07/23","Disponivel",6391712,614065355.85000002,{"$f":"TEXT(Saldo_Disponivel_VT[[#This Row],[Data]],\"mmmm\")","v":"julho"}]
["2023","23/07/23","Disponivel",6410241,613686833.83000004,{"$f":"TEXT(Saldo_Disponivel_VT[[#This Row],[Data]],\"mmmm\")","v":"julho"}]
["2023","24/07/23","Disponivel",6421332,623259677.22000003,{"$f":"TEXT(Saldo_Disponivel_VT[[#This Row],[Data]],\"mmmm\")","v":"julho"}]
["2023","25/07/23","Disponivel",6483626,650709044.24000001,{"$f":"TEXT(Saldo_Disponivel_VT[[#This Row],[Data]],\"mmmm\")","v":"julho"}]
["2023","26/07/23","Disponivel",6559513,677834018.38999999,{"$f":"TEXT(Saldo_Disponivel_VT[[#This Row],[Data]],\"mmmm\")","v":"julho"}]
["2023","27/07/23","Disponivel",6611246,695436225.97000003,{"$f":"TEXT(Saldo_Disponivel_VT[[#This Row],[Data]],\"mmmm\")","v":"julho"}]
["2023","28/07/23","Disponivel",6624507,702172837.25999999,{"$f":"TEXT(Saldo_Disponivel_VT[[#This Row],[Data]],\"mmmm\")","v":"julho"}]
["2023","29/07/23","Disponivel",6596104,696311143.27999997,{"$f":"TEXT(Saldo_Disponivel_VT[[#This Row],[Data]],\"mmmm\")","v":"julho"}]
["2023","30/07/23","Disponivel",6592026,690749481.87,{"$f":"TEXT(Saldo_Disponivel_VT[[#This Row],[Data]],\"mmmm\")","v":"julho"}]
["2023","31/07/23","Disponivel",6494566,670345550.25999999,{"$f":"TEXT(Saldo_Disponivel_VT[[#This Row],[Data]],\"mmmm\")","v":"julho"}]
["2023","01/08/23","Disponivel",7627646,721332961.96000004,{"$f":"TEXT(Saldo_Disponivel_VT[[#This Row],[Data]],\"mmmm\")","v":"agosto"}]
["2023","02/08/23","Disponivel",7490464,707665292.05999994,{"$f":"TEXT(Saldo_Disponivel_VT[[#This Row],[Data]],\"mmmm\")","v":"agosto"}]
["2023","03/08/23","Disponivel",7383483,694245228.19000006,{"$f":"TEXT(Saldo_Disponivel_VT[[#This Row],[Data]],\"mmmm\")","v":"agosto"}]
["2023","04/08/23","Disponivel",7294803,682923797.23000002,{"$f":"TEXT(Saldo_Disponivel_VT[[#This Row],[Data]],\"mmmm\")","v":"agosto"}]
["2023","05/08/23","Disponivel",7239117,676235773.04999995,{"$f":"TEXT(Saldo_Disponivel_VT[[#This Row],[Data]],\"mmmm\")","v":"agosto"}]
["2023","06/08/23","Disponivel",7206950,671802427.07000005,{"$f":"TEXT(Saldo_Disponivel_VT[[#This Row],[Data]],\"mmmm\")","v":"agosto"}]
["2023","07/08/23","Disponivel",7014097,652302143.74000001,{"$f":"TEXT(Saldo_Disponivel_VT[[#This Row],[Data]],\"mmmm\")","v":"agosto"}]
["2023","08/08/23","Disponivel",6902595,641549730.75,{"$f":"TEXT(Saldo_Disponivel_VT[[#This Row],[Data]],\"mmmm\")","v":"agosto"}]
["2023","09/08/23","Disponivel",6818640,634755371.51999998,{"$f":"TEXT(Saldo_Disponivel_VT[[#This Row],[Data]],\"mmmm\")","v":"agosto"}]
["2023","10/08/23","Disponivel",6745662,628687913.91999996,{"$f":"TEXT(Saldo_Disponivel_VT[[#This Row],[Data]],\"mmmm\")","v":"agosto"}]
["2023","11/08/23","Disponivel",6690536,624952625.74000001,{"$f":"TEXT(Saldo_Disponivel_VT[[#This Row],[Data]],\"mmmm\")","v":"agosto"}]
["2023","12/08/23","Disponivel",6655387,621561411.46000004,{"$f":"TEXT(Saldo_Disponivel_VT[[#This Row],[Data]],\"mmmm\")","v":"agosto"}]
["2023","13/08/23","Disponivel",6656868,620592180.34000003,{"$f":"TEXT(Saldo_Disponivel_VT[[#This Row],[Data]],\"mmmm\")","v":"agosto"}]
["2023","14/08/23","Disponivel",6594812,614640791.95000005,{"$f":"TEXT(Saldo_Disponivel_VT[[#This Row],[Data]],\"mmmm\")","v":"agosto"}]
["2023","15/08/23","Disponivel",6562454,612981633.38999999,{"$f":"TEXT(Saldo_Disponivel_VT[[#This Row],[Data]],\"mmmm\")","v":"agosto"}]
["2023","16/08/23","Disponivel",6521122,608984617.65999997,{"$f":"TEXT(Saldo_Disponivel_VT[[#This Row],[Data]],\"mmmm\")","v":"agosto"}]
["2023","17/08/23","Disponivel",6496900,607329933.58000004,{"$f":"TEXT(Saldo_Disponivel_VT[[#This Row],[Data]],\"mmmm\")","v":"agosto"}]
["2023","18/08/23","Disponivel",6495262,611114228.28999996,{"$f":"TEXT(Saldo_Disponivel_VT[[#This Row],[Data]],\"mmmm\")","v":"agosto"}]
["2023","19/08/23","Disponivel",6473120,608219421.47000003,{"$f":"TEXT(Saldo_Disponivel_VT[[#This Row],[Data]],\"mmmm\")","v":"agosto"}]
["2023","20/08/23","Disponivel",6482233,607506156.86000001,{"$f":"TEXT(Saldo_Disponivel_VT[[#This Row],[Data]],\"mmmm\")","v":"agosto"}]
["2023","21/08/23","Disponivel",6478360,611181133.10000002,{"$f":"TEXT(Saldo_Disponivel_VT[[#This Row],[Data]],\"mmmm\")","v":"agosto"}]
["2023","22/08/23","Disponivel",6477723,616028940.75,{"$f":"TEXT(Saldo_Disponivel_VT[[#This Row],[Data]],\"mmmm\")","v":"agosto"}]
["2023","23/08/23","Disponivel",6510343,627317252.19000006,{"$f":"TEXT(Saldo_Disponivel_VT[[#This Row],[Data]],\"mmmm\")","v":"agosto"}]
["2023","24/08/23","Disponivel",6539523,638179309.48000002,{"$f":"TEXT(Saldo_Disponivel_VT[[#This Row],[Data]],\"mmmm\")","v":"agosto"}]
["2023","25/08/23","Disponivel",6605211,658028367.51999998,{"$f":"TEXT(Saldo_Disponivel_VT[[#This Row],[Data]],\"mmmm\")","v":"agosto"}]
["2023","26/08/23","Disponivel",6586401,654127901.83000004,{"$f":"TEXT(Saldo_Disponivel_VT[[#This Row],[Data]],\"mmmm\")","v":"agosto"}]
["2023","27/08/23","Disponivel",6592835,651494923.98000002,{"$f":"TEXT(Saldo_Disponivel_VT[[#This Row],[Data]],\"mmmm\")","v":"agosto"}]
["2023","28/08/23","Disponivel",6633633,664940188.55999994,{"$f":"TEXT(Saldo_Disponivel_VT[[#This Row],[Data]],\"mmmm\")","v":"agosto"}]
["2023","29/08/23","Disponivel",6687654,680905583.10000002,{"$f":"TEXT(Saldo_Disponivel_VT[[#This Row],[Data]],\"mmmm\")","v":"agosto"}]
["2023","30/08/23","Disponivel",6689667,684318034.19000006,{"$f":"TEXT(Saldo_Disponivel_VT[[#This Row],[Data]],\"mmmm\")","v":"agosto"}]
["2023","31/08/23","Disponivel",6641290,672756460.98000002,{"$f":"TEXT(Saldo_Disponivel_VT[[#This Row],[Data]],\"mmmm\")","v":"agosto"}]
["2023","01/09/23","Disponivel",7941562,736481278.86000001,{"$f":"TEXT(Saldo_Disponivel_VT[[#This Row],[Data]],\"mmmm\")","v":"setembro"}]
["2023","02/09/23","Disponivel",7847214,724512733.91999996,{"$f":"TEXT(Saldo_Disponivel_VT[[#This Row],[Data]],\"mmmm\")","v":"setembro"}]
["2023","03/09/23","Disponivel",7822705,719349945.59000003,{"$f":"TEXT(Saldo_Disponivel_VT[[#This Row],[Data]],\"mmmm\")","v":"setembro"}]
["2023","04/09/23","Disponivel",7640767,697406779.51999998,{"$f":"TEXT(Saldo_Disponivel_VT[[#This Row],[Data]],\"mmmm\")","v":"setembro"}]
["2023","05/09/23","Disponivel",7527136,684263896.77999997,{"$f":"TEXT(Saldo_Disponivel_VT[[#This Row],[Data]],\"mmmm\")","v":"setembro"}]
["2023","06/09/23","Disponivel",7316799,664664045.12,{"$f":"TEXT(Saldo_Disponivel_VT[[#This Row],[Data]],\"mmmm\")","v":"setembro"}]
["2023","07/09/23","Disponivel",7274326,660469362.67999995,{"$f":"TEXT(Saldo_Disponivel_VT[[#This Row],[Data]],\"mmmm\")","v":"setembro"}]
["2023","08/09/23","Disponivel",7159303,649543304.88999999,{"$f":"TEXT(Saldo_Disponivel_VT[[#This Row],[Data]],\"mmmm\")","v":"setembro"}]
["2023","09/09/23","Disponivel",7101628,644175050.54999995,{"$f":"TEXT(Saldo_Disponivel_VT[[#This Row],[Data]],\"mmmm\")","v":"setembro"}]
["2023","10/09/23","Disponivel",7087344,641953246.42999995,{"$f":"TEXT(Saldo_Disponivel_VT[[#This Row],[Data]],\"mmmm\")","v":"setembro"}]
["2023","11/09/23","Disponivel",6975107,632040398.47000003,{"$f":"TEXT(Saldo_Disponivel_VT[[#This Row],[Data]],\"mmmm\")","v":"setembro"}]
["2023","12/09/23","Disponivel",6891669,625241609.03999996,{"$f":"TEXT(Saldo_Disponivel_VT[[#This Row],[Data]],\"mmmm\")","v":"setembro"}]
["2023","13/09/23","Disponivel",6838891,620538613.47000003,{"$f":"TEXT(Saldo_Disponivel_VT[[#This Row],[Data]],\"mmmm\")","v":"setembro"}]
["2023","14/09/23","Disponivel",6808231,617569568.28999996,{"$f":"TEXT(Saldo_Disponivel_VT[[#This Row],[Data]],\"mmmm\")","v":"setembro"}]
["2023","16/09/23","Disponivel",6744957,612199149.25,{"$f":"TEXT(Saldo_Disponivel_VT[[#This Row],[Data]],\"mmmm\")","v":"setembro"}]
["2023","17/09/23","Disponivel",6751400,611392754.85000002,{"$f":"TEXT(Saldo_Disponivel_VT[[#This Row],[Data]],\"mmmm\")","v":"setembro"}]
["2023","18/09/23","Disponivel",6709246,607597578.46000004,{"$f":"TEXT(Saldo_Disponivel_VT[[#This Row],[Data]],\"mmmm\")","v":"setembro"}]
["2023","19/09/23","Disponivel",6700976,611118377.83000004,{"$f":"TEXT(Saldo_Disponivel_VT[[#This Row],[Data]],\"mmmm\")","v":"setembro"}]
["2023","20/09/23","Disponivel",6704832,616547047.83000004,{"$f":"TEXT(Saldo_Disponivel_VT[[#This Row],[Data]],\"mmmm\")","v":"setembro"}]
["2023","21/09/23","Disponivel",6724757,625155192.46000004,{"$f":"TEXT(Saldo_Disponivel_VT[[#This Row],[Data]],\"mmmm\")","v":"setembro"}]
["2023","22/09/23","Disponivel",6755638,636330966.69000006,{"$f":"TEXT(Saldo_Disponivel_VT[[#This Row],[Data]],\"mmmm\")","v":"setembro"}]
["2023","23/09/23","Disponivel",6737234,633370897.15999997,{"$f":"TEXT(Saldo_Disponivel_VT[[#This Row],[Data]],\"mmmm\")","v":"setembro"}]
["2023","24/09/23","Disponivel",6743888,631849163.19000006,{"$f":"TEXT(Saldo_Disponivel_VT[[#This Row],[Data]],\"mmmm\")","v":"setembro"}]
["2023","25/09/23","Disponivel",6795783,650381582.76999998,{"$f":"TEXT(Saldo_Disponivel_VT[[#This Row],[Data]],\"mmmm\")","v":"setembro"}]
["2023","26/09/23","Disponivel",6863164,672044391.09000003,{"$f":"TEXT(Saldo_Disponivel_VT[[#This Row],[Data]],\"mmmm\")","v":"setembro"}]
["2023","27/09/23","Disponivel",6953658,697636766.08000004,{"$f":"TEXT(Saldo_Disponivel_VT[[#This Row],[Data]],\"mmmm\")","v":"setembro"}]
["2023","28/09/23","Disponivel",6960345,700524840.59000003,{"$f":"TEXT(Saldo_Disponivel_VT[[#This Row],[Data]],\"mmmm\")","v":"setembro"}]
["2023","29/09/23","Disponivel",6931844,695798558.49000001,{"$f":"TEXT(Saldo_Disponivel_VT[[#This Row],[Data]],\"mmmm\")","v":"setembro"}]
["2023","30/09/23","Disponivel",6893539,686880004.85000002,{"$f":"TEXT(Saldo_Disponivel_VT[[#This Row],[Data]],\"mmmm\")","v":"setembro"}]
["2023","01/10/23","Disponivel",8414822,768316842.27999997,{"$f":"TEXT(Saldo_Disponivel_VT[[#This Row],[Data]],\"mmmm\")","v":"outubro"}]
["2023","02/10/23","Disponivel",8121562,732111436.20000005,{"$f":"TEXT(Saldo_Disponivel_VT[[#This Row],[Data]],\"mmmm\")","v":"outubro"}]
["2023","03/10/23","Disponivel",8083752,732182588.30999994,{"$f":"TEXT(Saldo_Disponivel_VT[[#This Row],[Data]],\"mmmm\")","v":"outubro"}]
["2023","04/10/23","Disponivel",7926532,711448159.16999996,{"$f":"TEXT(Saldo_Disponivel_VT[[#This Row],[Data]],\"mmmm\")","v":"outubro"}]
["2023","05/10/23","Disponivel",7815052,697936860.70000005,{"$f":"TEXT(Saldo_Disponivel_VT[[#This Row],[Data]],\"mmmm\")","v":"outubro"}]
["2023","06/10/23","Disponivel",7607322,677217198.89999998,{"$f":"TEXT(Saldo_Disponivel_VT[[#This Row],[Data]],\"mmmm\")","v":"outubro"}]
["2023","07/10/23","Disponivel",7522595,668658935.07000005,{"$f":"TEXT(Saldo_Disponivel_VT[[#This Row],[Data]],\"mmmm\")","v":"outubro"}]
["2023","08/10/23","Disponivel",7507770,666058708.63,{"$f":"TEXT(Saldo_Disponivel_VT[[#This Row],[Data]],\"mmmm\")","v":"outubro"}]
["2023","09/10/23","Disponivel",7360670,651773708.94000006,{"$f":"TEXT(Saldo_Disponivel_VT[[#This Row],[Data]],\"mmmm\")","v":"outubro"}]
["2023","10/10/23","Disponivel",7260465,643425740.49000001,{"$f":"TEXT(Saldo_Disponivel_VT[[#This Row],[Data]],\"mmmm\")","v":"outubro"}]
["2023","11/10/23","Disponivel",7183335,637888649.53999996,{"$f":"TEXT(Saldo_Disponivel_VT[[#This Row],[Data]],\"mmmm\")","v":"outubro"}]
["2023","12/10/23","Disponivel",7172214,636555976.99000001,{"$f":"TEXT(Saldo_Disponivel_VT[[#This Row],[Data]],\"mmmm\")","v":"outubro"}]
["2023","13/10/23","Disponivel",7110067,630402602.26999998,{"$f":"TEXT(Saldo_Disponivel_VT[[#This Row],[Data]],\"mmmm\")","v":"outubro"}]
["2023","14/10/23","Disponivel",7079973,627409199.04999995,{"$f":"TEXT(Saldo_Disponivel_VT[[#This Row],[Data]],\"mmmm\")","v":"outubro"}]
["2023","15/10/23","Disponivel",7080973,626207881.44000006,{"$f":"TEXT(Saldo_Disponivel_VT[[#This Row],[Data]],\"mmmm\")","v":"outubro"}]
["2023","16/10/23","Disponivel",7034031,623591873.47000003,{"$f":"TEXT(Saldo_Disponivel_VT[[#This Row],[Data]],\"mmmm\")","v":"outubro"}]
["2023","17/10/23","Disponivel",6991943,619384968.78999996,{"$f":"TEXT(Saldo_Disponivel_VT[[#This Row],[Data]],\"mmmm\")","v":"outubro"}]
["2023","18/10/23","Disponivel",6959127,617496473.73000002,{"$f":"TEXT(Saldo_Disponivel_VT[[#This Row],[Data]],\"mmmm\")","v":"outubro"}]
["2023","19/10/23","Disponivel",6957387,621004596.20000005,{"$f":"TEXT(Saldo_Disponivel_VT[[#This Row],[Data]],\"mmmm\")","v":"outubro"}]
["2023","20/10/23","Disponivel",6957244,624842428.05999994,{"$f":"TEXT(Saldo_Disponivel_VT[[#This Row],[Data]],\"mmmm\")","v":"outubro"}]
["2023","21/10/23","Disponivel",6935119,622056429.79999995,{"$f":"TEXT(Saldo_Disponivel_VT[[#This Row],[Data]],\"mmmm\")","v":"outubro"}]
["2023","22/10/23","Disponivel",6944581,621259699.09000003,{"$f":"TEXT(Saldo_Disponivel_VT[[#This Row],[Data]],\"mmmm\")","v":"outubro"}]
["2023","23/10/23","Disponivel",6930400,623338689.91999996,{"$f":"TEXT(Saldo_Disponivel_VT[[#This Row],[Data]],\"mmmm\")","v":"outubro"}]
["2023","24/10/23","Disponivel",6988761,640027604.89999998,{"$f":"TEXT(Saldo_Disponivel_VT[[#This Row],[Data]],\"mmmm\")","v":"outubro"}]
["2023","25/10/23","Disponivel",7062071,660961196.41999996,{"$f":"TEXT(Saldo_Disponivel_VT[[#This Row],[Data]],\"mmmm\")","v":"outubro"}]
["2023","26/10/23","Disponivel",7135806,681715934.24000001,{"$f":"TEXT(Saldo_Disponivel_VT[[#This Row],[Data]],\"mmmm\")","v":"outubro"}]
["2023","27/10/23","Disponivel",7195481,699140385.67999995,{"$f":"TEXT(Saldo_Disponivel_VT[[#This Row],[Data]],\"mmmm\")","v":"outubro"}]
["2023","28/10/23","Disponivel",7170334,694680732.77999997,{"$f":"TEXT(Saldo_Disponivel_VT[[#This Row],[Data]],\"mmmm\")","v":"outubro"}]
["2023","29/10/23","Disponivel",7173714,690305376.80999994,{"$f":"TEXT(Saldo_Disponivel_VT[[#This Row],[Data]],\"mmmm\")","v":"outubro"}]
["2023","30/10/23","Disponivel",7127958,683633854.34000003,{"$f":"TEXT(Saldo_Disponivel_VT[[#This Row],[Data]],\"mmmm\")","v":"outubro"}]
["2023","31/10/23","Disponivel",7138010,689262092.12,{"$f":"TEXT(Saldo_Disponivel_VT[[#This Row],[Data]],\"mmmm\")","v":"outubro"}]
["2023","01/11/23","Disponivel",8452449,748415452.62,{"$f":"TEXT(Saldo_Disponivel_VT[[#This Row],[Data]],\"mmmm\")","v":"novembro"}]
["2023","02/11/23","Disponivel",8406523,741948114.73000002,{"$f":"TEXT(Saldo_Disponivel_VT[[#This Row],[Data]],\"mmmm\")","v":"novembro"}]
["2023","03/11/23","Disponivel",8273904,725020576.5,{"$f":"TEXT(Saldo_Disponivel_VT[[#This Row],[Data]],\"mmmm\")","v":"novembro"}]
["2023","04/11/23","Disponivel",8205270,716839596.95000005,{"$f":"TEXT(Saldo_Disponivel_VT[[#This Row],[Data]],\"mmmm\")","v":"novembro"}]
["2023","05/11/23","Disponivel",8205130,714030715.80999994,{"$f":"TEXT(Saldo_Disponivel_VT[[#This Row],[Data]],\"mmmm\")","v":"novembro"}]
["2023","06/11/23","Disponivel",7858959,680693163.48000002,{"$f":"TEXT(Saldo_Disponivel_VT[[#This Row],[Data]],\"mmmm\")","v":"novembro"}]
["2023","07/11/23","Disponivel",7690993,665923699.09000003,{"$f":"TEXT(Saldo_Disponivel_VT[[#This Row],[Data]],\"mmmm\")","v":"novembro"}]
["2023","08/11/23","Disponivel",7568376,655200683.76999998,{"$f":"TEXT(Saldo_Disponivel_VT[[#This Row],[Data]],\"mmmm\")","v":"novembro"}]
["2023","09/11/23","Disponivel",7489419,648267224.48000002,{"$f":"TEXT(Saldo_Disponivel_VT[[#This Row],[Data]],\"mmmm\")","v":"novembro"}]
["2023","10/11/23","Disponivel",7419350,642588442.75,{"$f":"TEXT(Saldo_Disponivel_VT[[#This Row],[Data]],\"mmmm\")","v":"novembro"}]
["2023","11/11/23","Disponivel",7372038,638669501.63999999,{"$f":"TEXT(Saldo_Disponivel_VT[[#This Row],[Data]],\"mmmm\")","v":"novembro"}]
["2023","12/11/23","Disponivel",7382850,638296463.69000006,{"$f":"TEXT(Saldo_Disponivel_VT[[#This Row],[Data]],\"mmmm\")","v":"novembro"}]
["2023","13/11/23","Disponivel",7325280,633220609.11000001,{"$f":"TEXT(Saldo_Disponivel_VT[[#This Row],[Data]],\"mmmm\")","v":"novembro"}]
["2023","14/11/23","Disponivel",7289766,632068930.84000003,{"$f":"TEXT(Saldo_Disponivel_VT[[#This Row],[Data]],\"mmmm\")","v":"novembro"}]
["2023","15/11/23","Disponivel",7280399,630100630.22000003,{"$f":"TEXT(Saldo_Disponivel_VT[[#This Row],[Data]],\"mmmm\")","v":"novembro"}]
["2023","16/11/23","Disponivel",7249833,628349542.22000003,{"$f":"TEXT(Saldo_Disponivel_VT[[#This Row],[Data]],\"mmmm\")","v":"novembro"}]
["2023","17/11/23","Disponivel",7224789,627914999.74000001,{"$f":"TEXT(Saldo_Disponivel_VT[[#This Row],[Data]],\"mmmm\")","v":"novembro"}]
["2023","18/11/23","Disponivel",7201769,625023515.95000005,{"$f":"TEXT(Saldo_Disponivel_VT[[#This Row],[Data]],\"mmmm\")","v":"novembro"}]
["2023","19/11/23","Disponivel",7200901,624262257.74000001,{"$f":"TEXT(Saldo_Disponivel_VT[[#This Row],[Data]],\"mmmm\")","v":"novembro"}]
["2023","20/11/23","Disponivel",7204948,622722498.65999997,{"$f":"TEXT(Saldo_Disponivel_VT[[#This Row],[Data]],\"mmmm\")","v":"novembro"}]
["2023","21/11/23","Disponivel",7188321,626863396.55999994,{"$f":"TEXT(Saldo_Disponivel_VT[[#This Row],[Data]],\"mmmm\")","v":"novembro"}]
["2023","22/11/23","Disponivel",7177723,628535325.36000001,{"$f":"TEXT(Saldo_Disponivel_VT[[#This Row],[Data]],\"mmmm\")","v":"novembro"}]
["2023","23/11/23","Disponivel",7225797,644937609.47000003,{"$f":"TEXT(Saldo_Disponivel_VT[[#This Row],[Data]],\"mmmm\")","v":"novembro"}]
["2023","24/11/23","Disponivel",7315690,670361260.44000006,{"$f":"TEXT(Saldo_Disponivel_VT[[#This Row],[Data]],\"mmmm\")","v":"novembro"}]
["2023","25/11/23","Disponivel",7291916,665792461.46000004,{"$f":"TEXT(Saldo_Disponivel_VT[[#This Row],[Data]],\"mmmm\")","v":"novembro"}]
["2023","26/11/23","Disponivel",7292095,662382631.92999995,{"$f":"TEXT(Saldo_Disponivel_VT[[#This Row],[Data]],\"mmmm\")","v":"novembro"}]
["2023","27/11/23","Disponivel",7321789,675352075.88,{"$f":"TEXT(Saldo_Disponivel_VT[[#This Row],[Data]],\"mmmm\")","v":"novembro"}]
["2023","28/11/23","Disponivel",7475066,712242292.86000001,{"$f":"TEXT(Saldo_Disponivel_VT[[#This Row],[Data]],\"mmmm\")","v":"novembro"}]
["2023","29/11/23","Disponivel",7485455,713069719.17999995,{"$f":"TEXT(Saldo_Disponivel_VT[[#This Row],[Data]],\"mmmm\")","v":"novembro"}]
["2023","30/11/23","Disponivel",7411006,697120873.05999994,{"$f":"TEXT(Saldo_Disponivel_VT[[#This Row],[Data]],\"mmmm\")","v":"novembro"}]
["2023","01/12/23","Disponivel",8781177,729452656.38999999,{"$f":"TEXT(Saldo_Disponivel_VT[[#This Row],[Data]],\"mmmm\")","v":"dezembro"}]
["2023","02/12/23","Disponivel",8675625,718411803.49000001,{"$f":"TEXT(Saldo_Disponivel_VT[[#This Row],[Data]],\"mmmm\")","v":"dezembro"}]
["2023","03/12/23","Disponivel",8645016,713539385.86000001,{"$f":"TEXT(Saldo_Disponivel_VT[[#This Row],[Data]],\"mmmm\")","v":"dezembro"}]
["2023","04/12/23","Disponivel",8468018,694658227.01999998,{"$f":"TEXT(Saldo_Disponivel_VT[[#This Row],[Data]],\"mmmm\")","v":"dezembro"}]
["2023","05/12/23","Disponivel",8342812,684080518.35000002,{"$f":"TEXT(Saldo_Disponivel_VT[[#This Row],[Data]],\"mmmm\")","v":"dezembro"}]
["2023","06/12/23","Disponivel",8107346,666965807.05999994,{"$f":"TEXT(Saldo_Disponivel_VT[[#This Row],[Data]],\"mmmm\")","v":"dezembro"}]
["2023","07/12/23","Disponivel",7970905,657674544.12,{"$f":"TEXT(Saldo_Disponivel_VT[[#This Row],[Data]],\"mmmm\")","v":"dezembro"}]
["2023","08/12/23","Disponivel",7866009,650697961.03999996,{"$f":"TEXT(Saldo_Disponivel_VT[[#This Row],[Data]],\"mmmm\")","v":"dezembro"}]
["2023","09/12/23","Disponivel",7796221,645486793.39999998,{"$f":"TEXT(Saldo_Disponivel_VT[[#This Row],[Data]],\"mmmm\")","v":"dezembro"}]
["2023","10/12/23","Disponivel",7779665,643486237.26999998,{"$f":"TEXT(Saldo_Disponivel_VT[[#This Row],[Data]],\"mmmm\")","v":"dezembro"}]
["2023","11/12/23","Disponivel",7693500,636859305.10000002,{"$f":"TEXT(Saldo_Disponivel_VT[[#This Row],[Data]],\"mmmm\")","v":"dezembro"}]
["2023","12/12/23","Disponivel",7638209,634889746.25,{"$f":"TEXT(Saldo_Disponivel_VT[[#This Row],[Data]],\"mmmm\")","v":"dezembro"}]
["2023","13/12/23","Disponivel",7593188,632447409.82000005,{"$f":"TEXT(Saldo_Disponivel_VT[[#This Row],[Data]],\"mmmm\")","v":"dezembro"}]
["2023","14/12/23","Disponivel",7570409,632721482.91999996,{"$f":"TEXT(Saldo_Disponivel_VT[[#This Row],[Data]],\"mmmm\")","v":"dezembro"}]
["2023","15/12/23","Disponivel",7537812,631233943.04999995,{"$f":"TEXT(Saldo_Disponivel_VT[[#This Row],[Data]],\"mmmm\")","v":"dezembro"}]
["2023","16/12/23","Disponivel",7508878,628448734.94000006,{"$f":"TEXT(Saldo_Disponivel_VT[[#This Row],[Data]],\"mmmm\")","v":"dezembro"}]
["2023","17/12/23","Disponivel",7517572,627839768.88,{"$f":"TEXT(Saldo_Disponivel_VT[[#This Row],[Data]],\"mmmm\")","v":"dezembro"}]
["2023","18/12/23","Disponivel",7502729,631097807.97000003,{"$f":"TEXT(Saldo_Disponivel_VT[[#This Row],[Data]],\"mmmm\")","v":"dezembro"}]
["2023","19/12/23","Disponivel",7519557,641000785.23000002,{"$f":"TEXT(Saldo_Disponivel_VT[[#This Row],[Data]],\"mmmm\")","v":"dezembro"}]
["2023","20/12/23","Disponivel",7536966,649403604.5,{"$f":"TEXT(Saldo_Disponivel_VT[[#This Row],[Data]],\"mmmm\")","v":"dezembro"}]
["2023","21/12/23","Disponivel",7584916,664363029.07000005,{"$f":"TEXT(Saldo_Disponivel_VT[[#This Row],[Data]],\"mmmm\")","v":"dezembro"}]
["2023","22/12/23","Disponivel",7623331,678353829.47000003,{"$f":"TEXT(Saldo_Disponivel_VT[[#This Row],[Data]],\"mmmm\")","v":"dezembro"}]
["2023","23/12/23","Disponivel",7608907,676618645.70000005,{"$f":"TEXT(Saldo_Disponivel_VT[[#This Row],[Data]],\"mmmm\")","v":"dezembro"}]
["2023","24/12/23","Disponivel",7605101,675145584.03999996,{"$f":"TEXT(Saldo_Disponivel_VT[[#This Row],[Data]],\"mmmm\")","v":"dezembro"}]
["2023","25/12/23","Disponivel",7612287,674337642.88999999,{"$f":"TEXT(Saldo_Disponivel_VT[[#This Row],[Data]],\"mmmm\")","v":"dezembro"}]
["2023","26/12/23","Disponivel",7675043,692844560.16999996,{"$f":"TEXT(Saldo_Disponivel_VT[[#This Row],[Data]],\"mmmm\")","v":"dezembro"}]
["2023","27/12/23","Disponivel",7778554,720973122.73000002,{"$f":"TEXT(Saldo_Disponivel_VT[[#This Row],[Data]],\"mmmm\")","v":"dezembro"}]
["2023","28/12/23","Disponivel",7827217,734983671.70000005,{"$f":"TEXT(Saldo_Disponivel_VT[[#This Row],[Data]],\"mmmm\")","v":"dezembro"}]
["2023","29/12/23","Disponivel",7783240,724308904.34000003,{"$f":"TEXT(Saldo_Disponivel_VT[[#This Row],[Data]],\"mmmm\")","v":"dezembro"}]
["2023","30/12/23","Disponivel",7749567,716304382.00999999,{"$f":"TEXT(Saldo_Disponivel_VT[[#This Row],[Data]],\"mmmm\")","v":"dezembro"}]
["2023","31/12/23","Disponivel",7748246,714586101.60000002,{"$f":"TEXT(Saldo_Disponivel_VT[[#This Row],[Data]],\"mmmm\")","v":"dezembro"}]
["2024","01/01/24","Disponivel",8573118,726424760.70000005,{"$f":"TEXT(Saldo_Disponivel_VT[[#This Row],[Data]],\"mmmm\")","v":"janeiro"}]
["2024","02/01/24","Disponivel",8422141,704388728.80999994,{"$f":"TEXT(Saldo_Disponivel_VT[[#This Row],[Data]],\"mmmm\")","v":"janeiro"}]
["2024","03/01/24","Disponivel",8316870,692019891.92999995,{"$f":"TEXT(Saldo_Disponivel_VT[[#This Row],[Data]],\"mmmm\")","v":"janeiro"}]
["2024","04/01/24","Disponivel",8227481,680569920.92999995,{"$f":"TEXT(Saldo_Disponivel_VT[[#This Row],[Data]],\"mmmm\")","v":"janeiro"}]
["2024","05/01/24","Disponivel",8157175,671945012.90999997,{"$f":"TEXT(Saldo_Disponivel_VT[[#This Row],[Data]],\"mmmm\")","v":"janeiro"}]
["2024","06/01/24","Disponivel",8093906,666038467.32000005,{"$f":"TEXT(Saldo_Disponivel_VT[[#This Row],[Data]],\"mmmm\")","v":"janeiro"}]
["2024","07/01/24","Disponivel",8096167,664865546.58000004,{"$f":"TEXT(Saldo_Disponivel_VT[[#This Row],[Data]],\"mmmm\")","v":"janeiro"}]
["2024","08/01/24","Disponivel",7991041,653977926.64999998,{"$f":"TEXT(Saldo_Disponivel_VT[[#This Row],[Data]],\"mmmm\")","v":"janeiro"}]
["2024","09/01/24","Disponivel",7898649,646347155.32000005,{"$f":"TEXT(Saldo_Disponivel_VT[[#This Row],[Data]],\"mmmm\")","v":"janeiro"}]
["2024","10/01/24","Disponivel",7826021,639896677.40999997,{"$f":"TEXT(Saldo_Disponivel_VT[[#This Row],[Data]],\"mmmm\")","v":"janeiro"}]
["2024","11/01/24","Disponivel",7763637,634854757.47000003,{"$f":"TEXT(Saldo_Disponivel_VT[[#This Row],[Data]],\"mmmm\")","v":"janeiro"}]
["2024","12/01/24","Disponivel",7716675,632225696.29999995,{"$f":"TEXT(Saldo_Disponivel_VT[[#This Row],[Data]],\"mmmm\")","v":"janeiro"}]
["2024","13/01/24","Disponivel",7688451,629928316.84000003,{"$f":"TEXT(Saldo_Disponivel_VT[[#This Row],[Data]],\"mmmm\")","v":"janeiro"}]
["2024","14/01/24","Disponivel",7685744,629143868.75999999,{"$f":"TEXT(Saldo_Disponivel_VT[[#This Row],[Data]],\"mmmm\")","v":"janeiro"}]
["2024","15/01/24","Disponivel",7638396,623746741.82000005,{"$f":"TEXT(Saldo_Disponivel_VT[[#This Row],[Data]],\"mmmm\")","v":"janeiro"}]
["2024","16/01/24","Disponivel",7602520,622571589.62,{"$f":"TEXT(Saldo_Disponivel_VT[[#This Row],[Data]],\"mmmm\")","v":"janeiro"}]
["2024","17/01/24","Disponivel",7574216,620886348.85000002,{"$f":"TEXT(Saldo_Disponivel_VT[[#This Row],[Data]],\"mmmm\")","v":"janeiro"}]
["2024","18/01/24","Disponivel",7563705,622714348.90999997,{"$f":"TEXT(Saldo_Disponivel_VT[[#This Row],[Data]],\"mmmm\")","v":"janeiro"}]
["2024","19/01/24","Disponivel",7579453,628995730.89999998,{"$f":"TEXT(Saldo_Disponivel_VT[[#This Row],[Data]],\"mmmm\")","v":"janeiro"}]
["2024","20/01/24","Disponivel",7568126,627737177.37,{"$f":"TEXT(Saldo_Disponivel_VT[[#This Row],[Data]],\"mmmm\")","v":"janeiro"}]
["2024","21/01/24","Disponivel",7583497,627265373.67999995,{"$f":"TEXT(Saldo_Disponivel_VT[[#This Row],[Data]],\"mmmm\")","v":"janeiro"}]
["2024","22/01/24","Disponivel",7582251,633255071.86000001,{"$f":"TEXT(Saldo_Disponivel_VT[[#This Row],[Data]],\"mmmm\")","v":"janeiro"}]
["2024","23/01/24","Disponivel",7642523,651111022.80999994,{"$f":"TEXT(Saldo_Disponivel_VT[[#This Row],[Data]],\"mmmm\")","v":"janeiro"}]
["2024","24/01/24","Disponivel",7737921,680907519.12,{"$f":"TEXT(Saldo_Disponivel_VT[[#This Row],[Data]],\"mmmm\")","v":"janeiro"}]
["2024","25/01/24","Disponivel",7750244,680879964.49000001,{"$f":"TEXT(Saldo_Disponivel_VT[[#This Row],[Data]],\"mmmm\")","v":"janeiro"}]
["2024","26/01/24","Disponivel",7688085,669679193,{"$f":"TEXT(Saldo_Disponivel_VT[[#This Row],[Data]],\"mmmm\")","v":"janeiro"}]
["2024","27/01/24","Disponivel",7677414,668957904.08000004,{"$f":"TEXT(Saldo_Disponivel_VT[[#This Row],[Data]],\"mmmm\")","v":"janeiro"}]
["2024","28/01/24","Disponivel",7687832,667069528.50999999,{"$f":"TEXT(Saldo_Disponivel_VT[[#This Row],[Data]],\"mmmm\")","v":"janeiro"}]
["2024","29/01/24","Disponivel",7834218,708637982.75999999,{"$f":"TEXT(Saldo_Disponivel_VT[[#This Row],[Data]],\"mmmm\")","v":"janeiro"}]
["2024","30/01/24","Disponivel",7836303,709979747.63999999,{"$f":"TEXT(Saldo_Disponivel_VT[[#This Row],[Data]],\"mmmm\")","v":"janeiro"}]
["2024","31/01/24","Disponivel",7797780,701570498.00999999,{"$f":"TEXT(Saldo_Disponivel_VT[[#This Row],[Data]],\"mmmm\")","v":"janeiro"}]
["2024","01/02/24","Disponivel",8096146,706032556.54999995,{"$f":"TEXT(Saldo_Disponivel_VT[[#This Row],[Data]],\"mmmm\")","v":"fevereiro"}]
["2024","02/02/24","Disponivel",7081104,671979567.38,{"$f":"TEXT(Saldo_Disponivel_VT[[#This Row],[Data]],\"mmmm\")","v":"fevereiro"}]
["2024","03/02/24","Disponivel",5754405,636559075.30999994,{"$f":"TEXT(Saldo_Disponivel_VT[[#This Row],[Data]],\"mmmm\")","v":"fevereiro"}]
["2024","04/02/24","Disponivel",5651929,632537215.02999997,{"$f":"TEXT(Saldo_Disponivel_VT[[#This Row],[Data]],\"mmmm\")","v":"fevereiro"}]
["2024","05/02/24","Disponivel",5564247,621299080.14999998,{"$f":"TEXT(Saldo_Disponivel_VT[[#This Row],[Data]],\"mmmm\")","v":"fevereiro"}]
["2024","06/02/24","Disponivel",5453941,610781553.66999996,{"$f":"TEXT(Saldo_Disponivel_VT[[#This Row],[Data]],\"mmmm\")","v":"fevereiro"}]
["2024","07/02/24","Disponivel",5369995,603119371.55999994,{"$f":"TEXT(Saldo_Disponivel_VT[[#This Row],[Data]],\"mmmm\")","v":"fevereiro"}]
["2024","08/02/24","Disponivel",5310102,597802107.08000004,{"$f":"TEXT(Saldo_Disponivel_VT[[#This Row],[Data]],\"mmmm\")","v":"fevereiro"}]
["2024","09/02/24","Disponivel",5255557,593639786.52999997,{"$f":"TEXT(Saldo_Disponivel_VT[[#This Row],[Data]],\"mmmm\")","v":"fevereiro"}]
["2024","10/02/24","Disponivel",5224969,590919867.69000006,{"$f":"TEXT(Saldo_Disponivel_VT[[#This Row],[Data]],\"mmmm\")","v":"fevereiro"}]
["2024","11/02/24","Disponivel",5225286,590181059.29999995,{"$f":"TEXT(Saldo_Disponivel_VT[[#This Row],[Data]],\"mmmm\")","v":"fevereiro"}]
["2024","12/02/24","Disponivel",5183148,585702927,{"$f":"TEXT(Saldo_Disponivel_VT[[#This Row],[Data]],\"mmmm\")","v":"fevereiro"}]
["2024","13/02/24","Disponivel",5171368,583289760.95000005,{"$f":"TEXT(Saldo_Disponivel_VT[[#This Row],[Data]],\"mmmm\")","v":"fevereiro"}]
["2024","14/02/24","Disponivel",5134739,578334732.65999997,{"$f":"TEXT(Saldo_Disponivel_VT[[#This Row],[Data]],\"mmmm\")","v":"fevereiro"}]
["2024","15/02/24","Disponivel",5098842,576482787.70000005,{"$f":"TEXT(Saldo_Disponivel_VT[[#This Row],[Data]],\"mmmm\")","v":"fevereiro"}]
["2024","16/02/24","Disponivel",5071993,574874304.65999997,{"$f":"TEXT(Saldo_Disponivel_VT[[#This Row],[Data]],\"mmmm\")","v":"fevereiro"}]
["2024","17/02/24","Disponivel",5053711,572780763.63999999,{"$f":"TEXT(Saldo_Disponivel_VT[[#This Row],[Data]],\"mmmm\")","v":"fevereiro"}]
["2024","18/02/24","Disponivel",5076746,573071475.38999999,{"$f":"TEXT(Saldo_Disponivel_VT[[#This Row],[Data]],\"mmmm\")","v":"fevereiro"}]
["2024","19/02/24","Disponivel",5064444,578323140.54999995,{"$f":"TEXT(Saldo_Disponivel_VT[[#This Row],[Data]],\"mmmm\")","v":"fevereiro"}]
["2024","20/02/24","Disponivel",5078534,583265845.39999998,{"$f":"TEXT(Saldo_Disponivel_VT[[#This Row],[Data]],\"mmmm\")","v":"fevereiro"}]
["2024","21/02/24","Disponivel",5092635,590456282.09000003,{"$f":"TEXT(Saldo_Disponivel_VT[[#This Row],[Data]],\"mmmm\")","v":"fevereiro"}]
["2024","22/02/24","Disponivel",5128840,603472896.61000001,{"$f":"TEXT(Saldo_Disponivel_VT[[#This Row],[Data]],\"mmmm\")","v":"fevereiro"}]
["2024","23/02/24","Disponivel",5211030,626389670.95000005,{"$f":"TEXT(Saldo_Disponivel_VT[[#This Row],[Data]],\"mmmm\")","v":"fevereiro"}]
["2024","24/02/24","Disponivel",5200259,623740210.59000003,{"$f":"TEXT(Saldo_Disponivel_VT[[#This Row],[Data]],\"mmmm\")","v":"fevereiro"}]
["2024","25/02/24","Disponivel",5214408,621952983.96000004,{"$f":"TEXT(Saldo_Disponivel_VT[[#This Row],[Data]],\"mmmm\")","v":"fevereiro"}]
["2024","26/02/24","Disponivel",5237094,633994164.67999995,{"$f":"TEXT(Saldo_Disponivel_VT[[#This Row],[Data]],\"mmmm\")","v":"fevereiro"}]
["2024","27/02/24","Disponivel",5301666,653484443.52999997,{"$f":"TEXT(Saldo_Disponivel_VT[[#This Row],[Data]],\"mmmm\")","v":"fevereiro"}]
["2024","28/02/24","Disponivel",5365652,669452565.86000001,{"$f":"TEXT(Saldo_Disponivel_VT[[#This Row],[Data]],\"mmmm\")","v":"fevereiro"}]
["2024","29/02/24","Disponivel",5345076,662714973.25,{"$f":"TEXT(Saldo_Disponivel_VT[[#This Row],[Data]],\"mmmm\")","v":"fevereiro"}]
["2024","01/03/24","Disponivel",6577123,702501979.10000002,{"$f":"TEXT(Saldo_Disponivel_VT[[#This Row],[Data]],\"mmmm\")","v":"março"}]
["2024","02/03/24","Disponivel",6492653,691131886.58000004,{"$f":"TEXT(Saldo_Disponivel_VT[[#This Row],[Data]],\"mmmm\")","v":"março"}]
["2024","03/03/24","Disponivel",6485411,687701420.38,{"$f":"TEXT(Saldo_Disponivel_VT[[#This Row],[Data]],\"mmmm\")","v":"março"}]
["2024","04/03/24","Disponivel",6323631,667349748.87,{"$f":"TEXT(Saldo_Disponivel_VT[[#This Row],[Data]],\"mmmm\")","v":"março"}]
["2024","05/03/24","Disponivel",6226583,655788662.99000001,{"$f":"TEXT(Saldo_Disponivel_VT[[#This Row],[Data]],\"mmmm\")","v":"março"}]
["2024","06/03/24","Disponivel",6002680,634220471.47000003,{"$f":"TEXT(Saldo_Disponivel_VT[[#This Row],[Data]],\"mmmm\")","v":"março"}]
["2024","07/03/24","Disponivel",5874094,623395429.99000001,{"$f":"TEXT(Saldo_Disponivel_VT[[#This Row],[Data]],\"mmmm\")","v":"março"}]
["2024","08/03/24","Disponivel",5782479,615664262.36000001,{"$f":"TEXT(Saldo_Disponivel_VT[[#This Row],[Data]],\"mmmm\")","v":"março"}]
["2024","09/03/24","Disponivel",5730505,611139845.45000005,{"$f":"TEXT(Saldo_Disponivel_VT[[#This Row],[Data]],\"mmmm\")","v":"março"}]
["2024","10/03/24","Disponivel",5739796,610630347.86000001,{"$f":"TEXT(Saldo_Disponivel_VT[[#This Row],[Data]],\"mmmm\")","v":"março"}]
["2024","11/03/24","Disponivel",5653987,602324802.10000002,{"$f":"TEXT(Saldo_Disponivel_VT[[#This Row],[Data]],\"mmmm\")","v":"março"}]
["2024","12/03/24","Disponivel",5574925,596466384.82000005,{"$f":"TEXT(Saldo_Disponivel_VT[[#This Row],[Data]],\"mmmm\")","v":"março"}]
["2024","13/03/24","Disponivel",11090672,1190539456.3399999,{"$f":"TEXT(Saldo_Disponivel_VT[[#This Row],[Data]],\"mmmm\")","v":"março"}]
["2024","14/03/24","Disponivel",5507540,590807137.57000005,{"$f":"TEXT(Saldo_Disponivel_VT[[#This Row],[Data]],\"mmmm\")","v":"março"}]
["2024","15/03/24","Disponivel",5475203,588184057.65999997,{"$f":"TEXT(Saldo_Disponivel_VT[[#This Row],[Data]],\"mmmm\")","v":"março"}]
["2024","16/03/24","Disponivel",5456843,586087113.84000003,{"$f":"TEXT(Saldo_Disponivel_VT[[#This Row],[Data]],\"mmmm\")","v":"março"}]
["2024","17/03/24","Disponivel",5472706,586040186.63,{"$f":"TEXT(Saldo_Disponivel_VT[[#This Row],[Data]],\"mmmm\")","v":"março"}]
["2024","18/03/24","Disponivel",5455592,587773857.33000004,{"$f":"TEXT(Saldo_Disponivel_VT[[#This Row],[Data]],\"mmmm\")","v":"março"}]
["2024","19/03/24","Disponivel",5443157,590304253.05999994,{"$f":"TEXT(Saldo_Disponivel_VT[[#This Row],[Data]],\"mmmm\")","v":"março"}]
["2024","20/03/24","Disponivel",5462095,597715735.5,{"$f":"TEXT(Saldo_Disponivel_VT[[#This Row],[Data]],\"mmmm\")","v":"março"}]
["2024","21/03/24","Disponivel",5499236,610796584.77999997,{"$f":"TEXT(Saldo_Disponivel_VT[[#This Row],[Data]],\"mmmm\")","v":"março"}]
["2024","22/03/24","Disponivel",5579718,634706228.82000005,{"$f":"TEXT(Saldo_Disponivel_VT[[#This Row],[Data]],\"mmmm\")","v":"março"}]
["2024","23/03/24","Disponivel",5551861,628756278.46000004,{"$f":"TEXT(Saldo_Disponivel_VT[[#This Row],[Data]],\"mmmm\")","v":"março"}]
["2024","24/03/24","Disponivel",5567013,627474579.25999999,{"$f":"TEXT(Saldo_Disponivel_VT[[#This Row],[Data]],\"mmmm\")","v":"março"}]
["2024","25/03/24","Disponivel",5590336,634396636.58000004,{"$f":"TEXT(Saldo_Disponivel_VT[[#This Row],[Data]],\"mmmm\")","v":"março"}]
["2024","26/03/24","Disponivel",5723108,677020792.71000004,{"$f":"TEXT(Saldo_Disponivel_VT[[#This Row],[Data]],\"mmmm\")","v":"março"}]
["2024","27/03/24","Disponivel",5780651,692958417.57000005,{"$f":"TEXT(Saldo_Disponivel_VT[[#This Row],[Data]],\"mmmm\")","v":"março"}]
["2024","28/03/24","Disponivel",5770631,693142301.08000004,{"$f":"TEXT(Saldo_Disponivel_VT[[#This Row],[Data]],\"mmmm\")","v":"março"}]
["2024","29/03/24","Disponivel",5805554,695804295.44000006,{"$f":"TEXT(Saldo_Disponivel_VT[[#This Row],[Data]],\"mmmm\")","v":"março"}]
["2024","30/03/24","Disponivel",5746962,683703549.61000001,{"$f":"TEXT(Saldo_Disponivel_VT[[#This Row],[Data]],\"mmmm\")","v":"março"}]
["2024","31/03/24","Disponivel",5750986,680835641.98000002,{"$f":"TEXT(Saldo_Disponivel_VT[[#This Row],[Data]],\"mmmm\")","v":"março"}]
["2024","01/04/24","Disponivel",7011162,713275853.37,{"$f":"TEXT(Saldo_Disponivel_VT[[#This Row],[Data]],\"mmmm\")","v":"abril"}]
["2024","02/04/24","Disponivel",6850377,694372594.94000006,{"$f":"TEXT(Saldo_Disponivel_VT[[#This Row],[Data]],\"mmmm\")","v":"abril"}]
["2024","03/04/24","Disponivel",6755140,688312577.48000002,{"$f":"TEXT(Saldo_Disponivel_VT[[#This Row],[Data]],\"mmmm\")","v":"abril"}]
["2024","04/04/24","Disponivel",6658406,675303396.69000006,{"$f":"TEXT(Saldo_Disponivel_VT[[#This Row],[Data]],\"mmmm\")","v":"abril"}]
["2024","05/04/24","Disponivel",6578069,665085880.66999996,{"$f":"TEXT(Saldo_Disponivel_VT[[#This Row],[Data]],\"mmmm\")","v":"abril"}]
["2024","06/04/24","Disponivel",6467378,654694173.07000005,{"$f":"TEXT(Saldo_Disponivel_VT[[#This Row],[Data]],\"mmmm\")","v":"abril"}]
["2024","07/04/24","Disponivel",6468535,654120736.89999998,{"$f":"TEXT(Saldo_Disponivel_VT[[#This Row],[Data]],\"mmmm\")","v":"abril"}]
["2024","08/04/24","Disponivel",6274230,636872771.02999997,{"$f":"TEXT(Saldo_Disponivel_VT[[#This Row],[Data]],\"mmmm\")","v":"abril"}]
["2024","09/04/24","Disponivel",6156971,627176746.12,{"$f":"TEXT(Saldo_Disponivel_VT[[#This Row],[Data]],\"mmmm\")","v":"abril"}]
["2024","10/04/24","Disponivel",6075553,620676662.79999995,{"$f":"TEXT(Saldo_Disponivel_VT[[#This Row],[Data]],\"mmmm\")","v":"abril"}]
["2024","11/04/24","Disponivel",6005548,615225151.40999997,{"$f":"TEXT(Saldo_Disponivel_VT[[#This Row],[Data]],\"mmmm\")","v":"abril"}]
["2024","12/04/24","Disponivel",5952407,611913091.71000004,{"$f":"TEXT(Saldo_Disponivel_VT[[#This Row],[Data]],\"mmmm\")","v":"abril"}]
["2024","13/04/24","Disponivel",5914325,608429033.55999994,{"$f":"TEXT(Saldo_Disponivel_VT[[#This Row],[Data]],\"mmmm\")","v":"abril"}]
["2024","14/04/24","Disponivel",5931746,609190965.37,{"$f":"TEXT(Saldo_Disponivel_VT[[#This Row],[Data]],\"mmmm\")","v":"abril"}]
["2024","15/04/24","Disponivel",5879642,604071693.26999998,{"$f":"TEXT(Saldo_Disponivel_VT[[#This Row],[Data]],\"mmmm\")","v":"abril"}]
["2024","16/04/24","Disponivel",5847830,602087632.13999999,{"$f":"TEXT(Saldo_Disponivel_VT[[#This Row],[Data]],\"mmmm\")","v":"abril"}]
["2024","17/04/24","Disponivel",5822856,601088302.32000005,{"$f":"TEXT(Saldo_Disponivel_VT[[#This Row],[Data]],\"mmmm\")","v":"abril"}]
["2024","18/04/24","Disponivel",5807065,602088972.15999997,{"$f":"TEXT(Saldo_Disponivel_VT[[#This Row],[Data]],\"mmmm\")","v":"abril"}]
["2024","19/04/24","Disponivel",5836127,612973227.89999998,{"$f":"TEXT(Saldo_Disponivel_VT[[#This Row],[Data]],\"mmmm\")","v":"abril"}]
["2024","20/04/24","Disponivel",5812551,609581157.33000004,{"$f":"TEXT(Saldo_Disponivel_VT[[#This Row],[Data]],\"mmmm\")","v":"abril"}]
["2024","21/04/24","Disponivel",5828419,609059897.35000002,{"$f":"TEXT(Saldo_Disponivel_VT[[#This Row],[Data]],\"mmmm\")","v":"abril"}]
["2024","22/04/24","Disponivel",5821806,613095537.17999995,{"$f":"TEXT(Saldo_Disponivel_VT[[#This Row],[Data]],\"mmmm\")","v":"abril"}]
["2024","23/04/24","Disponivel",5844910,624533009.44000006,{"$f":"TEXT(Saldo_Disponivel_VT[[#This Row],[Data]],\"mmmm\")","v":"abril"}]
["2024","24/04/24","Disponivel",5947782,656163131.21000004,{"$f":"TEXT(Saldo_Disponivel_VT[[#This Row],[Data]],\"mmmm\")","v":"abril"}]
["2024","25/04/24","Disponivel",6025603,679840644.57000005,{"$f":"TEXT(Saldo_Disponivel_VT[[#This Row],[Data]],\"mmmm\")","v":"abril"}]
["2024","26/04/24","Disponivel",6106199,704186198.98000002,{"$f":"TEXT(Saldo_Disponivel_VT[[#This Row],[Data]],\"mmmm\")","v":"abril"}]
["2024","27/04/24","Disponivel",6054085,692043466.48000002,{"$f":"TEXT(Saldo_Disponivel_VT[[#This Row],[Data]],\"mmmm\")","v":"abril"}]
["2024","28/04/24","Disponivel",6062972,688774618.75,{"$f":"TEXT(Saldo_Disponivel_VT[[#This Row],[Data]],\"mmmm\")","v":"abril"}]
["2024","29/04/24","Disponivel",6078252,696608988.46000004,{"$f":"TEXT(Saldo_Disponivel_VT[[#This Row],[Data]],\"mmmm\")","v":"abril"}]
["2024","30/04/24","Disponivel",6022862,685239075.92999995,{"$f":"TEXT(Saldo_Disponivel_VT[[#This Row],[Data]],\"mmmm\")","v":"abril"}]
["2024","01/05/24","Disponivel",7546062,747638101.88999999,{"$f":"TEXT(Saldo_Disponivel_VT[[#This Row],[Data]],\"mmmm\")","v":"maio"}]
["2024","02/05/24","Disponivel",7321987,723607943.40999997,{"$f":"TEXT(Saldo_Disponivel_VT[[#This Row],[Data]],\"mmmm\")","v":"maio"}]
["2024","03/05/24","Disponivel",7180374,706844577.63,{"$f":"TEXT(Saldo_Disponivel_VT[[#This Row],[Data]],\"mmmm\")","v":"maio"}]
["2024","04/05/24","Disponivel",7105421,698459526.75999999,{"$f":"TEXT(Saldo_Disponivel_VT[[#This Row],[Data]],\"mmmm\")","v":"maio"}]
["2024","05/05/24","Disponivel",7100668,696168624.54999995,{"$f":"TEXT(Saldo_Disponivel_VT[[#This Row],[Data]],\"mmmm\")","v":"maio"}]
["2024","06/05/24","Disponivel",6802193,667584348.34000003,{"$f":"TEXT(Saldo_Disponivel_VT[[#This Row],[Data]],\"mmmm\")","v":"maio"}]
["2024","07/05/24","Disponivel",6639574,654008693.66999996,{"$f":"TEXT(Saldo_Disponivel_VT[[#This Row],[Data]],\"mmmm\")","v":"maio"}]
["2024","08/05/24","Disponivel",6524458,643910885.59000003,{"$f":"TEXT(Saldo_Disponivel_VT[[#This Row],[Data]],\"mmmm\")","v":"maio"}]
["2024","09/05/24","Disponivel",6437726,637432198.52999997,{"$f":"TEXT(Saldo_Disponivel_VT[[#This Row],[Data]],\"mmmm\")","v":"maio"}]
["2024","10/05/24","Disponivel",6356946,631032533.25,{"$f":"TEXT(Saldo_Disponivel_VT[[#This Row],[Data]],\"mmmm\")","v":"maio"}]
["2024","11/05/24","Disponivel",6309842,627213330.36000001,{"$f":"TEXT(Saldo_Disponivel_VT[[#This Row],[Data]],\"mmmm\")","v":"maio"}]
["2024","12/05/24","Disponivel",6316770,626844611.89999998,{"$f":"TEXT(Saldo_Disponivel_VT[[#This Row],[Data]],\"mmmm\")","v":"maio"}]
["2024","13/05/24","Disponivel",6260029,621016891.26999998,{"$f":"TEXT(Saldo_Disponivel_VT[[#This Row],[Data]],\"mmmm\")","v":"maio"}]
["2024","14/05/24","Disponivel",6219243,617732664.28999996,{"$f":"TEXT(Saldo_Disponivel_VT[[#This Row],[Data]],\"mmmm\")","v":"maio"}]
["2024","15/05/24","Disponivel",6180648,613903974.35000002,{"$f":"TEXT(Saldo_Disponivel_VT[[#This Row],[Data]],\"mmmm\")","v":"maio"}]
["2024","16/05/24","Disponivel",6148364,611413162.28999996,{"$f":"TEXT(Saldo_Disponivel_VT[[#This Row],[Data]],\"mmmm\")","v":"maio"}]
["2024","17/05/24","Disponivel",6139536,612731303.07000005,{"$f":"TEXT(Saldo_Disponivel_VT[[#This Row],[Data]],\"mmmm\")","v":"maio"}]
["2024","18/05/24","Disponivel",6115082,610073634.77999997,{"$f":"TEXT(Saldo_Disponivel_VT[[#This Row],[Data]],\"mmmm\")","v":"maio"}]
["2024","19/05/24","Disponivel",6129139,609879399.48000002,{"$f":"TEXT(Saldo_Disponivel_VT[[#This Row],[Data]],\"mmmm\")","v":"maio"}]
["2024","20/05/24","Disponivel",6137005,617370480.39999998,{"$f":"TEXT(Saldo_Disponivel_VT[[#This Row],[Data]],\"mmmm\")","v":"maio"}]
["2024","21/05/24","Disponivel",6143222,623885540.39999998,{"$f":"TEXT(Saldo_Disponivel_VT[[#This Row],[Data]],\"mmmm\")","v":"maio"}]
["2024","22/05/24","Disponivel",6149311,629141431.95000005,{"$f":"TEXT(Saldo_Disponivel_VT[[#This Row],[Data]],\"mmmm\")","v":"maio"}]
["2024","23/05/24","Disponivel",6192793,644031362.29999995,{"$f":"TEXT(Saldo_Disponivel_VT[[#This Row],[Data]],\"mmmm\")","v":"maio"}]
["2024","24/05/24","Disponivel",6299989,676697187.39999998,{"$f":"TEXT(Saldo_Disponivel_VT[[#This Row],[Data]],\"mmmm\")","v":"maio"}]
["2024","25/05/24","Disponivel",6281594,673274322.49000001,{"$f":"TEXT(Saldo_Disponivel_VT[[#This Row],[Data]],\"mmmm\")","v":"maio"}]
["2024","26/05/24","Disponivel",6293714,671140527.62,{"$f":"TEXT(Saldo_Disponivel_VT[[#This Row],[Data]],\"mmmm\")","v":"maio"}]
["2024","27/05/24","Disponivel",6316657,678917828.65999997,{"$f":"TEXT(Saldo_Disponivel_VT[[#This Row],[Data]],\"mmmm\")","v":"maio"}]
["2024","28/05/24","Disponivel",6385593,699744532.48000002,{"$f":"TEXT(Saldo_Disponivel_VT[[#This Row],[Data]],\"mmmm\")","v":"maio"}]
["2024","29/05/24","Disponivel",6392036,705116936.40999997,{"$f":"TEXT(Saldo_Disponivel_VT[[#This Row],[Data]],\"mmmm\")","v":"maio"}]
["2024","30/05/24","Disponivel",6390111,702763814.38,{"$f":"TEXT(Saldo_Disponivel_VT[[#This Row],[Data]],\"mmmm\")","v":"maio"}]
["2024","31/05/24","Disponivel",6317737,685996754.21000004,{"$f":"TEXT(Saldo_Disponivel_VT[[#This Row],[Data]],\"mmmm\")","v":"maio"}]
["2024","01/06/24","Disponivel",7831395,745776708.37,{"$f":"TEXT(Saldo_Disponivel_VT[[#This Row],[Data]],\"mmmm\")","v":"junho"}]
["2024","02/06/24","Disponivel",7803684,741072843.63999999,{"$f":"TEXT(Saldo_Disponivel_VT[[#This Row],[Data]],\"mmmm\")","v":"junho"}]
["2024","03/06/24","Disponivel",7571826,719715036.54999995,{"$f":"TEXT(Saldo_Disponivel_VT[[#This Row],[Data]],\"mmmm\")","v":"junho"}]
["2024","04/06/24","Disponivel",7418746,701719756.71000004,{"$f":"TEXT(Saldo_Disponivel_VT[[#This Row],[Data]],\"mmmm\")","v":"junho"}]
["2024","05/06/24","Disponivel",7300951,689431666.88999999,{"$f":"TEXT(Saldo_Disponivel_VT[[#This Row],[Data]],\"mmmm\")","v":"junho"}]
["2024","06/06/24","Disponivel",7071506,667746322.66999996,{"$f":"TEXT(Saldo_Disponivel_VT[[#This Row],[Data]],\"mmmm\")","v":"junho"}]
["2024","07/06/24","Disponivel",6933945,655874691.84000003,{"$f":"TEXT(Saldo_Disponivel_VT[[#This Row],[Data]],\"mmmm\")","v":"junho"}]
["2024","08/06/24","Disponivel",6855890,649690973.57000005,{"$f":"TEXT(Saldo_Disponivel_VT[[#This Row],[Data]],\"mmmm\")","v":"junho"}]
["2024","09/06/24","Disponivel",6856187,648682454.42999995,{"$f":"TEXT(Saldo_Disponivel_VT[[#This Row],[Data]],\"mmmm\")","v":"junho"}]
["2024","10/06/24","Disponivel",6745115,639511837.36000001,{"$f":"TEXT(Saldo_Disponivel_VT[[#This Row],[Data]],\"mmmm\")","v":"junho"}]
["2024","11/06/24","Disponivel",6656515,632952965.17999995,{"$f":"TEXT(Saldo_Disponivel_VT[[#This Row],[Data]],\"mmmm\")","v":"junho"}]
["2024","12/06/24","Disponivel",6589191,628640640.13999999,{"$f":"TEXT(Saldo_Disponivel_VT[[#This Row],[Data]],\"mmmm\")","v":"junho"}]
["2024","13/06/24","Disponivel",6539450,624708141.00999999,{"$f":"TEXT(Saldo_Disponivel_VT[[#This Row],[Data]],\"mmmm\")","v":"junho"}]
["2024","14/06/24","Disponivel",6502253,622639349.80999994,{"$f":"TEXT(Saldo_Disponivel_VT[[#This Row],[Data]],\"mmmm\")","v":"junho"}]
["2024","15/06/24","Disponivel",6473541,619813487.32000005,{"$f":"TEXT(Saldo_Disponivel_VT[[#This Row],[Data]],\"mmmm\")","v":"junho"}]
["2024","16/06/24","Disponivel",6484020,619437928.49000001,{"$f":"TEXT(Saldo_Disponivel_VT[[#This Row],[Data]],\"mmmm\")","v":"junho"}]
["2024","17/06/24","Disponivel",6452583,616941699.75,{"$f":"TEXT(Saldo_Disponivel_VT[[#This Row],[Data]],\"mmmm\")","v":"junho"}]
["2024","18/06/24","Disponivel",6425519,616602151.24000001,{"$f":"TEXT(Saldo_Disponivel_VT[[#This Row],[Data]],\"mmmm\")","v":"junho"}]
["2024","19/06/24","Disponivel",6433595,624169955.46000004,{"$f":"TEXT(Saldo_Disponivel_VT[[#This Row],[Data]],\"mmmm\")","v":"junho"}]
["2024","20/06/24","Disponivel",6452180,633356603.94000006,{"$f":"TEXT(Saldo_Disponivel_VT[[#This Row],[Data]],\"mmmm\")","v":"junho"}]
["2024","21/06/24","Disponivel",6483826,645918602.15999997,{"$f":"TEXT(Saldo_Disponivel_VT[[#This Row],[Data]],\"mmmm\")","v":"junho"}]
["2024","22/06/24","Disponivel",6460307,642293170.15999997,{"$f":"TEXT(Saldo_Disponivel_VT[[#This Row],[Data]],\"mmmm\")","v":"junho"}]
["2024","23/06/24","Disponivel",6471490,641252417.42999995,{"$f":"TEXT(Saldo_Disponivel_VT[[#This Row],[Data]],\"mmmm\")","v":"junho"}]
["2024","24/06/24","Disponivel",6538618,664492176.65999997,{"$f":"TEXT(Saldo_Disponivel_VT[[#This Row],[Data]],\"mmmm\")","v":"junho"}]
["2024","25/06/24","Disponivel",6631765,693855080.53999996,{"$f":"TEXT(Saldo_Disponivel_VT[[#This Row],[Data]],\"mmmm\")","v":"junho"}]
["2024","26/06/24","Disponivel",6692020,710487659.90999997,{"$f":"TEXT(Saldo_Disponivel_VT[[#This Row],[Data]],\"mmmm\")","v":"junho"}]
["2024","27/06/24","Disponivel",6731725,722339632.51999998,{"$f":"TEXT(Saldo_Disponivel_VT[[#This Row],[Data]],\"mmmm\")","v":"junho"}]
["2024","28/06/24","Disponivel",6706978,717642500.01999998,{"$f":"TEXT(Saldo_Disponivel_VT[[#This Row],[Data]],\"mmmm\")","v":"junho"}]
["2024","29/06/24","Disponivel",6678841,711199729.63999999,{"$f":"TEXT(Saldo_Disponivel_VT[[#This Row],[Data]],\"mmmm\")","v":"junho"}]
["2024","30/06/24","Disponivel",6686391,707961579.04999995,{"$f":"TEXT(Saldo_Disponivel_VT[[#This Row],[Data]],\"mmmm\")","v":"junho"}]
["2024","01/07/24","Disponivel",8000980,722453838.01999998,{"$f":"TEXT(Saldo_Disponivel_VT[[#This Row],[Data]],\"mmmm\")","v":"julho"}]
["2024","02/07/24","Disponivel",7852312,707168458.61000001,{"$f":"TEXT(Saldo_Disponivel_VT[[#This Row],[Data]],\"mmmm\")","v":"julho"}]
["2024","03/07/24","Disponivel",7769725,700906403.90999997,{"$f":"TEXT(Saldo_Disponivel_VT[[#This Row],[Data]],\"mmmm\")","v":"julho"}]
["2024","04/07/24","Disponivel",7681717,690539389.88,{"$f":"TEXT(Saldo_Disponivel_VT[[#This Row],[Data]],\"mmmm\")","v":"julho"}]
["2024","05/07/24","Disponivel",7604815,682475064.35000002,{"$f":"TEXT(Saldo_Disponivel_VT[[#This Row],[Data]],\"mmmm\")","v":"julho"}]
["2024","06/07/24","Disponivel",7487225,673875092.87,{"$f":"TEXT(Saldo_Disponivel_VT[[#This Row],[Data]],\"mmmm\")","v":"julho"}]
["2024","07/07/24","Disponivel",7471234,671915449.07000005,{"$f":"TEXT(Saldo_Disponivel_VT[[#This Row],[Data]],\"mmmm\")","v":"julho"}]
["2024","08/07/24","Disponivel",7346038,661270907.04999995,{"$f":"TEXT(Saldo_Disponivel_VT[[#This Row],[Data]],\"mmmm\")","v":"julho"}]
["2024","09/07/24","Disponivel",7339042,659551515.53999996,{"$f":"TEXT(Saldo_Disponivel_VT[[#This Row],[Data]],\"mmmm\")","v":"julho"}]
["2024","10/07/24","Disponivel",7225880,653432458.70000005,{"$f":"TEXT(Saldo_Disponivel_VT[[#This Row],[Data]],\"mmmm\")","v":"julho"}]
["2024","11/07/24","Disponivel",7137275,647429668.51999998,{"$f":"TEXT(Saldo_Disponivel_VT[[#This Row],[Data]],\"mmmm\")","v":"julho"}]
["2024","12/07/24","Disponivel",7060272,641886709.36000001,{"$f":"TEXT(Saldo_Disponivel_VT[[#This Row],[Data]],\"mmmm\")","v":"julho"}]
["2024","13/07/24","Disponivel",7020378,639011038.99000001,{"$f":"TEXT(Saldo_Disponivel_VT[[#This Row],[Data]],\"mmmm\")","v":"julho"}]
["2024","14/07/24","Disponivel",7025419,638549743.80999994,{"$f":"TEXT(Saldo_Disponivel_VT[[#This Row],[Data]],\"mmmm\")","v":"julho"}]
["2024","15/07/24","Disponivel",6969263,632829120.62,{"$f":"TEXT(Saldo_Disponivel_VT[[#This Row],[Data]],\"mmmm\")","v":"julho"}]
["2024","16/07/24","Disponivel",6915899,628772056.63999999,{"$f":"TEXT(Saldo_Disponivel_VT[[#This Row],[Data]],\"mmmm\")","v":"julho"}]
["2024","17/07/24","Disponivel",6880237,627742815.01999998,{"$f":"TEXT(Saldo_Disponivel_VT[[#This Row],[Data]],\"mmmm\")","v":"julho"}]
["2024","18/07/24","Disponivel",6861610,628741472.77999997,{"$f":"TEXT(Saldo_Disponivel_VT[[#This Row],[Data]],\"mmmm\")","v":"julho"}]
["2024","19/07/24","Disponivel",6839242,627894832.01999998,{"$f":"TEXT(Saldo_Disponivel_VT[[#This Row],[Data]],\"mmmm\")","v":"julho"}]
["2024","20/07/24","Disponivel",6814605,625452466.13999999,{"$f":"TEXT(Saldo_Disponivel_VT[[#This Row],[Data]],\"mmmm\")","v":"julho"}]
["2024","21/07/24","Disponivel",6827713,625304310.44000006,{"$f":"TEXT(Saldo_Disponivel_VT[[#This Row],[Data]],\"mmmm\")","v":"julho"}]
["2024","22/07/24","Disponivel",6834135,634126232.83000004,{"$f":"TEXT(Saldo_Disponivel_VT[[#This Row],[Data]],\"mmmm\")","v":"julho"}]
["2024","23/07/24","Disponivel",6838617,642090107.37,{"$f":"TEXT(Saldo_Disponivel_VT[[#This Row],[Data]],\"mmmm\")","v":"julho"}]
["2024","24/07/24","Disponivel",6878458,661348063.69000006,{"$f":"TEXT(Saldo_Disponivel_VT[[#This Row],[Data]],\"mmmm\")","v":"julho"}]
["2024","25/07/24","Disponivel",6925407,679613797.95000005,{"$f":"TEXT(Saldo_Disponivel_VT[[#This Row],[Data]],\"mmmm\")","v":"julho"}]
["2024","26/07/24","Disponivel",6969986,693484588.30999994,{"$f":"TEXT(Saldo_Disponivel_VT[[#This Row],[Data]],\"mmmm\")","v":"julho"}]
["2024","27/07/24","Disponivel",6959818,692997940.90999997,{"$f":"TEXT(Saldo_Disponivel_VT[[#This Row],[Data]],\"mmmm\")","v":"julho"}]
["2024","28/07/24","Disponivel",6963190,690058487.36000001,{"$f":"TEXT(Saldo_Disponivel_VT[[#This Row],[Data]],\"mmmm\")","v":"julho"}]
["2024","29/07/24","Disponivel",6962963,696779103.04999995,{"$f":"TEXT(Saldo_Disponivel_VT[[#This Row],[Data]],\"mmmm\")","v":"julho"}]
["2024","30/07/24","Disponivel",7063097,727489977.36000001,{"$f":"TEXT(Saldo_Disponivel_VT[[#This Row],[Data]],\"mmmm\")","v":"julho"}]
["2024","31/07/24","Disponivel",6988611,709845166.42999995,{"$f":"TEXT(Saldo_Disponivel_VT[[#This Row],[Data]],\"mmmm\")","v":"julho"}]
["2024","01/08/24","Disponivel",8298732,756687075.57000005,{"$f":"TEXT(Saldo_Disponivel_VT[[#This Row],[Data]],\"mmmm\")","v":"agosto"}]
["2024","02/08/24","Disponivel",8146530,739227748.77999997,{"$f":"TEXT(Saldo_Disponivel_VT[[#This Row],[Data]],\"mmmm\")","v":"agosto"}]
["2024","03/08/24","Disponivel",8065047,731054342.73000002,{"$f":"TEXT(Saldo_Disponivel_VT[[#This Row],[Data]],\"mmmm\")","v":"agosto"}]
["2024","04/08/24","Disponivel",8054833,728133561.53999996,{"$f":"TEXT(Saldo_Disponivel_VT[[#This Row],[Data]],\"mmmm\")","v":"agosto"}]
["2024","05/08/24","Disponivel",7899300,710905228.89999998,{"$f":"TEXT(Saldo_Disponivel_VT[[#This Row],[Data]],\"mmmm\")","v":"agosto"}]
["2024","06/08/24","Disponivel",7664837,689993591.09000003,{"$f":"TEXT(Saldo_Disponivel_VT[[#This Row],[Data]],\"mmmm\")","v":"agosto"}]
["2024","07/08/24","Disponivel",7522545,678069201.95000005,{"$f":"TEXT(Saldo_Disponivel_VT[[#This Row],[Data]],\"mmmm\")","v":"agosto"}]
["2024","08/08/24","Disponivel",7401053,668033432.48000002,{"$f":"TEXT(Saldo_Disponivel_VT[[#This Row],[Data]],\"mmmm\")","v":"agosto"}]
["2024","09/08/24","Disponivel",7325456,662399454.75,{"$f":"TEXT(Saldo_Disponivel_VT[[#This Row],[Data]],\"mmmm\")","v":"agosto"}]
["2024","10/08/24","Disponivel",7280842,659029663.09000003,{"$f":"TEXT(Saldo_Disponivel_VT[[#This Row],[Data]],\"mmmm\")","v":"agosto"}]
["2024","11/08/24","Disponivel",7294367,658735295.15999997,{"$f":"TEXT(Saldo_Disponivel_VT[[#This Row],[Data]],\"mmmm\")","v":"agosto"}]
["2024","12/08/24","Disponivel",7196953,650428505.52999997,{"$f":"TEXT(Saldo_Disponivel_VT[[#This Row],[Data]],\"mmmm\")","v":"agosto"}]
["2024","13/08/24","Disponivel",7150263,647780395.79999995,{"$f":"TEXT(Saldo_Disponivel_VT[[#This Row],[Data]],\"mmmm\")","v":"agosto"}]
["2024","14/08/24","Disponivel",7108283,644407635.59000003,{"$f":"TEXT(Saldo_Disponivel_VT[[#This Row],[Data]],\"mmmm\")","v":"agosto"}]
["2024","15/08/24","Disponivel",7073634,641725929.25999999,{"$f":"TEXT(Saldo_Disponivel_VT[[#This Row],[Data]],\"mmmm\")","v":"agosto"}]
["2024","16/08/24","Disponivel",7033308,638047750.84000003,{"$f":"TEXT(Saldo_Disponivel_VT[[#This Row],[Data]],\"mmmm\")","v":"agosto"}]
["2024","17/08/24","Disponivel",7004915,635104040.40999997,{"$f":"TEXT(Saldo_Disponivel_VT[[#This Row],[Data]],\"mmmm\")","v":"agosto"}]
["2024","18/08/24","Disponivel",7015129,634818995.04999995,{"$f":"TEXT(Saldo_Disponivel_VT[[#This Row],[Data]],\"mmmm\")","v":"agosto"}]
["2024","19/08/24","Disponivel",7008523,634467538.38999999,{"$f":"TEXT(Saldo_Disponivel_VT[[#This Row],[Data]],\"mmmm\")","v":"agosto"}]
["2024","20/08/24","Disponivel",7011647,637546469.91999996,{"$f":"TEXT(Saldo_Disponivel_VT[[#This Row],[Data]],\"mmmm\")","v":"agosto"}]
["2024","21/08/24","Disponivel",7013441,643904982.09000003,{"$f":"TEXT(Saldo_Disponivel_VT[[#This Row],[Data]],\"mmmm\")","v":"agosto"}]
["2024","22/08/24","Disponivel",7012596,650154648.91999996,{"$f":"TEXT(Saldo_Disponivel_VT[[#This Row],[Data]],\"mmmm\")","v":"agosto"}]
["2024","23/08/24","Disponivel",7053559,666490798.04999995,{"$f":"TEXT(Saldo_Disponivel_VT[[#This Row],[Data]],\"mmmm\")","v":"agosto"}]
["2024","24/08/24","Disponivel",7036322,664122604.67999995,{"$f":"TEXT(Saldo_Disponivel_VT[[#This Row],[Data]],\"mmmm\")","v":"agosto"}]
["2024","25/08/24","Disponivel",7049552,663139454.94000006,{"$f":"TEXT(Saldo_Disponivel_VT[[#This Row],[Data]],\"mmmm\")","v":"agosto"}]
["2024","26/08/24","Disponivel",7089890,676872698.00999999,{"$f":"TEXT(Saldo_Disponivel_VT[[#This Row],[Data]],\"mmmm\")","v":"agosto"}]
["2024","27/08/24","Disponivel",7192490,706074470.32000005,{"$f":"TEXT(Saldo_Disponivel_VT[[#This Row],[Data]],\"mmmm\")","v":"agosto"}]
["2024","28/08/24","Disponivel",7236273,719653628.85000002,{"$f":"TEXT(Saldo_Disponivel_VT[[#This Row],[Data]],\"mmmm\")","v":"agosto"}]
["2024","29/08/24","Disponivel",7275137,733332164.58000004,{"$f":"TEXT(Saldo_Disponivel_VT[[#This Row],[Data]],\"mmmm\")","v":"agosto"}]
["2024","30/08/24","Disponivel",7219442,720415958.80999994,{"$f":"TEXT(Saldo_Disponivel_VT[[#This Row],[Data]],\"mmmm\")","v":"agosto"}]
["2024","31/08/24","Disponivel",7187622,714127075.38999999,{"$f":"TEXT(Saldo_Disponivel_VT[[#This Row],[Data]],\"mmmm\")","v":"agosto"}]
["2024","01/09/24","Disponivel",8825779,782309201.83000004,{"$f":"TEXT(Saldo_Disponivel_VT[[#This Row],[Data]],\"mmmm\")","v":"setembro"}]
["2024","02/09/24","Disponivel",8521768,747611349.58000004,{"$f":"TEXT(Saldo_Disponivel_VT[[#This Row],[Data]],\"mmmm\")","v":"setembro"}]
["2024","03/09/24","Disponivel",8367985,734382264.39999998,{"$f":"TEXT(Saldo_Disponivel_VT[[#This Row],[Data]],\"mmmm\")","v":"setembro"}]
["2024","04/09/24","Disponivel",8255722,723079113.38,{"$f":"TEXT(Saldo_Disponivel_VT[[#This Row],[Data]],\"mmmm\")","v":"setembro"}]
["2024","05/09/24","Disponivel",8151751,711245506.27999997,{"$f":"TEXT(Saldo_Disponivel_VT[[#This Row],[Data]],\"mmmm\")","v":"setembro"}]
["2024","06/09/24","Disponivel",7931977,692164137.84000003,{"$f":"TEXT(Saldo_Disponivel_VT[[#This Row],[Data]],\"mmmm\")","v":"setembro"}]
["2024","07/09/24","Disponivel",7858642,686862381.79999995,{"$f":"TEXT(Saldo_Disponivel_VT[[#This Row],[Data]],\"mmmm\")","v":"setembro"}]
["2024","08/09/24","Disponivel",7850259,685297492.27999997,{"$f":"TEXT(Saldo_Disponivel_VT[[#This Row],[Data]],\"mmmm\")","v":"setembro"}]
["2024","09/09/24","Disponivel",7696123,671467175.63,{"$f":"TEXT(Saldo_Disponivel_VT[[#This Row],[Data]],\"mmmm\")","v":"setembro"}]
["2024","10/09/24","Disponivel",7606578,664659790.94000006,{"$f":"TEXT(Saldo_Disponivel_VT[[#This Row],[Data]],\"mmmm\")","v":"setembro"}]
["2024","11/09/24","Disponivel",7538782,660526053.13,{"$f":"TEXT(Saldo_Disponivel_VT[[#This Row],[Data]],\"mmmm\")","v":"setembro"}]
["2024","12/09/24","Disponivel",7476032,655956572.53999996,{"$f":"TEXT(Saldo_Disponivel_VT[[#This Row],[Data]],\"mmmm\")","v":"setembro"}]
["2024","13/09/24","Disponivel",7421808,651917834.10000002,{"$f":"TEXT(Saldo_Disponivel_VT[[#This Row],[Data]],\"mmmm\")","v":"setembro"}]
["2024","14/09/24","Disponivel",7385761,648661123.75,{"$f":"TEXT(Saldo_Disponivel_VT[[#This Row],[Data]],\"mmmm\")","v":"setembro"}]
["2024","15/09/24","Disponivel",7395322,648349163.26999998,{"$f":"TEXT(Saldo_Disponivel_VT[[#This Row],[Data]],\"mmmm\")","v":"setembro"}]
["2024","16/09/24","Disponivel",7360423,644664187.70000005,{"$f":"TEXT(Saldo_Disponivel_VT[[#This Row],[Data]],\"mmmm\")","v":"setembro"}]
["2024","17/09/24","Disponivel",7319209,641906860.37,{"$f":"TEXT(Saldo_Disponivel_VT[[#This Row],[Data]],\"mmmm\")","v":"setembro"}]
["2024","18/09/24","Disponivel",7295985,642754234.63,{"$f":"TEXT(Saldo_Disponivel_VT[[#This Row],[Data]],\"mmmm\")","v":"setembro"}]
["2024","19/09/24","Disponivel",7294864,647836025.60000002,{"$f":"TEXT(Saldo_Disponivel_VT[[#This Row],[Data]],\"mmmm\")","v":"setembro"}]
["2024","20/09/24","Disponivel",7291126,650537533.92999995,{"$f":"TEXT(Saldo_Disponivel_VT[[#This Row],[Data]],\"mmmm\")","v":"setembro"}]
["2024","21/09/24","Disponivel",7273233,648731566.07000005,{"$f":"TEXT(Saldo_Disponivel_VT[[#This Row],[Data]],\"mmmm\")","v":"setembro"}]
["2024","22/09/24","Disponivel",7284839,648277310.16999996,{"$f":"TEXT(Saldo_Disponivel_VT[[#This Row],[Data]],\"mmmm\")","v":"setembro"}]
["2024","23/09/24","Disponivel",7315545,664031308.09000003,{"$f":"TEXT(Saldo_Disponivel_VT[[#This Row],[Data]],\"mmmm\")","v":"setembro"}]
["2024","24/09/24","Disponivel",7387597,687372359.91999996,{"$f":"TEXT(Saldo_Disponivel_VT[[#This Row],[Data]],\"mmmm\")","v":"setembro"}]
["2024","25/09/24","Disponivel",7459983,711987274.22000003,{"$f":"TEXT(Saldo_Disponivel_VT[[#This Row],[Data]],\"mmmm\")","v":"setembro"}]
["2024","26/09/24","Disponivel",7495523,723760049.71000004,{"$f":"TEXT(Saldo_Disponivel_VT[[#This Row],[Data]],\"mmmm\")","v":"setembro"}]
["2024","27/09/24","Disponivel",7625929,763177184.75999999,{"$f":"TEXT(Saldo_Disponivel_VT[[#This Row],[Data]],\"mmmm\")","v":"setembro"}]
["2024","28/09/24","Disponivel",7594927,757228063.69000006,{"$f":"TEXT(Saldo_Disponivel_VT[[#This Row],[Data]],\"mmmm\")","v":"setembro"}]
["2024","29/09/24","Disponivel",7598307,754198420.82000005,{"$f":"TEXT(Saldo_Disponivel_VT[[#This Row],[Data]],\"mmmm\")","v":"setembro"}]
["2024","30/09/24","Disponivel",7529346,733060287.57000005,{"$f":"TEXT(Saldo_Disponivel_VT[[#This Row],[Data]],\"mmmm\")","v":"setembro"}]
["2024","01/10/24","Disponivel",8957797,780878942.55999994,{"$f":"TEXT(Saldo_Disponivel_VT[[#This Row],[Data]],\"mmmm\")","v":"outubro"}]
["2024","02/10/24","Disponivel",8791688,763337748.82000005,{"$f":"TEXT(Saldo_Disponivel_VT[[#This Row],[Data]],\"mmmm\")","v":"outubro"}]
["2024","03/10/24","Disponivel",8673136,749812985.88,{"$f":"TEXT(Saldo_Disponivel_VT[[#This Row],[Data]],\"mmmm\")","v":"outubro"}]
["2024","04/10/24","Disponivel",8572521,737752808.64999998,{"$f":"TEXT(Saldo_Disponivel_VT[[#This Row],[Data]],\"mmmm\")","v":"outubro"}]
["2024","05/10/24","Disponivel",8504145,730017351.34000003,{"$f":"TEXT(Saldo_Disponivel_VT[[#This Row],[Data]],\"mmmm\")","v":"outubro"}]
["2024","06/10/24","Disponivel",8502820,728172268.75999999,{"$f":"TEXT(Saldo_Disponivel_VT[[#This Row],[Data]],\"mmmm\")","v":"outubro"}]
["2024","07/10/24","Disponivel",8235288,703404183.97000003,{"$f":"TEXT(Saldo_Disponivel_VT[[#This Row],[Data]],\"mmmm\")","v":"outubro"}]
["2024","08/10/24","Disponivel",8068619,689423240.71000004,{"$f":"TEXT(Saldo_Disponivel_VT[[#This Row],[Data]],\"mmmm\")","v":"outubro"}]
["2024","09/10/24","Disponivel",7963669,682402893.74000001,{"$f":"TEXT(Saldo_Disponivel_VT[[#This Row],[Data]],\"mmmm\")","v":"outubro"}]
["2024","10/10/24","Disponivel",7883218,676432672.55999994,{"$f":"TEXT(Saldo_Disponivel_VT[[#This Row],[Data]],\"mmmm\")","v":"outubro"}]
["2024","11/10/24","Disponivel",7823311,672729746.36000001,{"$f":"TEXT(Saldo_Disponivel_VT[[#This Row],[Data]],\"mmmm\")","v":"outubro"}]
["2024","12/10/24","Disponivel",7790410,670474609.12,{"$f":"TEXT(Saldo_Disponivel_VT[[#This Row],[Data]],\"mmmm\")","v":"outubro"}]
["2024","13/10/24","Disponivel",7792284,669673847.88999999,{"$f":"TEXT(Saldo_Disponivel_VT[[#This Row],[Data]],\"mmmm\")","v":"outubro"}]
["2024","14/10/24","Disponivel",7724586,663272760.40999997,{"$f":"TEXT(Saldo_Disponivel_VT[[#This Row],[Data]],\"mmmm\")","v":"outubro"}]
["2024","15/10/24","Disponivel",7670040,657803883.64999998,{"$f":"TEXT(Saldo_Disponivel_VT[[#This Row],[Data]],\"mmmm\")","v":"outubro"}]
["2024","16/10/24","Disponivel",7626688,654218813,{"$f":"TEXT(Saldo_Disponivel_VT[[#This Row],[Data]],\"mmmm\")","v":"outubro"}]
["2024","17/10/24","Disponivel",7596892,652954713.03999996,{"$f":"TEXT(Saldo_Disponivel_VT[[#This Row],[Data]],\"mmmm\")","v":"outubro"}]
["2024","18/10/24","Disponivel",7590184,656212438.11000001,{"$f":"TEXT(Saldo_Disponivel_VT[[#This Row],[Data]],\"mmmm\")","v":"outubro"}]
["2024","19/10/24","Disponivel",7571103,653810755.76999998,{"$f":"TEXT(Saldo_Disponivel_VT[[#This Row],[Data]],\"mmmm\")","v":"outubro"}]
["2024","20/10/24","Disponivel",7591521,653799159.5,{"$f":"TEXT(Saldo_Disponivel_VT[[#This Row],[Data]],\"mmmm\")","v":"outubro"}]
["2024","21/10/24","Disponivel",7562519,653795727.54999995,{"$f":"TEXT(Saldo_Disponivel_VT[[#This Row],[Data]],\"mmmm\")","v":"outubro"}]
["2024","22/10/24","Disponivel",7558120,658032535.75999999,{"$f":"TEXT(Saldo_Disponivel_VT[[#This Row],[Data]],\"mmmm\")","v":"outubro"}]
["2024","23/10/24","Disponivel",7601052,672852368.02999997,{"$f":"TEXT(Saldo_Disponivel_VT[[#This Row],[Data]],\"mmmm\")","v":"outubro"}]
["2024","24/10/24","Disponivel",7657314,691167238.86000001,{"$f":"TEXT(Saldo_Disponivel_VT[[#This Row],[Data]],\"mmmm\")","v":"outubro"}]
["2024","25/10/24","Disponivel",7737411,712448540.53999996,{"$f":"TEXT(Saldo_Disponivel_VT[[#This Row],[Data]],\"mmmm\")","v":"outubro"}]
["2024","26/10/24","Disponivel",7715981,709437880.73000002,{"$f":"TEXT(Saldo_Disponivel_VT[[#This Row],[Data]],\"mmmm\")","v":"outubro"}]
["2024","27/10/24","Disponivel",7727442,707298029.45000005,{"$f":"TEXT(Saldo_Disponivel_VT[[#This Row],[Data]],\"mmmm\")","v":"outubro"}]
["2024","28/10/24","Disponivel",7651552,692169471.62,{"$f":"TEXT(Saldo_Disponivel_VT[[#This Row],[Data]],\"mmmm\")","v":"outubro"}]
["2024","29/10/24","Disponivel",7797351,731496829.74000001,{"$f":"TEXT(Saldo_Disponivel_VT[[#This Row],[Data]],\"mmmm\")","v":"outubro"}]
["2024","30/10/24","Disponivel",7816890,740307900.01999998,{"$f":"TEXT(Saldo_Disponivel_VT[[#This Row],[Data]],\"mmmm\")","v":"outubro"}]
["2024","31/10/24","Disponivel",7757813,725822972.75,{"$f":"TEXT(Saldo_Disponivel_VT[[#This Row],[Data]],\"mmmm\")","v":"outubro"}]
["2024","01/11/24","Disponivel",9249259,782317860.71000004,{"$f":"TEXT(Saldo_Disponivel_VT[[#This Row],[Data]],\"mmmm\")","v":"novembro"}]
["2024","02/11/24","Disponivel",9183142,775498239.13999999,{"$f":"TEXT(Saldo_Disponivel_VT[[#This Row],[Data]],\"mmmm\")","v":"novembro"}]
["2024","03/11/24","Disponivel",9172696,772548343.71000004,{"$f":"TEXT(Saldo_Disponivel_VT[[#This Row],[Data]],\"mmmm\")","v":"novembro"}]
["2024","04/11/24","Disponivel",8982077,751063324.88999999,{"$f":"TEXT(Saldo_Disponivel_VT[[#This Row],[Data]],\"mmmm\")","v":"novembro"}]
["2024","05/11/24","Disponivel",8836990,736186443.38,{"$f":"TEXT(Saldo_Disponivel_VT[[#This Row],[Data]],\"mmmm\")","v":"novembro"}]
["2024","06/11/24","Disponivel",8580427,713815937.35000002,{"$f":"TEXT(Saldo_Disponivel_VT[[#This Row],[Data]],\"mmmm\")","v":"novembro"}]
["2024","07/11/24","Disponivel",8420398,699918999.02999997,{"$f":"TEXT(Saldo_Disponivel_VT[[#This Row],[Data]],\"mmmm\")","v":"novembro"}]
["2024","08/11/24","Disponivel",8318484,692399926.77999997,{"$f":"TEXT(Saldo_Disponivel_VT[[#This Row],[Data]],\"mmmm\")","v":"novembro"}]
["2024","09/11/24","Disponivel",8242646,686588832,{"$f":"TEXT(Saldo_Disponivel_VT[[#This Row],[Data]],\"mmmm\")","v":"novembro"}]
["2024","10/11/24","Disponivel",8246168,685972339.49000001,{"$f":"TEXT(Saldo_Disponivel_VT[[#This Row],[Data]],\"mmmm\")","v":"novembro"}]
["2024","11/11/24","Disponivel",8146755,678187402.19000006,{"$f":"TEXT(Saldo_Disponivel_VT[[#This Row],[Data]],\"mmmm\")","v":"novembro"}]
["2024","12/11/24","Disponivel",8068494,673091368.08000004,{"$f":"TEXT(Saldo_Disponivel_VT[[#This Row],[Data]],\"mmmm\")","v":"novembro"}]
["2024","13/11/24","Disponivel",8007940,668061143.65999997,{"$f":"TEXT(Saldo_Disponivel_VT[[#This Row],[Data]],\"mmmm\")","v":"novembro"}]
["2024","14/11/24","Disponivel",7961845,664855900.92999995,{"$f":"TEXT(Saldo_Disponivel_VT[[#This Row],[Data]],\"mmmm\")","v":"novembro"}]
["2024","15/11/24","Disponivel",7944283,663101657.42999995,{"$f":"TEXT(Saldo_Disponivel_VT[[#This Row],[Data]],\"mmmm\")","v":"novembro"}]
["2024","16/11/24","Disponivel",7911381,659820922.67999995,{"$f":"TEXT(Saldo_Disponivel_VT[[#This Row],[Data]],\"mmmm\")","v":"novembro"}]
["2024","17/11/24","Disponivel",7918499,659441479.16999996,{"$f":"TEXT(Saldo_Disponivel_VT[[#This Row],[Data]],\"mmmm\")","v":"novembro"}]
["2024","18/11/24","Disponivel",7876069,656565473.5,{"$f":"TEXT(Saldo_Disponivel_VT[[#This Row],[Data]],\"mmmm\")","v":"novembro"}]
["2024","2024-11-19","Disponivel",7862662,662222729.19000006,{"$f":"TEXT(Saldo_Disponivel_VT[[#This Row],[Data]],\"mmmm\")","v":"novembro"}]
["2024","2024-11-20","Disponivel",7856562,660199178.46000004,{"$f":"TEXT(Saldo_Disponivel_VT[[#This Row],[Data]],\"mmmm\")","v":"novembro"}]
["2024","2024-11-21","Disponivel",7861825,668220060.63,{"$f":"TEXT(Saldo_Disponivel_VT[[#This Row],[Data]],\"mmmm\")","v":"novembro"}]
["2024","2024-11-22","Disponivel",7887943,680531216.46000004,{"$f":"TEXT(Saldo_Disponivel_VT[[#This Row],[Data]],\"mmmm\")","v":"novembro"}]
["2024","2024-11-23","Disponivel",7858461,676740485.59000003,{"$f":"TEXT(Saldo_Disponivel_VT[[#This Row],[Data]],\"mmmm\")","v":"novembro"}]
["2024","2024-11-24","Disponivel",7867457,675692977.91999996,{"$f":"TEXT(Saldo_Disponivel_VT[[#This Row],[Data]],\"mmmm\")","v":"novembro"}]
["2024","2024-11-25","Disponivel",7895675,689963191.91999996,{"$f":"TEXT(Saldo_Disponivel_VT[[#This Row],[Data]],\"mmmm\")","v":"novembro"}]
["2024","2024-11-26","Disponivel",7970381,712344455.75,{"$f":"TEXT(Saldo_Disponivel_VT[[#This Row],[Data]],\"mmmm\")","v":"novembro"}]
["2024","2024-11-27","Disponivel",8081800,743494714.33000004,{"$f":"TEXT(Saldo_Disponivel_VT[[#This Row],[Data]],\"mmmm\")","v":"novembro"}]
["2024","2024-11-28","Disponivel",8136070,757595097.85000002,{"$f":"TEXT(Saldo_Disponivel_VT[[#This Row],[Data]],\"mmmm\")","v":"novembro"}]
["2024","2024-11-29","Disponivel",8082511,745608260.49000001,{"$f":"TEXT(Saldo_Disponivel_VT[[#This Row],[Data]],\"mmmm\")","v":"novembro"}]
["2024","2024-11-30","Disponivel",8042812,738323163.78999996,{"$f":"TEXT(Saldo_Disponivel_VT[[#This Row],[Data]],\"mmmm\")","v":"novembro"}]
["2024","2024-12-01","Disponivel",9702591,778743950.72000003,{"$f":"TEXT(Saldo_Disponivel_VT[[#This Row],[Data]],\"mmmm\")","v":"dezembro"}]
["2024","2024-12-02","Disponivel",9454443,755110666.71000004,{"$f":"TEXT(Saldo_Disponivel_VT[[#This Row],[Data]],\"mmmm\")","v":"dezembro"}]
["2024","2024-12-03","Disponivel",9316053,744347912.41999996,{"$f":"TEXT(Saldo_Disponivel_VT[[#This Row],[Data]],\"mmmm\")","v":"dezembro"}]
["2024","2024-12-04","Disponivel",9177560,731933725.25999999,{"$f":"TEXT(Saldo_Disponivel_VT[[#This Row],[Data]],\"mmmm\")","v":"dezembro"}]
["2024","2024-12-05","Disponivel",9061045,719410353.90999997,{"$f":"TEXT(Saldo_Disponivel_VT[[#This Row],[Data]],\"mmmm\")","v":"dezembro"}]
["2024","2024-12-06","Disponivel",8830127,705368986.82000005,{"$f":"TEXT(Saldo_Disponivel_VT[[#This Row],[Data]],\"mmmm\")","v":"dezembro"}]
["2024","2024-12-07","Disponivel",8718378,697885548.89999998,{"$f":"TEXT(Saldo_Disponivel_VT[[#This Row],[Data]],\"mmmm\")","v":"dezembro"}]
["2024","2024-12-08","Disponivel",8707884,696295169.86000001,{"$f":"TEXT(Saldo_Disponivel_VT[[#This Row],[Data]],\"mmmm\")","v":"dezembro"}]
["2024","2024-12-09","Disponivel",8567979,686928605.71000004,{"$f":"TEXT(Saldo_Disponivel_VT[[#This Row],[Data]],\"mmmm\")","v":"dezembro"}]
["2024","2024-12-10","Disponivel",8476953,683327168.28999996,{"$f":"TEXT(Saldo_Disponivel_VT[[#This Row],[Data]],\"mmmm\")","v":"dezembro"}]
["2024","2024-12-11","Disponivel",8393051,677696117.57000005,{"$f":"TEXT(Saldo_Disponivel_VT[[#This Row],[Data]],\"mmmm\")","v":"dezembro"}]
["2024","2024-12-12","Disponivel",8314307,673763085.47000003,{"$f":"TEXT(Saldo_Disponivel_VT[[#This Row],[Data]],\"mmmm\")","v":"dezembro"}]
["2024","2024-12-13","Disponivel",8265625,673205747.28999996,{"$f":"TEXT(Saldo_Disponivel_VT[[#This Row],[Data]],\"mmmm\")","v":"dezembro"}]
["2024","2024-12-14","Disponivel",8223560,669761609.14999998,{"$f":"TEXT(Saldo_Disponivel_VT[[#This Row],[Data]],\"mmmm\")","v":"dezembro"}]
["2024","2024-12-15","Disponivel",8224738,668753152.35000002,{"$f":"TEXT(Saldo_Disponivel_VT[[#This Row],[Data]],\"mmmm\")","v":"dezembro"}]
["2024","2024-12-16","Disponivel",8175047,666202251.35000002,{"$f":"TEXT(Saldo_Disponivel_VT[[#This Row],[Data]],\"mmmm\")","v":"dezembro"}]
["2024","2024-12-17","Disponivel",8173073,672435928.33000004,{"$f":"TEXT(Saldo_Disponivel_VT[[#This Row],[Data]],\"mmmm\")","v":"dezembro"}]
["2024","2024-12-18","Disponivel",8163045,677395024.99000001,{"$f":"TEXT(Saldo_Disponivel_VT[[#This Row],[Data]],\"mmmm\")","v":"dezembro"}]
["2024","2024-12-19","Disponivel",8184015,690358744.73000002,{"$f":"TEXT(Saldo_Disponivel_VT[[#This Row],[Data]],\"mmmm\")","v":"dezembro"}]
["2024","2024-12-20","Disponivel",8238084,707399685.88,{"$f":"TEXT(Saldo_Disponivel_VT[[#This Row],[Data]],\"mmmm\")","v":"dezembro"}]
["2024","2024-12-21","Disponivel",8224276,705609133.79999995,{"$f":"TEXT(Saldo_Disponivel_VT[[#This Row],[Data]],\"mmmm\")","v":"dezembro"}]
["2024","2024-12-22","Disponivel",8224201,703806615.77999997,{"$f":"TEXT(Saldo_Disponivel_VT[[#This Row],[Data]],\"mmmm\")","v":"dezembro"}]
["2024","2024-12-23","Disponivel",8306554,724683578.71000004,{"$f":"TEXT(Saldo_Disponivel_VT[[#This Row],[Data]],\"mmmm\")","v":"dezembro"}]
["2024","2024-12-24","Disponivel",8295945,725445310.63999999,{"$f":"TEXT(Saldo_Disponivel_VT[[#This Row],[Data]],\"mmmm\")","v":"dezembro"}]
["2024","2024-12-25","Disponivel",8307600,725952033.91999996,{"$f":"TEXT(Saldo_Disponivel_VT[[#This Row],[Data]],\"mmmm\")","v":"dezembro"}]
["2024","2024-12-26","Disponivel",8402594,756784595.42999995,{"$f":"TEXT(Saldo_Disponivel_VT[[#This Row],[Data]],\"mmmm\")","v":"dezembro"}]
["2024","2024-12-27","Disponivel",8452148,772661461.20000005,{"$f":"TEXT(Saldo_Disponivel_VT[[#This Row],[Data]],\"mmmm\")","v":"dezembro"}]
["2024","2024-12-28","Disponivel",8411118,765217040.36000001,{"$f":"TEXT(Saldo_Disponivel_VT[[#This Row],[Data]],\"mmmm\")","v":"dezembro"}]
["2024","2024-12-29","Disponivel",8408085,761491687.37,{"$f":"TEXT(Saldo_Disponivel_VT[[#This Row],[Data]],\"mmmm\")","v":"dezembro"}]
["2024","2024-12-30","Disponivel",8410967,764674035.04999995,{"$f":"TEXT(Saldo_Disponivel_VT[[#This Row],[Data]],\"mmmm\")","v":"dezembro"}]
["2024","2024-12-31","Disponivel",8403857,762822686.40999997,{"$f":"TEXT(Saldo_Disponivel_VT[[#This Row],[Data]],\"mmmm\")","v":"dezembro"}]
["2025","2025-01-01","Disponivel",9318973,779908730.53999996,{"$f":"TEXT(Saldo_Disponivel_VT[[#This Row],[Data]],\"mmmm\")","v":"janeiro"}]
["2025","2025-01-02","Disponivel",9169475,758477533.53999996,{"$f":"TEXT(Saldo_Disponivel_VT[[#This Row],[Data]],\"mmmm\")","v":"janeiro"}]
["2025","2025-01-03","Disponivel",9069327,746122147.23000002,{"$f":"TEXT(Saldo_Disponivel_VT[[#This Row],[Data]],\"mmmm\")","v":"janeiro"}]
["2025","2025-01-04","Disponivel",9014473,739106553.41999996,{"$f":"TEXT(Saldo_Disponivel_VT[[#This Row],[Data]],\"mmmm\")","v":"janeiro"}]
["2025","2025-01-05","Disponivel",9043438,739675113.48000002,{"$f":"TEXT(Saldo_Disponivel_VT[[#This Row],[Data]],\"mmmm\")","v":"janeiro"}]
["2025","2025-01-06","Disponivel",8826841,718554381.53999996,{"$f":"TEXT(Saldo_Disponivel_VT[[#This Row],[Data]],\"mmmm\")","v":"janeiro"}]
["2025","2025-01-07","Disponivel",8717041,711795540.13,{"$f":"TEXT(Saldo_Disponivel_VT[[#This Row],[Data]],\"mmmm\")","v":"janeiro"}]
["2025","2025-01-08","Disponivel",8634921,705090113.22000003,{"$f":"TEXT(Saldo_Disponivel_VT[[#This Row],[Data]],\"mmmm\")","v":"janeiro"}]
["2025","2025-01-09","Disponivel",8560129,700755189.99000001,{"$f":"TEXT(Saldo_Disponivel_VT[[#This Row],[Data]],\"mmmm\")","v":"janeiro"}]
["2025","2025-01-10","Disponivel",8498420,698568283.61000001,{"$f":"TEXT(Saldo_Disponivel_VT[[#This Row],[Data]],\"mmmm\")","v":"janeiro"}]
["2025","2025-01-11","Disponivel",8457540,696231957.87,{"$f":"TEXT(Saldo_Disponivel_VT[[#This Row],[Data]],\"mmmm\")","v":"janeiro"}]
["2025","2025-01-12","Disponivel",8465192,696220476.08000004,{"$f":"TEXT(Saldo_Disponivel_VT[[#This Row],[Data]],\"mmmm\")","v":"janeiro"}]
["2025","2025-01-13","Disponivel",8403005,692384652.30999994,{"$f":"TEXT(Saldo_Disponivel_VT[[#This Row],[Data]],\"mmmm\")","v":"janeiro"}]
["2025","2025-01-14","Disponivel",8360865,689738822.01999998,{"$f":"TEXT(Saldo_Disponivel_VT[[#This Row],[Data]],\"mmmm\")","v":"janeiro"}]
["2025","2025-01-15","Disponivel",8332502,687301115.41999996,{"$f":"TEXT(Saldo_Disponivel_VT[[#This Row],[Data]],\"mmmm\")","v":"janeiro"}]
["2025","2025-01-16","Disponivel",8309802,686781439.21000004,{"$f":"TEXT(Saldo_Disponivel_VT[[#This Row],[Data]],\"mmmm\")","v":"janeiro"}]
["2025","2025-01-17","Disponivel",8292510,688238776.24000001,{"$f":"TEXT(Saldo_Disponivel_VT[[#This Row],[Data]],\"mmmm\")","v":"janeiro"}]
["2025","2025-01-18","Disponivel",8275111,686889326.59000003,{"$f":"TEXT(Saldo_Disponivel_VT[[#This Row],[Data]],\"mmmm\")","v":"janeiro"}]
["2025","2025-01-19","Disponivel",8293470,687352027.35000002,{"$f":"TEXT(Saldo_Disponivel_VT[[#This Row],[Data]],\"mmmm\")","v":"janeiro"}]
["2025","2025-01-20","Disponivel",8295564,692092934.30999994,{"$f":"TEXT(Saldo_Disponivel_VT[[#This Row],[Data]],\"mmmm\")","v":"janeiro"}]
["2025","2025-01-21","Disponivel",8305614,699446690.42999995,{"$f":"TEXT(Saldo_Disponivel_VT[[#This Row],[Data]],\"mmmm\")","v":"janeiro"}]
["2025","2025-01-22","Disponivel",8311705,705542021.01999998,{"$f":"TEXT(Saldo_Disponivel_VT[[#This Row],[Data]],\"mmmm\")","v":"janeiro"}]
["2025","2025-01-23","Disponivel",8339773,715937169.22000003,{"$f":"TEXT(Saldo_Disponivel_VT[[#This Row],[Data]],\"mmmm\")","v":"janeiro"}]
["2025","2025-01-24","Disponivel",8408441,738458282.17999995,{"$f":"TEXT(Saldo_Disponivel_VT[[#This Row],[Data]],\"mmmm\")","v":"janeiro"}]
["2025","2025-01-25","Disponivel",8418426,739893430.83000004,{"$f":"TEXT(Saldo_Disponivel_VT[[#This Row],[Data]],\"mmmm\")","v":"janeiro"}]
["2025","2025-01-26","Disponivel",8436044,739339249.87,{"$f":"TEXT(Saldo_Disponivel_VT[[#This Row],[Data]],\"mmmm\")","v":"janeiro"}]
["2025","2025-01-27","Disponivel",8482313,756152050.55999994,{"$f":"TEXT(Saldo_Disponivel_VT[[#This Row],[Data]],\"mmmm\")","v":"janeiro"}]
["2025","2025-01-28","Disponivel",8553406,778298555.07000005,{"$f":"TEXT(Saldo_Disponivel_VT[[#This Row],[Data]],\"mmmm\")","v":"janeiro"}]
["2025","2025-01-29","Disponivel",8603616,794273395.64999998,{"$f":"TEXT(Saldo_Disponivel_VT[[#This Row],[Data]],\"mmmm\")","v":"janeiro"}]
["2025","2025-01-30","Disponivel",8675226,815136259.13,{"$f":"TEXT(Saldo_Disponivel_VT[[#This Row],[Data]],\"mmmm\")","v":"janeiro"}]
["2025","2025-01-31","Disponivel",8647249,808751327.12,{"$f":"TEXT(Saldo_Disponivel_VT[[#This Row],[Data]],\"mmmm\")","v":"janeiro"}]
["2025","2025-02-01","Disponivel",9489167,834896058.76999998,{"$f":"TEXT(Saldo_Disponivel_VT[[#This Row],[Data]],\"mmmm\")","v":"fevereiro"}]
["2025","2025-02-02","Disponivel",9496519,833367086.85000002,{"$f":"TEXT(Saldo_Disponivel_VT[[#This Row],[Data]],\"mmmm\")","v":"fevereiro"}]
["2025","2025-02-03","Disponivel",9650352,826109422.42999995,{"$f":"TEXT(Saldo_Disponivel_VT[[#This Row],[Data]],\"mmmm\")","v":"fevereiro"}]
["2025","2025-02-04","Disponivel",9536890,815414799.34000003,{"$f":"TEXT(Saldo_Disponivel_VT[[#This Row],[Data]],\"mmmm\")","v":"fevereiro"}]
["2025","2025-02-05","Disponivel",9447108,807241500.44000006,{"$f":"TEXT(Saldo_Disponivel_VT[[#This Row],[Data]],\"mmmm\")","v":"fevereiro"}]
["2025","2025-02-06","Disponivel",9322135,797606823.90999997,{"$f":"TEXT(Saldo_Disponivel_VT[[#This Row],[Data]],\"mmmm\")","v":"fevereiro"}]
["2025","2025-02-07","Disponivel",9218717,791075656.97000003,{"$f":"TEXT(Saldo_Disponivel_VT[[#This Row],[Data]],\"mmmm\")","v":"fevereiro"}]
["2025","2025-02-08","Disponivel",9162243,787334625.72000003,{"$f":"TEXT(Saldo_Disponivel_VT[[#This Row],[Data]],\"mmmm\")","v":"fevereiro"}]
["2025","2025-02-09","Disponivel",9174701,787547772.86000001,{"$f":"TEXT(Saldo_Disponivel_VT[[#This Row],[Data]],\"mmmm\")","v":"fevereiro"}]
["2025","2025-02-10","Disponivel",9078328,779777598.51999998,{"$f":"TEXT(Saldo_Disponivel_VT[[#This Row],[Data]],\"mmmm\")","v":"fevereiro"}]

{"sheet":"Dados SPP","index":2,"n_rows":27004,"n_cols":25,"rows_kept":4500,"cut":true,"hidden":true,"merged":[],"bounds":{"rows_first":2000,"rows_last":500,"rows_between":2000,"halvings":0}}
["DATA","CARTÕES","TIPO","Qtde Cartões c/ Saldo","Carteira Especial","Carteira Comum","Saldo Total","mês","ANO",null,{"$f":"INDEX(SPP[[#All],[DATA]],L1)","v":"09/02/2025"},{"$f":"COUNTA(SPP[[#All],[DATA]])","v":27004},{"$f":"K1-10","v":"2025-01-30"},{"$f":"TEXT(M1,\"dd/mm/aaaa\")","v":"30/01/2025"},null,null,null,null,null,"SPP",null,"SPP",{"$f":"Y1","v":"2025-02-20"},null,{"$f":"TODAY()-1","v":"2025-02-20"}]
["01/01/2019","51","COMUM 4 VIAGENS",1,0,2.5,2.5,{"$f":"TEXT(SPP[[#This Row],[DATA]],\"mmmm\")","v":"janeiro"},{"$f":"YEAR(SPP[[#This Row],[DATA]])","v":2019}]
["01/01/2019","52","ESTUDANTE",3494,286.67,74823.45,75110.12,{"$f":"TEXT(SPP[[#This Row],[DATA]],\"mmmm\")","v":"janeiro"},{"$f":"YEAR(SPP[[#This Row],[DATA]])","v":2019}]
["01/01/2019","59","VT",392879,79641349.549999997,7832334.5800000001,87473684.129999995,{"$f":"TEXT(SPP[[#This Row],[DATA]],\"mmmm\")","v":"janeiro"},{"$f":"YEAR(SPP[[#This Row],[DATA]])","v":2019}]
["01/01/2019","69","VT 8VG",91,0,3045.61,3045.61,{"$f":"TEXT(SPP[[#This Row],[DATA]],\"mmmm\")","v":"janeiro"},{"$f":"YEAR(SPP[[#This Row],[DATA]])","v":2019}]
["01/01/2019","71","MÃE PAULISTANA",5238,43753.86,78058.290000000008,121812.15000000001,{"$f":"TEXT(SPP[[#This Row],[DATA]],\"mmmm\")","v":"janeiro"},{"$f":"YEAR(SPP[[#This Row],[DATA]])","v":2019}]
["01/01/2019","74","PROFESSOR",678,56168.21,0,56168.21,{"$f":"TEXT(SPP[[#This Row],[DATA]],\"mmmm\")","v":"janeiro"},{"$f":"YEAR(SPP[[#This Row],[DATA]])","v":2019}]
["01/01/2019","75","CARTAO FIDELIDADE",4810,0,490988.51,490988.51,{"$f":"TEXT(SPP[[#This Row],[DATA]],\"mmmm\")","v":"janeiro"},{"$f":"YEAR(SPP[[#This Row],[DATA]])","v":2019}]
["01/01/2019","76","Lazer",7,0,193.75,193.75,{"$f":"TEXT(SPP[[#This Row],[DATA]],\"mmmm\")","v":"janeiro"},{"$f":"YEAR(SPP[[#This Row],[DATA]])","v":2019}]
["01/01/2019","86","Estacionamento",576,0,20488.98,20488.98,{"$f":"TEXT(SPP[[#This Row],[DATA]],\"mmmm\")","v":"janeiro"},{"$f":"YEAR(SPP[[#This Row],[DATA]])","v":2019}]
["01/01/2019","100","BILHETE UNICO MENSAL - CASCO",567827,151338351.44999999,5178631.8600000003,156516983.31,{"$f":"TEXT(SPP[[#This Row],[DATA]],\"mmmm\")","v":"janeiro"},{"$f":"YEAR(SPP[[#This Row],[DATA]])","v":2019}]
["01/01/2019","110","BUM - ANÔNIMO - CASCO",144052,0,3948425.85,3948425.85,{"$f":"TEXT(SPP[[#This Row],[DATA]],\"mmmm\")","v":"janeiro"},{"$f":"YEAR(SPP[[#This Row],[DATA]])","v":2019}]
["02/01/2019","51","COMUM 4 VIAGENS",1,0,2.5,2.5,{"$f":"TEXT(SPP[[#This Row],[DATA]],\"mmmm\")","v":"janeiro"},{"$f":"YEAR(SPP[[#This Row],[DATA]])","v":2019}]
["02/01/2019","52","ESTUDANTE",6770,1924.99,171424.42,173349.41,{"$f":"TEXT(SPP[[#This Row],[DATA]],\"mmmm\")","v":"janeiro"},{"$f":"YEAR(SPP[[#This Row],[DATA]])","v":2019}]
["02/01/2019","59","VT",721014,130314979.39,16942572.09,147257551.47999999,{"$f":"TEXT(SPP[[#This Row],[DATA]],\"mmmm\")","v":"janeiro"},{"$f":"YEAR(SPP[[#This Row],[DATA]])","v":2019}]
["02/01/2019","69","VT 8VG",182,0,8238.380000000001,8238.380000000001,{"$f":"TEXT(SPP[[#This Row],[DATA]],\"mmmm\")","v":"janeiro"},{"$f":"YEAR(SPP[[#This Row],[DATA]])","v":2019}]
["02/01/2019","71","MÃE PAULISTANA",10451,85181.48,165121.56,250303.04,{"$f":"TEXT(SPP[[#This Row],[DATA]],\"mmmm\")","v":"janeiro"},{"$f":"YEAR(SPP[[#This Row],[DATA]])","v":2019}]
["02/01/2019","74","PROFESSOR",957,79246.38,0,79246.38,{"$f":"TEXT(SPP[[#This Row],[DATA]],\"mmmm\")","v":"janeiro"},{"$f":"YEAR(SPP[[#This Row],[DATA]])","v":2019}]
["02/01/2019","75","CARTAO FIDELIDADE",8956,0,1112295.8799999999,1112295.8799999999,{"$f":"TEXT(SPP[[#This Row],[DATA]],\"mmmm\")","v":"janeiro"},{"$f":"YEAR(SPP[[#This Row],[DATA]])","v":2019}]
["02/01/2019","76","Lazer",27,0,828.93000000000006,828.93000000000006,{"$f":"TEXT(SPP[[#This Row],[DATA]],\"mmmm\")","v":"janeiro"},{"$f":"YEAR(SPP[[#This Row],[DATA]])","v":2019}]
["02/01/2019","86","Estacionamento",1239,0,54306.080000000002,54306.080000000002,{"$f":"TEXT(SPP[[#This Row],[DATA]],\"mmmm\")","v":"janeiro"},{"$f":"YEAR(SPP[[#This Row],[DATA]])","v":2019}]
["02/01/2019","100","BILHETE UNICO MENSAL - CASCO",969542,248629264.03,11909739.800000001,260539003.83000001,{"$f":"TEXT(SPP[[#This Row],[DATA]],\"mmmm\")","v":"janeiro"},{"$f":"YEAR(SPP[[#This Row],[DATA]])","v":2019}]
["02/01/2019","110","BUM - ANÔNIMO - CASCO",266594,0,7981241.8600000003,7981241.8600000003,{"$f":"TEXT(SPP[[#This Row],[DATA]],\"mmmm\")","v":"janeiro"},{"$f":"YEAR(SPP[[#This Row],[DATA]])","v":2019}]
["03/01/2019","51","COMUM 4 VIAGENS",1,0,2.5,2.5,{"$f":"TEXT(SPP[[#This Row],[DATA]],\"mmmm\")","v":"janeiro"},{"$f":"YEAR(SPP[[#This Row],[DATA]])","v":2019}]
["03/01/2019","52","ESTUDANTE",9659,4212.28,256783.79,260996.07,{"$f":"TEXT(SPP[[#This Row],[DATA]],\"mmmm\")","v":"janeiro"},{"$f":"YEAR(SPP[[#This Row],[DATA]])","v":2019}]
["03/01/2019","59","VT",1017790,187037132.72999999,25607057.239999998,212644189.97,{"$f":"TEXT(SPP[[#This Row],[DATA]],\"mmmm\")","v":"janeiro"},{"$f":"YEAR(SPP[[#This Row],[DATA]])","v":2019}]
["03/01/2019","69","VT 8VG",266,0,15327.44,15327.44,{"$f":"TEXT(SPP[[#This Row],[DATA]],\"mmmm\")","v":"janeiro"},{"$f":"YEAR(SPP[[#This Row],[DATA]])","v":2019}]
["03/01/2019","71","MÃE PAULISTANA",14740,114222.83,229066.72,343289.55,{"$f":"TEXT(SPP[[#This Row],[DATA]],\"mmmm\")","v":"janeiro"},{"$f":"YEAR(SPP[[#This Row],[DATA]])","v":2019}]
["03/01/2019","74","PROFESSOR",2000,170156.26,0,170156.26,{"$f":"TEXT(SPP[[#This Row],[DATA]],\"mmmm\")","v":"janeiro"},{"$f":"YEAR(SPP[[#This Row],[DATA]])","v":2019}]
["03/01/2019","75","CARTAO FIDELIDADE",21757,0,2686448.2600000002,2686448.2600000002,{"$f":"TEXT(SPP[[#This Row],[DATA]],\"mmmm\")","v":"janeiro"},{"$f":"YEAR(SPP[[#This Row],[DATA]])","v":2019}]
["03/01/2019","76","Lazer",31,0,1056.1300000000001,1056.1300000000001,{"$f":"TEXT(SPP[[#This Row],[DATA]],\"mmmm\")","v":"janeiro"},{"$f":"YEAR(SPP[[#This Row],[DATA]])","v":2019}]
["03/01/2019","86","Estacionamento",1942,0,94268.479999999996,94268.479999999996,{"$f":"TEXT(SPP[[#This Row],[DATA]],\"mmmm\")","v":"janeiro"},{"$f":"YEAR(SPP[[#This Row],[DATA]])","v":2019}]
["03/01/2019","100","BILHETE UNICO MENSAL - CASCO",1325621,347463646.61000001,18038957.079999998,365502603.69,{"$f":"TEXT(SPP[[#This Row],[DATA]],\"mmmm\")","v":"janeiro"},{"$f":"YEAR(SPP[[#This Row],[DATA]])","v":2019}]
["03/01/2019","110","BUM - ANÔNIMO - CASCO",369171,0,11643354.68,11643354.68,{"$f":"TEXT(SPP[[#This Row],[DATA]],\"mmmm\")","v":"janeiro"},{"$f":"YEAR(SPP[[#This Row],[DATA]])","v":2019}]
["04/01/2019","51","COMUM 4 VIAGENS",2,0,48.56,48.56,{"$f":"TEXT(SPP[[#This Row],[DATA]],\"mmmm\")","v":"janeiro"},{"$f":"YEAR(SPP[[#This Row],[DATA]])","v":2019}]
["04/01/2019","52","ESTUDANTE",11566,4807.4000000000005,328416.96000000002,333224.36,{"$f":"TEXT(SPP[[#This Row],[DATA]],\"mmmm\")","v":"janeiro"},{"$f":"YEAR(SPP[[#This Row],[DATA]])","v":2019}]
["04/01/2019","59","VT",1185472,209264859.31,32348993.390000001,241613852.69999999,{"$f":"TEXT(SPP[[#This Row],[DATA]],\"mmmm\")","v":"janeiro"},{"$f":"YEAR(SPP[[#This Row],[DATA]])","v":2019}]
["04/01/2019","69","VT 8VG",333,0,19820.580000000002,19820.580000000002,{"$f":"TEXT(SPP[[#This Row],[DATA]],\"mmmm\")","v":"janeiro"},{"$f":"YEAR(SPP[[#This Row],[DATA]])","v":2019}]
["04/01/2019","71","MÃE PAULISTANA",17614,131976.12,275895.09000000003,407871.21,{"$f":"TEXT(SPP[[#This Row],[DATA]],\"mmmm\")","v":"janeiro"},{"$f":"YEAR(SPP[[#This Row],[DATA]])","v":2019}]
["04/01/2019","74","PROFESSOR",2824,237571.75,0,237571.75,{"$f":"TEXT(SPP[[#This Row],[DATA]],\"mmmm\")","v":"janeiro"},{"$f":"YEAR(SPP[[#This Row],[DATA]])","v":2019}]
["04/01/2019","75","CARTAO FIDELIDADE",27652,0,3565967.54,3565967.54,{"$f":"TEXT(SPP[[#This Row],[DATA]],\"mmmm\")","v":"janeiro"},{"$f":"YEAR(SPP[[#This Row],[DATA]])","v":2019}]
["04/01/2019","76","Lazer",36,0,1368.13,1368.13,{"$f":"TEXT(SPP[[#This Row],[DATA]],\"mmmm\")","v":"janeiro"},{"$f":"YEAR(SPP[[#This Row],[DATA]])","v":2019}]
["04/01/2019","86","Estacionamento",2368,0,122149.77,122149.77,{"$f":"TEXT(SPP[[#This Row],[DATA]],\"mmmm\")","v":"janeiro"},{"$f":"YEAR(SPP[[#This Row],[DATA]])","v":2019}]
["04/01/2019","100","BILHETE UNICO MENSAL - CASCO",1486269,385387220.74000001,22660522.129999999,408047742.87,{"$f":"TEXT(SPP[[#This Row],[DATA]],\"mmmm\")","v":"janeiro"},{"$f":"YEAR(SPP[[#This Row],[DATA]])","v":2019}]
["04/01/2019","110","BUM - ANÔNIMO - CASCO",432452,0,14338782.859999999,14338782.859999999,{"$f":"TEXT(SPP[[#This Row],[DATA]],\"mmmm\")","v":"janeiro"},{"$f":"YEAR(SPP[[#This Row],[DATA]])","v":2019}]
["05/01/2019","51","COMUM 4 VIAGENS",2,0,44.56,44.56,{"$f":"TEXT(SPP[[#This Row],[DATA]],\"mmmm\")","v":"janeiro"},{"$f":"YEAR(SPP[[#This Row],[DATA]])","v":2019}]
["05/01/2019","52","ESTUDANTE",13178,5719.18,404822.91000000003,410542.09,{"$f":"TEXT(SPP[[#This Row],[DATA]],\"mmmm\")","v":"janeiro"},{"$f":"YEAR(SPP[[#This Row],[DATA]])","v":2019}]
["05/01/2019","59","VT",1285479,218817635.22,37110980.93,255928616.15000001,{"$f":"TEXT(SPP[[#This Row],[DATA]],\"mmmm\")","v":"janeiro"},{"$f":"YEAR(SPP[[#This Row],[DATA]])","v":2019}]
["05/01/2019","69","VT 8VG",381,0,24780.670000000002,24780.670000000002,{"$f":"TEXT(SPP[[#This Row],[DATA]],\"mmmm\")","v":"janeiro"},{"$f":"YEAR(SPP[[#This Row],[DATA]])","v":2019}]
["05/01/2019","71","MÃE PAULISTANA",19597,139396.15,315388.59000000003,454784.74,{"$f":"TEXT(SPP[[#This Row],[DATA]],\"mmmm\")","v":"janeiro"},{"$f":"YEAR(SPP[[#This Row],[DATA]])","v":2019}]
["05/01/2019","74","PROFESSOR",3426,288914.19,0,288914.19,{"$f":"TEXT(SPP[[#This Row],[DATA]],\"mmmm\")","v":"janeiro"},{"$f":"YEAR(SPP[[#This Row],[DATA]])","v":2019}]
["05/01/2019","75","CARTAO FIDELIDADE",30342,0,3854791.45,3854791.45,{"$f":"TEXT(SPP[[#This Row],[DATA]],\"mmmm\")","v":"janeiro"},{"$f":"YEAR(SPP[[#This Row],[DATA]])","v":2019}]
["05/01/2019","76","Lazer",42,0,1777.38,1777.38,{"$f":"TEXT(SPP[[#This Row],[DATA]],\"mmmm\")","v":"janeiro"},{"$f":"YEAR(SPP[[#This Row],[DATA]])","v":2019}]
["05/01/2019","86","Estacionamento",2598,0,132644.87,132644.87,{"$f":"TEXT(SPP[[#This Row],[DATA]],\"mmmm\")","v":"janeiro"},{"$f":"YEAR(SPP[[#This Row],[DATA]])","v":2019}]
["05/01/2019","100","BILHETE UNICO MENSAL - CASCO",1572032,401469123.36000001,26008788.120000001,427477911.48000002,{"$f":"TEXT(SPP[[#This Row],[DATA]],\"mmmm\")","v":"janeiro"},{"$f":"YEAR(SPP[[#This Row],[DATA]])","v":2019}]
["05/01/2019","110","BUM - ANÔNIMO - CASCO",472730,0,16307354.369999999,16307354.369999999,{"$f":"TEXT(SPP[[#This Row],[DATA]],\"mmmm\")","v":"janeiro"},{"$f":"YEAR(SPP[[#This Row],[DATA]])","v":2019}]
["06/01/2019","51","COMUM 4 VIAGENS",3,0,51.980000000000004,51.980000000000004,{"$f":"TEXT(SPP[[#This Row],[DATA]],\"mmmm\")","v":"janeiro"},{"$f":"YEAR(SPP[[#This Row],[DATA]])","v":2019}]
["06/01/2019","52","ESTUDANTE",14236,6210.09,460909.97000000003,467120.06,{"$f":"TEXT(SPP[[#This Row],[DATA]],\"mmmm\")","v":"janeiro"},{"$f":"YEAR(SPP[[#This Row],[DATA]])","v":2019}]
["06/01/2019","59","VT",1344277,223709629.84999999,40500568.140000001,264210197.99000001,{"$f":"TEXT(SPP[[#This Row],[DATA]],\"mmmm\")","v":"janeiro"},{"$f":"YEAR(SPP[[#This Row],[DATA]])","v":2019}]
["06/01/2019","69","VT 8VG",413,0,28444.959999999999,28444.959999999999,{"$f":"TEXT(SPP[[#This Row],[DATA]],\"mmmm\")","v":"janeiro"},{"$f":"YEAR(SPP[[#This Row],[DATA]])","v":2019}]
["06/01/2019","71","MÃE PAULISTANA",20819,143025.73000000001,352645.43,495671.16000000003,{"$f":"TEXT(SPP[[#This Row],[DATA]],\"mmmm\")","v":"janeiro"},{"$f":"YEAR(SPP[[#This Row],[DATA]])","v":2019}]
["06/01/2019","74","PROFESSOR",3701,308838.53000000003,0,308838.53000000003,{"$f":"TEXT(SPP[[#This Row],[DATA]],\"mmmm\")","v":"janeiro"},{"$f":"YEAR(SPP[[#This Row],[DATA]])","v":2019}]
["06/01/2019","75","CARTAO FIDELIDADE",32175,0,4168240.44,4168240.44,{"$f":"TEXT(SPP[[#This Row],[DATA]],\"mmmm\")","v":"janeiro"},{"$f":"YEAR(SPP[[#This Row],[DATA]])","v":2019}]
["06/01/2019","76","Lazer",62,0,3421.64,3421.64,{"$f":"TEXT(SPP[[#This Row],[DATA]],\"mmmm\")","v":"janeiro"},{"$f":"YEAR(SPP[[#This Row],[DATA]])","v":2019}]
["06/01/2019","86","Estacionamento",2754,0,145959.21,145959.21,{"$f":"TEXT(SPP[[#This Row],[DATA]],\"mmmm\")","v":"janeiro"},{"$f":"YEAR(SPP[[#This Row],[DATA]])","v":2019}]
["06/01/2019","100","BILHETE UNICO MENSAL - CASCO",1627446,409321107.29000002,29172927.260000002,438494034.55000001,{"$f":"TEXT(SPP[[#This Row],[DATA]],\"mmmm\")","v":"janeiro"},{"$f":"YEAR(SPP[[#This Row],[DATA]])","v":2019}]
["06/01/2019","110","BUM - ANÔNIMO - CASCO",498858,0,17949521.34,17949521.34,{"$f":"TEXT(SPP[[#This Row],[DATA]],\"mmmm\")","v":"janeiro"},{"$f":"YEAR(SPP[[#This Row],[DATA]])","v":2019}]
["07/01/2019","51","COMUM 4 VIAGENS",3,0,47.980000000000004,47.980000000000004,{"$f":"TEXT(SPP[[#This Row],[DATA]],\"mmmm\")","v":"janeiro"},{"$f":"YEAR(SPP[[#This Row],[DATA]])","v":2019}]
["07/01/2019","52","ESTUDANTE",15286,7054.67,493623.99,500678.66000000003,{"$f":"TEXT(SPP[[#This Row],[DATA]],\"mmmm\")","v":"janeiro"},{"$f":"YEAR(SPP[[#This Row],[DATA]])","v":2019}]
["07/01/2019","59","VT",1449663,232106523.15000001,44874423.890000001,276980947.04000002,{"$f":"TEXT(SPP[[#This Row],[DATA]],\"mmmm\")","v":"janeiro"},{"$f":"YEAR(SPP[[#This Row],[DATA]])","v":2019}]
["07/01/2019","69","VT 8VG",449,0,29957.65,29957.65,{"$f":"TEXT(SPP[[#This Row],[DATA]],\"mmmm\")","v":"janeiro"},{"$f":"YEAR(SPP[[#This Row],[DATA]])","v":2019}]
["07/01/2019","71","MÃE PAULISTANA",23604,154654.46,406952.48,561606.94000000006,{"$f":"TEXT(SPP[[#This Row],[DATA]],\"mmmm\")","v":"janeiro"},{"$f":"YEAR(SPP[[#This Row],[DATA]])","v":2019}]
["07/01/2019","74","PROFESSOR",3897,324338.37,0,324338.37,{"$f":"TEXT(SPP[[#This Row],[DATA]],\"mmmm\")","v":"janeiro"},{"$f":"YEAR(SPP[[#This Row],[DATA]])","v":2019}]
["07/01/2019","75","CARTAO FIDELIDADE",34878,0,4694134.1900000004,4694134.1900000004,{"$f":"TEXT(SPP[[#This Row],[DATA]],\"mmmm\")","v":"janeiro"},{"$f":"YEAR(SPP[[#This Row],[DATA]])","v":2019}]
["07/01/2019","76","Lazer",83,0,4027.19,4027.19,{"$f":"TEXT(SPP[[#This Row],[DATA]],\"mmmm\")","v":"janeiro"},{"$f":"YEAR(SPP[[#This Row],[DATA]])","v":2019}]
["07/01/2019","86","Estacionamento",3027,0,165835.22,165835.22,{"$f":"TEXT(SPP[[#This Row],[DATA]],\"mmmm\")","v":"janeiro"},{"$f":"YEAR(SPP[[#This Row],[DATA]])","v":2019}]
["07/01/2019","100","BILHETE UNICO MENSAL - CASCO",1732341,424639683.69999999,33132271.629999999,457771955.32999998,{"$f":"TEXT(SPP[[#This Row],[DATA]],\"mmmm\")","v":"janeiro"},{"$f":"YEAR(SPP[[#This Row],[DATA]])","v":2019}]
["07/01/2019","110","BUM - ANÔNIMO - CASCO",543927,0,20008046.510000002,20008046.510000002,{"$f":"TEXT(SPP[[#This Row],[DATA]],\"mmmm\")","v":"janeiro"},{"$f":"YEAR(SPP[[#This Row],[DATA]])","v":2019}]
["08/01/2019","51","COMUM 4 VIAGENS",2,0,41.480000000000004,41.480000000000004,{"$f":"TEXT(SPP[[#This Row],[DATA]],\"mmmm\")","v":"janeiro"},{"$f":"YEAR(SPP[[#This Row],[DATA]])","v":2019}]
["08/01/2019","52","ESTUDANTE",16074,6965.53,501037.32,508002.85000000003,{"$f":"TEXT(SPP[[#This Row],[DATA]],\"mmmm\")","v":"janeiro"},{"$f":"YEAR(SPP[[#This Row],[DATA]])","v":2019}]
["08/01/2019","59","VT",1554788,240744161.72,48069060.909999996,288813222.63,{"$f":"TEXT(SPP[[#This Row],[DATA]],\"mmmm\")","v":"janeiro"},{"$f":"YEAR(SPP[[#This Row],[DATA]])","v":2019}]
["08/01/2019","69","VT 8VG",493,0,31691.06,31691.06,{"$f":"TEXT(SPP[[#This Row],[DATA]],\"mmmm\")","v":"janeiro"},{"$f":"YEAR(SPP[[#This Row],[DATA]])","v":2019}]
["08/01/2019","71","MÃE PAULISTANA",26722,165502.78,446676.28,612179.06000000006,{"$f":"TEXT(SPP[[#This Row],[DATA]],\"mmmm\")","v":"janeiro"},{"$f":"YEAR(SPP[[#This Row],[DATA]])","v":2019}]
["08/01/2019","74","PROFESSOR",4101,334892.96000000002,0,334892.96000000002,{"$f":"TEXT(SPP[[#This Row],[DATA]],\"mmmm\")","v":"janeiro"},{"$f":"YEAR(SPP[[#This Row],[DATA]])","v":2019}]
["08/01/2019","75","CARTAO FIDELIDADE",36727,0,5145547.99,5145547.99,{"$f":"TEXT(SPP[[#This Row],[DATA]],\"mmmm\")","v":"janeiro"},{"$f":"YEAR(SPP[[#This Row],[DATA]])","v":2019}]
["08/01/2019","76","Lazer",83,0,4147.1900000000005,4147.1900000000005,{"$f":"TEXT(SPP[[#This Row],[DATA]],\"mmmm\")","v":"janeiro"},{"$f":"YEAR(SPP[[#This Row],[DATA]])","v":2019}]
["08/01/2019","86","Estacionamento",3297,0,178991.32,178991.32,{"$f":"TEXT(SPP[[#This Row],[DATA]],\"mmmm\")","v":"janeiro"},{"$f":"YEAR(SPP[[#This Row],[DATA]])","v":2019}]
["08/01/2019","100","BILHETE UNICO MENSAL - CASCO",1823975,438815527.74000001,35797599.979999997,474613127.72000003,{"$f":"TEXT(SPP[[#This Row],[DATA]],\"mmmm\")","v":"janeiro"},{"$f":"YEAR(SPP[[#This Row],[DATA]])","v":2019}]
["08/01/2019","110","BUM - ANÔNIMO - CASCO",591021,0,21534131.16,21534131.16,{"$f":"TEXT(SPP[[#This Row],[DATA]],\"mmmm\")","v":"janeiro"},{"$f":"YEAR(SPP[[#This Row],[DATA]])","v":2019}]
["09/01/2019","51","COMUM 4 VIAGENS",3,0,42.980000000000004,42.980000000000004,{"$f":"TEXT(SPP[[#This Row],[DATA]],\"mmmm\")","v":"janeiro"},{"$f":"YEAR(SPP[[#This Row],[DATA]])","v":2019}]
["09/01/2019","52","ESTUDANTE",16465,7206.04,501069.37,508275.41000000003,{"$f":"TEXT(SPP[[#This Row],[DATA]],\"mmmm\")","v":"janeiro"},{"$f":"YEAR(SPP[[#This Row],[DATA]])","v":2019}]
["09/01/2019","59","VT",1620360,244742774.15000001,49834525.969999999,294577300.12,{"$f":"TEXT(SPP[[#This Row],[DATA]],\"mmmm\")","v":"janeiro"},{"$f":"YEAR(SPP[[#This Row],[DATA]])","v":2019}]
["09/01/2019","69","VT 8VG",512,0,32278.670000000002,32278.670000000002,{"$f":"TEXT(SPP[[#This Row],[DATA]],\"mmmm\")","v":"janeiro"},{"$f":"YEAR(SPP[[#This Row],[DATA]])","v":2019}]
["09/01/2019","71","MÃE PAULISTANA",28857,174635.22,469713.09,644348.31000000006,{"$f":"TEXT(SPP[[#This Row],[DATA]],\"mmmm\")","v":"janeiro"},{"$f":"YEAR(SPP[[#This Row],[DATA]])","v":2019}]
["09/01/2019","74","PROFESSOR",4107,335357.96000000002,0,335357.96000000002,{"$f":"TEXT(SPP[[#This Row],[DATA]],\"mmmm\")","v":"janeiro"},{"$f":"YEAR(SPP[[#This Row],[DATA]])","v":2019}]
["09/01/2019","75","CARTAO FIDELIDADE",38144,0,5506259.4900000002,5506259.4900000002,{"$f":"TEXT(SPP[[#This Row],[DATA]],\"mmmm\")","v":"janeiro"},{"$f":"YEAR(SPP[[#This Row],[DATA]])","v":2019}]
["09/01/2019","76","Lazer",87,0,4366.54,4366.54,{"$f":"TEXT(SPP[[#This Row],[DATA]],\"mmmm\")","v":"janeiro"},{"$f":"YEAR(SPP[[#This Row],[DATA]])","v":2019}]
["09/01/2019","86","Estacionamento",3519,0,187274.98,187274.98,{"$f":"TEXT(SPP[[#This Row],[DATA]],\"mmmm\")","v":"janeiro"},{"$f":"YEAR(SPP[[#This Row],[DATA]])","v":2019}]
["09/01/2019","100","BILHETE UNICO MENSAL - CASCO",1878877,444696646.74000001,37372122.590000004,482068769.32999998,{"$f":"TEXT(SPP[[#This Row],[DATA]],\"mmmm\")","v":"janeiro"},{"$f":"YEAR(SPP[[#This Row],[DATA]])","v":2019}]
["09/01/2019","110","BUM - ANÔNIMO - CASCO",619384,0,22383816.739999998,22383816.739999998,{"$f":"TEXT(SPP[[#This Row],[DATA]],\"mmmm\")","v":"janeiro"},{"$f":"YEAR(SPP[[#This Row],[DATA]])","v":2019}]
["10/01/2019","51","COMUM 4 VIAGENS",2,0,26.96,26.96,{"$f":"TEXT(SPP[[#This Row],[DATA]],\"mmmm\")","v":"janeiro"},{"$f":"YEAR(SPP[[#This Row],[DATA]])","v":2019}]
["10/01/2019","52","ESTUDANTE",16652,7158.64,479444.39,486603.03,{"$f":"TEXT(SPP[[#This Row],[DATA]],\"mmmm\")","v":"janeiro"},{"$f":"YEAR(SPP[[#This Row],[DATA]])","v":2019}]
["10/01/2019","59","VT",1678284,247535822.34,50197069.960000001,297732892.30000001,{"$f":"TEXT(SPP[[#This Row],[DATA]],\"mmmm\")","v":"janeiro"},{"$f":"YEAR(SPP[[#This Row],[DATA]])","v":2019}]
["10/01/2019","69","VT 8VG",532,0,32842.33,32842.33,{"$f":"TEXT(SPP[[#This Row],[DATA]],\"mmmm\")","v":"janeiro"},{"$f":"YEAR(SPP[[#This Row],[DATA]])","v":2019}]
["10/01/2019","71","MÃE PAULISTANA",30739,176302.13,478271.14,654573.27,{"$f":"TEXT(SPP[[#This Row],[DATA]],\"mmmm\")","v":"janeiro"},{"$f":"YEAR(SPP[[#This Row],[DATA]])","v":2019}]
["10/01/2019","74","PROFESSOR",4108,335402.77,0,335402.77,{"$f":"TEXT(SPP[[#This Row],[DATA]],\"mmmm\")","v":"janeiro"},{"$f":"YEAR(SPP[[#This Row],[DATA]])","v":2019}]
["10/01/2019","75","CARTAO FIDELIDADE",39501,0,5859074.4699999997,5859074.4699999997,{"$f":"TEXT(SPP[[#This Row],[DATA]],\"mmmm\")","v":"janeiro"},{"$f":"YEAR(SPP[[#This Row],[DATA]])","v":2019}]
["10/01/2019","76","Lazer",87,0,4406.54,4406.54,{"$f":"TEXT(SPP[[#This Row],[DATA]],\"mmmm\")","v":"janeiro"},{"$f":"YEAR(SPP[[#This Row],[DATA]])","v":2019}]
["10/01/2019","86","Estacionamento",3699,0,193515.91,193515.91,{"$f":"TEXT(SPP[[#This Row],[DATA]],\"mmmm\")","v":"janeiro"},{"$f":"YEAR(SPP[[#This Row],[DATA]])","v":2019}]
["10/01/2019","100","BILHETE UNICO MENSAL - CASCO",1926245,447974248.39999998,37727306.060000002,485701554.45999998,{"$f":"TEXT(SPP[[#This Row],[DATA]],\"mmmm\")","v":"janeiro"},{"$f":"YEAR(SPP[[#This Row],[DATA]])","v":2019}]
["10/01/2019","110","BUM - ANÔNIMO - CASCO",644110,0,22508784.870000001,22508784.870000001,{"$f":"TEXT(SPP[[#This Row],[DATA]],\"mmmm\")","v":"janeiro"},{"$f":"YEAR(SPP[[#This Row],[DATA]])","v":2019}]
["11/01/2019","51","COMUM 4 VIAGENS",2,0,26.96,26.96,{"$f":"TEXT(SPP[[#This Row],[DATA]],\"mmmm\")","v":"janeiro"},{"$f":"YEAR(SPP[[#This Row],[DATA]])","v":2019}]
["11/01/2019","52","ESTUDANTE",17164,7496.76,473102.32,480599.08,{"$f":"TEXT(SPP[[#This Row],[DATA]],\"mmmm\")","v":"janeiro"},{"$f":"YEAR(SPP[[#This Row],[DATA]])","v":2019}]
["11/01/2019","59","VT",1724384,248883190.25,50330869.420000002,299214059.67000002,{"$f":"TEXT(SPP[[#This Row],[DATA]],\"mmmm\")","v":"janeiro"},{"$f":"YEAR(SPP[[#This Row],[DATA]])","v":2019}]
["11/01/2019","69","VT 8VG",544,0,32613.52,32613.52,{"$f":"TEXT(SPP[[#This Row],[DATA]],\"mmmm\")","v":"janeiro"},{"$f":"YEAR(SPP[[#This Row],[DATA]])","v":2019}]
["11/01/2019","71","MÃE PAULISTANA",32271,180591.16,481404.21,661995.37,{"$f":"TEXT(SPP[[#This Row],[DATA]],\"mmmm\")","v":"janeiro"},{"$f":"YEAR(SPP[[#This Row],[DATA]])","v":2019}]
["11/01/2019","74","PROFESSOR",4111,335662.3,0,335662.3,{"$f":"TEXT(SPP[[#This Row],[DATA]],\"mmmm\")","v":"janeiro"},{"$f":"YEAR(SPP[[#This Row],[DATA]])","v":2019}]
["11/01/2019","75","CARTAO FIDELIDADE",41120,0,6340199.8099999996,6340199.8099999996,{"$f":"TEXT(SPP[[#This Row],[DATA]],\"mmmm\")","v":"janeiro"},{"$f":"YEAR(SPP[[#This Row],[DATA]])","v":2019}]
["11/01/2019","76","Lazer",89,0,4526.54,4526.54,{"$f":"TEXT(SPP[[#This Row],[DATA]],\"mmmm\")","v":"janeiro"},{"$f":"YEAR(SPP[[#This Row],[DATA]])","v":2019}]
["11/01/2019","86","Estacionamento",3857,0,198771.33000000002,198771.33000000002,{"$f":"TEXT(SPP[[#This Row],[DATA]],\"mmmm\")","v":"janeiro"},{"$f":"YEAR(SPP[[#This Row],[DATA]])","v":2019}]
["11/01/2019","100","BILHETE UNICO MENSAL - CASCO",1962916,449038946.56999999,37927401.219999999,486966347.79000002,{"$f":"TEXT(SPP[[#This Row],[DATA]],\"mmmm\")","v":"janeiro"},{"$f":"YEAR(SPP[[#This Row],[DATA]])","v":2019}]
["11/01/2019","110","BUM - ANÔNIMO - CASCO",664647,0,22520033.350000001,22520033.350000001,{"$f":"TEXT(SPP[[#This Row],[DATA]],\"mmmm\")","v":"janeiro"},{"$f":"YEAR(SPP[[#This Row],[DATA]])","v":2019}]
["12/01/2019","51","COMUM 4 VIAGENS",2,0,26.96,26.96,{"$f":"TEXT(SPP[[#This Row],[DATA]],\"mmmm\")","v":"janeiro"},{"$f":"YEAR(SPP[[#This Row],[DATA]])","v":2019}]
["12/01/2019","52","ESTUDANTE",17805,8180.5700000000006,476260.26,484440.83,{"$f":"TEXT(SPP[[#This Row],[DATA]],\"mmmm\")","v":"janeiro"},{"$f":"YEAR(SPP[[#This Row],[DATA]])","v":2019}]
["12/01/2019","59","VT",1757635,249314748.71000001,50238528.579999998,299553277.29000002,{"$f":"TEXT(SPP[[#This Row],[DATA]],\"mmmm\")","v":"janeiro"},{"$f":"YEAR(SPP[[#This Row],[DATA]])","v":2019}]
["12/01/2019","69","VT 8VG",554,0,32011.360000000001,32011.360000000001,{"$f":"TEXT(SPP[[#This Row],[DATA]],\"mmmm\")","v":"janeiro"},{"$f":"YEAR(SPP[[#This Row],[DATA]])","v":2019}]
["12/01/2019","71","MÃE PAULISTANA",33380,182066.13,485938.29000000004,668004.42000000004,{"$f":"TEXT(SPP[[#This Row],[DATA]],\"mmmm\")","v":"janeiro"},{"$f":"YEAR(SPP[[#This Row],[DATA]])","v":2019}]
["12/01/2019","74","PROFESSOR",4114,335785.91000000003,0,335785.91000000003,{"$f":"TEXT(SPP[[#This Row],[DATA]],\"mmmm\")","v":"janeiro"},{"$f":"YEAR(SPP[[#This Row],[DATA]])","v":2019}]
["12/01/2019","75","CARTAO FIDELIDADE",41928,0,6549810.6200000001,6549810.6200000001,{"$f":"TEXT(SPP[[#This Row],[DATA]],\"mmmm\")","v":"janeiro"},{"$f":"YEAR(SPP[[#This Row],[DATA]])","v":2019}]
["12/01/2019","76","Lazer",95,0,5007.1400000000003,5007.1400000000003,{"$f":"TEXT(SPP[[#This Row],[DATA]],\"mmmm\")","v":"janeiro"},{"$f":"YEAR(SPP[[#This Row],[DATA]])","v":2019}]
["12/01/2019","86","Estacionamento",3948,0,199167.92,199167.92,{"$f":"TEXT(SPP[[#This Row],[DATA]],\"mmmm\")","v":"janeiro"},{"$f":"YEAR(SPP[[#This Row],[DATA]])","v":2019}]
["12/01/2019","100","BILHETE UNICO MENSAL - CASCO",1987764,448605850.85000002,37916921.780000001,486522772.63,{"$f":"TEXT(SPP[[#This Row],[DATA]],\"mmmm\")","v":"janeiro"},{"$f":"YEAR(SPP[[#This Row],[DATA]])","v":2019}]
["12/01/2019","110","BUM - ANÔNIMO - CASCO",679579,0,22455560.609999999,22455560.609999999,{"$f":"TEXT(SPP[[#This Row],[DATA]],\"mmmm\")","v":"janeiro"},{"$f":"YEAR(SPP[[#This Row],[DATA]])","v":2019}]
["13/01/2019","51","COMUM 4 VIAGENS",2,0,26.96,26.96,{"$f":"TEXT(SPP[[#This Row],[DATA]],\"mmmm\")","v":"janeiro"},{"$f":"YEAR(SPP[[#This Row],[DATA]])","v":2019}]
["13/01/2019","52","ESTUDANTE",18125,9203.5400000000009,471914.96,481118.5,{"$f":"TEXT(SPP[[#This Row],[DATA]],\"mmmm\")","v":"janeiro"},{"$f":"YEAR(SPP[[#This Row],[DATA]])","v":2019}]
["13/01/2019","59","VT",1772799,249478376.00999999,49623624.939999998,299102000.94999999,{"$f":"TEXT(SPP[[#This Row],[DATA]],\"mmmm\")","v":"janeiro"},{"$f":"YEAR(SPP[[#This Row],[DATA]])","v":2019}]
["13/01/2019","69","VT 8VG",556,0,31910.45,31910.45,{"$f":"TEXT(SPP[[#This Row],[DATA]],\"mmmm\")","v":"janeiro"},{"$f":"YEAR(SPP[[#This Row],[DATA]])","v":2019}]
["13/01/2019","71","MÃE PAULISTANA",33825,181285.14,481147.2,662432.34,{"$f":"TEXT(SPP[[#This Row],[DATA]],\"mmmm\")","v":"janeiro"},{"$f":"YEAR(SPP[[#This Row],[DATA]])","v":2019}]
["13/01/2019","74","PROFESSOR",4115,335849.82,0,335849.82,{"$f":"TEXT(SPP[[#This Row],[DATA]],\"mmmm\")","v":"janeiro"},{"$f":"YEAR(SPP[[#This Row],[DATA]])","v":2019}]
["13/01/2019","75","CARTAO FIDELIDADE",42116,0,6581588.1600000001,6581588.1600000001,{"$f":"TEXT(SPP[[#This Row],[DATA]],\"mmmm\")","v":"janeiro"},{"$f":"YEAR(SPP[[#This Row],[DATA]])","v":2019}]
["13/01/2019","76","Lazer",97,0,5137.34,5137.34,{"$f":"TEXT(SPP[[#This Row],[DATA]],\"mmmm\")","v":"janeiro"},{"$f":"YEAR(SPP[[#This Row],[DATA]])","v":2019}]
["13/01/2019","86","Estacionamento",3981,0,196513.54,196513.54,{"$f":"TEXT(SPP[[#This Row],[DATA]],\"mmmm\")","v":"janeiro"},{"$f":"YEAR(SPP[[#This Row],[DATA]])","v":2019}]
["13/01/2019","100","BILHETE UNICO MENSAL - CASCO",2000745,448008856.48000002,37716113.770000003,485724970.25,{"$f":"TEXT(SPP[[#This Row],[DATA]],\"mmmm\")","v":"janeiro"},{"$f":"YEAR(SPP[[#This Row],[DATA]])","v":2019}]
["13/01/2019","110","BUM - ANÔNIMO - CASCO",687027,0,22210647.620000001,22210647.620000001,{"$f":"TEXT(SPP[[#This Row],[DATA]],\"mmmm\")","v":"janeiro"},{"$f":"YEAR(SPP[[#This Row],[DATA]])","v":2019}]
["14/01/2019","51","COMUM 4 VIAGENS",1,0,26.060000000000002,26.060000000000002,{"$f":"TEXT(SPP[[#This Row],[DATA]],\"mmmm\")","v":"janeiro"},{"$f":"YEAR(SPP[[#This Row],[DATA]])","v":2019}]
["14/01/2019","52","ESTUDANTE",18865,9205.09,501072.86,510277.95,{"$f":"TEXT(SPP[[#This Row],[DATA]],\"mmmm\")","v":"janeiro"},{"$f":"YEAR(SPP[[#This Row],[DATA]])","v":2019}]
["14/01/2019","59","VT",1807277,250144514.11000001,52196484.799999997,302340998.91000003,{"$f":"TEXT(SPP[[#This Row],[DATA]],\"mmmm\")","v":"janeiro"},{"$f":"YEAR(SPP[[#This Row],[DATA]])","v":2019}]
["14/01/2019","69","VT 8VG",559,0,32315.24,32315.24,{"$f":"TEXT(SPP[[#This Row],[DATA]],\"mmmm\")","v":"janeiro"},{"$f":"YEAR(SPP[[#This Row],[DATA]])","v":2019}]
["14/01/2019","71","MÃE PAULISTANA",35216,186584.27,530861.05000000005,717445.32000000007,{"$f":"TEXT(SPP[[#This Row],[DATA]],\"mmmm\")","v":"janeiro"},{"$f":"YEAR(SPP[[#This Row],[DATA]])","v":2019}]
["14/01/2019","74","PROFESSOR",4116,335899.37,0,335899.37,{"$f":"TEXT(SPP[[#This Row],[DATA]],\"mmmm\")","v":"janeiro"},{"$f":"YEAR(SPP[[#This Row],[DATA]])","v":2019}]
["14/01/2019","75","CARTAO FIDELIDADE",42805,0,6695631.1900000004,6695631.1900000004,{"$f":"TEXT(SPP[[#This Row],[DATA]],\"mmmm\")","v":"janeiro"},{"$f":"YEAR(SPP[[#This Row],[DATA]])","v":2019}]
["14/01/2019","76","Lazer",97,0,5137.34,5137.34,{"$f":"TEXT(SPP[[#This Row],[DATA]],\"mmmm\")","v":"janeiro"},{"$f":"YEAR(SPP[[#This Row],[DATA]])","v":2019}]
["14/01/2019","86","Estacionamento",4102,0,205893.89,205893.89,{"$f":"TEXT(SPP[[#This Row],[DATA]],\"mmmm\")","v":"janeiro"},{"$f":"YEAR(SPP[[#This Row],[DATA]])","v":2019}]
["14/01/2019","100","BILHETE UNICO MENSAL - CASCO",2026864,449259154.00999999,40408181.740000002,489667335.75,{"$f":"TEXT(SPP[[#This Row],[DATA]],\"mmmm\")","v":"janeiro"},{"$f":"YEAR(SPP[[#This Row],[DATA]])","v":2019}]
["14/01/2019","110","BUM - ANÔNIMO - CASCO",703604,0,23650633.59,23650633.59,{"$f":"TEXT(SPP[[#This Row],[DATA]],\"mmmm\")","v":"janeiro"},{"$f":"YEAR(SPP[[#This Row],[DATA]])","v":2019}]
["15/01/2019","51","COMUM 4 VIAGENS",1,0,22.06,22.06,{"$f":"TEXT(SPP[[#This Row],[DATA]],\"mmmm\")","v":"janeiro"},{"$f":"YEAR(SPP[[#This Row],[DATA]])","v":2019}]
["15/01/2019","52","ESTUDANTE",19259,9295.56,503246.22000000003,512541.78,{"$f":"TEXT(SPP[[#This Row],[DATA]],\"mmmm\")","v":"janeiro"},{"$f":"YEAR(SPP[[#This Row],[DATA]])","v":2019}]
["15/01/2019","59","VT",1845847,250901188.37,52448409.399999999,303349597.76999998,{"$f":"TEXT(SPP[[#This Row],[DATA]],\"mmmm\")","v":"janeiro"},{"$f":"YEAR(SPP[[#This Row],[DATA]])","v":2019}]
["15/01/2019","69","VT 8VG",573,0,33149.15,33149.15,{"$f":"TEXT(SPP[[#This Row],[DATA]],\"mmmm\")","v":"janeiro"},{"$f":"YEAR(SPP[[#This Row],[DATA]])","v":2019}]
["15/01/2019","71","MÃE PAULISTANA",36536,187284.2,545926.03,733210.23,{"$f":"TEXT(SPP[[#This Row],[DATA]],\"mmmm\")","v":"janeiro"},{"$f":"YEAR(SPP[[#This Row],[DATA]])","v":2019}]
["15/01/2019","74","PROFESSOR",4121,336454.07,0,336454.07,{"$f":"TEXT(SPP[[#This Row],[DATA]],\"mmmm\")","v":"janeiro"},{"$f":"YEAR(SPP[[#This Row],[DATA]])","v":2019}]
["15/01/2019","75","CARTAO FIDELIDADE",43504,0,6835161.2199999997,6835161.2199999997,{"$f":"TEXT(SPP[[#This Row],[DATA]],\"mmmm\")","v":"janeiro"},{"$f":"YEAR(SPP[[#This Row],[DATA]])","v":2019}]
["15/01/2019","76","Lazer",97,0,5137.34,5137.34,{"$f":"TEXT(SPP[[#This Row],[DATA]],\"mmmm\")","v":"janeiro"},{"$f":"YEAR(SPP[[#This Row],[DATA]])","v":2019}]
["15/01/2019","86","Estacionamento",4251,0,208047.85,208047.85,{"$f":"TEXT(SPP[[#This Row],[DATA]],\"mmmm\")","v":"janeiro"},{"$f":"YEAR(SPP[[#This Row],[DATA]])","v":2019}]
["15/01/2019","100","BILHETE UNICO MENSAL - CASCO",2056894,449394793.99000001,40944031.119999997,490338825.11000001,{"$f":"TEXT(SPP[[#This Row],[DATA]],\"mmmm\")","v":"janeiro"},{"$f":"YEAR(SPP[[#This Row],[DATA]])","v":2019}]
["15/01/2019","110","BUM - ANÔNIMO - CASCO",720868,0,23759207.300000001,23759207.300000001,{"$f":"TEXT(SPP[[#This Row],[DATA]],\"mmmm\")","v":"janeiro"},{"$f":"YEAR(SPP[[#This Row],[DATA]])","v":2019}]
["16/01/2019","51","COMUM 4 VIAGENS",1,0,22.06,22.06,{"$f":"TEXT(SPP[[#This Row],[DATA]],\"mmmm\")","v":"janeiro"},{"$f":"YEAR(SPP[[#This Row],[DATA]])","v":2019}]
["16/01/2019","52","ESTUDANTE",19731,9978.4,469000.7,478979.10000000003,{"$f":"TEXT(SPP[[#This Row],[DATA]],\"mmmm\")","v":"janeiro"},{"$f":"YEAR(SPP[[#This Row],[DATA]])","v":2019}]
["16/01/2019","59","VT",1893781,252065425.13999999,49658196.280000001,301723621.42000002,{"$f":"TEXT(SPP[[#This Row],[DATA]],\"mmmm\")","v":"janeiro"},{"$f":"YEAR(SPP[[#This Row],[DATA]])","v":2019}]
["16/01/2019","69","VT 8VG",585,0,32084.31,32084.31,{"$f":"TEXT(SPP[[#This Row],[DATA]],\"mmmm\")","v":"janeiro"},{"$f":"YEAR(SPP[[#This Row],[DATA]])","v":2019}]
["16/01/2019","71","MÃE PAULISTANA",37773,185627.12,510002.26,695629.38,{"$f":"TEXT(SPP[[#This Row],[DATA]],\"mmmm\")","v":"janeiro"},{"$f":"YEAR(SPP[[#This Row],[DATA]])","v":2019}]
["16/01/2019","74","PROFESSOR",4163,339116.95,0,339116.95,{"$f":"TEXT(SPP[[#This Row],[DATA]],\"mmmm\")","v":"janeiro"},{"$f":"YEAR(SPP[[#This Row],[DATA]])","v":2019}]
["16/01/2019","75","CARTAO FIDELIDADE",44173,0,6947117.2199999997,6947117.2199999997,{"$f":"TEXT(SPP[[#This Row],[DATA]],\"mmmm\")","v":"janeiro"},{"$f":"YEAR(SPP[[#This Row],[DATA]])","v":2019}]
["16/01/2019","76","Lazer",98,0,5161.34,5161.34,{"$f":"TEXT(SPP[[#This Row],[DATA]],\"mmmm\")","v":"janeiro"},{"$f":"YEAR(SPP[[#This Row],[DATA]])","v":2019}]
["16/01/2019","86","Estacionamento",4410,0,204723.24,204723.24,{"$f":"TEXT(SPP[[#This Row],[DATA]],\"mmmm\")","v":"janeiro"},{"$f":"YEAR(SPP[[#This Row],[DATA]])","v":2019}]
["16/01/2019","100","BILHETE UNICO MENSAL - CASCO",2095373,447712138.93000001,38770352.909999996,486482491.83999997,{"$f":"TEXT(SPP[[#This Row],[DATA]],\"mmmm\")","v":"janeiro"},{"$f":"YEAR(SPP[[#This Row],[DATA]])","v":2019}]
["16/01/2019","110","BUM - ANÔNIMO - CASCO",740718,0,22201305.82,22201305.82,{"$f":"TEXT(SPP[[#This Row],[DATA]],\"mmmm\")","v":"janeiro"},{"$f":"YEAR(SPP[[#This Row],[DATA]])","v":2019}]
["17/01/2019","51","COMUM 4 VIAGENS",1,0,22.06,22.06,{"$f":"TEXT(SPP[[#This Row],[DATA]],\"mmmm\")","v":"janeiro"},{"$f":"YEAR(SPP[[#This Row],[DATA]])","v":2019}]
["17/01/2019","52","ESTUDANTE",20044,9955.5500000000011,459376.84,469332.39,{"$f":"TEXT(SPP[[#This Row],[DATA]],\"mmmm\")","v":"janeiro"},{"$f":"YEAR(SPP[[#This Row],[DATA]])","v":2019}]
["17/01/2019","59","VT",1924448,252222595.68000001,48891299.25,301113894.93000001,{"$f":"TEXT(SPP[[#This Row],[DATA]],\"mmmm\")","v":"janeiro"},{"$f":"YEAR(SPP[[#This Row],[DATA]])","v":2019}]
["17/01/2019","69","VT 8VG",596,0,31653.33,31653.33,{"$f":"TEXT(SPP[[#This Row],[DATA]],\"mmmm\")","v":"janeiro"},{"$f":"YEAR(SPP[[#This Row],[DATA]])","v":2019}]
["17/01/2019","71","MÃE PAULISTANA",38842,185523.95,506462.32,691986.27,{"$f":"TEXT(SPP[[#This Row],[DATA]],\"mmmm\")","v":"janeiro"},{"$f":"YEAR(SPP[[#This Row],[DATA]])","v":2019}]
["17/01/2019","74","PROFESSOR",4175,339862.91000000003,0,339862.91000000003,{"$f":"TEXT(SPP[[#This Row],[DATA]],\"mmmm\")","v":"janeiro"},{"$f":"YEAR(SPP[[#This Row],[DATA]])","v":2019}]
["17/01/2019","75","CARTAO FIDELIDADE",44745,0,7046825.4400000004,7046825.4400000004,{"$f":"TEXT(SPP[[#This Row],[DATA]],\"mmmm\")","v":"janeiro"},{"$f":"YEAR(SPP[[#This Row],[DATA]])","v":2019}]
["17/01/2019","76","Lazer",99,0,5207.74,5207.74,{"$f":"TEXT(SPP[[#This Row],[DATA]],\"mmmm\")","v":"janeiro"},{"$f":"YEAR(SPP[[#This Row],[DATA]])","v":2019}]
["17/01/2019","86","Estacionamento",4537,0,204512.05000000002,204512.05000000002,{"$f":"TEXT(SPP[[#This Row],[DATA]],\"mmmm\")","v":"janeiro"},{"$f":"YEAR(SPP[[#This Row],[DATA]])","v":2019}]
["17/01/2019","100","BILHETE UNICO MENSAL - CASCO",2119662,446282515.35000002,38480816.950000003,484763332.30000001,{"$f":"TEXT(SPP[[#This Row],[DATA]],\"mmmm\")","v":"janeiro"},{"$f":"YEAR(SPP[[#This Row],[DATA]])","v":2019}]
["17/01/2019","110","BUM - ANÔNIMO - CASCO",754745,0,21851152.48,21851152.48,{"$f":"TEXT(SPP[[#This Row],[DATA]],\"mmmm\")","v":"janeiro"},{"$f":"YEAR(SPP[[#This Row],[DATA]])","v":2019}]
["18/01/2019","51","COMUM 4 VIAGENS",1,0,22.06,22.06,{"$f":"TEXT(SPP[[#This Row],[DATA]],\"mmmm\")","v":"janeiro"},{"$f":"YEAR(SPP[[#This Row],[DATA]])","v":2019}]
["18/01/2019","52","ESTUDANTE",20322,10007.18,446370.75,456377.93,{"$f":"TEXT(SPP[[#This Row],[DATA]],\"mmmm\")","v":"janeiro"},{"$f":"YEAR(SPP[[#This Row],[DATA]])","v":2019}]
["18/01/2019","59","VT",1953474,251944052.78,48019371.060000002,299963423.83999997,{"$f":"TEXT(SPP[[#This Row],[DATA]],\"mmmm\")","v":"janeiro"},{"$f":"YEAR(SPP[[#This Row],[DATA]])","v":2019}]
["18/01/2019","69","VT 8VG",610,0,31283.37,31283.37,{"$f":"TEXT(SPP[[#This Row],[DATA]],\"mmmm\")","v":"janeiro"},{"$f":"YEAR(SPP[[#This Row],[DATA]])","v":2019}]
["18/01/2019","71","MÃE PAULISTANA",39844,185299.04,497496.72000000003,682795.76,{"$f":"TEXT(SPP[[#This Row],[DATA]],\"mmmm\")","v":"janeiro"},{"$f":"YEAR(SPP[[#This Row],[DATA]])","v":2019}]
["18/01/2019","74","PROFESSOR",4176,339948,0,339948,{"$f":"TEXT(SPP[[#This Row],[DATA]],\"mmmm\")","v":"janeiro"},{"$f":"YEAR(SPP[[#This Row],[DATA]])","v":2019}]
["18/01/2019","75","CARTAO FIDELIDADE",45293,0,7136768.5899999999,7136768.5899999999,{"$f":"TEXT(SPP[[#This Row],[DATA]],\"mmmm\")","v":"janeiro"},{"$f":"YEAR(SPP[[#This Row],[DATA]])","v":2019}]
["18/01/2019","76","Lazer",99,0,5207.74,5207.74,{"$f":"TEXT(SPP[[#This Row],[DATA]],\"mmmm\")","v":"janeiro"},{"$f":"YEAR(SPP[[#This Row],[DATA]])","v":2019}]
["18/01/2019","86","Estacionamento",4633,0,204125.27000000002,204125.27000000002,{"$f":"TEXT(SPP[[#This Row],[DATA]],\"mmmm\")","v":"janeiro"},{"$f":"YEAR(SPP[[#This Row],[DATA]])","v":2019}]
["18/01/2019","100","BILHETE UNICO MENSAL - CASCO",2142224,444099265.29000002,37884434.939999998,481983700.23000002,{"$f":"TEXT(SPP[[#This Row],[DATA]],\"mmmm\")","v":"janeiro"},{"$f":"YEAR(SPP[[#This Row],[DATA]])","v":2019}]
["18/01/2019","110","BUM - ANÔNIMO - CASCO",767993,0,21419048,21419048,{"$f":"TEXT(SPP[[#This Row],[DATA]],\"mmmm\")","v":"janeiro"},{"$f":"YEAR(SPP[[#This Row],[DATA]])","v":2019}]
["19/01/2019","51","COMUM 4 VIAGENS",1,0,22.06,22.06,{"$f":"TEXT(SPP[[#This Row],[DATA]],\"mmmm\")","v":"janeiro"},{"$f":"YEAR(SPP[[#This Row],[DATA]])","v":2019}]
["19/01/2019","52","ESTUDANTE",20754,10700.62,444482.3,455182.92,{"$f":"TEXT(SPP[[#This Row],[DATA]],\"mmmm\")","v":"janeiro"},{"$f":"YEAR(SPP[[#This Row],[DATA]])","v":2019}]
["19/01/2019","59","VT",1975128,251580019.22,47571820.799999997,299151840.01999998,{"$f":"TEXT(SPP[[#This Row],[DATA]],\"mmmm\")","v":"janeiro"},{"$f":"YEAR(SPP[[#This Row],[DATA]])","v":2019}]
["19/01/2019","69","VT 8VG",613,0,30494.22,30494.22,{"$f":"TEXT(SPP[[#This Row],[DATA]],\"mmmm\")","v":"janeiro"},{"$f":"YEAR(SPP[[#This Row],[DATA]])","v":2019}]
["19/01/2019","71","MÃE PAULISTANA",40546,184154.96,492306.66000000003,676461.62,{"$f":"TEXT(SPP[[#This Row],[DATA]],\"mmmm\")","v":"janeiro"},{"$f":"YEAR(SPP[[#This Row],[DATA]])","v":2019}]
["19/01/2019","74","PROFESSOR",4176,339948,0,339948,{"$f":"TEXT(SPP[[#This Row],[DATA]],\"mmmm\")","v":"janeiro"},{"$f":"YEAR(SPP[[#This Row],[DATA]])","v":2019}]
["19/01/2019","75","CARTAO FIDELIDADE",45487,0,7162986.5099999998,7162986.5099999998,{"$f":"TEXT(SPP[[#This Row],[DATA]],\"mmmm\")","v":"janeiro"},{"$f":"YEAR(SPP[[#This Row],[DATA]])","v":2019}]
["19/01/2019","76","Lazer",99,0,5207.74,5207.74,{"$f":"TEXT(SPP[[#This Row],[DATA]],\"mmmm\")","v":"janeiro"},{"$f":"YEAR(SPP[[#This Row],[DATA]])","v":2019}]
["19/01/2019","86","Estacionamento",4700,0,203968.35,203968.35,{"$f":"TEXT(SPP[[#This Row],[DATA]],\"mmmm\")","v":"janeiro"},{"$f":"YEAR(SPP[[#This Row],[DATA]])","v":2019}]
["19/01/2019","100","BILHETE UNICO MENSAL - CASCO",2157296,442093676.61000001,37469553.490000002,479563230.10000002,{"$f":"TEXT(SPP[[#This Row],[DATA]],\"mmmm\")","v":"janeiro"},{"$f":"YEAR(SPP[[#This Row],[DATA]])","v":2019}]
["19/01/2019","110","BUM - ANÔNIMO - CASCO",777656,0,21206151.710000001,21206151.710000001,{"$f":"TEXT(SPP[[#This Row],[DATA]],\"mmmm\")","v":"janeiro"},{"$f":"YEAR(SPP[[#This Row],[DATA]])","v":2019}]
["20/01/2019","51","COMUM 4 VIAGENS",1,0,22.06,22.06,{"$f":"TEXT(SPP[[#This Row],[DATA]],\"mmmm\")","v":"janeiro"},{"$f":"YEAR(SPP[[#This Row],[DATA]])","v":2019}]
["20/01/2019","52","ESTUDANTE",20924,10659.42,436676.94,447336.36,{"$f":"TEXT(SPP[[#This Row],[DATA]],\"mmmm\")","v":"janeiro"},{"$f":"YEAR(SPP[[#This Row],[DATA]])","v":2019}]
["20/01/2019","59","VT",1984067,251194046.19,46698628.82,297892675.00999999,{"$f":"TEXT(SPP[[#This Row],[DATA]],\"mmmm\")","v":"janeiro"},{"$f":"YEAR(SPP[[#This Row],[DATA]])","v":2019}]
["20/01/2019","69","VT 8VG",616,0,30237.27,30237.27,{"$f":"TEXT(SPP[[#This Row],[DATA]],\"mmmm\")","v":"janeiro"},{"$f":"YEAR(SPP[[#This Row],[DATA]])","v":2019}]
["20/01/2019","71","MÃE PAULISTANA",40864,182214.46,480811.43,663025.89,{"$f":"TEXT(SPP[[#This Row],[DATA]],\"mmmm\")","v":"janeiro"},{"$f":"YEAR(SPP[[#This Row],[DATA]])","v":2019}]
["20/01/2019","74","PROFESSOR",4176,339948,0,339948,{"$f":"TEXT(SPP[[#This Row],[DATA]],\"mmmm\")","v":"janeiro"},{"$f":"YEAR(SPP[[#This Row],[DATA]])","v":2019}]
["20/01/2019","75","CARTAO FIDELIDADE",45599,0,7178473.8300000001,7178473.8300000001,{"$f":"TEXT(SPP[[#This Row],[DATA]],\"mmmm\")","v":"janeiro"},{"$f":"YEAR(SPP[[#This Row],[DATA]])","v":2019}]
["20/01/2019","76","Lazer",100,0,5265.74,5265.74,{"$f":"TEXT(SPP[[#This Row],[DATA]],\"mmmm\")","v":"janeiro"},{"$f":"YEAR(SPP[[#This Row],[DATA]])","v":2019}]
["20/01/2019","86","Estacionamento",4712,0,200246.86000000002,200246.86000000002,{"$f":"TEXT(SPP[[#This Row],[DATA]],\"mmmm\")","v":"janeiro"},{"$f":"YEAR(SPP[[#This Row],[DATA]])","v":2019}]
["20/01/2019","100","BILHETE UNICO MENSAL - CASCO",2164985,440434798.31,37028167.170000002,477462965.48000002,{"$f":"TEXT(SPP[[#This Row],[DATA]],\"mmmm\")","v":"janeiro"},{"$f":"YEAR(SPP[[#This Row],[DATA]])","v":2019}]
["20/01/2019","110","BUM - ANÔNIMO - CASCO",781959,0,20801415.23,20801415.23,{"$f":"TEXT(SPP[[#This Row],[DATA]],\"mmmm\")","v":"janeiro"},{"$f":"YEAR(SPP[[#This Row],[DATA]])","v":2019}]
["21/01/2019","51","COMUM 4 VIAGENS",1,0,22.06,22.06,{"$f":"TEXT(SPP[[#This Row],[DATA]],\"mmmm\")","v":"janeiro"},{"$f":"YEAR(SPP[[#This Row],[DATA]])","v":2019}]
["21/01/2019","52","ESTUDANTE",21158,10591.07,442174.88,452765.95,{"$f":"TEXT(SPP[[#This Row],[DATA]],\"mmmm\")","v":"janeiro"},{"$f":"YEAR(SPP[[#This Row],[DATA]])","v":2019}]
["21/01/2019","59","VT",2013348,251055194.22,47802550.619999997,298857744.83999997,{"$f":"TEXT(SPP[[#This Row],[DATA]],\"mmmm\")","v":"janeiro"},{"$f":"YEAR(SPP[[#This Row],[DATA]])","v":2019}]
["21/01/2019","69","VT 8VG",621,0,30248.78,30248.78,{"$f":"TEXT(SPP[[#This Row],[DATA]],\"mmmm\")","v":"janeiro"},{"$f":"YEAR(SPP[[#This Row],[DATA]])","v":2019}]
["21/01/2019","71","MÃE PAULISTANA",41920,184121.61000000002,500337.74,684459.35,{"$f":"TEXT(SPP[[#This Row],[DATA]],\"mmmm\")","v":"janeiro"},{"$f":"YEAR(SPP[[#This Row],[DATA]])","v":2019}]
["21/01/2019","74","PROFESSOR",4176,339912,0,339912,{"$f":"TEXT(SPP[[#This Row],[DATA]],\"mmmm\")","v":"janeiro"},{"$f":"YEAR(SPP[[#This Row],[DATA]])","v":2019}]
["21/01/2019","75","CARTAO FIDELIDADE",46300,0,7303222.5099999998,7303222.5099999998,{"$f":"TEXT(SPP[[#This Row],[DATA]],\"mmmm\")","v":"janeiro"},{"$f":"YEAR(SPP[[#This Row],[DATA]])","v":2019}]
["21/01/2019","76","Lazer",101,0,5289.74,5289.74,{"$f":"TEXT(SPP[[#This Row],[DATA]],\"mmmm\")","v":"janeiro"},{"$f":"YEAR(SPP[[#This Row],[DATA]])","v":2019}]
["21/01/2019","86","Estacionamento",4832,0,206619.14,206619.14,{"$f":"TEXT(SPP[[#This Row],[DATA]],\"mmmm\")","v":"janeiro"},{"$f":"YEAR(SPP[[#This Row],[DATA]])","v":2019}]
["21/01/2019","100","BILHETE UNICO MENSAL - CASCO",2186710,439023206.22000003,38326371.32,477349577.54000002,{"$f":"TEXT(SPP[[#This Row],[DATA]],\"mmmm\")","v":"janeiro"},{"$f":"YEAR(SPP[[#This Row],[DATA]])","v":2019}]
["21/01/2019","110","BUM - ANÔNIMO - CASCO",795580,0,21376117,21376117,{"$f":"TEXT(SPP[[#This Row],[DATA]],\"mmmm\")","v":"janeiro"},{"$f":"YEAR(SPP[[#This Row],[DATA]])","v":2019}]
["22/01/2019","51","COMUM 4 VIAGENS",1,0,10.06,10.06,{"$f":"TEXT(SPP[[#This Row],[DATA]],\"mmmm\")","v":"janeiro"},{"$f":"YEAR(SPP[[#This Row],[DATA]])","v":2019}]
["22/01/2019","52","ESTUDANTE",21484,10398.61,437506.25,447904.86,{"$f":"TEXT(SPP[[#This Row],[DATA]],\"mmmm\")","v":"janeiro"},{"$f":"YEAR(SPP[[#This Row],[DATA]])","v":2019}]
["22/01/2019","59","VT",2041316,250977575.96000001,47543964.740000002,298521540.69999999,{"$f":"TEXT(SPP[[#This Row],[DATA]],\"mmmm\")","v":"janeiro"},{"$f":"YEAR(SPP[[#This Row],[DATA]])","v":2019}]
["22/01/2019","69","VT 8VG",636,0,30508.05,30508.05,{"$f":"TEXT(SPP[[#This Row],[DATA]],\"mmmm\")","v":"janeiro"},{"$f":"YEAR(SPP[[#This Row],[DATA]])","v":2019}]
["22/01/2019","71","MÃE PAULISTANA",42838,183998.7,499944.07,683942.77,{"$f":"TEXT(SPP[[#This Row],[DATA]],\"mmmm\")","v":"janeiro"},{"$f":"YEAR(SPP[[#This Row],[DATA]])","v":2019}]
["22/01/2019","74","PROFESSOR",4176,339912,0,339912,{"$f":"TEXT(SPP[[#This Row],[DATA]],\"mmmm\")","v":"janeiro"},{"$f":"YEAR(SPP[[#This Row],[DATA]])","v":2019}]
["22/01/2019","75","CARTAO FIDELIDADE",46892,0,7410427.4199999999,7410427.4199999999,{"$f":"TEXT(SPP[[#This Row],[DATA]],\"mmmm\")","v":"janeiro"},{"$f":"YEAR(SPP[[#This Row],[DATA]])","v":2019}]
["22/01/2019","76","Lazer",101,0,5289.74,5289.74,{"$f":"TEXT(SPP[[#This Row],[DATA]],\"mmmm\")","v":"janeiro"},{"$f":"YEAR(SPP[[#This Row],[DATA]])","v":2019}]
["22/01/2019","86","Estacionamento",4930,0,206910.48,206910.48,{"$f":"TEXT(SPP[[#This Row],[DATA]],\"mmmm\")","v":"janeiro"},{"$f":"YEAR(SPP[[#This Row],[DATA]])","v":2019}]
["22/01/2019","100","BILHETE UNICO MENSAL - CASCO",2207958,437638298.81999999,38318551.57,475956850.38999999,{"$f":"TEXT(SPP[[#This Row],[DATA]],\"mmmm\")","v":"janeiro"},{"$f":"YEAR(SPP[[#This Row],[DATA]])","v":2019}]
["22/01/2019","110","BUM - ANÔNIMO - CASCO",808136,0,21291593.68,21291593.68,{"$f":"TEXT(SPP[[#This Row],[DATA]],\"mmmm\")","v":"janeiro"},{"$f":"YEAR(SPP[[#This Row],[DATA]])","v":2019}]
["23/01/2019","51","COMUM 4 VIAGENS",1,0,10.06,10.06,{"$f":"TEXT(SPP[[#This Row],[DATA]],\"mmmm\")","v":"janeiro"},{"$f":"YEAR(SPP[[#This Row],[DATA]])","v":2019}]
["23/01/2019","52","ESTUDANTE",21996,10454.41,433373.92,443828.33,{"$f":"TEXT(SPP[[#This Row],[DATA]],\"mmmm\")","v":"janeiro"},{"$f":"YEAR(SPP[[#This Row],[DATA]])","v":2019}]
["23/01/2019","59","VT",2065698,250974526.16999999,46820166.759999998,297794692.93000001,{"$f":"TEXT(SPP[[#This Row],[DATA]],\"mmmm\")","v":"janeiro"},{"$f":"YEAR(SPP[[#This Row],[DATA]])","v":2019}]
["23/01/2019","69","VT 8VG",644,0,30442.99,30442.99,{"$f":"TEXT(SPP[[#This Row],[DATA]],\"mmmm\")","v":"janeiro"},{"$f":"YEAR(SPP[[#This Row],[DATA]])","v":2019}]
["23/01/2019","71","MÃE PAULISTANA",43574,184062.56,494142.64,678205.20000000007,{"$f":"TEXT(SPP[[#This Row],[DATA]],\"mmmm\")","v":"janeiro"},{"$f":"YEAR(SPP[[#This Row],[DATA]])","v":2019}]
["23/01/2019","74","PROFESSOR",4178,340168.3,0,340168.3,{"$f":"TEXT(SPP[[#This Row],[DATA]],\"mmmm\")","v":"janeiro"},{"$f":"YEAR(SPP[[#This Row],[DATA]])","v":2019}]
["23/01/2019","75","CARTAO FIDELIDADE",47468,0,7512606.8200000003,7512606.8200000003,{"$f":"TEXT(SPP[[#This Row],[DATA]],\"mmmm\")","v":"janeiro"},{"$f":"YEAR(SPP[[#This Row],[DATA]])","v":2019}]
["23/01/2019","76","Lazer",101,0,5289.74,5289.74,{"$f":"TEXT(SPP[[#This Row],[DATA]],\"mmmm\")","v":"janeiro"},{"$f":"YEAR(SPP[[#This Row],[DATA]])","v":2019}]
["23/01/2019","86","Estacionamento",5019,0,205393.91,205393.91,{"$f":"TEXT(SPP[[#This Row],[DATA]],\"mmmm\")","v":"janeiro"},{"$f":"YEAR(SPP[[#This Row],[DATA]])","v":2019}]
["23/01/2019","100","BILHETE UNICO MENSAL - CASCO",2225989,436426144.68000001,37846143.880000003,474272288.56,{"$f":"TEXT(SPP[[#This Row],[DATA]],\"mmmm\")","v":"janeiro"},{"$f":"YEAR(SPP[[#This Row],[DATA]])","v":2019}]
["23/01/2019","110","BUM - ANÔNIMO - CASCO",819014,0,20930887.420000002,20930887.420000002,{"$f":"TEXT(SPP[[#This Row],[DATA]],\"mmmm\")","v":"janeiro"},{"$f":"YEAR(SPP[[#This Row],[DATA]])","v":2019}]
["24/01/2019","51","COMUM 4 VIAGENS",1,0,6.0600000000000005,6.0600000000000005,{"$f":"TEXT(SPP[[#This Row],[DATA]],\"mmmm\")","v":"janeiro"},{"$f":"YEAR(SPP[[#This Row],[DATA]])","v":2019}]
["24/01/2019","52","ESTUDANTE",22490,10939.77,429180.57,440120.34,{"$f":"TEXT(SPP[[#This Row],[DATA]],\"mmmm\")","v":"janeiro"},{"$f":"YEAR(SPP[[#This Row],[DATA]])","v":2019}]
["24/01/2019","59","VT",2088481,251139270.97,45967882.219999999,297107153.19,{"$f":"TEXT(SPP[[#This Row],[DATA]],\"mmmm\")","v":"janeiro"},{"$f":"YEAR(SPP[[#This Row],[DATA]])","v":2019}]
["24/01/2019","69","VT 8VG",653,0,30405.510000000002,30405.510000000002,{"$f":"TEXT(SPP[[#This Row],[DATA]],\"mmmm\")","v":"janeiro"},{"$f":"YEAR(SPP[[#This Row],[DATA]])","v":2019}]
["24/01/2019","71","MÃE PAULISTANA",44182,181876.74,482356.53,664233.27,{"$f":"TEXT(SPP[[#This Row],[DATA]],\"mmmm\")","v":"janeiro"},{"$f":"YEAR(SPP[[#This Row],[DATA]])","v":2019}]
["24/01/2019","74","PROFESSOR",4180,340638.3,0,340638.3,{"$f":"TEXT(SPP[[#This Row],[DATA]],\"mmmm\")","v":"janeiro"},{"$f":"YEAR(SPP[[#This Row],[DATA]])","v":2019}]
["24/01/2019","75","CARTAO FIDELIDADE",47944,0,7596138.4400000004,7596138.4400000004,{"$f":"TEXT(SPP[[#This Row],[DATA]],\"mmmm\")","v":"janeiro"},{"$f":"YEAR(SPP[[#This Row],[DATA]])","v":2019}]
["24/01/2019","76","Lazer",101,0,5289.74,5289.74,{"$f":"TEXT(SPP[[#This Row],[DATA]],\"mmmm\")","v":"janeiro"},{"$f":"YEAR(SPP[[#This Row],[DATA]])","v":2019}]
["24/01/2019","86","Estacionamento",5107,0,203524.95,203524.95,{"$f":"TEXT(SPP[[#This Row],[DATA]],\"mmmm\")","v":"janeiro"},{"$f":"YEAR(SPP[[#This Row],[DATA]])","v":2019}]
["24/01/2019","100","BILHETE UNICO MENSAL - CASCO",2242035,435958615.66000003,37107875.189999998,473066490.85000002,{"$f":"TEXT(SPP[[#This Row],[DATA]],\"mmmm\")","v":"janeiro"},{"$f":"YEAR(SPP[[#This Row],[DATA]])","v":2019}]
["24/01/2019","110","BUM - ANÔNIMO - CASCO",829302,0,20525174.68,20525174.68,{"$f":"TEXT(SPP[[#This Row],[DATA]],\"mmmm\")","v":"janeiro"},{"$f":"YEAR(SPP[[#This Row],[DATA]])","v":2019}]
["25/01/2019","51","COMUM 4 VIAGENS",1,0,6.0600000000000005,6.0600000000000005,{"$f":"TEXT(SPP[[#This Row],[DATA]],\"mmmm\")","v":"janeiro"},{"$f":"YEAR(SPP[[#This Row],[DATA]])","v":2019}]
["25/01/2019","52","ESTUDANTE",22720,11639.19,417684.22000000003,429323.41000000003,{"$f":"TEXT(SPP[[#This Row],[DATA]],\"mmmm\")","v":"janeiro"},{"$f":"YEAR(SPP[[#This Row],[DATA]])","v":2019}]
["25/01/2019","59","VT",2098963,251043427.30000001,44682043.649999999,295725470.94999999,{"$f":"TEXT(SPP[[#This Row],[DATA]],\"mmmm\")","v":"janeiro"},{"$f":"YEAR(SPP[[#This Row],[DATA]])","v":2019}]
["25/01/2019","69","VT 8VG",653,0,30282.7,30282.7,{"$f":"TEXT(SPP[[#This Row],[DATA]],\"mmmm\")","v":"janeiro"},{"$f":"YEAR(SPP[[#This Row],[DATA]])","v":2019}]
["25/01/2019","71","MÃE PAULISTANA",44458,180223.73,463715.99,643939.72,{"$f":"TEXT(SPP[[#This Row],[DATA]],\"mmmm\")","v":"janeiro"},{"$f":"YEAR(SPP[[#This Row],[DATA]])","v":2019}]
["25/01/2019","74","PROFESSOR",4179,340540.45,0,340540.45,{"$f":"TEXT(SPP[[#This Row],[DATA]],\"mmmm\")","v":"janeiro"},{"$f":"YEAR(SPP[[#This Row],[DATA]])","v":2019}]
["25/01/2019","75","CARTAO FIDELIDADE",48073,0,7614749.6600000001,7614749.6600000001,{"$f":"TEXT(SPP[[#This Row],[DATA]],\"mmmm\")","v":"janeiro"},{"$f":"YEAR(SPP[[#This Row],[DATA]])","v":2019}]
["25/01/2019","76","Lazer",103,0,5385.99,5385.99,{"$f":"TEXT(SPP[[#This Row],[DATA]],\"mmmm\")","v":"janeiro"},{"$f":"YEAR(SPP[[#This Row],[DATA]])","v":2019}]
["25/01/2019","86","Estacionamento",5133,0,200443.75,200443.75,{"$f":"TEXT(SPP[[#This Row],[DATA]],\"mmmm\")","v":"janeiro"},{"$f":"YEAR(SPP[[#This Row],[DATA]])","v":2019}]
["25/01/2019","100","BILHETE UNICO MENSAL - CASCO",2249634,435440812.66000003,35979823.759999998,471420636.42000002,{"$f":"TEXT(SPP[[#This Row],[DATA]],\"mmmm\")","v":"janeiro"},{"$f":"YEAR(SPP[[#This Row],[DATA]])","v":2019}]
["25/01/2019","110","BUM - ANÔNIMO - CASCO",834133,0,19914674.890000001,19914674.890000001,{"$f":"TEXT(SPP[[#This Row],[DATA]],\"mmmm\")","v":"janeiro"},{"$f":"YEAR(SPP[[#This Row],[DATA]])","v":2019}]
["26/01/2019","51","COMUM 4 VIAGENS",1,0,2.06,2.06,{"$f":"TEXT(SPP[[#This Row],[DATA]],\"mmmm\")","v":"janeiro"},{"$f":"YEAR(SPP[[#This Row],[DATA]])","v":2019}]
["26/01/2019","52","ESTUDANTE",23033,11594.09,423061.72000000003,434655.81,{"$f":"TEXT(SPP[[#This Row],[DATA]],\"mmmm\")","v":"janeiro"},{"$f":"YEAR(SPP[[#This Row],[DATA]])","v":2019}]
["26/01/2019","59","VT",2113938,251216923.44,45012980.240000002,296229903.68000001,{"$f":"TEXT(SPP[[#This Row],[DATA]],\"mmmm\")","v":"janeiro"},{"$f":"YEAR(SPP[[#This Row],[DATA]])","v":2019}]
["26/01/2019","69","VT 8VG",654,0,30230.260000000002,30230.260000000002,{"$f":"TEXT(SPP[[#This Row],[DATA]],\"mmmm\")","v":"janeiro"},{"$f":"YEAR(SPP[[#This Row],[DATA]])","v":2019}]
["26/01/2019","71","MÃE PAULISTANA",45059,182614.07,472782.41000000003,655396.48,{"$f":"TEXT(SPP[[#This Row],[DATA]],\"mmmm\")","v":"janeiro"},{"$f":"YEAR(SPP[[#This Row],[DATA]])","v":2019}]
["26/01/2019","74","PROFESSOR",4179,340540.45,0,340540.45,{"$f":"TEXT(SPP[[#This Row],[DATA]],\"mmmm\")","v":"janeiro"},{"$f":"YEAR(SPP[[#This Row],[DATA]])","v":2019}]
["26/01/2019","75","CARTAO FIDELIDADE",48198,0,7633089.7199999997,7633089.7199999997,{"$f":"TEXT(SPP[[#This Row],[DATA]],\"mmmm\")","v":"janeiro"},{"$f":"YEAR(SPP[[#This Row],[DATA]])","v":2019}]
["26/01/2019","76","Lazer",103,0,5385.99,5385.99,{"$f":"TEXT(SPP[[#This Row],[DATA]],\"mmmm\")","v":"janeiro"},{"$f":"YEAR(SPP[[#This Row],[DATA]])","v":2019}]
["26/01/2019","86","Estacionamento",5161,0,200615.75,200615.75,{"$f":"TEXT(SPP[[#This Row],[DATA]],\"mmmm\")","v":"janeiro"},{"$f":"YEAR(SPP[[#This Row],[DATA]])","v":2019}]
["26/01/2019","100","BILHETE UNICO MENSAL - CASCO",2258846,435763253.99000001,36177622.310000002,471940876.30000001,{"$f":"TEXT(SPP[[#This Row],[DATA]],\"mmmm\")","v":"janeiro"},{"$f":"YEAR(SPP[[#This Row],[DATA]])","v":2019}]
["26/01/2019","110","BUM - ANÔNIMO - CASCO",841161,0,20100911.5,20100911.5,{"$f":"TEXT(SPP[[#This Row],[DATA]],\"mmmm\")","v":"janeiro"},{"$f":"YEAR(SPP[[#This Row],[DATA]])","v":2019}]
["27/01/2019","51","COMUM 4 VIAGENS",1,0,2.06,2.06,{"$f":"TEXT(SPP[[#This Row],[DATA]],\"mmmm\")","v":"janeiro"},{"$f":"YEAR(SPP[[#This Row],[DATA]])","v":2019}]
["27/01/2019","52","ESTUDANTE",23199,11577.59,420189.11,431766.7,{"$f":"TEXT(SPP[[#This Row],[DATA]],\"mmmm\")","v":"janeiro"},{"$f":"YEAR(SPP[[#This Row],[DATA]])","v":2019}]
["27/01/2019","59","VT",2122290,251297316.96000001,44505903.590000004,295803220.55000001,{"$f":"TEXT(SPP[[#This Row],[DATA]],\"mmmm\")","v":"janeiro"},{"$f":"YEAR(SPP[[#This Row],[DATA]])","v":2019}]
["27/01/2019","69","VT 8VG",656,0,29771.7,29771.7,{"$f":"TEXT(SPP[[#This Row],[DATA]],\"mmmm\")","v":"janeiro"},{"$f":"YEAR(SPP[[#This Row],[DATA]])","v":2019}]
["27/01/2019","71","MÃE PAULISTANA",45336,181065.36000000002,465618.51,646683.87,{"$f":"TEXT(SPP[[#This Row],[DATA]],\"mmmm\")","v":"janeiro"},{"$f":"YEAR(SPP[[#This Row],[DATA]])","v":2019}]
["27/01/2019","74","PROFESSOR",4179,340381.47000000003,0,340381.47000000003,{"$f":"TEXT(SPP[[#This Row],[DATA]],\"mmmm\")","v":"janeiro"},{"$f":"YEAR(SPP[[#This Row],[DATA]])","v":2019}]
["27/01/2019","75","CARTAO FIDELIDADE",48308,0,7646102.9199999999,7646102.9199999999,{"$f":"TEXT(SPP[[#This Row],[DATA]],\"mmmm\")","v":"janeiro"},{"$f":"YEAR(SPP[[#This Row],[DATA]])","v":2019}]
["27/01/2019","76","Lazer",103,0,5408.99,5408.99,{"$f":"TEXT(SPP[[#This Row],[DATA]],\"mmmm\")","v":"janeiro"},{"$f":"YEAR(SPP[[#This Row],[DATA]])","v":2019}]
["27/01/2019","86","Estacionamento",5189,0,199827.16,199827.16,{"$f":"TEXT(SPP[[#This Row],[DATA]],\"mmmm\")","v":"janeiro"},{"$f":"YEAR(SPP[[#This Row],[DATA]])","v":2019}]
["27/01/2019","100","BILHETE UNICO MENSAL - CASCO",2264524,435625328.69999999,35763021.600000001,471388350.30000001,{"$f":"TEXT(SPP[[#This Row],[DATA]],\"mmmm\")","v":"janeiro"},{"$f":"YEAR(SPP[[#This Row],[DATA]])","v":2019}]
["27/01/2019","110","BUM - ANÔNIMO - CASCO",845252,0,19868289.77,19868289.77,{"$f":"TEXT(SPP[[#This Row],[DATA]],\"mmmm\")","v":"janeiro"},{"$f":"YEAR(SPP[[#This Row],[DATA]])","v":2019}]
["28/01/2019","52","ESTUDANTE",23750,11674.31,436970,448644.31,{"$f":"TEXT(SPP[[#This Row],[DATA]],\"mmmm\")","v":"janeiro"},{"$f":"YEAR(SPP[[#This Row],[DATA]])","v":2019}]
["28/01/2019","59","VT",2147576,252536294.84,45793996.609999999,298330291.44999999,{"$f":"TEXT(SPP[[#This Row],[DATA]],\"mmmm\")","v":"janeiro"},{"$f":"YEAR(SPP[[#This Row],[DATA]])","v":2019}]
["28/01/2019","69","VT 8VG",675,0,30080.71,30080.71,{"$f":"TEXT(SPP[[#This Row],[DATA]],\"mmmm\")","v":"janeiro"},{"$f":"YEAR(SPP[[#This Row],[DATA]])","v":2019}]
["28/01/2019","71","MÃE PAULISTANA",45966,183509.51,487570.75,671080.26,{"$f":"TEXT(SPP[[#This Row],[DATA]],\"mmmm\")","v":"janeiro"},{"$f":"YEAR(SPP[[#This Row],[DATA]])","v":2019}]
["28/01/2019","74","PROFESSOR",4178,340473.5,0,340473.5,{"$f":"TEXT(SPP[[#This Row],[DATA]],\"mmmm\")","v":"janeiro"},{"$f":"YEAR(SPP[[#This Row],[DATA]])","v":2019}]
["28/01/2019","75","CARTAO FIDELIDADE",48989,0,7765788.0800000001,7765788.0800000001,{"$f":"TEXT(SPP[[#This Row],[DATA]],\"mmmm\")","v":"janeiro"},{"$f":"YEAR(SPP[[#This Row],[DATA]])","v":2019}]
["28/01/2019","76","Lazer",103,0,5408.99,5408.99,{"$f":"TEXT(SPP[[#This Row],[DATA]],\"mmmm\")","v":"janeiro"},{"$f":"YEAR(SPP[[#This Row],[DATA]])","v":2019}]
["28/01/2019","86","Estacionamento",5277,0,205900.80000000002,205900.80000000002,{"$f":"TEXT(SPP[[#This Row],[DATA]],\"mmmm\")","v":"janeiro"},{"$f":"YEAR(SPP[[#This Row],[DATA]])","v":2019}]
["28/01/2019","100","BILHETE UNICO MENSAL - CASCO",2281905,439031625.57999998,36830132.619999997,475861758.19999999,{"$f":"TEXT(SPP[[#This Row],[DATA]],\"mmmm\")","v":"janeiro"},{"$f":"YEAR(SPP[[#This Row],[DATA]])","v":2019}]
["28/01/2019","110","BUM - ANÔNIMO - CASCO",856601,0,20537396.199999999,20537396.199999999,{"$f":"TEXT(SPP[[#This Row],[DATA]],\"mmmm\")","v":"janeiro"},{"$f":"YEAR(SPP[[#This Row],[DATA]])","v":2019}]
["29/01/2019","51","COMUM 4 VIAGENS",1,0,43.06,43.06,{"$f":"TEXT(SPP[[#This Row],[DATA]],\"mmmm\")","v":"janeiro"},{"$f":"YEAR(SPP[[#This Row],[DATA]])","v":2019}]
["29/01/2019","52","ESTUDANTE",24250,11732.550000000001,438874.23,450606.78,{"$f":"TEXT(SPP[[#This Row],[DATA]],\"mmmm\")","v":"janeiro"},{"$f":"YEAR(SPP[[#This Row],[DATA]])","v":2019}]
["29/01/2019","59","VT",2169774,255228343.22,45631876.460000001,300860219.68000001,{"$f":"TEXT(SPP[[#This Row],[DATA]],\"mmmm\")","v":"janeiro"},{"$f":"YEAR(SPP[[#This Row],[DATA]])","v":2019}]
["29/01/2019","69","VT 8VG",683,0,29572.06,29572.06,{"$f":"TEXT(SPP[[#This Row],[DATA]],\"mmmm\")","v":"janeiro"},{"$f":"YEAR(SPP[[#This Row],[DATA]])","v":2019}]
["29/01/2019","71","MÃE PAULISTANA",46821,186166.97,491188.28,677355.25,{"$f":"TEXT(SPP[[#This Row],[DATA]],\"mmmm\")","v":"janeiro"},{"$f":"YEAR(SPP[[#This Row],[DATA]])","v":2019}]
["29/01/2019","74","PROFESSOR",4179,341132.9,0,341132.9,{"$f":"TEXT(SPP[[#This Row],[DATA]],\"mmmm\")","v":"janeiro"},{"$f":"YEAR(SPP[[#This Row],[DATA]])","v":2019}]
["29/01/2019","75","CARTAO FIDELIDADE",49529,0,7863871.3300000001,7863871.3300000001,{"$f":"TEXT(SPP[[#This Row],[DATA]],\"mmmm\")","v":"janeiro"},{"$f":"YEAR(SPP[[#This Row],[DATA]])","v":2019}]
["29/01/2019","76","Lazer",103,0,5408.99,5408.99,{"$f":"TEXT(SPP[[#This Row],[DATA]],\"mmmm\")","v":"janeiro"},{"$f":"YEAR(SPP[[#This Row],[DATA]])","v":2019}]
["29/01/2019","86","Estacionamento",5359,0,205920.29,205920.29,{"$f":"TEXT(SPP[[#This Row],[DATA]],\"mmmm\")","v":"janeiro"},{"$f":"YEAR(SPP[[#This Row],[DATA]])","v":2019}]
["29/01/2019","100","BILHETE UNICO MENSAL - CASCO",2298405,447470758.04000002,36502038.729999997,483972796.76999998,{"$f":"TEXT(SPP[[#This Row],[DATA]],\"mmmm\")","v":"janeiro"},{"$f":"YEAR(SPP[[#This Row],[DATA]])","v":2019}]
["29/01/2019","110","BUM - ANÔNIMO - CASCO",866433,0,20486628.940000001,20486628.940000001,{"$f":"TEXT(SPP[[#This Row],[DATA]],\"mmmm\")","v":"janeiro"},{"$f":"YEAR(SPP[[#This Row],[DATA]])","v":2019}]
["30/01/2019","51","COMUM 4 VIAGENS",1,0,25.86,25.86,{"$f":"TEXT(SPP[[#This Row],[DATA]],\"mmmm\")","v":"janeiro"},{"$f":"YEAR(SPP[[#This Row],[DATA]])","v":2019}]
["30/01/2019","52","ESTUDANTE",24748,11734.35,431147.56,442881.91000000003,{"$f":"TEXT(SPP[[#This Row],[DATA]],\"mmmm\")","v":"janeiro"},{"$f":"YEAR(SPP[[#This Row],[DATA]])","v":2019}]
["30/01/2019","59","VT",2191846,258942142.03,44985941.479999997,303928083.50999999,{"$f":"TEXT(SPP[[#This Row],[DATA]],\"mmmm\")","v":"janeiro"},{"$f":"YEAR(SPP[[#This Row],[DATA]])","v":2019}]
["30/01/2019","69","VT 8VG",689,0,29151.260000000002,29151.260000000002,{"$f":"TEXT(SPP[[#This Row],[DATA]],\"mmmm\")","v":"janeiro"},{"$f":"YEAR(SPP[[#This Row],[DATA]])","v":2019}]
["30/01/2019","71","MÃE PAULISTANA",47619,190128.04,484799.04000000004,674927.08,{"$f":"TEXT(SPP[[#This Row],[DATA]],\"mmmm\")","v":"janeiro"},{"$f":"YEAR(SPP[[#This Row],[DATA]])","v":2019}]
["30/01/2019","74","PROFESSOR",4179,341132.9,0,341132.9,{"$f":"TEXT(SPP[[#This Row],[DATA]],\"mmmm\")","v":"janeiro"},{"$f":"YEAR(SPP[[#This Row],[DATA]])","v":2019}]
["30/01/2019","75","CARTAO FIDELIDADE",50164,0,7972126.2700000005,7972126.2700000005,{"$f":"TEXT(SPP[[#This Row],[DATA]],\"mmmm\")","v":"janeiro"},{"$f":"YEAR(SPP[[#This Row],[DATA]])","v":2019}]
["30/01/2019","76","Lazer",103,0,5408.99,5408.99,{"$f":"TEXT(SPP[[#This Row],[DATA]],\"mmmm\")","v":"janeiro"},{"$f":"YEAR(SPP[[#This Row],[DATA]])","v":2019}]
["30/01/2019","86","Estacionamento",5431,0,206065,206065,{"$f":"TEXT(SPP[[#This Row],[DATA]],\"mmmm\")","v":"janeiro"},{"$f":"YEAR(SPP[[#This Row],[DATA]])","v":2019}]
["30/01/2019","100","BILHETE UNICO MENSAL - CASCO",2314498,459069942.5,35786317.270000003,494856259.76999998,{"$f":"TEXT(SPP[[#This Row],[DATA]],\"mmmm\")","v":"janeiro"},{"$f":"YEAR(SPP[[#This Row],[DATA]])","v":2019}]
["30/01/2019","110","BUM - ANÔNIMO - CASCO",876293,0,20212527.260000002,20212527.260000002,{"$f":"TEXT(SPP[[#This Row],[DATA]],\"mmmm\")","v":"janeiro"},{"$f":"YEAR(SPP[[#This Row],[DATA]])","v":2019}]
["31/01/2019","51","COMUM 4 VIAGENS",1,0,21.56,21.56,{"$f":"TEXT(SPP[[#This Row],[DATA]],\"mmmm\")","v":"janeiro"},{"$f":"YEAR(SPP[[#This Row],[DATA]])","v":2019}]
["31/01/2019","52","ESTUDANTE",25228,11938.54,435553.9,447492.44,{"$f":"TEXT(SPP[[#This Row],[DATA]],\"mmmm\")","v":"janeiro"},{"$f":"YEAR(SPP[[#This Row],[DATA]])","v":2019}]
["31/01/2019","59","VT",2211930,262863892.80000001,45364641.189999998,308228533.99000001,{"$f":"TEXT(SPP[[#This Row],[DATA]],\"mmmm\")","v":"janeiro"},{"$f":"YEAR(SPP[[#This Row],[DATA]])","v":2019}]
["31/01/2019","69","VT 8VG",702,0,29271.95,29271.95,{"$f":"TEXT(SPP[[#This Row],[DATA]],\"mmmm\")","v":"janeiro"},{"$f":"YEAR(SPP[[#This Row],[DATA]])","v":2019}]
["31/01/2019","71","MÃE PAULISTANA",48280,193886.36000000002,492053.71,685940.07000000007,{"$f":"TEXT(SPP[[#This Row],[DATA]],\"mmmm\")","v":"janeiro"},{"$f":"YEAR(SPP[[#This Row],[DATA]])","v":2019}]
["31/01/2019","74","PROFESSOR",4180,341189.10000000003,0,341189.10000000003,{"$f":"TEXT(SPP[[#This Row],[DATA]],\"mmmm\")","v":"janeiro"},{"$f":"YEAR(SPP[[#This Row],[DATA]])","v":2019}]
["31/01/2019","75","CARTAO FIDELIDADE",50799,0,8098620.8700000001,8098620.8700000001,{"$f":"TEXT(SPP[[#This Row],[DATA]],\"mmmm\")","v":"janeiro"},{"$f":"YEAR(SPP[[#This Row],[DATA]])","v":2019}]
["31/01/2019","76","Lazer",104,0,5451.99,5451.99,{"$f":"TEXT(SPP[[#This Row],[DATA]],\"mmmm\")","v":"janeiro"},{"$f":"YEAR(SPP[[#This Row],[DATA]])","v":2019}]
["31/01/2019","86","Estacionamento",5496,0,206615.67,206615.67,{"$f":"TEXT(SPP[[#This Row],[DATA]],\"mmmm\")","v":"janeiro"},{"$f":"YEAR(SPP[[#This Row],[DATA]])","v":2019}]
["31/01/2019","100","BILHETE UNICO MENSAL - CASCO",2329915,471850978.31999999,36152957.170000002,508003935.49000001,{"$f":"TEXT(SPP[[#This Row],[DATA]],\"mmmm\")","v":"janeiro"},{"$f":"YEAR(SPP[[#This Row],[DATA]])","v":2019}]
["31/01/2019","110","BUM - ANÔNIMO - CASCO",884955,0,20399609.690000001,20399609.690000001,{"$f":"TEXT(SPP[[#This Row],[DATA]],\"mmmm\")","v":"janeiro"},{"$f":"YEAR(SPP[[#This Row],[DATA]])","v":2019}]
["01/02/2019","51","COMUM 4 VIAGENS",1,0,17.260000000000002,17.260000000000002,{"$f":"TEXT(SPP[[#This Row],[DATA]],\"mmmm\")","v":"fevereiro"},{"$f":"YEAR(SPP[[#This Row],[DATA]])","v":2019}]
["01/02/2019","52","ESTUDANTE",25754,12636.67,435268.48,447905.15,{"$f":"TEXT(SPP[[#This Row],[DATA]],\"mmmm\")","v":"fevereiro"},{"$f":"YEAR(SPP[[#This Row],[DATA]])","v":2019}]
["01/02/2019","59","VT",2244606,269226507.56,44075772.149999999,313302279.70999998,{"$f":"TEXT(SPP[[#This Row],[DATA]],\"mmmm\")","v":"fevereiro"},{"$f":"YEAR(SPP[[#This Row],[DATA]])","v":2019}]
["01/02/2019","69","VT 8VG",708,0,29892.010000000002,29892.010000000002,{"$f":"TEXT(SPP[[#This Row],[DATA]],\"mmmm\")","v":"fevereiro"},{"$f":"YEAR(SPP[[#This Row],[DATA]])","v":2019}]
["01/02/2019","71","MÃE PAULISTANA",49078,198149.68,511339.44,709489.12,{"$f":"TEXT(SPP[[#This Row],[DATA]],\"mmmm\")","v":"fevereiro"},{"$f":"YEAR(SPP[[#This Row],[DATA]])","v":2019}]
["01/02/2019","74","PROFESSOR",6994,535528.69000000006,0,535528.69000000006,{"$f":"TEXT(SPP[[#This Row],[DATA]],\"mmmm\")","v":"fevereiro"},{"$f":"YEAR(SPP[[#This Row],[DATA]])","v":2019}]
["01/02/2019","75","CARTAO FIDELIDADE",57612,0,7104593.4800000004,7104593.4800000004,{"$f":"TEXT(SPP[[#This Row],[DATA]],\"mmmm\")","v":"fevereiro"},{"$f":"YEAR(SPP[[#This Row],[DATA]])","v":2019}]
["01/02/2019","76","Lazer",109,0,5568.4400000000005,5568.4400000000005,{"$f":"TEXT(SPP[[#This Row],[DATA]],\"mmmm\")","v":"fevereiro"},{"$f":"YEAR(SPP[[#This Row],[DATA]])","v":2019}]
["01/02/2019","86","Estacionamento",5696,0,201751.85,201751.85,{"$f":"TEXT(SPP[[#This Row],[DATA]],\"mmmm\")","v":"fevereiro"},{"$f":"YEAR(SPP[[#This Row],[DATA]])","v":2019}]
["01/02/2019","100","BILHETE UNICO MENSAL - CASCO",2364402,483864753.44,36186142.740000002,520050896.18000001,{"$f":"TEXT(SPP[[#This Row],[DATA]],\"mmmm\")","v":"fevereiro"},{"$f":"YEAR(SPP[[#This Row],[DATA]])","v":2019}]
["01/02/2019","110","BUM - ANÔNIMO - CASCO",896348,0,19871091.920000002,19871091.920000002,{"$f":"TEXT(SPP[[#This Row],[DATA]],\"mmmm\")","v":"fevereiro"},{"$f":"YEAR(SPP[[#This Row],[DATA]])","v":2019}]
["02/02/2019","51","COMUM 4 VIAGENS",1,0,17.260000000000002,17.260000000000002,{"$f":"TEXT(SPP[[#This Row],[DATA]],\"mmmm\")","v":"fevereiro"},{"$f":"YEAR(SPP[[#This Row],[DATA]])","v":2019}]
["02/02/2019","52","ESTUDANTE",26111,12694.09,452263.67,464957.76,{"$f":"TEXT(SPP[[#This Row],[DATA]],\"mmmm\")","v":"fevereiro"},{"$f":"YEAR(SPP[[#This Row],[DATA]])","v":2019}]
["02/02/2019","59","VT",2261582,270773222.86000001,45104418.270000003,315877641.13,{"$f":"TEXT(SPP[[#This Row],[DATA]],\"mmmm\")","v":"fevereiro"},{"$f":"YEAR(SPP[[#This Row],[DATA]])","v":2019}]
["02/02/2019","69","VT 8VG",712,0,30515.75,30515.75,{"$f":"TEXT(SPP[[#This Row],[DATA]],\"mmmm\")","v":"fevereiro"},{"$f":"YEAR(SPP[[#This Row],[DATA]])","v":2019}]
["02/02/2019","71","MÃE PAULISTANA",49682,201795.76,547790.57000000007,749586.33,{"$f":"TEXT(SPP[[#This Row],[DATA]],\"mmmm\")","v":"fevereiro"},{"$f":"YEAR(SPP[[#This Row],[DATA]])","v":2019}]
["02/02/2019","74","PROFESSOR",7685,575866.31000000006,0,575866.31000000006,{"$f":"TEXT(SPP[[#This Row],[DATA]],\"mmmm\")","v":"fevereiro"},{"$f":"YEAR(SPP[[#This Row],[DATA]])","v":2019}]
["02/02/2019","75","CARTAO FIDELIDADE",59147,0,6980236.2700000005,6980236.2700000005,{"$f":"TEXT(SPP[[#This Row],[DATA]],\"mmmm\")","v":"fevereiro"},{"$f":"YEAR(SPP[[#This Row],[DATA]])","v":2019}]
["02/02/2019","76","Lazer",113,0,5706.39,5706.39,{"$f":"TEXT(SPP[[#This Row],[DATA]],\"mmmm\")","v":"fevereiro"},{"$f":"YEAR(SPP[[#This Row],[DATA]])","v":2019}]
["02/02/2019","86","Estacionamento",5765,0,203199.32,203199.32,{"$f":"TEXT(SPP[[#This Row],[DATA]],\"mmmm\")","v":"fevereiro"},{"$f":"YEAR(SPP[[#This Row],[DATA]])","v":2019}]
["02/02/2019","100","BILHETE UNICO MENSAL - CASCO",2379012,486684500.13,37699942.840000004,524384442.97000003,{"$f":"TEXT(SPP[[#This Row],[DATA]],\"mmmm\")","v":"fevereiro"},{"$f":"YEAR(SPP[[#This Row],[DATA]])","v":2019}]
["02/02/2019","110","BUM - ANÔNIMO - CASCO",903697,0,20504459.260000002,20504459.260000002,{"$f":"TEXT(SPP[[#This Row],[DATA]],\"mmmm\")","v":"fevereiro"},{"$f":"YEAR(SPP[[#This Row],[DATA]])","v":2019}]
["03/02/2019","51","COMUM 4 VIAGENS",2,0,22.48,22.48,{"$f":"TEXT(SPP[[#This Row],[DATA]],\"mmmm\")","v":"fevereiro"},{"$f":"YEAR(SPP[[#This Row],[DATA]])","v":2019}]
["03/02/2019","52","ESTUDANTE",26438,13623.73,454411.16000000003,468034.89,{"$f":"TEXT(SPP[[#This Row],[DATA]],\"mmmm\")","v":"fevereiro"},{"$f":"YEAR(SPP[[#This Row],[DATA]])","v":2019}]
["03/02/2019","59","VT",2286172,274510764.85000002,44703494.079999998,319214258.93000001,{"$f":"TEXT(SPP[[#This Row],[DATA]],\"mmmm\")","v":"fevereiro"},{"$f":"YEAR(SPP[[#This Row],[DATA]])","v":2019}]
["03/02/2019","69","VT 8VG",723,0,30423.9,30423.9,{"$f":"TEXT(SPP[[#This Row],[DATA]],\"mmmm\")","v":"fevereiro"},{"$f":"YEAR(SPP[[#This Row],[DATA]])","v":2019}]
["03/02/2019","71","MÃE PAULISTANA",49992,201555.27000000002,558870.78,760426.05,{"$f":"TEXT(SPP[[#This Row],[DATA]],\"mmmm\")","v":"fevereiro"},{"$f":"YEAR(SPP[[#This Row],[DATA]])","v":2019}]
["03/02/2019","74","PROFESSOR",9333,666700.82000000007,0,666700.82000000007,{"$f":"TEXT(SPP[[#This Row],[DATA]],\"mmmm\")","v":"fevereiro"},{"$f":"YEAR(SPP[[#This Row],[DATA]])","v":2019}]
["03/02/2019","75","CARTAO FIDELIDADE",62581,0,6743526.3600000003,6743526.3600000003,{"$f":"TEXT(SPP[[#This Row],[DATA]],\"mmmm\")","v":"fevereiro"},{"$f":"YEAR(SPP[[#This Row],[DATA]])","v":2019}]
["03/02/2019","76","Lazer",124,0,6633.34,6633.34,{"$f":"TEXT(SPP[[#This Row],[DATA]],\"mmmm\")","v":"fevereiro"},{"$f":"YEAR(SPP[[#This Row],[DATA]])","v":2019}]
["03/02/2019","86","Estacionamento",5949,0,196409,196409,{"$f":"TEXT(SPP[[#This Row],[DATA]],\"mmmm\")","v":"fevereiro"},{"$f":"YEAR(SPP[[#This Row],[DATA]])","v":2019}]
["03/02/2019","100","BILHETE UNICO MENSAL - CASCO",2400382,490578197.06999999,37542519.979999997,528120717.05000001,{"$f":"TEXT(SPP[[#This Row],[DATA]],\"mmmm\")","v":"fevereiro"},{"$f":"YEAR(SPP[[#This Row],[DATA]])","v":2019}]
["03/02/2019","110","BUM - ANÔNIMO - CASCO",912312,0,20403044.359999999,20403044.359999999,{"$f":"TEXT(SPP[[#This Row],[DATA]],\"mmmm\")","v":"fevereiro"},{"$f":"YEAR(SPP[[#This Row],[DATA]])","v":2019}]
["04/02/2019","51","COMUM 4 VIAGENS",2,0,43.42,43.42,{"$f":"TEXT(SPP[[#This Row],[DATA]],\"mmmm\")","v":"fevereiro"},{"$f":"YEAR(SPP[[#This Row],[DATA]])","v":2019}]
["04/02/2019","52","ESTUDANTE",26952,14191.5,459696.05,473887.55,{"$f":"TEXT(SPP[[#This Row],[DATA]],\"mmmm\")","v":"fevereiro"},{"$f":"YEAR(SPP[[#This Row],[DATA]])","v":2019}]
["04/02/2019","59","VT",2311694,277464329.19,44885431.329999998,322349760.51999998,{"$f":"TEXT(SPP[[#This Row],[DATA]],\"mmmm\")","v":"fevereiro"},{"$f":"YEAR(SPP[[#This Row],[DATA]])","v":2019}]
["04/02/2019","69","VT 8VG",725,0,30422.46,30422.46,{"$f":"TEXT(SPP[[#This Row],[DATA]],\"mmmm\")","v":"fevereiro"},{"$f":"YEAR(SPP[[#This Row],[DATA]])","v":2019}]
["04/02/2019","71","MÃE PAULISTANA",50425,199633.86000000002,575509.76000000001,775143.62,{"$f":"TEXT(SPP[[#This Row],[DATA]],\"mmmm\")","v":"fevereiro"},{"$f":"YEAR(SPP[[#This Row],[DATA]])","v":2019}]
["04/02/2019","74","PROFESSOR",9874,711146.69000000006,0,711146.69000000006,{"$f":"TEXT(SPP[[#This Row],[DATA]],\"mmmm\")","v":"fevereiro"},{"$f":"YEAR(SPP[[#This Row],[DATA]])","v":2019}]
["04/02/2019","75","CARTAO FIDELIDADE",63749,0,6906764.4000000004,6906764.4000000004,{"$f":"TEXT(SPP[[#This Row],[DATA]],\"mmmm\")","v":"fevereiro"},{"$f":"YEAR(SPP[[#This Row],[DATA]])","v":2019}]
["04/02/2019","76","Lazer",127,0,7034.14,7034.14,{"$f":"TEXT(SPP[[#This Row],[DATA]],\"mmmm\")","v":"fevereiro"},{"$f":"YEAR(SPP[[#This Row],[DATA]])","v":2019}]
["04/02/2019","86","Estacionamento",6070,0,201034.65,201034.65,{"$f":"TEXT(SPP[[#This Row],[DATA]],\"mmmm\")","v":"fevereiro"},{"$f":"YEAR(SPP[[#This Row],[DATA]])","v":2019}]
["04/02/2019","100","BILHETE UNICO MENSAL - CASCO",2423255,497781035.38999999,38955029.090000004,536736064.48000002,{"$f":"TEXT(SPP[[#This Row],[DATA]],\"mmmm\")","v":"fevereiro"},{"$f":"YEAR(SPP[[#This Row],[DATA]])","v":2019}]
["04/02/2019","110","BUM - ANÔNIMO - CASCO",922386,0,20536961.57,20536961.57,{"$f":"TEXT(SPP[[#This Row],[DATA]],\"mmmm\")","v":"fevereiro"},{"$f":"YEAR(SPP[[#This Row],[DATA]])","v":2019}]
["05/02/2019","51","COMUM 4 VIAGENS",2,0,43.42,43.42,{"$f":"TEXT(SPP[[#This Row],[DATA]],\"mmmm\")","v":"fevereiro"},{"$f":"YEAR(SPP[[#This Row],[DATA]])","v":2019}]
["05/02/2019","52","ESTUDANTE",27442,14757.14,466803.66000000003,481560.8,{"$f":"TEXT(SPP[[#This Row],[DATA]],\"mmmm\")","v":"fevereiro"},{"$f":"YEAR(SPP[[#This Row],[DATA]])","v":2019}]
["05/02/2019","59","VT",2333822,280384569.75999999,45045069.310000002,325429639.06999999,{"$f":"TEXT(SPP[[#This Row],[DATA]],\"mmmm\")","v":"fevereiro"},{"$f":"YEAR(SPP[[#This Row],[DATA]])","v":2019}]
["05/02/2019","69","VT 8VG",738,0,30724.63,30724.63,{"$f":"TEXT(SPP[[#This Row],[DATA]],\"mmmm\")","v":"fevereiro"},{"$f":"YEAR(SPP[[#This Row],[DATA]])","v":2019}]
["05/02/2019","71","MÃE PAULISTANA",50839,202227.9,594491.12,796719.02,{"$f":"TEXT(SPP[[#This Row],[DATA]],\"mmmm\")","v":"fevereiro"},{"$f":"YEAR(SPP[[#This Row],[DATA]])","v":2019}]
["05/02/2019","74","PROFESSOR",10298,740877.11,0,740877.11,{"$f":"TEXT(SPP[[#This Row],[DATA]],\"mmmm\")","v":"fevereiro"},{"$f":"YEAR(SPP[[#This Row],[DATA]])","v":2019}]
["05/02/2019","75","CARTAO FIDELIDADE",64486,0,6959209.6900000004,6959209.6900000004,{"$f":"TEXT(SPP[[#This Row],[DATA]],\"mmmm\")","v":"fevereiro"},{"$f":"YEAR(SPP[[#This Row],[DATA]])","v":2019}]
["05/02/2019","76","Lazer",131,0,7150.1900000000005,7150.1900000000005,{"$f":"TEXT(SPP[[#This Row],[DATA]],\"mmmm\")","v":"fevereiro"},{"$f":"YEAR(SPP[[#This Row],[DATA]])","v":2019}]
["05/02/2019","86","Estacionamento",6169,0,209559.5,209559.5,{"$f":"TEXT(SPP[[#This Row],[DATA]],\"mmmm\")","v":"fevereiro"},{"$f":"YEAR(SPP[[#This Row],[DATA]])","v":2019}]
["05/02/2019","100","BILHETE UNICO MENSAL - CASCO",2442979,505620292.5,40647560.850000001,546267853.35000002,{"$f":"TEXT(SPP[[#This Row],[DATA]],\"mmmm\")","v":"fevereiro"},{"$f":"YEAR(SPP[[#This Row],[DATA]])","v":2019}]
["05/02/2019","110","BUM - ANÔNIMO - CASCO",931963,0,20601674.82,20601674.82,{"$f":"TEXT(SPP[[#This Row],[DATA]],\"mmmm\")","v":"fevereiro"},{"$f":"YEAR(SPP[[#This Row],[DATA]])","v":2019}]
["06/02/2019","51","COMUM 4 VIAGENS",3,0,53.54,53.54,{"$f":"TEXT(SPP[[#This Row],[DATA]],\"mmmm\")","v":"fevereiro"},{"$f":"YEAR(SPP[[#This Row],[DATA]])","v":2019}]
["06/02/2019","52","ESTUDANTE",27833,15388.56,448764.44,464153,{"$f":"TEXT(SPP[[#This Row],[DATA]],\"mmmm\")","v":"fevereiro"},{"$f":"YEAR(SPP[[#This Row],[DATA]])","v":2019}]
["06/02/2019","59","VT",2350327,281309386.54000002,43031552.75,324340939.29000002,{"$f":"TEXT(SPP[[#This Row],[DATA]],\"mmmm\")","v":"fevereiro"},{"$f":"YEAR(SPP[[#This Row],[DATA]])","v":2019}]
["06/02/2019","68","ESTUDANTE 8VG",1,0,2.7,2.7,{"$f":"TEXT(SPP[[#This Row],[DATA]],\"mmmm\")","v":"fevereiro"},{"$f":"YEAR(SPP[[#This Row],[DATA]])","v":2019}]
["06/02/2019","69","VT 8VG",741,0,30189.920000000002,30189.920000000002,{"$f":"TEXT(SPP[[#This Row],[DATA]],\"mmmm\")","v":"fevereiro"},{"$f":"YEAR(SPP[[#This Row],[DATA]])","v":2019}]
["06/02/2019","71","MÃE PAULISTANA",50883,198640.22,576156.82999999996,774797.05,{"$f":"TEXT(SPP[[#This Row],[DATA]],\"mmmm\")","v":"fevereiro"},{"$f":"YEAR(SPP[[#This Row],[DATA]])","v":2019}]
["06/02/2019","74","PROFESSOR",10463,756657.94000000006,0,756657.94000000006,{"$f":"TEXT(SPP[[#This Row],[DATA]],\"mmmm\")","v":"fevereiro"},{"$f":"YEAR(SPP[[#This Row],[DATA]])","v":2019}]
["06/02/2019","75","CARTAO FIDELIDADE",65034,0,7134047.25,7134047.25,{"$f":"TEXT(SPP[[#This Row],[DATA]],\"mmmm\")","v":"fevereiro"},{"$f":"YEAR(SPP[[#This Row],[DATA]])","v":2019}]
["06/02/2019","76","Lazer",137,0,7231.5,7231.5,{"$f":"TEXT(SPP[[#This Row],[DATA]],\"mmmm\")","v":"fevereiro"},{"$f":"YEAR(SPP[[#This Row],[DATA]])","v":2019}]
["06/02/2019","86","Estacionamento",6231,0,209280.31,209280.31,{"$f":"TEXT(SPP[[#This Row],[DATA]],\"mmmm\")","v":"fevereiro"},{"$f":"YEAR(SPP[[#This Row],[DATA]])","v":2019}]
["06/02/2019","100","BILHETE UNICO MENSAL - CASCO",2459936,507952283.25999999,40098642.060000002,548050925.32000005,{"$f":"TEXT(SPP[[#This Row],[DATA]],\"mmmm\")","v":"fevereiro"},{"$f":"YEAR(SPP[[#This Row],[DATA]])","v":2019}]
["06/02/2019","110","BUM - ANÔNIMO - CASCO",938515,0,19527436.02,19527436.02,{"$f":"TEXT(SPP[[#This Row],[DATA]],\"mmmm\")","v":"fevereiro"},{"$f":"YEAR(SPP[[#This Row],[DATA]])","v":2019}]
["07/02/2019","51","COMUM 4 VIAGENS",3,0,49.54,49.54,{"$f":"TEXT(SPP[[#This Row],[DATA]],\"mmmm\")","v":"fevereiro"},{"$f":"YEAR(SPP[[#This Row],[DATA]])","v":2019}]
["07/02/2019","52","ESTUDANTE",27803,15279.59,436132.02,451411.61,{"$f":"TEXT(SPP[[#This Row],[DATA]],\"mmmm\")","v":"fevereiro"},{"$f":"YEAR(SPP[[#This Row],[DATA]])","v":2019}]
["07/02/2019","59","VT",2370637,282408022.42000002,41937352.270000003,324345374.69,{"$f":"TEXT(SPP[[#This Row],[DATA]],\"mmmm\")","v":"fevereiro"},{"$f":"YEAR(SPP[[#This Row],[DATA]])","v":2019}]
["07/02/2019","68","ESTUDANTE 8VG",1,0,2.7,2.7,{"$f":"TEXT(SPP[[#This Row],[DATA]],\"mmmm\")","v":"fevereiro"},{"$f":"YEAR(SPP[[#This Row],[DATA]])","v":2019}]
["07/02/2019","69","VT 8VG",746,0,30191.06,30191.06,{"$f":"TEXT(SPP[[#This Row],[DATA]],\"mmmm\")","v":"fevereiro"},{"$f":"YEAR(SPP[[#This Row],[DATA]])","v":2019}]
["07/02/2019","71","MÃE PAULISTANA",51639,199942.43,588633.63,788576.06,{"$f":"TEXT(SPP[[#This Row],[DATA]],\"mmmm\")","v":"fevereiro"},{"$f":"YEAR(SPP[[#This Row],[DATA]])","v":2019}]
["07/02/2019","74","PROFESSOR",10854,779165.04,0,779165.04,{"$f":"TEXT(SPP[[#This Row],[DATA]],\"mmmm\")","v":"fevereiro"},{"$f":"YEAR(SPP[[#This Row],[DATA]])","v":2019}]
["07/02/2019","75","CARTAO FIDELIDADE",65597,0,6954843.9100000001,6954843.9100000001,{"$f":"TEXT(SPP[[#This Row],[DATA]],\"mmmm\")","v":"fevereiro"},{"$f":"YEAR(SPP[[#This Row],[DATA]])","v":2019}]
["07/02/2019","76","Lazer",146,0,7160.85,7160.85,{"$f":"TEXT(SPP[[#This Row],[DATA]],\"mmmm\")","v":"fevereiro"},{"$f":"YEAR(SPP[[#This Row],[DATA]])","v":2019}]
["07/02/2019","86","Estacionamento",6338,0,206031.11000000002,206031.11000000002,{"$f":"TEXT(SPP[[#This Row],[DATA]],\"mmmm\")","v":"fevereiro"},{"$f":"YEAR(SPP[[#This Row],[DATA]])","v":2019}]
["07/02/2019","100","BILHETE UNICO MENSAL - CASCO",2479444,510514805.06,40483870.340000004,550998675.39999998,{"$f":"TEXT(SPP[[#This Row],[DATA]],\"mmmm\")","v":"fevereiro"},{"$f":"YEAR(SPP[[#This Row],[DATA]])","v":2019}]
["07/02/2019","110","BUM - ANÔNIMO - CASCO",946855,0,19059250.460000001,19059250.460000001,{"$f":"TEXT(SPP[[#This Row],[DATA]],\"mmmm\")","v":"fevereiro"},{"$f":"YEAR(SPP[[#This Row],[DATA]])","v":2019}]
["08/02/2019","51","COMUM 4 VIAGENS",3,0,41.24,41.24,{"$f":"TEXT(SPP[[#This Row],[DATA]],\"mmmm\")","v":"fevereiro"},{"$f":"YEAR(SPP[[#This Row],[DATA]])","v":2019}]
["08/02/2019","52","ESTUDANTE",27693,17047.28,405465.38,422512.66000000003,{"$f":"TEXT(SPP[[#This Row],[DATA]],\"mmmm\")","v":"fevereiro"},{"$f":"YEAR(SPP[[#This Row],[DATA]])","v":2019}]
["08/02/2019","59","VT",2395490,282256458.88,39327981.200000003,321584440.07999998,{"$f":"TEXT(SPP[[#This Row],[DATA]],\"mmmm\")","v":"fevereiro"},{"$f":"YEAR(SPP[[#This Row],[DATA]])","v":2019}]
["08/02/2019","68","ESTUDANTE 8VG",1,0,2.7,2.7,{"$f":"TEXT(SPP[[#This Row],[DATA]],\"mmmm\")","v":"fevereiro"},{"$f":"YEAR(SPP[[#This Row],[DATA]])","v":2019}]
["08/02/2019","69","VT 8VG",755,0,29503.11,29503.11,{"$f":"TEXT(SPP[[#This Row],[DATA]],\"mmmm\")","v":"fevereiro"},{"$f":"YEAR(SPP[[#This Row],[DATA]])","v":2019}]
["08/02/2019","71","MÃE PAULISTANA",52502,203923.51,576285.36,780208.87,{"$f":"TEXT(SPP[[#This Row],[DATA]],\"mmmm\")","v":"fevereiro"},{"$f":"YEAR(SPP[[#This Row],[DATA]])","v":2019}]
["08/02/2019","74","PROFESSOR",11308,789810.45000000007,0,789810.45000000007,{"$f":"TEXT(SPP[[#This Row],[DATA]],\"mmmm\")","v":"fevereiro"},{"$f":"YEAR(SPP[[#This Row],[DATA]])","v":2019}]
["08/02/2019","75","CARTAO FIDELIDADE",66258,0,6701779.1299999999,6701779.1299999999,{"$f":"TEXT(SPP[[#This Row],[DATA]],\"mmmm\")","v":"fevereiro"},{"$f":"YEAR(SPP[[#This Row],[DATA]])","v":2019}]
["08/02/2019","76","Lazer",147,0,7203.85,7203.85,{"$f":"TEXT(SPP[[#This Row],[DATA]],\"mmmm\")","v":"fevereiro"},{"$f":"YEAR(SPP[[#This Row],[DATA]])","v":2019}]
["08/02/2019","86","Estacionamento",6444,0,195386.18,195386.18,{"$f":"TEXT(SPP[[#This Row],[DATA]],\"mmmm\")","v":"fevereiro"},{"$f":"YEAR(SPP[[#This Row],[DATA]])","v":2019}]
["08/02/2019","100","BILHETE UNICO MENSAL - CASCO",2504237,509011881.81,39095460.030000001,548107341.84000003,{"$f":"TEXT(SPP[[#This Row],[DATA]],\"mmmm\")","v":"fevereiro"},{"$f":"YEAR(SPP[[#This Row],[DATA]])","v":2019}]
["08/02/2019","110","BUM - ANÔNIMO - CASCO",957631,0,17798012.539999999,17798012.539999999,{"$f":"TEXT(SPP[[#This Row],[DATA]],\"mmmm\")","v":"fevereiro"},{"$f":"YEAR(SPP[[#This Row],[DATA]])","v":2019}]
["09/02/2019","51","COMUM 4 VIAGENS",2,0,31.12,31.12,{"$f":"TEXT(SPP[[#This Row],[DATA]],\"mmmm\")","v":"fevereiro"},{"$f":"YEAR(SPP[[#This Row],[DATA]])","v":2019}]
["09/02/2019","52","ESTUDANTE",28055,17167.48,423626.36,440793.84,{"$f":"TEXT(SPP[[#This Row],[DATA]],\"mmmm\")","v":"fevereiro"},{"$f":"YEAR(SPP[[#This Row],[DATA]])","v":2019}]
["09/02/2019","59","VT",2412472,282590340.07999998,40661832.810000002,323252172.88999999,{"$f":"TEXT(SPP[[#This Row],[DATA]],\"mmmm\")","v":"fevereiro"},{"$f":"YEAR(SPP[[#This Row],[DATA]])","v":2019}]
["09/02/2019","68","ESTUDANTE 8VG",1,0,2.7,2.7,{"$f":"TEXT(SPP[[#This Row],[DATA]],\"mmmm\")","v":"fevereiro"},{"$f":"YEAR(SPP[[#This Row],[DATA]])","v":2019}]
["09/02/2019","69","VT 8VG",757,0,30276.84,30276.84,{"$f":"TEXT(SPP[[#This Row],[DATA]],\"mmmm\")","v":"fevereiro"},{"$f":"YEAR(SPP[[#This Row],[DATA]])","v":2019}]
["09/02/2019","71","MÃE PAULISTANA",53196,210194.99,606625.43000000005,816820.42,{"$f":"TEXT(SPP[[#This Row],[DATA]],\"mmmm\")","v":"fevereiro"},{"$f":"YEAR(SPP[[#This Row],[DATA]])","v":2019}]
["09/02/2019","74","PROFESSOR",11476,799857.88,0,799857.88,{"$f":"TEXT(SPP[[#This Row],[DATA]],\"mmmm\")","v":"fevereiro"},{"$f":"YEAR(SPP[[#This Row],[DATA]])","v":2019}]
["09/02/2019","75","CARTAO FIDELIDADE",66769,0,6773692.5099999998,6773692.5099999998,{"$f":"TEXT(SPP[[#This Row],[DATA]],\"mmmm\")","v":"fevereiro"},{"$f":"YEAR(SPP[[#This Row],[DATA]])","v":2019}]
["09/02/2019","76","Lazer",147,0,7203.85,7203.85,{"$f":"TEXT(SPP[[#This Row],[DATA]],\"mmmm\")","v":"fevereiro"},{"$f":"YEAR(SPP[[#This Row],[DATA]])","v":2019}]
["09/02/2019","86","Estacionamento",6492,0,199542.93,199542.93,{"$f":"TEXT(SPP[[#This Row],[DATA]],\"mmmm\")","v":"fevereiro"},{"$f":"YEAR(SPP[[#This Row],[DATA]])","v":2019}]
["09/02/2019","100","BILHETE UNICO MENSAL - CASCO",2518381,509955248.56999999,40919344.100000001,550874592.66999996,{"$f":"TEXT(SPP[[#This Row],[DATA]],\"mmmm\")","v":"fevereiro"},{"$f":"YEAR(SPP[[#This Row],[DATA]])","v":2019}]
["09/02/2019","110","BUM - ANÔNIMO - CASCO",965679,0,18552191.940000001,18552191.940000001,{"$f":"TEXT(SPP[[#This Row],[DATA]],\"mmmm\")","v":"fevereiro"},{"$f":"YEAR(SPP[[#This Row],[DATA]])","v":2019}]
["10/02/2019","51","COMUM 4 VIAGENS",3,0,41.14,41.14,{"$f":"TEXT(SPP[[#This Row],[DATA]],\"mmmm\")","v":"fevereiro"},{"$f":"YEAR(SPP[[#This Row],[DATA]])","v":2019}]
["10/02/2019","52","ESTUDANTE",28233,17577,387734.98,405311.98,{"$f":"TEXT(SPP[[#This Row],[DATA]],\"mmmm\")","v":"fevereiro"},{"$f":"YEAR(SPP[[#This Row],[DATA]])","v":2019}]
["10/02/2019","59","VT",2419623,281128626.35000002,36954612.920000002,318083239.26999998,{"$f":"TEXT(SPP[[#This Row],[DATA]],\"mmmm\")","v":"fevereiro"},{"$f":"YEAR(SPP[[#This Row],[DATA]])","v":2019}]
["10/02/2019","68","ESTUDANTE 8VG",1,0,2.7,2.7,{"$f":"TEXT(SPP[[#This Row],[DATA]],\"mmmm\")","v":"fevereiro"},{"$f":"YEAR(SPP[[#This Row],[DATA]])","v":2019}]
["10/02/2019","69","VT 8VG",761,0,28766.260000000002,28766.260000000002,{"$f":"TEXT(SPP[[#This Row],[DATA]],\"mmmm\")","v":"fevereiro"},{"$f":"YEAR(SPP[[#This Row],[DATA]])","v":2019}]
["10/02/2019","71","MÃE PAULISTANA",53226,204326.84,548059.46,752386.3,{"$f":"TEXT(SPP[[#This Row],[DATA]],\"mmmm\")","v":"fevereiro"},{"$f":"YEAR(SPP[[#This Row],[DATA]])","v":2019}]
["10/02/2019","74","PROFESSOR",11529,794739.51,0,794739.51,{"$f":"TEXT(SPP[[#This Row],[DATA]],\"mmmm\")","v":"fevereiro"},{"$f":"YEAR(SPP[[#This Row],[DATA]])","v":2019}]
["10/02/2019","75","CARTAO FIDELIDADE",66561,0,6592883.7699999996,6592883.7699999996,{"$f":"TEXT(SPP[[#This Row],[DATA]],\"mmmm\")","v":"fevereiro"},{"$f":"YEAR(SPP[[#This Row],[DATA]])","v":2019}]
["10/02/2019","76","Lazer",150,0,7375.85,7375.85,{"$f":"TEXT(SPP[[#This Row],[DATA]],\"mmmm\")","v":"fevereiro"},{"$f":"YEAR(SPP[[#This Row],[DATA]])","v":2019}]
["10/02/2019","86","Estacionamento",6520,0,186860.47,186860.47,{"$f":"TEXT(SPP[[#This Row],[DATA]],\"mmmm\")","v":"fevereiro"},{"$f":"YEAR(SPP[[#This Row],[DATA]])","v":2019}]
["10/02/2019","100","BILHETE UNICO MENSAL - CASCO",2525170,504918315.51999998,37925400.609999999,542843716.13,{"$f":"TEXT(SPP[[#This Row],[DATA]],\"mmmm\")","v":"fevereiro"},{"$f":"YEAR(SPP[[#This Row],[DATA]])","v":2019}]
["10/02/2019","110","BUM - ANÔNIMO - CASCO",968364,0,16607206.550000001,16607206.550000001,{"$f":"TEXT(SPP[[#This Row],[DATA]],\"mmmm\")","v":"fevereiro"},{"$f":"YEAR(SPP[[#This Row],[DATA]])","v":2019}]
["11/02/2019","51","COMUM 4 VIAGENS",2,0,27.12,27.12,{"$f":"TEXT(SPP[[#This Row],[DATA]],\"mmmm\")","v":"fevereiro"},{"$f":"YEAR(SPP[[#This Row],[DATA]])","v":2019}]
["11/02/2019","52","ESTUDANTE",28145,17152.57,392137.56,409290.13,{"$f":"TEXT(SPP[[#This Row],[DATA]],\"mmmm\")","v":"fevereiro"},{"$f":"YEAR(SPP[[#This Row],[DATA]])","v":2019}]
["11/02/2019","59","VT",2436042,280298654.51999998,37766575.170000002,318065229.69,{"$f":"TEXT(SPP[[#This Row],[DATA]],\"mmmm\")","v":"fevereiro"},{"$f":"YEAR(SPP[[#This Row],[DATA]])","v":2019}]
["11/02/2019","68","ESTUDANTE 8VG",1,0,2.7,2.7,{"$f":"TEXT(SPP[[#This Row],[DATA]],\"mmmm\")","v":"fevereiro"},{"$f":"YEAR(SPP[[#This Row],[DATA]])","v":2019}]
["11/02/2019","69","VT 8VG",762,0,29259.91,29259.91,{"$f":"TEXT(SPP[[#This Row],[DATA]],\"mmmm\")","v":"fevereiro"},{"$f":"YEAR(SPP[[#This Row],[DATA]])","v":2019}]
["11/02/2019","71","MÃE PAULISTANA",54021,210437.04,570146.4,780583.44000000006,{"$f":"TEXT(SPP[[#This Row],[DATA]],\"mmmm\")","v":"fevereiro"},{"$f":"YEAR(SPP[[#This Row],[DATA]])","v":2019}]
["11/02/2019","74","PROFESSOR",11711,814626.6,0,814626.6,{"$f":"TEXT(SPP[[#This Row],[DATA]],\"mmmm\")","v":"fevereiro"},{"$f":"YEAR(SPP[[#This Row],[DATA]])","v":2019}]
["11/02/2019","75","CARTAO FIDELIDADE",67295,0,6746980.5899999999,6746980.5899999999,{"$f":"TEXT(SPP[[#This Row],[DATA]],\"mmmm\")","v":"fevereiro"},{"$f":"YEAR(SPP[[#This Row],[DATA]])","v":2019}]
["11/02/2019","76","Lazer",156,0,7103.7,7103.7,{"$f":"TEXT(SPP[[#This Row],[DATA]],\"mmmm\")","v":"fevereiro"},{"$f":"YEAR(SPP[[#This Row],[DATA]])","v":2019}]
["11/02/2019","86","Estacionamento",6572,0,194358.97,194358.97,{"$f":"TEXT(SPP[[#This Row],[DATA]],\"mmmm\")","v":"fevereiro"},{"$f":"YEAR(SPP[[#This Row],[DATA]])","v":2019}]
["11/02/2019","100","BILHETE UNICO MENSAL - CASCO",2543490,502620763.52999997,39455428.590000004,542076192.12,{"$f":"TEXT(SPP[[#This Row],[DATA]],\"mmmm\")","v":"fevereiro"},{"$f":"YEAR(SPP[[#This Row],[DATA]])","v":2019}]
["11/02/2019","110","BUM - ANÔNIMO - CASCO",975549,0,16936531.390000001,16936531.390000001,{"$f":"TEXT(SPP[[#This Row],[DATA]],\"mmmm\")","v":"fevereiro"},{"$f":"YEAR(SPP[[#This Row],[DATA]])","v":2019}]
["12/02/2019","51","COMUM 4 VIAGENS",4,0,63.800000000000004,63.800000000000004,{"$f":"TEXT(SPP[[#This Row],[DATA]],\"mmmm\")","v":"fevereiro"},{"$f":"YEAR(SPP[[#This Row],[DATA]])","v":2019}]
["12/02/2019","52","ESTUDANTE",27947,16176.23,383052.88,399229.11,{"$f":"TEXT(SPP[[#This Row],[DATA]],\"mmmm\")","v":"fevereiro"},{"$f":"YEAR(SPP[[#This Row],[DATA]])","v":2019}]
["12/02/2019","59","VT",2450180,279241582.5,37178950.079999998,316420532.57999998,{"$f":"TEXT(SPP[[#This Row],[DATA]],\"mmmm\")","v":"fevereiro"},{"$f":"YEAR(SPP[[#This Row],[DATA]])","v":2019}]
["12/02/2019","68","ESTUDANTE 8VG",1,0,2.7,2.7,{"$f":"TEXT(SPP[[#This Row],[DATA]],\"mmmm\")","v":"fevereiro"},{"$f":"YEAR(SPP[[#This Row],[DATA]])","v":2019}]
["12/02/2019","69","VT 8VG",761,0,28489.49,28489.49,{"$f":"TEXT(SPP[[#This Row],[DATA]],\"mmmm\")","v":"fevereiro"},{"$f":"YEAR(SPP[[#This Row],[DATA]])","v":2019}]
["12/02/2019","71","MÃE PAULISTANA",54689,214640.62,567535.24,782175.86,{"$f":"TEXT(SPP[[#This Row],[DATA]],\"mmmm\")","v":"fevereiro"},{"$f":"YEAR(SPP[[#This Row],[DATA]])","v":2019}]
["12/02/2019","74","PROFESSOR",11850,820389.84,0,820389.84,{"$f":"TEXT(SPP[[#This Row],[DATA]],\"mmmm\")","v":"fevereiro"},{"$f":"YEAR(SPP[[#This Row],[DATA]])","v":2019}]
["12/02/2019","75","CARTAO FIDELIDADE",67757,0,6755594.0700000003,6755594.0700000003,{"$f":"TEXT(SPP[[#This Row],[DATA]],\"mmmm\")","v":"fevereiro"},{"$f":"YEAR(SPP[[#This Row],[DATA]])","v":2019}]
["12/02/2019","76","Lazer",156,0,7103.7,7103.7,{"$f":"TEXT(SPP[[#This Row],[DATA]],\"mmmm\")","v":"fevereiro"},{"$f":"YEAR(SPP[[#This Row],[DATA]])","v":2019}]
["12/02/2019","86","Estacionamento",6621,0,192877.9,192877.9,{"$f":"TEXT(SPP[[#This Row],[DATA]],\"mmmm\")","v":"fevereiro"},{"$f":"YEAR(SPP[[#This Row],[DATA]])","v":2019}]
["12/02/2019","100","BILHETE UNICO MENSAL - CASCO",2559714,499614139.11000001,39420612.450000003,539034751.55999994,{"$f":"TEXT(SPP[[#This Row],[DATA]],\"mmmm\")","v":"fevereiro"},{"$f":"YEAR(SPP[[#This Row],[DATA]])","v":2019}]
["12/02/2019","110","BUM - ANÔNIMO - CASCO",981406,0,16648836.439999999,16648836.439999999,{"$f":"TEXT(SPP[[#This Row],[DATA]],\"mmmm\")","v":"fevereiro"},{"$f":"YEAR(SPP[[#This Row],[DATA]])","v":2019}]
["13/02/2019","51","COMUM 4 VIAGENS",3,0,40.82,40.82,{"$f":"TEXT(SPP[[#This Row],[DATA]],\"mmmm\")","v":"fevereiro"},{"$f":"YEAR(SPP[[#This Row],[DATA]])","v":2019}]
["13/02/2019","52","ESTUDANTE",28315,16320.5,379186.41000000003,395506.91000000003,{"$f":"TEXT(SPP[[#This Row],[DATA]],\"mmmm\")","v":"fevereiro"},{"$f":"YEAR(SPP[[#This Row],[DATA]])","v":2019}]
["13/02/2019","59","VT",2460652,277773212.87,36299238.75,314072451.62,{"$f":"TEXT(SPP[[#This Row],[DATA]],\"mmmm\")","v":"fevereiro"},{"$f":"YEAR(SPP[[#This Row],[DATA]])","v":2019}]
["13/02/2019","68","ESTUDANTE 8VG",1,0,2.7,2.7,{"$f":"TEXT(SPP[[#This Row],[DATA]],\"mmmm\")","v":"fevereiro"},{"$f":"YEAR(SPP[[#This Row],[DATA]])","v":2019}]
["13/02/2019","69","VT 8VG",761,0,27862.100000000002,27862.100000000002,{"$f":"TEXT(SPP[[#This Row],[DATA]],\"mmmm\")","v":"fevereiro"},{"$f":"YEAR(SPP[[#This Row],[DATA]])","v":2019}]
["13/02/2019","71","MÃE PAULISTANA",55229,217899.86000000002,557883.16,775783.02,{"$f":"TEXT(SPP[[#This Row],[DATA]],\"mmmm\")","v":"fevereiro"},{"$f":"YEAR(SPP[[#This Row],[DATA]])","v":2019}]
["13/02/2019","74","PROFESSOR",12018,833028.96,0,833028.96,{"$f":"TEXT(SPP[[#This Row],[DATA]],\"mmmm\")","v":"fevereiro"},{"$f":"YEAR(SPP[[#This Row],[DATA]])","v":2019}]
["13/02/2019","75","CARTAO FIDELIDADE",68111,0,6734895.2999999998,6734895.2999999998,{"$f":"TEXT(SPP[[#This Row],[DATA]],\"mmmm\")","v":"fevereiro"},{"$f":"YEAR(SPP[[#This Row],[DATA]])","v":2019}]
["13/02/2019","76","Lazer",157,0,7148.45,7148.45,{"$f":"TEXT(SPP[[#This Row],[DATA]],\"mmmm\")","v":"fevereiro"},{"$f":"YEAR(SPP[[#This Row],[DATA]])","v":2019}]
["13/02/2019","86","Estacionamento",6663,0,190898.76,190898.76,{"$f":"TEXT(SPP[[#This Row],[DATA]],\"mmmm\")","v":"fevereiro"},{"$f":"YEAR(SPP[[#This Row],[DATA]])","v":2019}]
["13/02/2019","100","BILHETE UNICO MENSAL - CASCO",2573809,495713126.5,38955950.520000003,534669077.01999998,{"$f":"TEXT(SPP[[#This Row],[DATA]],\"mmmm\")","v":"fevereiro"},{"$f":"YEAR(SPP[[#This Row],[DATA]])","v":2019}]
["13/02/2019","110","BUM - ANÔNIMO - CASCO",985756,0,16222455.960000001,16222455.960000001,{"$f":"TEXT(SPP[[#This Row],[DATA]],\"mmmm\")","v":"fevereiro"},{"$f":"YEAR(SPP[[#This Row],[DATA]])","v":2019}]
["14/02/2019","51","COMUM 4 VIAGENS",3,0,43.12,43.12,{"$f":"TEXT(SPP[[#This Row],[DATA]],\"mmmm\")","v":"fevereiro"},{"$f":"YEAR(SPP[[#This Row],[DATA]])","v":2019}]
["14/02/2019","52","ESTUDANTE",28683,16408.68,375267.21,391675.89,{"$f":"TEXT(SPP[[#This Row],[DATA]],\"mmmm\")","v":"fevereiro"},{"$f":"YEAR(SPP[[#This Row],[DATA]])","v":2019}]
["14/02/2019","59","VT",2471823,276247295.31,35451118.210000001,311698413.51999998,{"$f":"TEXT(SPP[[#This Row],[DATA]],\"mmmm\")","v":"fevereiro"},{"$f":"YEAR(SPP[[#This Row],[DATA]])","v":2019}]
["14/02/2019","68","ESTUDANTE 8VG",1,0,2.7,2.7,{"$f":"TEXT(SPP[[#This Row],[DATA]],\"mmmm\")","v":"fevereiro"},{"$f":"YEAR(SPP[[#This Row],[DATA]])","v":2019}]
["14/02/2019","69","VT 8VG",765,0,27546.05,27546.05,{"$f":"TEXT(SPP[[#This Row],[DATA]],\"mmmm\")","v":"fevereiro"},{"$f":"YEAR(SPP[[#This Row],[DATA]])","v":2019}]
["14/02/2019","71","MÃE PAULISTANA",55782,220741.67,544305.69000000006,765047.36,{"$f":"TEXT(SPP[[#This Row],[DATA]],\"mmmm\")","v":"fevereiro"},{"$f":"YEAR(SPP[[#This Row],[DATA]])","v":2019}]
["14/02/2019","74","PROFESSOR",12172,841741.63,0,841741.63,{"$f":"TEXT(SPP[[#This Row],[DATA]],\"mmmm\")","v":"fevereiro"},{"$f":"YEAR(SPP[[#This Row],[DATA]])","v":2019}]
["14/02/2019","75","CARTAO FIDELIDADE",68433,0,6712403.3300000001,6712403.3300000001,{"$f":"TEXT(SPP[[#This Row],[DATA]],\"mmmm\")","v":"fevereiro"},{"$f":"YEAR(SPP[[#This Row],[DATA]])","v":2019}]
["14/02/2019","76","Lazer",157,0,7148.45,7148.45,{"$f":"TEXT(SPP[[#This Row],[DATA]],\"mmmm\")","v":"fevereiro"},{"$f":"YEAR(SPP[[#This Row],[DATA]])","v":2019}]
["14/02/2019","86","Estacionamento",6704,0,185610.58000000002,185610.58000000002,{"$f":"TEXT(SPP[[#This Row],[DATA]],\"mmmm\")","v":"fevereiro"},{"$f":"YEAR(SPP[[#This Row],[DATA]])","v":2019}]
["14/02/2019","100","BILHETE UNICO MENSAL - CASCO",2586650,491581991.60000002,38274335.170000002,529856326.76999998,{"$f":"TEXT(SPP[[#This Row],[DATA]],\"mmmm\")","v":"fevereiro"},{"$f":"YEAR(SPP[[#This Row],[DATA]])","v":2019}]
["14/02/2019","110","BUM - ANÔNIMO - CASCO",990397,0,15813704.380000001,15813704.380000001,{"$f":"TEXT(SPP[[#This Row],[DATA]],\"mmmm\")","v":"fevereiro"},{"$f":"YEAR(SPP[[#This Row],[DATA]])","v":2019}]
["15/02/2019","51","COMUM 4 VIAGENS",3,0,50.24,50.24,{"$f":"TEXT(SPP[[#This Row],[DATA]],\"mmmm\")","v":"fevereiro"},{"$f":"YEAR(SPP[[#This Row],[DATA]])","v":2019}]
["15/02/2019","52","ESTUDANTE",29010,17806.25,369852.89,387659.14,{"$f":"TEXT(SPP[[#This Row],[DATA]],\"mmmm\")","v":"fevereiro"},{"$f":"YEAR(SPP[[#This Row],[DATA]])","v":2019}]
["15/02/2019","59","VT",2481940,274729765.87,34706625.240000002,309436391.11000001,{"$f":"TEXT(SPP[[#This Row],[DATA]],\"mmmm\")","v":"fevereiro"},{"$f":"YEAR(SPP[[#This Row],[DATA]])","v":2019}]
["15/02/2019","68","ESTUDANTE 8VG",1,0,2.7,2.7,{"$f":"TEXT(SPP[[#This Row],[DATA]],\"mmmm\")","v":"fevereiro"},{"$f":"YEAR(SPP[[#This Row],[DATA]])","v":2019}]
["15/02/2019","69","VT 8VG",769,0,27402.71,27402.71,{"$f":"TEXT(SPP[[#This Row],[DATA]],\"mmmm\")","v":"fevereiro"},{"$f":"YEAR(SPP[[#This Row],[DATA]])","v":2019}]
["15/02/2019","71","MÃE PAULISTANA",56258,222766.08000000002,532974.89,755740.97,{"$f":"TEXT(SPP[[#This Row],[DATA]],\"mmmm\")","v":"fevereiro"},{"$f":"YEAR(SPP[[#This Row],[DATA]])","v":2019}]
["15/02/2019","74","PROFESSOR",12296,844168.89,0,844168.89,{"$f":"TEXT(SPP[[#This Row],[DATA]],\"mmmm\")","v":"fevereiro"},{"$f":"YEAR(SPP[[#This Row],[DATA]])","v":2019}]
["15/02/2019","75","CARTAO FIDELIDADE",68707,0,6679711.8300000001,6679711.8300000001,{"$f":"TEXT(SPP[[#This Row],[DATA]],\"mmmm\")","v":"fevereiro"},{"$f":"YEAR(SPP[[#This Row],[DATA]])","v":2019}]
["15/02/2019","76","Lazer",157,0,7148.45,7148.45,{"$f":"TEXT(SPP[[#This Row],[DATA]],\"mmmm\")","v":"fevereiro"},{"$f":"YEAR(SPP[[#This Row],[DATA]])","v":2019}]
["15/02/2019","86","Estacionamento",6757,0,182600.83000000002,182600.83000000002,{"$f":"TEXT(SPP[[#This Row],[DATA]],\"mmmm\")","v":"fevereiro"},{"$f":"YEAR(SPP[[#This Row],[DATA]])","v":2019}]
["15/02/2019","100","BILHETE UNICO MENSAL - CASCO",2598553,487553286.22000003,37769524.090000004,525322810.31,{"$f":"TEXT(SPP[[#This Row],[DATA]],\"mmmm\")","v":"fevereiro"},{"$f":"YEAR(SPP[[#This Row],[DATA]])","v":2019}]
["15/02/2019","110","BUM - ANÔNIMO - CASCO",994947,0,15470543.699999999,15470543.699999999,{"$f":"TEXT(SPP[[#This Row],[DATA]],\"mmmm\")","v":"fevereiro"},{"$f":"YEAR(SPP[[#This Row],[DATA]])","v":2019}]
["16/02/2019","51","COMUM 4 VIAGENS",3,0,50.24,50.24,{"$f":"TEXT(SPP[[#This Row],[DATA]],\"mmmm\")","v":"fevereiro"},{"$f":"YEAR(SPP[[#This Row],[DATA]])","v":2019}]
["16/02/2019","52","ESTUDANTE",29242,18327.650000000001,363650.67,381978.32,{"$f":"TEXT(SPP[[#This Row],[DATA]],\"mmmm\")","v":"fevereiro"},{"$f":"YEAR(SPP[[#This Row],[DATA]])","v":2019}]
["16/02/2019","59","VT",2488727,273414139.39999998,33643937.409999996,307058076.81,{"$f":"TEXT(SPP[[#This Row],[DATA]],\"mmmm\")","v":"fevereiro"},{"$f":"YEAR(SPP[[#This Row],[DATA]])","v":2019}]
["16/02/2019","68","ESTUDANTE 8VG",1,0,2.7,2.7,{"$f":"TEXT(SPP[[#This Row],[DATA]],\"mmmm\")","v":"fevereiro"},{"$f":"YEAR(SPP[[#This Row],[DATA]])","v":2019}]
["16/02/2019","69","VT 8VG",772,0,26895.91,26895.91,{"$f":"TEXT(SPP[[#This Row],[DATA]],\"mmmm\")","v":"fevereiro"},{"$f":"YEAR(SPP[[#This Row],[DATA]])","v":2019}]
["16/02/2019","71","MÃE PAULISTANA",56496,222032.45,521593.59,743626.04,{"$f":"TEXT(SPP[[#This Row],[DATA]],\"mmmm\")","v":"fevereiro"},{"$f":"YEAR(SPP[[#This Row],[DATA]])","v":2019}]
["16/02/2019","74","PROFESSOR",12350,834513.71,0,834513.71,{"$f":"TEXT(SPP[[#This Row],[DATA]],\"mmmm\")","v":"fevereiro"},{"$f":"YEAR(SPP[[#This Row],[DATA]])","v":2019}]
["16/02/2019","75","CARTAO FIDELIDADE",68355,0,6489090.8799999999,6489090.8799999999,{"$f":"TEXT(SPP[[#This Row],[DATA]],\"mmmm\")","v":"fevereiro"},{"$f":"YEAR(SPP[[#This Row],[DATA]])","v":2019}]
["16/02/2019","76","Lazer",159,0,7237.6500000000005,7237.6500000000005,{"$f":"TEXT(SPP[[#This Row],[DATA]],\"mmmm\")","v":"fevereiro"},{"$f":"YEAR(SPP[[#This Row],[DATA]])","v":2019}]
["16/02/2019","86","Estacionamento",6779,0,172971.73,172971.73,{"$f":"TEXT(SPP[[#This Row],[DATA]],\"mmmm\")","v":"fevereiro"},{"$f":"YEAR(SPP[[#This Row],[DATA]])","v":2019}]
["16/02/2019","100","BILHETE UNICO MENSAL - CASCO",2606103,483819585.19,36765711.689999998,520585296.88,{"$f":"TEXT(SPP[[#This Row],[DATA]],\"mmmm\")","v":"fevereiro"},{"$f":"YEAR(SPP[[#This Row],[DATA]])","v":2019}]
["16/02/2019","110","BUM - ANÔNIMO - CASCO",997759,0,15004344.130000001,15004344.130000001,{"$f":"TEXT(SPP[[#This Row],[DATA]],\"mmmm\")","v":"fevereiro"},{"$f":"YEAR(SPP[[#This Row],[DATA]])","v":2019}]
["17/02/2019","51","COMUM 4 VIAGENS",3,0,50.24,50.24,{"$f":"TEXT(SPP[[#This Row],[DATA]],\"mmmm\")","v":"fevereiro"},{"$f":"YEAR(SPP[[#This Row],[DATA]])","v":2019}]
["17/02/2019","52","ESTUDANTE",29373,19139.580000000002,356053.23,375192.81,{"$f":"TEXT(SPP[[#This Row],[DATA]],\"mmmm\")","v":"fevereiro"},{"$f":"YEAR(SPP[[#This Row],[DATA]])","v":2019}]
["17/02/2019","59","VT",2492139,272517283.75,32831026.100000001,305348309.85000002,{"$f":"TEXT(SPP[[#This Row],[DATA]],\"mmmm\")","v":"fevereiro"},{"$f":"YEAR(SPP[[#This Row],[DATA]])","v":2019}]
["17/02/2019","68","ESTUDANTE 8VG",1,0,2.7,2.7,{"$f":"TEXT(SPP[[#This Row],[DATA]],\"mmmm\")","v":"fevereiro"},{"$f":"YEAR(SPP[[#This Row],[DATA]])","v":2019}]
["17/02/2019","69","VT 8VG",773,0,26550.65,26550.65,{"$f":"TEXT(SPP[[#This Row],[DATA]],\"mmmm\")","v":"fevereiro"},{"$f":"YEAR(SPP[[#This Row],[DATA]])","v":2019}]
["17/02/2019","71","MÃE PAULISTANA",56588,219688.75,505184.61,724873.36,{"$f":"TEXT(SPP[[#This Row],[DATA]],\"mmmm\")","v":"fevereiro"},{"$f":"YEAR(SPP[[#This Row],[DATA]])","v":2019}]
["17/02/2019","74","PROFESSOR",12364,833183.28,0,833183.28,{"$f":"TEXT(SPP[[#This Row],[DATA]],\"mmmm\")","v":"fevereiro"},{"$f":"YEAR(SPP[[#This Row],[DATA]])","v":2019}]
["17/02/2019","75","CARTAO FIDELIDADE",68428,0,6477642.1200000001,6477642.1200000001,{"$f":"TEXT(SPP[[#This Row],[DATA]],\"mmmm\")","v":"fevereiro"},{"$f":"YEAR(SPP[[#This Row],[DATA]])","v":2019}]
["17/02/2019","76","Lazer",160,0,7266.85,7266.85,{"$f":"TEXT(SPP[[#This Row],[DATA]],\"mmmm\")","v":"fevereiro"},{"$f":"YEAR(SPP[[#This Row],[DATA]])","v":2019}]
["17/02/2019","86","Estacionamento",6797,0,171078.71,171078.71,{"$f":"TEXT(SPP[[#This Row],[DATA]],\"mmmm\")","v":"fevereiro"},{"$f":"YEAR(SPP[[#This Row],[DATA]])","v":2019}]
["17/02/2019","100","BILHETE UNICO MENSAL - CASCO",2610423,480802720.63,36131689.329999998,516934409.95999998,{"$f":"TEXT(SPP[[#This Row],[DATA]],\"mmmm\")","v":"fevereiro"},{"$f":"YEAR(SPP[[#This Row],[DATA]])","v":2019}]
["17/02/2019","110","BUM - ANÔNIMO - CASCO",999155,0,14576079.85,14576079.85,{"$f":"TEXT(SPP[[#This Row],[DATA]],\"mmmm\")","v":"fevereiro"},{"$f":"YEAR(SPP[[#This Row],[DATA]])","v":2019}]
["18/02/2019","51","COMUM 4 VIAGENS",3,0,50.24,50.24,{"$f":"TEXT(SPP[[#This Row],[DATA]],\"mmmm\")","v":"fevereiro"},{"$f":"YEAR(SPP[[#This Row],[DATA]])","v":2019}]
["18/02/2019","52","ESTUDANTE",29745,19885.21,378582.41000000003,398467.62,{"$f":"TEXT(SPP[[#This Row],[DATA]],\"mmmm\")","v":"fevereiro"},{"$f":"YEAR(SPP[[#This Row],[DATA]])","v":2019}]
["18/02/2019","59","VT",2505284,271730788.38999999,34696516.079999998,306427304.47000003,{"$f":"TEXT(SPP[[#This Row],[DATA]],\"mmmm\")","v":"fevereiro"},{"$f":"YEAR(SPP[[#This Row],[DATA]])","v":2019}]
["18/02/2019","68","ESTUDANTE 8VG",1,0,2.7,2.7,{"$f":"TEXT(SPP[[#This Row],[DATA]],\"mmmm\")","v":"fevereiro"},{"$f":"YEAR(SPP[[#This Row],[DATA]])","v":2019}]
["18/02/2019","69","VT 8VG",775,0,26836.93,26836.93,{"$f":"TEXT(SPP[[#This Row],[DATA]],\"mmmm\")","v":"fevereiro"},{"$f":"YEAR(SPP[[#This Row],[DATA]])","v":2019}]
["18/02/2019","71","MÃE PAULISTANA",57329,224708.6,538170.44000000006,762879.04,{"$f":"TEXT(SPP[[#This Row],[DATA]],\"mmmm\")","v":"fevereiro"},{"$f":"YEAR(SPP[[#This Row],[DATA]])","v":2019}]
["18/02/2019","74","PROFESSOR",12500,852030.12,0,852030.12,{"$f":"TEXT(SPP[[#This Row],[DATA]],\"mmmm\")","v":"fevereiro"},{"$f":"YEAR(SPP[[#This Row],[DATA]])","v":2019}]
["18/02/2019","75","CARTAO FIDELIDADE",69401,0,6692449.9199999999,6692449.9199999999,{"$f":"TEXT(SPP[[#This Row],[DATA]],\"mmmm\")","v":"fevereiro"},{"$f":"YEAR(SPP[[#This Row],[DATA]])","v":2019}]
["18/02/2019","76","Lazer",159,0,7082.55,7082.55,{"$f":"TEXT(SPP[[#This Row],[DATA]],\"mmmm\")","v":"fevereiro"},{"$f":"YEAR(SPP[[#This Row],[DATA]])","v":2019}]
["18/02/2019","86","Estacionamento",6848,0,181804.57,181804.57,{"$f":"TEXT(SPP[[#This Row],[DATA]],\"mmmm\")","v":"fevereiro"},{"$f":"YEAR(SPP[[#This Row],[DATA]])","v":2019}]
["18/02/2019","100","BILHETE UNICO MENSAL - CASCO",2626227,479350076.10000002,38362217.880000003,517712293.98000002,{"$f":"TEXT(SPP[[#This Row],[DATA]],\"mmmm\")","v":"fevereiro"},{"$f":"YEAR(SPP[[#This Row],[DATA]])","v":2019}]
["18/02/2019","110","BUM - ANÔNIMO - CASCO",1004866,0,15495172.67,15495172.67,{"$f":"TEXT(SPP[[#This Row],[DATA]],\"mmmm\")","v":"fevereiro"},{"$f":"YEAR(SPP[[#This Row],[DATA]])","v":2019}]
["19/02/2019","51","COMUM 4 VIAGENS",3,0,50.24,50.24,{"$f":"TEXT(SPP[[#This Row],[DATA]],\"mmmm\")","v":"fevereiro"},{"$f":"YEAR(SPP[[#This Row],[DATA]])","v":2019}]
["19/02/2019","52","ESTUDANTE",30139,21497.49,377264.39,398761.88,{"$f":"TEXT(SPP[[#This Row],[DATA]],\"mmmm\")","v":"fevereiro"},{"$f":"YEAR(SPP[[#This Row],[DATA]])","v":2019}]
["19/02/2019","59","VT",2517024,270254628.92000002,34252869.5,304507498.42000002,{"$f":"TEXT(SPP[[#This Row],[DATA]],\"mmmm\")","v":"fevereiro"},{"$f":"YEAR(SPP[[#This Row],[DATA]])","v":2019}]
["19/02/2019","68","ESTUDANTE 8VG",1,0,2.7,2.7,{"$f":"TEXT(SPP[[#This Row],[DATA]],\"mmmm\")","v":"fevereiro"},{"$f":"YEAR(SPP[[#This Row],[DATA]])","v":2019}]
["19/02/2019","69","VT 8VG",778,0,26279.200000000001,26279.200000000001,{"$f":"TEXT(SPP[[#This Row],[DATA]],\"mmmm\")","v":"fevereiro"},{"$f":"YEAR(SPP[[#This Row],[DATA]])","v":2019}]
["19/02/2019","71","MÃE PAULISTANA",57926,227642.69,535761.24,763403.93,{"$f":"TEXT(SPP[[#This Row],[DATA]],\"mmmm\")","v":"fevereiro"},{"$f":"YEAR(SPP[[#This Row],[DATA]])","v":2019}]
["19/02/2019","74","PROFESSOR",12653,859307.26,0,859307.26,{"$f":"TEXT(SPP[[#This Row],[DATA]],\"mmmm\")","v":"fevereiro"},{"$f":"YEAR(SPP[[#This Row],[DATA]])","v":2019}]
["19/02/2019","75","CARTAO FIDELIDADE",69748,0,6687235.2000000002,6687235.2000000002,{"$f":"TEXT(SPP[[#This Row],[DATA]],\"mmmm\")","v":"fevereiro"},{"$f":"YEAR(SPP[[#This Row],[DATA]])","v":2019}]
["19/02/2019","76","Lazer",159,0,7082.55,7082.55,{"$f":"TEXT(SPP[[#This Row],[DATA]],\"mmmm\")","v":"fevereiro"},{"$f":"YEAR(SPP[[#This Row],[DATA]])","v":2019}]
["19/02/2019","86","Estacionamento",6903,0,181654.89,181654.89,{"$f":"TEXT(SPP[[#This Row],[DATA]],\"mmmm\")","v":"fevereiro"},{"$f":"YEAR(SPP[[#This Row],[DATA]])","v":2019}]
["19/02/2019","100","BILHETE UNICO MENSAL - CASCO",2641218,475559470.12,38158742.630000003,513718212.75,{"$f":"TEXT(SPP[[#This Row],[DATA]],\"mmmm\")","v":"fevereiro"},{"$f":"YEAR(SPP[[#This Row],[DATA]])","v":2019}]
["19/02/2019","110","BUM - ANÔNIMO - CASCO",1009930,0,15273714.300000001,15273714.300000001,{"$f":"TEXT(SPP[[#This Row],[DATA]],\"mmmm\")","v":"fevereiro"},{"$f":"YEAR(SPP[[#This Row],[DATA]])","v":2019}]
["20/02/2019","51","COMUM 4 VIAGENS",2,0,30.8,30.8,{"$f":"TEXT(SPP[[#This Row],[DATA]],\"mmmm\")","v":"fevereiro"},{"$f":"YEAR(SPP[[#This Row],[DATA]])","v":2019}]
["20/02/2019","52","ESTUDANTE",30466,22521.14,378701.02,401222.16000000003,{"$f":"TEXT(SPP[[#This Row],[DATA]],\"mmmm\")","v":"fevereiro"},{"$f":"YEAR(SPP[[#This Row],[DATA]])","v":2019}]
["20/02/2019","59","VT",2527140,268790063.41000003,34130836.159999996,302920899.56999999,{"$f":"TEXT(SPP[[#This Row],[DATA]],\"mmmm\")","v":"fevereiro"},{"$f":"YEAR(SPP[[#This Row],[DATA]])","v":2019}]
["20/02/2019","68","ESTUDANTE 8VG",1,0,2.7,2.7,{"$f":"TEXT(SPP[[#This Row],[DATA]],\"mmmm\")","v":"fevereiro"},{"$f":"YEAR(SPP[[#This Row],[DATA]])","v":2019}]
["20/02/2019","69","VT 8VG",781,0,26364.84,26364.84,{"$f":"TEXT(SPP[[#This Row],[DATA]],\"mmmm\")","v":"fevereiro"},{"$f":"YEAR(SPP[[#This Row],[DATA]])","v":2019}]
["20/02/2019","71","MÃE PAULISTANA",58487,229968.96,541459.87,771428.83,{"$f":"TEXT(SPP[[#This Row],[DATA]],\"mmmm\")","v":"fevereiro"},{"$f":"YEAR(SPP[[#This Row],[DATA]])","v":2019}]
["20/02/2019","74","PROFESSOR",12823,862638.34,0,862638.34,{"$f":"TEXT(SPP[[#This Row],[DATA]],\"mmmm\")","v":"fevereiro"},{"$f":"YEAR(SPP[[#This Row],[DATA]])","v":2019}]
["20/02/2019","75","CARTAO FIDELIDADE",69958,0,6658063.6200000001,6658063.6200000001,{"$f":"TEXT(SPP[[#This Row],[DATA]],\"mmmm\")","v":"fevereiro"},{"$f":"YEAR(SPP[[#This Row],[DATA]])","v":2019}]
["20/02/2019","76","Lazer",159,0,7082.55,7082.55,{"$f":"TEXT(SPP[[#This Row],[DATA]],\"mmmm\")","v":"fevereiro"},{"$f":"YEAR(SPP[[#This Row],[DATA]])","v":2019}]
["20/02/2019","86","Estacionamento",6951,0,179244.93,179244.93,{"$f":"TEXT(SPP[[#This Row],[DATA]],\"mmmm\")","v":"fevereiro"},{"$f":"YEAR(SPP[[#This Row],[DATA]])","v":2019}]
["20/02/2019","100","BILHETE UNICO MENSAL - CASCO",2654266,471796718.51999998,38360636.310000002,510157354.82999998,{"$f":"TEXT(SPP[[#This Row],[DATA]],\"mmmm\")","v":"fevereiro"},{"$f":"YEAR(SPP[[#This Row],[DATA]])","v":2019}]
["20/02/2019","110","BUM - ANÔNIMO - CASCO",1014120,0,15224198.039999999,15224198.039999999,{"$f":"TEXT(SPP[[#This Row],[DATA]],\"mmmm\")","v":"fevereiro"},{"$f":"YEAR(SPP[[#This Row],[DATA]])","v":2019}]
["21/02/2019","51","COMUM 4 VIAGENS",3,0,33.04,33.04,{"$f":"TEXT(SPP[[#This Row],[DATA]],\"mmmm\")","v":"fevereiro"},{"$f":"YEAR(SPP[[#This Row],[DATA]])","v":2019}]
["21/02/2019","52","ESTUDANTE",30745,23225.97,372488.67,395714.64,{"$f":"TEXT(SPP[[#This Row],[DATA]],\"mmmm\")","v":"fevereiro"},{"$f":"YEAR(SPP[[#This Row],[DATA]])","v":2019}]
["21/02/2019","59","VT",2536907,267324934.43000001,33378165.539999999,300703099.97000003,{"$f":"TEXT(SPP[[#This Row],[DATA]],\"mmmm\")","v":"fevereiro"},{"$f":"YEAR(SPP[[#This Row],[DATA]])","v":2019}]
["21/02/2019","68","ESTUDANTE 8VG",1,0,2.7,2.7,{"$f":"TEXT(SPP[[#This Row],[DATA]],\"mmmm\")","v":"fevereiro"},{"$f":"YEAR(SPP[[#This Row],[DATA]])","v":2019}]
["21/02/2019","69","VT 8VG",781,0,26123.37,26123.37,{"$f":"TEXT(SPP[[#This Row],[DATA]],\"mmmm\")","v":"fevereiro"},{"$f":"YEAR(SPP[[#This Row],[DATA]])","v":2019}]
["21/02/2019","71","MÃE PAULISTANA",58950,231714.55000000002,532760,764474.55,{"$f":"TEXT(SPP[[#This Row],[DATA]],\"mmmm\")","v":"fevereiro"},{"$f":"YEAR(SPP[[#This Row],[DATA]])","v":2019}]
["21/02/2019","74","PROFESSOR",12940,860828.05,0,860828.05,{"$f":"TEXT(SPP[[#This Row],[DATA]],\"mmmm\")","v":"fevereiro"},{"$f":"YEAR(SPP[[#This Row],[DATA]])","v":2019}]
["21/02/2019","75","CARTAO FIDELIDADE",70218,0,6617259.8499999996,6617259.8499999996,{"$f":"TEXT(SPP[[#This Row],[DATA]],\"mmmm\")","v":"fevereiro"},{"$f":"YEAR(SPP[[#This Row],[DATA]])","v":2019}]
["21/02/2019","76","Lazer",159,0,7082.55,7082.55,{"$f":"TEXT(SPP[[#This Row],[DATA]],\"mmmm\")","v":"fevereiro"},{"$f":"YEAR(SPP[[#This Row],[DATA]])","v":2019}]
["21/02/2019","86","Estacionamento",6995,0,176980.2,176980.2,{"$f":"TEXT(SPP[[#This Row],[DATA]],\"mmmm\")","v":"fevereiro"},{"$f":"YEAR(SPP[[#This Row],[DATA]])","v":2019}]
["21/02/2019","100","BILHETE UNICO MENSAL - CASCO",2666491,468246418.42000002,37784742.280000001,506031160.69999999,{"$f":"TEXT(SPP[[#This Row],[DATA]],\"mmmm\")","v":"fevereiro"},{"$f":"YEAR(SPP[[#This Row],[DATA]])","v":2019}]
["21/02/2019","110","BUM - ANÔNIMO - CASCO",1018222,0,14839221.83,14839221.83,{"$f":"TEXT(SPP[[#This Row],[DATA]],\"mmmm\")","v":"fevereiro"},{"$f":"YEAR(SPP[[#This Row],[DATA]])","v":2019}]
["22/02/2019","51","COMUM 4 VIAGENS",3,0,53.78,53.78,{"$f":"TEXT(SPP[[#This Row],[DATA]],\"mmmm\")","v":"fevereiro"},{"$f":"YEAR(SPP[[#This Row],[DATA]])","v":2019}]
["22/02/2019","52","ESTUDANTE",31037,23885.98,372937.08,396823.06,{"$f":"TEXT(SPP[[#This Row],[DATA]],\"mmmm\")","v":"fevereiro"},{"$f":"YEAR(SPP[[#This Row],[DATA]])","v":2019}]
["22/02/2019","59","VT",2546273,266235560.53999999,33317783.890000001,299553344.43000001,{"$f":"TEXT(SPP[[#This Row],[DATA]],\"mmmm\")","v":"fevereiro"},{"$f":"YEAR(SPP[[#This Row],[DATA]])","v":2019}]
["22/02/2019","68","ESTUDANTE 8VG",1,0,2.7,2.7,{"$f":"TEXT(SPP[[#This Row],[DATA]],\"mmmm\")","v":"fevereiro"},{"$f":"YEAR(SPP[[#This Row],[DATA]])","v":2019}]
["22/02/2019","69","VT 8VG",781,0,26158.3,26158.3,{"$f":"TEXT(SPP[[#This Row],[DATA]],\"mmmm\")","v":"fevereiro"},{"$f":"YEAR(SPP[[#This Row],[DATA]])","v":2019}]
["22/02/2019","71","MÃE PAULISTANA",59504,232115.87,534104.55000000005,766220.42,{"$f":"TEXT(SPP[[#This Row],[DATA]],\"mmmm\")","v":"fevereiro"},{"$f":"YEAR(SPP[[#This Row],[DATA]])","v":2019}]
["22/02/2019","74","PROFESSOR",13052,856375.22,0,856375.22,{"$f":"TEXT(SPP[[#This Row],[DATA]],\"mmmm\")","v":"fevereiro"},{"$f":"YEAR(SPP[[#This Row],[DATA]])","v":2019}]
["22/02/2019","75","CARTAO FIDELIDADE",70411,0,6574402.1100000003,6574402.1100000003,{"$f":"TEXT(SPP[[#This Row],[DATA]],\"mmmm\")","v":"fevereiro"},{"$f":"YEAR(SPP[[#This Row],[DATA]])","v":2019}]
["22/02/2019","76","Lazer",159,0,7082.55,7082.55,{"$f":"TEXT(SPP[[#This Row],[DATA]],\"mmmm\")","v":"fevereiro"},{"$f":"YEAR(SPP[[#This Row],[DATA]])","v":2019}]
["22/02/2019","86","Estacionamento",7035,0,175567.58000000002,175567.58000000002,{"$f":"TEXT(SPP[[#This Row],[DATA]],\"mmmm\")","v":"fevereiro"},{"$f":"YEAR(SPP[[#This Row],[DATA]])","v":2019}]
["22/02/2019","100","BILHETE UNICO MENSAL - CASCO",2677437,466091174.85000002,37737520.340000004,503828695.19,{"$f":"TEXT(SPP[[#This Row],[DATA]],\"mmmm\")","v":"fevereiro"},{"$f":"YEAR(SPP[[#This Row],[DATA]])","v":2019}]
["22/02/2019","110","BUM - ANÔNIMO - CASCO",1022093,0,14861473.859999999,14861473.859999999,{"$f":"TEXT(SPP[[#This Row],[DATA]],\"mmmm\")","v":"fevereiro"},{"$f":"YEAR(SPP[[#This Row],[DATA]])","v":2019}]
["23/02/2019","51","COMUM 4 VIAGENS",3,0,42,42,{"$f":"TEXT(SPP[[#This Row],[DATA]],\"mmmm\")","v":"fevereiro"},{"$f":"YEAR(SPP[[#This Row],[DATA]])","v":2019}]
["23/02/2019","52","ESTUDANTE",31349,25524.41,362682.9,388207.31,{"$f":"TEXT(SPP[[#This Row],[DATA]],\"mmmm\")","v":"fevereiro"},{"$f":"YEAR(SPP[[#This Row],[DATA]])","v":2019}]
["23/02/2019","59","VT",2555728,265090262.58000001,31823216.600000001,296913479.18000001,{"$f":"TEXT(SPP[[#This Row],[DATA]],\"mmmm\")","v":"fevereiro"},{"$f":"YEAR(SPP[[#This Row],[DATA]])","v":2019}]
["23/02/2019","68","ESTUDANTE 8VG",1,0,2.7,2.7,{"$f":"TEXT(SPP[[#This Row],[DATA]],\"mmmm\")","v":"fevereiro"},{"$f":"YEAR(SPP[[#This Row],[DATA]])","v":2019}]
["23/02/2019","69","VT 8VG",783,0,25511.760000000002,25511.760000000002,{"$f":"TEXT(SPP[[#This Row],[DATA]],\"mmmm\")","v":"fevereiro"},{"$f":"YEAR(SPP[[#This Row],[DATA]])","v":2019}]
["23/02/2019","71","MÃE PAULISTANA",59826,229958.92,510756.18,740715.1,{"$f":"TEXT(SPP[[#This Row],[DATA]],\"mmmm\")","v":"fevereiro"},{"$f":"YEAR(SPP[[#This Row],[DATA]])","v":2019}]
["23/02/2019","74","PROFESSOR",13116,846082.71,0,846082.71,{"$f":"TEXT(SPP[[#This Row],[DATA]],\"mmmm\")","v":"fevereiro"},{"$f":"YEAR(SPP[[#This Row],[DATA]])","v":2019}]
["23/02/2019","75","CARTAO FIDELIDADE",70144,0,6380506.0599999996,6380506.0599999996,{"$f":"TEXT(SPP[[#This Row],[DATA]],\"mmmm\")","v":"fevereiro"},{"$f":"YEAR(SPP[[#This Row],[DATA]])","v":2019}]
["23/02/2019","76","Lazer",159,0,7082.55,7082.55,{"$f":"TEXT(SPP[[#This Row],[DATA]],\"mmmm\")","v":"fevereiro"},{"$f":"YEAR(SPP[[#This Row],[DATA]])","v":2019}]
["23/02/2019","86","Estacionamento",7076,0,166908.87,166908.87,{"$f":"TEXT(SPP[[#This Row],[DATA]],\"mmmm\")","v":"fevereiro"},{"$f":"YEAR(SPP[[#This Row],[DATA]])","v":2019}]
["23/02/2019","100","BILHETE UNICO MENSAL - CASCO",2686545,462992643.38,35900269.100000001,498892912.48000002,{"$f":"TEXT(SPP[[#This Row],[DATA]],\"mmmm\")","v":"fevereiro"},{"$f":"YEAR(SPP[[#This Row],[DATA]])","v":2019}]
["23/02/2019","110","BUM - ANÔNIMO - CASCO",1025568,0,14106838.83,14106838.83,{"$f":"TEXT(SPP[[#This Row],[DATA]],\"mmmm\")","v":"fevereiro"},{"$f":"YEAR(SPP[[#This Row],[DATA]])","v":2019}]
["24/02/2019","51","COMUM 4 VIAGENS",4,0,47.82,47.82,{"$f":"TEXT(SPP[[#This Row],[DATA]],\"mmmm\")","v":"fevereiro"},{"$f":"YEAR(SPP[[#This Row],[DATA]])","v":2019}]
["24/02/2019","52","ESTUDANTE",31525,26242.170000000002,355796.38,382038.55,{"$f":"TEXT(SPP[[#This Row],[DATA]],\"mmmm\")","v":"fevereiro"},{"$f":"YEAR(SPP[[#This Row],[DATA]])","v":2019}]
["24/02/2019","59","VT",2560193,264725345.90000001,31124736.449999999,295850082.35000002,{"$f":"TEXT(SPP[[#This Row],[DATA]],\"mmmm\")","v":"fevereiro"},{"$f":"YEAR(SPP[[#This Row],[DATA]])","v":2019}]
["24/02/2019","68","ESTUDANTE 8VG",1,0,2.7,2.7,{"$f":"TEXT(SPP[[#This Row],[DATA]],\"mmmm\")","v":"fevereiro"},{"$f":"YEAR(SPP[[#This Row],[DATA]])","v":2019}]
["24/02/2019","69","VT 8VG",783,0,25102.690000000002,25102.690000000002,{"$f":"TEXT(SPP[[#This Row],[DATA]],\"mmmm\")","v":"fevereiro"},{"$f":"YEAR(SPP[[#This Row],[DATA]])","v":2019}]
["24/02/2019","71","MÃE PAULISTANA",59956,232200.09,498194.68,730394.77,{"$f":"TEXT(SPP[[#This Row],[DATA]],\"mmmm\")","v":"fevereiro"},{"$f":"YEAR(SPP[[#This Row],[DATA]])","v":2019}]
["24/02/2019","74","PROFESSOR",13148,844103.17,0,844103.17,{"$f":"TEXT(SPP[[#This Row],[DATA]],\"mmmm\")","v":"fevereiro"},{"$f":"YEAR(SPP[[#This Row],[DATA]])","v":2019}]
["24/02/2019","75","CARTAO FIDELIDADE",70163,0,6349599.0199999996,6349599.0199999996,{"$f":"TEXT(SPP[[#This Row],[DATA]],\"mmmm\")","v":"fevereiro"},{"$f":"YEAR(SPP[[#This Row],[DATA]])","v":2019}]
["24/02/2019","76","Lazer",162,0,7166.1500000000005,7166.1500000000005,{"$f":"TEXT(SPP[[#This Row],[DATA]],\"mmmm\")","v":"fevereiro"},{"$f":"YEAR(SPP[[#This Row],[DATA]])","v":2019}]
["24/02/2019","86","Estacionamento",7084,0,163268.97,163268.97,{"$f":"TEXT(SPP[[#This Row],[DATA]],\"mmmm\")","v":"fevereiro"},{"$f":"YEAR(SPP[[#This Row],[DATA]])","v":2019}]
["24/02/2019","100","BILHETE UNICO MENSAL - CASCO",2691002,461492836.77999997,35196368.859999999,496689205.63999999,{"$f":"TEXT(SPP[[#This Row],[DATA]],\"mmmm\")","v":"fevereiro"},{"$f":"YEAR(SPP[[#This Row],[DATA]])","v":2019}]
["24/02/2019","110","BUM - ANÔNIMO - CASCO",1027446,0,13777390.869999999,13777390.869999999,{"$f":"TEXT(SPP[[#This Row],[DATA]],\"mmmm\")","v":"fevereiro"},{"$f":"YEAR(SPP[[#This Row],[DATA]])","v":2019}]
["25/02/2019","51","COMUM 4 VIAGENS",3,0,36.619999999999997,36.619999999999997,{"$f":"TEXT(SPP[[#This Row],[DATA]],\"mmmm\")","v":"fevereiro"},{"$f":"YEAR(SPP[[#This Row],[DATA]])","v":2019}]
["25/02/2019","52","ESTUDANTE",31894,27979.119999999999,376142.37,404121.49,{"$f":"TEXT(SPP[[#This Row],[DATA]],\"mmmm\")","v":"fevereiro"},{"$f":"YEAR(SPP[[#This Row],[DATA]])","v":2019}]
["25/02/2019","59","VT",2570403,264875936.96000001,32765772.219999999,297641709.18000001,{"$f":"TEXT(SPP[[#This Row],[DATA]],\"mmmm\")","v":"fevereiro"},{"$f":"YEAR(SPP[[#This Row],[DATA]])","v":2019}]
["25/02/2019","68","ESTUDANTE 8VG",1,0,2.7,2.7,{"$f":"TEXT(SPP[[#This Row],[DATA]],\"mmmm\")","v":"fevereiro"},{"$f":"YEAR(SPP[[#This Row],[DATA]])","v":2019}]
["25/02/2019","69","VT 8VG",782,0,25540.98,25540.98,{"$f":"TEXT(SPP[[#This Row],[DATA]],\"mmmm\")","v":"fevereiro"},{"$f":"YEAR(SPP[[#This Row],[DATA]])","v":2019}]
["25/02/2019","71","MÃE PAULISTANA",60468,239409.54,525765.22,765174.76,{"$f":"TEXT(SPP[[#This Row],[DATA]],\"mmmm\")","v":"fevereiro"},{"$f":"YEAR(SPP[[#This Row],[DATA]])","v":2019}]
["25/02/2019","74","PROFESSOR",13275,859231.70000000007,0,859231.70000000007,{"$f":"TEXT(SPP[[#This Row],[DATA]],\"mmmm\")","v":"fevereiro"},{"$f":"YEAR(SPP[[#This Row],[DATA]])","v":2019}]
["25/02/2019","75","CARTAO FIDELIDADE",71055,0,6566605.2800000003,6566605.2800000003,{"$f":"TEXT(SPP[[#This Row],[DATA]],\"mmmm\")","v":"fevereiro"},{"$f":"YEAR(SPP[[#This Row],[DATA]])","v":2019}]
["25/02/2019","76","Lazer",164,0,6947.05,6947.05,{"$f":"TEXT(SPP[[#This Row],[DATA]],\"mmmm\")","v":"fevereiro"},{"$f":"YEAR(SPP[[#This Row],[DATA]])","v":2019}]
["25/02/2019","86","Estacionamento",7130,0,174899.04,174899.04,{"$f":"TEXT(SPP[[#This Row],[DATA]],\"mmmm\")","v":"fevereiro"},{"$f":"YEAR(SPP[[#This Row],[DATA]])","v":2019}]
["25/02/2019","100","BILHETE UNICO MENSAL - CASCO",2703832,463553948.81,37096125.880000003,500650074.69,{"$f":"TEXT(SPP[[#This Row],[DATA]],\"mmmm\")","v":"fevereiro"},{"$f":"YEAR(SPP[[#This Row],[DATA]])","v":2019}]
["25/02/2019","110","BUM - ANÔNIMO - CASCO",1032612,0,14592009.07,14592009.07,{"$f":"TEXT(SPP[[#This Row],[DATA]],\"mmmm\")","v":"fevereiro"},{"$f":"YEAR(SPP[[#This Row],[DATA]])","v":2019}]
["26/02/2019","51","COMUM 4 VIAGENS",4,0,66.040000000000006,66.040000000000006,{"$f":"TEXT(SPP[[#This Row],[DATA]],\"mmmm\")","v":"fevereiro"},{"$f":"YEAR(SPP[[#This Row],[DATA]])","v":2019}]
["26/02/2019","52","ESTUDANTE",32138,28480.73,374408.81,402889.54000000004,{"$f":"TEXT(SPP[[#This Row],[DATA]],\"mmmm\")","v":"fevereiro"},{"$f":"YEAR(SPP[[#This Row],[DATA]])","v":2019}]
["26/02/2019","59","VT",2577967,265748035.99000001,32366171.100000001,298114207.08999997,{"$f":"TEXT(SPP[[#This Row],[DATA]],\"mmmm\")","v":"fevereiro"},{"$f":"YEAR(SPP[[#This Row],[DATA]])","v":2019}]
["26/02/2019","68","ESTUDANTE 8VG",1,0,2.7,2.7,{"$f":"TEXT(SPP[[#This Row],[DATA]],\"mmmm\")","v":"fevereiro"},{"$f":"YEAR(SPP[[#This Row],[DATA]])","v":2019}]
["26/02/2019","69","VT 8VG",784,0,25110.28,25110.28,{"$f":"TEXT(SPP[[#This Row],[DATA]],\"mmmm\")","v":"fevereiro"},{"$f":"YEAR(SPP[[#This Row],[DATA]])","v":2019}]
["26/02/2019","71","MÃE PAULISTANA",60786,244278.54,518223.59,762502.13,{"$f":"TEXT(SPP[[#This Row],[DATA]],\"mmmm\")","v":"fevereiro"},{"$f":"YEAR(SPP[[#This Row],[DATA]])","v":2019}]
["26/02/2019","74","PROFESSOR",13393,858565.05,0,858565.05,{"$f":"TEXT(SPP[[#This Row],[DATA]],\"mmmm\")","v":"fevereiro"},{"$f":"YEAR(SPP[[#This Row],[DATA]])","v":2019}]
["26/02/2019","75","CARTAO FIDELIDADE",71238,0,6529474.5199999996,6529474.5199999996,{"$f":"TEXT(SPP[[#This Row],[DATA]],\"mmmm\")","v":"fevereiro"},{"$f":"YEAR(SPP[[#This Row],[DATA]])","v":2019}]
["26/02/2019","76","Lazer",164,0,6947.05,6947.05,{"$f":"TEXT(SPP[[#This Row],[DATA]],\"mmmm\")","v":"fevereiro"},{"$f":"YEAR(SPP[[#This Row],[DATA]])","v":2019}]
["26/02/2019","86","Estacionamento",7154,0,173028.41,173028.41,{"$f":"TEXT(SPP[[#This Row],[DATA]],\"mmmm\")","v":"fevereiro"},{"$f":"YEAR(SPP[[#This Row],[DATA]])","v":2019}]
["26/02/2019","100","BILHETE UNICO MENSAL - CASCO",2715360,468333222.11000001,36607488.700000003,504940710.81,{"$f":"TEXT(SPP[[#This Row],[DATA]],\"mmmm\")","v":"fevereiro"},{"$f":"YEAR(SPP[[#This Row],[DATA]])","v":2019}]
["26/02/2019","110","BUM - ANÔNIMO - CASCO",1035896,0,14431843,14431843,{"$f":"TEXT(SPP[[#This Row],[DATA]],\"mmmm\")","v":"fevereiro"},{"$f":"YEAR(SPP[[#This Row],[DATA]])","v":2019}]
["27/02/2019","51","COMUM 4 VIAGENS",4,0,51.08,51.08,{"$f":"TEXT(SPP[[#This Row],[DATA]],\"mmmm\")","v":"fevereiro"},{"$f":"YEAR(SPP[[#This Row],[DATA]])","v":2019}]
["27/02/2019","52","ESTUDANTE",32423,30114.32,378077.84,408192.16000000003,{"$f":"TEXT(SPP[[#This Row],[DATA]],\"mmmm\")","v":"fevereiro"},{"$f":"YEAR(SPP[[#This Row],[DATA]])","v":2019}]
["27/02/2019","59","VT",2586728,268063333.91999999,32391213.710000001,300454547.63,{"$f":"TEXT(SPP[[#This Row],[DATA]],\"mmmm\")","v":"fevereiro"},{"$f":"YEAR(SPP[[#This Row],[DATA]])","v":2019}]
["27/02/2019","68","ESTUDANTE 8VG",1,0,2.7,2.7,{"$f":"TEXT(SPP[[#This Row],[DATA]],\"mmmm\")","v":"fevereiro"},{"$f":"YEAR(SPP[[#This Row],[DATA]])","v":2019}]
["27/02/2019","69","VT 8VG",784,0,24736.720000000001,24736.720000000001,{"$f":"TEXT(SPP[[#This Row],[DATA]],\"mmmm\")","v":"fevereiro"},{"$f":"YEAR(SPP[[#This Row],[DATA]])","v":2019}]
["27/02/2019","71","MÃE PAULISTANA",61350,252004.87,522819.91000000003,774824.78,{"$f":"TEXT(SPP[[#This Row],[DATA]],\"mmmm\")","v":"fevereiro"},{"$f":"YEAR(SPP[[#This Row],[DATA]])","v":2019}]
["27/02/2019","74","PROFESSOR",13515,859557.01,0,859557.01,{"$f":"TEXT(SPP[[#This Row],[DATA]],\"mmmm\")","v":"fevereiro"},{"$f":"YEAR(SPP[[#This Row],[DATA]])","v":2019}]
["27/02/2019","75","CARTAO FIDELIDADE",71467,0,6528867.1500000004,6528867.1500000004,{"$f":"TEXT(SPP[[#This Row],[DATA]],\"mmmm\")","v":"fevereiro"},{"$f":"YEAR(SPP[[#This Row],[DATA]])","v":2019}]
["27/02/2019","76","Lazer",164,0,6947.05,6947.05,{"$f":"TEXT(SPP[[#This Row],[DATA]],\"mmmm\")","v":"fevereiro"},{"$f":"YEAR(SPP[[#This Row],[DATA]])","v":2019}]
["27/02/2019","86","Estacionamento",7185,0,172706,172706,{"$f":"TEXT(SPP[[#This Row],[DATA]],\"mmmm\")","v":"fevereiro"},{"$f":"YEAR(SPP[[#This Row],[DATA]])","v":2019}]
["27/02/2019","100","BILHETE UNICO MENSAL - CASCO",2727625,477751353.25999999,36578832.18,514330185.44,{"$f":"TEXT(SPP[[#This Row],[DATA]],\"mmmm\")","v":"fevereiro"},{"$f":"YEAR(SPP[[#This Row],[DATA]])","v":2019}]
["27/02/2019","110","BUM - ANÔNIMO - CASCO",1039688,0,14457609.73,14457609.73,{"$f":"TEXT(SPP[[#This Row],[DATA]],\"mmmm\")","v":"fevereiro"},{"$f":"YEAR(SPP[[#This Row],[DATA]])","v":2019}]
["28/02/2019","51","COMUM 4 VIAGENS",2,0,30.8,30.8,{"$f":"TEXT(SPP[[#This Row],[DATA]],\"mmmm\")","v":"fevereiro"},{"$f":"YEAR(SPP[[#This Row],[DATA]])","v":2019}]
["28/02/2019","52","ESTUDANTE",32657,31293.920000000002,373256.88,404550.8,{"$f":"TEXT(SPP[[#This Row],[DATA]],\"mmmm\")","v":"fevereiro"},{"$f":"YEAR(SPP[[#This Row],[DATA]])","v":2019}]
["28/02/2019","59","VT",2593904,271356152.47000003,31782668.969999999,303138821.44,{"$f":"TEXT(SPP[[#This Row],[DATA]],\"mmmm\")","v":"fevereiro"},{"$f":"YEAR(SPP[[#This Row],[DATA]])","v":2019}]
["28/02/2019","68","ESTUDANTE 8VG",1,0,2.7,2.7,{"$f":"TEXT(SPP[[#This Row],[DATA]],\"mmmm\")","v":"fevereiro"},{"$f":"YEAR(SPP[[#This Row],[DATA]])","v":2019}]
["28/02/2019","69","VT 8VG",788,0,25027.16,25027.16,{"$f":"TEXT(SPP[[#This Row],[DATA]],\"mmmm\")","v":"fevereiro"},{"$f":"YEAR(SPP[[#This Row],[DATA]])","v":2019}]
["28/02/2019","71","MÃE PAULISTANA",61699,255718.28,520666.68,776384.96,{"$f":"TEXT(SPP[[#This Row],[DATA]],\"mmmm\")","v":"fevereiro"},{"$f":"YEAR(SPP[[#This Row],[DATA]])","v":2019}]
["28/02/2019","74","PROFESSOR",13633,868856.63,0,868856.63,{"$f":"TEXT(SPP[[#This Row],[DATA]],\"mmmm\")","v":"fevereiro"},{"$f":"YEAR(SPP[[#This Row],[DATA]])","v":2019}]
["28/02/2019","75","CARTAO FIDELIDADE",71629,0,6522232.6600000001,6522232.6600000001,{"$f":"TEXT(SPP[[#This Row],[DATA]],\"mmmm\")","v":"fevereiro"},{"$f":"YEAR(SPP[[#This Row],[DATA]])","v":2019}]
["28/02/2019","76","Lazer",164,0,6947.05,6947.05,{"$f":"TEXT(SPP[[#This Row],[DATA]],\"mmmm\")","v":"fevereiro"},{"$f":"YEAR(SPP[[#This Row],[DATA]])","v":2019}]
["28/02/2019","86","Estacionamento",7232,0,172952.08000000002,172952.08000000002,{"$f":"TEXT(SPP[[#This Row],[DATA]],\"mmmm\")","v":"fevereiro"},{"$f":"YEAR(SPP[[#This Row],[DATA]])","v":2019}]
["28/02/2019","100","BILHETE UNICO MENSAL - CASCO",2739735,490607215.82999998,37003686.789999999,527610902.62,{"$f":"TEXT(SPP[[#This Row],[DATA]],\"mmmm\")","v":"fevereiro"},{"$f":"YEAR(SPP[[#This Row],[DATA]])","v":2019}]
["28/02/2019","110","BUM - ANÔNIMO - CASCO",1042756,0,14219561.4,14219561.4,{"$f":"TEXT(SPP[[#This Row],[DATA]],\"mmmm\")","v":"fevereiro"},{"$f":"YEAR(SPP[[#This Row],[DATA]])","v":2019}]
["01/03/2019","51","COMUM 4 VIAGENS",3,0,33.1,33.1,{"$f":"TEXT(SPP[[#This Row],[DATA]],\"mmmm\")","v":"março"},{"$f":"YEAR(SPP[[#This Row],[DATA]])","v":2019}]
["01/03/2019","52","ESTUDANTE",32917,31849.07,363437.36,395286.43,{"$f":"TEXT(SPP[[#This Row],[DATA]],\"mmmm\")","v":"março"},{"$f":"YEAR(SPP[[#This Row],[DATA]])","v":2019}]
["01/03/2019","59","VT",2601195,275481078.05000001,30881279.52,306362357.56999999,{"$f":"TEXT(SPP[[#This Row],[DATA]],\"mmmm\")","v":"março"},{"$f":"YEAR(SPP[[#This Row],[DATA]])","v":2019}]
["01/03/2019","68","ESTUDANTE 8VG",1,0,2.7,2.7,{"$f":"TEXT(SPP[[#This Row],[DATA]],\"mmmm\")","v":"março"},{"$f":"YEAR(SPP[[#This Row],[DATA]])","v":2019}]
["01/03/2019","69","VT 8VG",793,0,24893.33,24893.33,{"$f":"TEXT(SPP[[#This Row],[DATA]],\"mmmm\")","v":"março"},{"$f":"YEAR(SPP[[#This Row],[DATA]])","v":2019}]
["01/03/2019","71","MÃE PAULISTANA",62062,266148.22000000003,514435.69,780583.91,{"$f":"TEXT(SPP[[#This Row],[DATA]],\"mmmm\")","v":"março"},{"$f":"YEAR(SPP[[#This Row],[DATA]])","v":2019}]
["01/03/2019","74","PROFESSOR",13724,876357.48,0,876357.48,{"$f":"TEXT(SPP[[#This Row],[DATA]],\"mmmm\")","v":"março"},{"$f":"YEAR(SPP[[#This Row],[DATA]])","v":2019}]
["01/03/2019","75","CARTAO FIDELIDADE",71828,0,6526297.5999999996,6526297.5999999996,{"$f":"TEXT(SPP[[#This Row],[DATA]],\"mmmm\")","v":"março"},{"$f":"YEAR(SPP[[#This Row],[DATA]])","v":2019}]
["01/03/2019","76","Lazer",165,0,6990.05,6990.05,{"$f":"TEXT(SPP[[#This Row],[DATA]],\"mmmm\")","v":"março"},{"$f":"YEAR(SPP[[#This Row],[DATA]])","v":2019}]
["01/03/2019","86","Estacionamento",7264,0,170190.91,170190.91,{"$f":"TEXT(SPP[[#This Row],[DATA]],\"mmmm\")","v":"março"},{"$f":"YEAR(SPP[[#This Row],[DATA]])","v":2019}]
["01/03/2019","100","BILHETE UNICO MENSAL - CASCO",2752503,506068885.41000003,37328609.009999998,543397494.41999996,{"$f":"TEXT(SPP[[#This Row],[DATA]],\"mmmm\")","v":"março"},{"$f":"YEAR(SPP[[#This Row],[DATA]])","v":2019}]
["01/03/2019","110","BUM - ANÔNIMO - CASCO",1046007,0,13794873.869999999,13794873.869999999,{"$f":"TEXT(SPP[[#This Row],[DATA]],\"mmmm\")","v":"março"},{"$f":"YEAR(SPP[[#This Row],[DATA]])","v":2019}]
["02/03/2019","51","COMUM 4 VIAGENS",4,0,35.32,35.32,{"$f":"TEXT(SPP[[#This Row],[DATA]],\"mmmm\")","v":"março"},{"$f":"YEAR(SPP[[#This Row],[DATA]])","v":2019}]
["02/03/2019","52","ESTUDANTE",33127,32745.64,356872.43,389618.07,{"$f":"TEXT(SPP[[#This Row],[DATA]],\"mmmm\")","v":"março"},{"$f":"YEAR(SPP[[#This Row],[DATA]])","v":2019}]
["02/03/2019","59","VT",2607489,277734344.83999997,29959341.620000001,307693686.45999998,{"$f":"TEXT(SPP[[#This Row],[DATA]],\"mmmm\")","v":"março"},{"$f":"YEAR(SPP[[#This Row],[DATA]])","v":2019}]
["02/03/2019","68","ESTUDANTE 8VG",1,0,2.7,2.7,{"$f":"TEXT(SPP[[#This Row],[DATA]],\"mmmm\")","v":"março"},{"$f":"YEAR(SPP[[#This Row],[DATA]])","v":2019}]
["02/03/2019","69","VT 8VG",796,0,24821.37,24821.37,{"$f":"TEXT(SPP[[#This Row],[DATA]],\"mmmm\")","v":"março"},{"$f":"YEAR(SPP[[#This Row],[DATA]])","v":2019}]
["02/03/2019","71","MÃE PAULISTANA",62293,266525.58,513876.83,780402.41,{"$f":"TEXT(SPP[[#This Row],[DATA]],\"mmmm\")","v":"março"},{"$f":"YEAR(SPP[[#This Row],[DATA]])","v":2019}]
["02/03/2019","74","PROFESSOR",13746,866104.3,0,866104.3,{"$f":"TEXT(SPP[[#This Row],[DATA]],\"mmmm\")","v":"março"},{"$f":"YEAR(SPP[[#This Row],[DATA]])","v":2019}]
["02/03/2019","75","CARTAO FIDELIDADE",71417,0,6345863.2199999997,6345863.2199999997,{"$f":"TEXT(SPP[[#This Row],[DATA]],\"mmmm\")","v":"março"},{"$f":"YEAR(SPP[[#This Row],[DATA]])","v":2019}]
["02/03/2019","76","Lazer",167,0,7076.05,7076.05,{"$f":"TEXT(SPP[[#This Row],[DATA]],\"mmmm\")","v":"março"},{"$f":"YEAR(SPP[[#This Row],[DATA]])","v":2019}]
["02/03/2019","86","Estacionamento",7292,0,163419.06,163419.06,{"$f":"TEXT(SPP[[#This Row],[DATA]],\"mmmm\")","v":"março"},{"$f":"YEAR(SPP[[#This Row],[DATA]])","v":2019}]
["02/03/2019","100","BILHETE UNICO MENSAL - CASCO",2760554,514082736.93000001,36991523.189999998,551074260.12,{"$f":"TEXT(SPP[[#This Row],[DATA]],\"mmmm\")","v":"março"},{"$f":"YEAR(SPP[[#This Row],[DATA]])","v":2019}]
["02/03/2019","110","BUM - ANÔNIMO - CASCO",1048682,0,13394195.4,13394195.4,{"$f":"TEXT(SPP[[#This Row],[DATA]],\"mmmm\")","v":"março"},{"$f":"YEAR(SPP[[#This Row],[DATA]])","v":2019}]
["03/03/2019","51","COMUM 4 VIAGENS",4,0,35.32,35.32,{"$f":"TEXT(SPP[[#This Row],[DATA]],\"mmmm\")","v":"março"},{"$f":"YEAR(SPP[[#This Row],[DATA]])","v":2019}]
["03/03/2019","52","ESTUDANTE",33234,33393.599999999999,349085.96,382479.56,{"$f":"TEXT(SPP[[#This Row],[DATA]],\"mmmm\")","v":"março"},{"$f":"YEAR(SPP[[#This Row],[DATA]])","v":2019}]
["03/03/2019","59","VT",2610819,278665982.98000002,29232727.66,307898710.63999999,{"$f":"TEXT(SPP[[#This Row],[DATA]],\"mmmm\")","v":"março"},{"$f":"YEAR(SPP[[#This Row],[DATA]])","v":2019}]
["03/03/2019","68","ESTUDANTE 8VG",1,0,2.7,2.7,{"$f":"TEXT(SPP[[#This Row],[DATA]],\"mmmm\")","v":"março"},{"$f":"YEAR(SPP[[#This Row],[DATA]])","v":2019}]
["03/03/2019","69","VT 8VG",794,0,24473.22,24473.22,{"$f":"TEXT(SPP[[#This Row],[DATA]],\"mmmm\")","v":"março"},{"$f":"YEAR(SPP[[#This Row],[DATA]])","v":2019}]
["03/03/2019","71","MÃE PAULISTANA",62328,265441.53000000003,503106.27,768547.8,{"$f":"TEXT(SPP[[#This Row],[DATA]],\"mmmm\")","v":"março"},{"$f":"YEAR(SPP[[#This Row],[DATA]])","v":2019}]
["03/03/2019","74","PROFESSOR",13773,866011.03,0,866011.03,{"$f":"TEXT(SPP[[#This Row],[DATA]],\"mmmm\")","v":"março"},{"$f":"YEAR(SPP[[#This Row],[DATA]])","v":2019}]
["03/03/2019","75","CARTAO FIDELIDADE",71450,0,6325014.4400000004,6325014.4400000004,{"$f":"TEXT(SPP[[#This Row],[DATA]],\"mmmm\")","v":"março"},{"$f":"YEAR(SPP[[#This Row],[DATA]])","v":2019}]
["03/03/2019","76","Lazer",167,0,7117.45,7117.45,{"$f":"TEXT(SPP[[#This Row],[DATA]],\"mmmm\")","v":"março"},{"$f":"YEAR(SPP[[#This Row],[DATA]])","v":2019}]
["03/03/2019","86","Estacionamento",7306,0,161045.84,161045.84,{"$f":"TEXT(SPP[[#This Row],[DATA]],\"mmmm\")","v":"março"},{"$f":"YEAR(SPP[[#This Row],[DATA]])","v":2019}]
["03/03/2019","100","BILHETE UNICO MENSAL - CASCO",2764020,516637750.97000003,36594969.810000002,553232720.77999997,{"$f":"TEXT(SPP[[#This Row],[DATA]],\"mmmm\")","v":"março"},{"$f":"YEAR(SPP[[#This Row],[DATA]])","v":2019}]
["03/03/2019","110","BUM - ANÔNIMO - CASCO",1049989,0,13016396.34,13016396.34,{"$f":"TEXT(SPP[[#This Row],[DATA]],\"mmmm\")","v":"março"},{"$f":"YEAR(SPP[[#This Row],[DATA]])","v":2019}]
["04/03/2019","51","COMUM 4 VIAGENS",4,0,35.32,35.32,{"$f":"TEXT(SPP[[#This Row],[DATA]],\"mmmm\")","v":"março"},{"$f":"YEAR(SPP[[#This Row],[DATA]])","v":2019}]
["04/03/2019","52","ESTUDANTE",33432,34098.76,353536.34,387635.10000000003,{"$f":"TEXT(SPP[[#This Row],[DATA]],\"mmmm\")","v":"março"},{"$f":"YEAR(SPP[[#This Row],[DATA]])","v":2019}]
["04/03/2019","59","VT",2615866,279044093.70999998,29531089.02,308575182.73000002,{"$f":"TEXT(SPP[[#This Row],[DATA]],\"mmmm\")","v":"março"},{"$f":"YEAR(SPP[[#This Row],[DATA]])","v":2019}]
["04/03/2019","68","ESTUDANTE 8VG",1,0,2.7,2.7,{"$f":"TEXT(SPP[[#This Row],[DATA]],\"mmmm\")","v":"março"},{"$f":"YEAR(SPP[[#This Row],[DATA]])","v":2019}]
["04/03/2019","69","VT 8VG",794,0,24893.93,24893.93,{"$f":"TEXT(SPP[[#This Row],[DATA]],\"mmmm\")","v":"março"},{"$f":"YEAR(SPP[[#This Row],[DATA]])","v":2019}]
["04/03/2019","71","MÃE PAULISTANA",62534,266144.32,511496.54000000004,777640.86,{"$f":"TEXT(SPP[[#This Row],[DATA]],\"mmmm\")","v":"março"},{"$f":"YEAR(SPP[[#This Row],[DATA]])","v":2019}]
["04/03/2019","74","PROFESSOR",13807,870427.47,0,870427.47,{"$f":"TEXT(SPP[[#This Row],[DATA]],\"mmmm\")","v":"março"},{"$f":"YEAR(SPP[[#This Row],[DATA]])","v":2019}]
["04/03/2019","75","CARTAO FIDELIDADE",71585,0,6352955.2800000003,6352955.2800000003,{"$f":"TEXT(SPP[[#This Row],[DATA]],\"mmmm\")","v":"março"},{"$f":"YEAR(SPP[[#This Row],[DATA]])","v":2019}]
["04/03/2019","76","Lazer",173,0,7106.1500000000005,7106.1500000000005,{"$f":"TEXT(SPP[[#This Row],[DATA]],\"mmmm\")","v":"março"},{"$f":"YEAR(SPP[[#This Row],[DATA]])","v":2019}]
["04/03/2019","86","Estacionamento",7332,0,163675.03,163675.03,{"$f":"TEXT(SPP[[#This Row],[DATA]],\"mmmm\")","v":"março"},{"$f":"YEAR(SPP[[#This Row],[DATA]])","v":2019}]
["04/03/2019","100","BILHETE UNICO MENSAL - CASCO",2768881,518129887.44,37366160.579999998,555496048.01999998,{"$f":"TEXT(SPP[[#This Row],[DATA]],\"mmmm\")","v":"março"},{"$f":"YEAR(SPP[[#This Row],[DATA]])","v":2019}]
["04/03/2019","110","BUM - ANÔNIMO - CASCO",1052168,0,13197061.17,13197061.17,{"$f":"TEXT(SPP[[#This Row],[DATA]],\"mmmm\")","v":"março"},{"$f":"YEAR(SPP[[#This Row],[DATA]])","v":2019}]
["05/03/2019","51","COMUM 4 VIAGENS",4,0,35.32,35.32,{"$f":"TEXT(SPP[[#This Row],[DATA]],\"mmmm\")","v":"março"},{"$f":"YEAR(SPP[[#This Row],[DATA]])","v":2019}]
["05/03/2019","52","ESTUDANTE",33518,34448.31,348391.85000000003,382840.16000000003,{"$f":"TEXT(SPP[[#This Row],[DATA]],\"mmmm\")","v":"março"},{"$f":"YEAR(SPP[[#This Row],[DATA]])","v":2019}]
["05/03/2019","59","VT",2618380,279488633.13999999,29076096.329999998,308564729.47000003,{"$f":"TEXT(SPP[[#This Row],[DATA]],\"mmmm\")","v":"março"},{"$f":"YEAR(SPP[[#This Row],[DATA]])","v":2019}]
["05/03/2019","68","ESTUDANTE 8VG",1,0,2.7,2.7,{"$f":"TEXT(SPP[[#This Row],[DATA]],\"mmmm\")","v":"março"},{"$f":"YEAR(SPP[[#This Row],[DATA]])","v":2019}]
["05/03/2019","69","VT 8VG",793,0,24544.02,24544.02,{"$f":"TEXT(SPP[[#This Row],[DATA]],\"mmmm\")","v":"março"},{"$f":"YEAR(SPP[[#This Row],[DATA]])","v":2019}]
["05/03/2019","71","MÃE PAULISTANA",62628,266754.36,508099.29000000004,774853.65,{"$f":"TEXT(SPP[[#This Row],[DATA]],\"mmmm\")","v":"março"},{"$f":"YEAR(SPP[[#This Row],[DATA]])","v":2019}]
["05/03/2019","74","PROFESSOR",13820,870120.09,0,870120.09,{"$f":"TEXT(SPP[[#This Row],[DATA]],\"mmmm\")","v":"março"},{"$f":"YEAR(SPP[[#This Row],[DATA]])","v":2019}]
["05/03/2019","75","CARTAO FIDELIDADE",71642,0,6340781.1200000001,6340781.1200000001,{"$f":"TEXT(SPP[[#This Row],[DATA]],\"mmmm\")","v":"março"},{"$f":"YEAR(SPP[[#This Row],[DATA]])","v":2019}]
["05/03/2019","76","Lazer",173,0,7106.1500000000005,7106.1500000000005,{"$f":"TEXT(SPP[[#This Row],[DATA]],\"mmmm\")","v":"março"},{"$f":"YEAR(SPP[[#This Row],[DATA]])","v":2019}]
["05/03/2019","86","Estacionamento",7343,0,161844.34,161844.34,{"$f":"TEXT(SPP[[#This Row],[DATA]],\"mmmm\")","v":"março"},{"$f":"YEAR(SPP[[#This Row],[DATA]])","v":2019}]
["05/03/2019","100","BILHETE UNICO MENSAL - CASCO",2772570,519450867.27999997,37218408.700000003,556669275.98000002,{"$f":"TEXT(SPP[[#This Row],[DATA]],\"mmmm\")","v":"março"},{"$f":"YEAR(SPP[[#This Row],[DATA]])","v":2019}]
["05/03/2019","110","BUM - ANÔNIMO - CASCO",1053410,0,12966905.210000001,12966905.210000001,{"$f":"TEXT(SPP[[#This Row],[DATA]],\"mmmm\")","v":"março"},{"$f":"YEAR(SPP[[#This Row],[DATA]])","v":2019}]
["06/03/2019","51","COMUM 4 VIAGENS",4,0,35.32,35.32,{"$f":"TEXT(SPP[[#This Row],[DATA]],\"mmmm\")","v":"março"},{"$f":"YEAR(SPP[[#This Row],[DATA]])","v":2019}]
["06/03/2019","52","ESTUDANTE",33763,34600.92,364013.85000000003,398614.77,{"$f":"TEXT(SPP[[#This Row],[DATA]],\"mmmm\")","v":"março"},{"$f":"YEAR(SPP[[#This Row],[DATA]])","v":2019}]
["06/03/2019","59","VT",2625363,279993133.56999999,30275208.149999999,310268341.72000003,{"$f":"TEXT(SPP[[#This Row],[DATA]],\"mmmm\")","v":"março"},{"$f":"YEAR(SPP[[#This Row],[DATA]])","v":2019}]
["06/03/2019","68","ESTUDANTE 8VG",1,0,2.7,2.7,{"$f":"TEXT(SPP[[#This Row],[DATA]],\"mmmm\")","v":"março"},{"$f":"YEAR(SPP[[#This Row],[DATA]])","v":2019}]
["06/03/2019","69","VT 8VG",795,0,25381.65,25381.65,{"$f":"TEXT(SPP[[#This Row],[DATA]],\"mmmm\")","v":"março"},{"$f":"YEAR(SPP[[#This Row],[DATA]])","v":2019}]
["06/03/2019","71","MÃE PAULISTANA",63004,268581.03999999998,533654.01,802235.05,{"$f":"TEXT(SPP[[#This Row],[DATA]],\"mmmm\")","v":"março"},{"$f":"YEAR(SPP[[#This Row],[DATA]])","v":2019}]
["06/03/2019","74","PROFESSOR",13885,889122.49,0,889122.49,{"$f":"TEXT(SPP[[#This Row],[DATA]],\"mmmm\")","v":"março"},{"$f":"YEAR(SPP[[#This Row],[DATA]])","v":2019}]
["06/03/2019","75","CARTAO FIDELIDADE",72365,0,6578400.4100000001,6578400.4100000001,{"$f":"TEXT(SPP[[#This Row],[DATA]],\"mmmm\")","v":"março"},{"$f":"YEAR(SPP[[#This Row],[DATA]])","v":2019}]
["06/03/2019","76","Lazer",173,0,7106.1500000000005,7106.1500000000005,{"$f":"TEXT(SPP[[#This Row],[DATA]],\"mmmm\")","v":"março"},{"$f":"YEAR(SPP[[#This Row],[DATA]])","v":2019}]
["06/03/2019","86","Estacionamento",7367,0,170735.21,170735.21,{"$f":"TEXT(SPP[[#This Row],[DATA]],\"mmmm\")","v":"março"},{"$f":"YEAR(SPP[[#This Row],[DATA]])","v":2019}]
["06/03/2019","100","BILHETE UNICO MENSAL - CASCO",2783503,522476462.29000002,39624305.009999998,562100767.29999995,{"$f":"TEXT(SPP[[#This Row],[DATA]],\"mmmm\")","v":"março"},{"$f":"YEAR(SPP[[#This Row],[DATA]])","v":2019}]
["06/03/2019","110","BUM - ANÔNIMO - CASCO",1056645,0,13542379.949999999,13542379.949999999,{"$f":"TEXT(SPP[[#This Row],[DATA]],\"mmmm\")","v":"março"},{"$f":"YEAR(SPP[[#This Row],[DATA]])","v":2019}]
["07/03/2019","51","COMUM 4 VIAGENS",3,0,8.8800000000000008,8.8800000000000008,{"$f":"TEXT(SPP[[#This Row],[DATA]],\"mmmm\")","v":"março"},{"$f":"YEAR(SPP[[#This Row],[DATA]])","v":2019}]
["07/03/2019","52","ESTUDANTE",34079,35075.379999999997,374004.18,409079.56,{"$f":"TEXT(SPP[[#This Row],[DATA]],\"mmmm\")","v":"março"},{"$f":"YEAR(SPP[[#This Row],[DATA]])","v":2019}]
["07/03/2019","59","VT",2633871,281035539.55000001,30815049.449999999,311850589,{"$f":"TEXT(SPP[[#This Row],[DATA]],\"mmmm\")","v":"março"},{"$f":"YEAR(SPP[[#This Row],[DATA]])","v":2019}]
["07/03/2019","68","ESTUDANTE 8VG",1,0,2.7,2.7,{"$f":"TEXT(SPP[[#This Row],[DATA]],\"mmmm\")","v":"março"},{"$f":"YEAR(SPP[[#This Row],[DATA]])","v":2019}]
["07/03/2019","69","VT 8VG",802,0,26050.87,26050.87,{"$f":"TEXT(SPP[[#This Row],[DATA]],\"mmmm\")","v":"março"},{"$f":"YEAR(SPP[[#This Row],[DATA]])","v":2019}]
["07/03/2019","71","MÃE PAULISTANA",63491,270020.92,555567.62,825588.54,{"$f":"TEXT(SPP[[#This Row],[DATA]],\"mmmm\")","v":"março"},{"$f":"YEAR(SPP[[#This Row],[DATA]])","v":2019}]
["07/03/2019","74","PROFESSOR",13999,922668.95000000007,0,922668.95000000007,{"$f":"TEXT(SPP[[#This Row],[DATA]],\"mmmm\")","v":"março"},{"$f":"YEAR(SPP[[#This Row],[DATA]])","v":2019}]
["07/03/2019","75","CARTAO FIDELIDADE",72957,0,6717610.1200000001,6717610.1200000001,{"$f":"TEXT(SPP[[#This Row],[DATA]],\"mmmm\")","v":"março"},{"$f":"YEAR(SPP[[#This Row],[DATA]])","v":2019}]
["07/03/2019","76","Lazer",173,0,7106.1500000000005,7106.1500000000005,{"$f":"TEXT(SPP[[#This Row],[DATA]],\"mmmm\")","v":"março"},{"$f":"YEAR(SPP[[#This Row],[DATA]])","v":2019}]
["07/03/2019","86","Estacionamento",7387,0,179457.01,179457.01,{"$f":"TEXT(SPP[[#This Row],[DATA]],\"mmmm\")","v":"março"},{"$f":"YEAR(SPP[[#This Row],[DATA]])","v":2019}]
["07/03/2019","100","BILHETE UNICO MENSAL - CASCO",2797909,527107246.69,41677215.600000001,568784462.28999996,{"$f":"TEXT(SPP[[#This Row],[DATA]],\"mmmm\")","v":"março"},{"$f":"YEAR(SPP[[#This Row],[DATA]])","v":2019}]
["07/03/2019","110","BUM - ANÔNIMO - CASCO",1060577,0,13821391.539999999,13821391.539999999,{"$f":"TEXT(SPP[[#This Row],[DATA]],\"mmmm\")","v":"março"},{"$f":"YEAR(SPP[[#This Row],[DATA]])","v":2019}]
["08/03/2019","51","COMUM 4 VIAGENS",4,0,42.88,42.88,{"$f":"TEXT(SPP[[#This Row],[DATA]],\"mmmm\")","v":"março"},{"$f":"YEAR(SPP[[#This Row],[DATA]])","v":2019}]
["08/03/2019","52","ESTUDANTE",34352,35108.090000000004,372642.61,407750.7,{"$f":"TEXT(SPP[[#This Row],[DATA]],\"mmmm\")","v":"março"},{"$f":"YEAR(SPP[[#This Row],[DATA]])","v":2019}]
["08/03/2019","59","VT",2641777,281192609.5,30568918.66,311761528.16000003,{"$f":"TEXT(SPP[[#This Row],[DATA]],\"mmmm\")","v":"março"},{"$f":"YEAR(SPP[[#This Row],[DATA]])","v":2019}]
["08/03/2019","68","ESTUDANTE 8VG",1,0,2.7,2.7,{"$f":"TEXT(SPP[[#This Row],[DATA]],\"mmmm\")","v":"março"},{"$f":"YEAR(SPP[[#This Row],[DATA]])","v":2019}]
["08/03/2019","69","VT 8VG",804,0,26212.940000000002,26212.940000000002,{"$f":"TEXT(SPP[[#This Row],[DATA]],\"mmmm\")","v":"março"},{"$f":"YEAR(SPP[[#This Row],[DATA]])","v":2019}]
["08/03/2019","71","MÃE PAULISTANA",63925,273165.90000000002,565301.63,838467.53,{"$f":"TEXT(SPP[[#This Row],[DATA]],\"mmmm\")","v":"março"},{"$f":"YEAR(SPP[[#This Row],[DATA]])","v":2019}]
["08/03/2019","74","PROFESSOR",14100,935859.95000000007,0,935859.95000000007,{"$f":"TEXT(SPP[[#This Row],[DATA]],\"mmmm\")","v":"março"},{"$f":"YEAR(SPP[[#This Row],[DATA]])","v":2019}]
["08/03/2019","75","CARTAO FIDELIDADE",73012,0,6704645.3799999999,6704645.3799999999,{"$f":"TEXT(SPP[[#This Row],[DATA]],\"mmmm\")","v":"março"},{"$f":"YEAR(SPP[[#This Row],[DATA]])","v":2019}]
["08/03/2019","76","Lazer",173,0,7106.1500000000005,7106.1500000000005,{"$f":"TEXT(SPP[[#This Row],[DATA]],\"mmmm\")","v":"março"},{"$f":"YEAR(SPP[[#This Row],[DATA]])","v":2019}]
["08/03/2019","86","Estacionamento",7430,0,177978.45,177978.45,{"$f":"TEXT(SPP[[#This Row],[DATA]],\"mmmm\")","v":"março"},{"$f":"YEAR(SPP[[#This Row],[DATA]])","v":2019}]
["08/03/2019","100","BILHETE UNICO MENSAL - CASCO",2810102,528376297.49000001,42480485.960000001,570856783.45000005,{"$f":"TEXT(SPP[[#This Row],[DATA]],\"mmmm\")","v":"março"},{"$f":"YEAR(SPP[[#This Row],[DATA]])","v":2019}]
["08/03/2019","110","BUM - ANÔNIMO - CASCO",1063971,0,13721977.48,13721977.48,{"$f":"TEXT(SPP[[#This Row],[DATA]],\"mmmm\")","v":"março"},{"$f":"YEAR(SPP[[#This Row],[DATA]])","v":2019}]
["09/03/2019","51","COMUM 4 VIAGENS",4,0,42.88,42.88,{"$f":"TEXT(SPP[[#This Row],[DATA]],\"mmmm\")","v":"março"},{"$f":"YEAR(SPP[[#This Row],[DATA]])","v":2019}]
["09/03/2019","52","ESTUDANTE",34559,35834.400000000001,366479.47000000003,402313.87,{"$f":"TEXT(SPP[[#This Row],[DATA]],\"mmmm\")","v":"março"},{"$f":"YEAR(SPP[[#This Row],[DATA]])","v":2019}]
["09/03/2019","59","VT",2647979,280634476.38,29854173.030000001,310488649.41000003,{"$f":"TEXT(SPP[[#This Row],[DATA]],\"mmmm\")","v":"março"},{"$f":"YEAR(SPP[[#This Row],[DATA]])","v":2019}]
["09/03/2019","68","ESTUDANTE 8VG",1,0,2.7,2.7,{"$f":"TEXT(SPP[[#This Row],[DATA]],\"mmmm\")","v":"março"},{"$f":"YEAR(SPP[[#This Row],[DATA]])","v":2019}]
["09/03/2019","69","VT 8VG",804,246,25932.59,26178.59,{"$f":"TEXT(SPP[[#This Row],[DATA]],\"mmmm\")","v":"março"},{"$f":"YEAR(SPP[[#This Row],[DATA]])","v":2019}]
["09/03/2019","71","MÃE PAULISTANA",64195,270766.19,565028.56000000006,835794.75,{"$f":"TEXT(SPP[[#This Row],[DATA]],\"mmmm\")","v":"março"},{"$f":"YEAR(SPP[[#This Row],[DATA]])","v":2019}]
["09/03/2019","74","PROFESSOR",14144,930858.25,0,930858.25,{"$f":"TEXT(SPP[[#This Row],[DATA]],\"mmmm\")","v":"março"},{"$f":"YEAR(SPP[[#This Row],[DATA]])","v":2019}]
["09/03/2019","75","CARTAO FIDELIDADE",72694,0,6567027.4000000004,6567027.4000000004,{"$f":"TEXT(SPP[[#This Row],[DATA]],\"mmmm\")","v":"março"},{"$f":"YEAR(SPP[[#This Row],[DATA]])","v":2019}]
["09/03/2019","76","Lazer",175,0,7195.95,7195.95,{"$f":"TEXT(SPP[[#This Row],[DATA]],\"mmmm\")","v":"março"},{"$f":"YEAR(SPP[[#This Row],[DATA]])","v":2019}]
["09/03/2019","86","Estacionamento",7458,0,173074.08000000002,173074.08000000002,{"$f":"TEXT(SPP[[#This Row],[DATA]],\"mmmm\")","v":"março"},{"$f":"YEAR(SPP[[#This Row],[DATA]])","v":2019}]
["09/03/2019","100","BILHETE UNICO MENSAL - CASCO",2818433,526759083.54000002,42364174.350000001,569123257.88999999,{"$f":"TEXT(SPP[[#This Row],[DATA]],\"mmmm\")","v":"março"},{"$f":"YEAR(SPP[[#This Row],[DATA]])","v":2019}]
["09/03/2019","110","BUM - ANÔNIMO - CASCO",1066601,0,13424564.65,13424564.65,{"$f":"TEXT(SPP[[#This Row],[DATA]],\"mmmm\")","v":"março"},{"$f":"YEAR(SPP[[#This Row],[DATA]])","v":2019}]
["10/03/2019","51","COMUM 4 VIAGENS",4,0,42.88,42.88,{"$f":"TEXT(SPP[[#This Row],[DATA]],\"mmmm\")","v":"março"},{"$f":"YEAR(SPP[[#This Row],[DATA]])","v":2019}]
["10/03/2019","52","ESTUDANTE",34674,35911.32,362187.3,398098.62,{"$f":"TEXT(SPP[[#This Row],[DATA]],\"mmmm\")","v":"março"},{"$f":"YEAR(SPP[[#This Row],[DATA]])","v":2019}]
["10/03/2019","59","VT",2650938,280190349.32999998,29402943.84,309593293.17000002,{"$f":"TEXT(SPP[[#This Row],[DATA]],\"mmmm\")","v":"março"},{"$f":"YEAR(SPP[[#This Row],[DATA]])","v":2019}]
["10/03/2019","68","ESTUDANTE 8VG",1,0,2.7,2.7,{"$f":"TEXT(SPP[[#This Row],[DATA]],\"mmmm\")","v":"março"},{"$f":"YEAR(SPP[[#This Row],[DATA]])","v":2019}]
["10/03/2019","69","VT 8VG",803,242,25672.81,25914.81,{"$f":"TEXT(SPP[[#This Row],[DATA]],\"mmmm\")","v":"março"},{"$f":"YEAR(SPP[[#This Row],[DATA]])","v":2019}]
["10/03/2019","71","MÃE PAULISTANA",64276,267752.90000000002,560626.13,828379.03,{"$f":"TEXT(SPP[[#This Row],[DATA]],\"mmmm\")","v":"março"},{"$f":"YEAR(SPP[[#This Row],[DATA]])","v":2019}]
["10/03/2019","74","PROFESSOR",14175,928546.96,0,928546.96,{"$f":"TEXT(SPP[[#This Row],[DATA]],\"mmmm\")","v":"março"},{"$f":"YEAR(SPP[[#This Row],[DATA]])","v":2019}]
["10/03/2019","75","CARTAO FIDELIDADE",72698,0,6549796.5899999999,6549796.5899999999,{"$f":"TEXT(SPP[[#This Row],[DATA]],\"mmmm\")","v":"março"},{"$f":"YEAR(SPP[[#This Row],[DATA]])","v":2019}]
["10/03/2019","76","Lazer",181,0,7259.85,7259.85,{"$f":"TEXT(SPP[[#This Row],[DATA]],\"mmmm\")","v":"março"},{"$f":"YEAR(SPP[[#This Row],[DATA]])","v":2019}]
["10/03/2019","86","Estacionamento",7475,0,171159.32,171159.32,{"$f":"TEXT(SPP[[#This Row],[DATA]],\"mmmm\")","v":"março"},{"$f":"YEAR(SPP[[#This Row],[DATA]])","v":2019}]
["10/03/2019","100","BILHETE UNICO MENSAL - CASCO",2822544,525106622.50999999,42177757.060000002,567284379.57000005,{"$f":"TEXT(SPP[[#This Row],[DATA]],\"mmmm\")","v":"março"},{"$f":"YEAR(SPP[[#This Row],[DATA]])","v":2019}]
["10/03/2019","110","BUM - ANÔNIMO - CASCO",1067978,0,13223614.26,13223614.26,{"$f":"TEXT(SPP[[#This Row],[DATA]],\"mmmm\")","v":"março"},{"$f":"YEAR(SPP[[#This Row],[DATA]])","v":2019}]
["11/03/2019","51","COMUM 4 VIAGENS",3,0,40.58,40.58,{"$f":"TEXT(SPP[[#This Row],[DATA]],\"mmmm\")","v":"março"},{"$f":"YEAR(SPP[[#This Row],[DATA]])","v":2019}]
["11/03/2019","52","ESTUDANTE",34991,35773.9,382450.75,418224.65,{"$f":"TEXT(SPP[[#This Row],[DATA]],\"mmmm\")","v":"março"},{"$f":"YEAR(SPP[[#This Row],[DATA]])","v":2019}]
["11/03/2019","59","VT",2659527,279528728.33999997,31054225.82,310582954.16000003,{"$f":"TEXT(SPP[[#This Row],[DATA]],\"mmmm\")","v":"março"},{"$f":"YEAR(SPP[[#This Row],[DATA]])","v":2019}]
["11/03/2019","68","ESTUDANTE 8VG",1,0,2.7,2.7,{"$f":"TEXT(SPP[[#This Row],[DATA]],\"mmmm\")","v":"março"},{"$f":"YEAR(SPP[[#This Row],[DATA]])","v":2019}]
["11/03/2019","69","VT 8VG",808,234,26497.4,26731.4,{"$f":"TEXT(SPP[[#This Row],[DATA]],\"mmmm\")","v":"março"},{"$f":"YEAR(SPP[[#This Row],[DATA]])","v":2019}]
["11/03/2019","71","MÃE PAULISTANA",64707,268617.75,599824.55000000005,868442.3,{"$f":"TEXT(SPP[[#This Row],[DATA]],\"mmmm\")","v":"março"},{"$f":"YEAR(SPP[[#This Row],[DATA]])","v":2019}]
["11/03/2019","74","PROFESSOR",14285,962099.86,0,962099.86,{"$f":"TEXT(SPP[[#This Row],[DATA]],\"mmmm\")","v":"março"},{"$f":"YEAR(SPP[[#This Row],[DATA]])","v":2019}]
["11/03/2019","75","CARTAO FIDELIDADE",73727,0,6819618.9800000004,6819618.9800000004,{"$f":"TEXT(SPP[[#This Row],[DATA]],\"mmmm\")","v":"março"},{"$f":"YEAR(SPP[[#This Row],[DATA]])","v":2019}]
["11/03/2019","76","Lazer",189,0,7411.66,7411.66,{"$f":"TEXT(SPP[[#This Row],[DATA]],\"mmmm\")","v":"março"},{"$f":"YEAR(SPP[[#This Row],[DATA]])","v":2019}]
["11/03/2019","86","Estacionamento",7497,0,181328.65,181328.65,{"$f":"TEXT(SPP[[#This Row],[DATA]],\"mmmm\")","v":"março"},{"$f":"YEAR(SPP[[#This Row],[DATA]])","v":2019}]
["11/03/2019","100","BILHETE UNICO MENSAL - CASCO",2835774,524271323.92000002,44856154.020000003,569127477.94000006,{"$f":"TEXT(SPP[[#This Row],[DATA]],\"mmmm\")","v":"março"},{"$f":"YEAR(SPP[[#This Row],[DATA]])","v":2019}]
["11/03/2019","110","BUM - ANÔNIMO - CASCO",1071941,0,14065108.810000001,14065108.810000001,{"$f":"TEXT(SPP[[#This Row],[DATA]],\"mmmm\")","v":"março"},{"$f":"YEAR(SPP[[#This Row],[DATA]])","v":2019}]
["12/03/2019","51","COMUM 4 VIAGENS",4,0,51.1,51.1,{"$f":"TEXT(SPP[[#This Row],[DATA]],\"mmmm\")","v":"março"},{"$f":"YEAR(SPP[[#This Row],[DATA]])","v":2019}]
["12/03/2019","52","ESTUDANTE",35268,36307.94,389376.91000000003,425684.85000000003,{"$f":"TEXT(SPP[[#This Row],[DATA]],\"mmmm\")","v":"março"},{"$f":"YEAR(SPP[[#This Row],[DATA]])","v":2019}]
["12/03/2019","59","VT",2667724,278575486.32999998,31387351.620000001,309962837.94999999,{"$f":"TEXT(SPP[[#This Row],[DATA]],\"mmmm\")","v":"março"},{"$f":"YEAR(SPP[[#This Row],[DATA]])","v":2019}]
["12/03/2019","68","ESTUDANTE 8VG",1,0,2.7,2.7,{"$f":"TEXT(SPP[[#This Row],[DATA]],\"mmmm\")","v":"março"},{"$f":"YEAR(SPP[[#This Row],[DATA]])","v":2019}]
["12/03/2019","69","VT 8VG",810,222,26221.65,26443.65,{"$f":"TEXT(SPP[[#This Row],[DATA]],\"mmmm\")","v":"março"},{"$f":"YEAR(SPP[[#This Row],[DATA]])","v":2019}]
["12/03/2019","71","MÃE PAULISTANA",65099,268548.52,610385.52,878934.04,{"$f":"TEXT(SPP[[#This Row],[DATA]],\"mmmm\")","v":"março"},{"$f":"YEAR(SPP[[#This Row],[DATA]])","v":2019}]
["12/03/2019","74","PROFESSOR",14388,971716.52,0,971716.52,{"$f":"TEXT(SPP[[#This Row],[DATA]],\"mmmm\")","v":"março"},{"$f":"YEAR(SPP[[#This Row],[DATA]])","v":2019}]
["12/03/2019","75","CARTAO FIDELIDADE",74181,0,6864826.6399999997,6864826.6399999997,{"$f":"TEXT(SPP[[#This Row],[DATA]],\"mmmm\")","v":"março"},{"$f":"YEAR(SPP[[#This Row],[DATA]])","v":2019}]
["12/03/2019","76","Lazer",191,0,7493.66,7493.66,{"$f":"TEXT(SPP[[#This Row],[DATA]],\"mmmm\")","v":"março"},{"$f":"YEAR(SPP[[#This Row],[DATA]])","v":2019}]
["12/03/2019","86","Estacionamento",7532,0,182661.92,182661.92,{"$f":"TEXT(SPP[[#This Row],[DATA]],\"mmmm\")","v":"março"},{"$f":"YEAR(SPP[[#This Row],[DATA]])","v":2019}]
["12/03/2019","100","BILHETE UNICO MENSAL - CASCO",2849396,522484459.48000002,45572696.810000002,568057156.28999996,{"$f":"TEXT(SPP[[#This Row],[DATA]],\"mmmm\")","v":"março"},{"$f":"YEAR(SPP[[#This Row],[DATA]])","v":2019}]
["12/03/2019","110","BUM - ANÔNIMO - CASCO",1075419,0,14215015.84,14215015.84,{"$f":"TEXT(SPP[[#This Row],[DATA]],\"mmmm\")","v":"março"},{"$f":"YEAR(SPP[[#This Row],[DATA]])","v":2019}]
["13/03/2019","51","COMUM 4 VIAGENS",4,0,27.54,27.54,{"$f":"TEXT(SPP[[#This Row],[DATA]],\"mmmm\")","v":"março"},{"$f":"YEAR(SPP[[#This Row],[DATA]])","v":2019}]
["13/03/2019","52","ESTUDANTE",35487,37552.950000000004,387893.38,425446.33,{"$f":"TEXT(SPP[[#This Row],[DATA]],\"mmmm\")","v":"março"},{"$f":"YEAR(SPP[[#This Row],[DATA]])","v":2019}]
["13/03/2019","59","VT",2674934,277229538.19999999,31312291.219999999,308541829.42000002,{"$f":"TEXT(SPP[[#This Row],[DATA]],\"mmmm\")","v":"março"},{"$f":"YEAR(SPP[[#This Row],[DATA]])","v":2019}]
["13/03/2019","68","ESTUDANTE 8VG",1,0,2.7,2.7,{"$f":"TEXT(SPP[[#This Row],[DATA]],\"mmmm\")","v":"março"},{"$f":"YEAR(SPP[[#This Row],[DATA]])","v":2019}]
["13/03/2019","69","VT 8VG",810,0,26602.920000000002,26602.920000000002,{"$f":"TEXT(SPP[[#This Row],[DATA]],\"mmmm\")","v":"março"},{"$f":"YEAR(SPP[[#This Row],[DATA]])","v":2019}]
["13/03/2019","71","MÃE PAULISTANA",65529,270034.2,609716.11,879750.31,{"$f":"TEXT(SPP[[#This Row],[DATA]],\"mmmm\")","v":"março"},{"$f":"YEAR(SPP[[#This Row],[DATA]])","v":2019}]
["13/03/2019","74","PROFESSOR",14528,982593.11,0,982593.11,{"$f":"TEXT(SPP[[#This Row],[DATA]],\"mmmm\")","v":"março"},{"$f":"YEAR(SPP[[#This Row],[DATA]])","v":2019}]
["13/03/2019","75","CARTAO FIDELIDADE",74532,0,6894127.2599999998,6894127.2599999998,{"$f":"TEXT(SPP[[#This Row],[DATA]],\"mmmm\")","v":"março"},{"$f":"YEAR(SPP[[#This Row],[DATA]])","v":2019}]
["13/03/2019","76","Lazer",191,0,7493.66,7493.66,{"$f":"TEXT(SPP[[#This Row],[DATA]],\"mmmm\")","v":"março"},{"$f":"YEAR(SPP[[#This Row],[DATA]])","v":2019}]
["13/03/2019","86","Estacionamento",7573,0,181649,181649,{"$f":"TEXT(SPP[[#This Row],[DATA]],\"mmmm\")","v":"março"},{"$f":"YEAR(SPP[[#This Row],[DATA]])","v":2019}]
["13/03/2019","100","BILHETE UNICO MENSAL - CASCO",2861741,519315310.19,45549033.539999999,564864343.73000002,{"$f":"TEXT(SPP[[#This Row],[DATA]],\"mmmm\")","v":"março"},{"$f":"YEAR(SPP[[#This Row],[DATA]])","v":2019}]
["13/03/2019","110","BUM - ANÔNIMO - CASCO",1078371,0,14171114.52,14171114.52,{"$f":"TEXT(SPP[[#This Row],[DATA]],\"mmmm\")","v":"março"},{"$f":"YEAR(SPP[[#This Row],[DATA]])","v":2019}]
["14/03/2019","51","COMUM 4 VIAGENS",3,0,21.32,21.32,{"$f":"TEXT(SPP[[#This Row],[DATA]],\"mmmm\")","v":"março"},{"$f":"YEAR(SPP[[#This Row],[DATA]])","v":2019}]
["14/03/2019","52","ESTUDANTE",35711,37826.050000000003,378174.99,416001.04000000004,{"$f":"TEXT(SPP[[#This Row],[DATA]],\"mmmm\")","v":"março"},{"$f":"YEAR(SPP[[#This Row],[DATA]])","v":2019}]
["14/03/2019","59","VT",2680707,275344511.95999998,30404463.32,305748975.27999997,{"$f":"TEXT(SPP[[#This Row],[DATA]],\"mmmm\")","v":"março"},{"$f":"YEAR(SPP[[#This Row],[DATA]])","v":2019}]
["14/03/2019","68","ESTUDANTE 8VG",1,0,2.7,2.7,{"$f":"TEXT(SPP[[#This Row],[DATA]],\"mmmm\")","v":"março"},{"$f":"YEAR(SPP[[#This Row],[DATA]])","v":2019}]
["14/03/2019","69","VT 8VG",813,0,25990.920000000002,25990.920000000002,{"$f":"TEXT(SPP[[#This Row],[DATA]],\"mmmm\")","v":"março"},{"$f":"YEAR(SPP[[#This Row],[DATA]])","v":2019}]
["14/03/2019","71","MÃE PAULISTANA",65857,268391.92,588843.86,857235.78,{"$f":"TEXT(SPP[[#This Row],[DATA]],\"mmmm\")","v":"março"},{"$f":"YEAR(SPP[[#This Row],[DATA]])","v":2019}]
["14/03/2019","74","PROFESSOR",14637,985181.77,0,985181.77,{"$f":"TEXT(SPP[[#This Row],[DATA]],\"mmmm\")","v":"março"},{"$f":"YEAR(SPP[[#This Row],[DATA]])","v":2019}]
["14/03/2019","75","CARTAO FIDELIDADE",74803,0,6873440.9699999997,6873440.9699999997,{"$f":"TEXT(SPP[[#This Row],[DATA]],\"mmmm\")","v":"março"},{"$f":"YEAR(SPP[[#This Row],[DATA]])","v":2019}]
["14/03/2019","76","Lazer",191,0,7493.66,7493.66,{"$f":"TEXT(SPP[[#This Row],[DATA]],\"mmmm\")","v":"março"},{"$f":"YEAR(SPP[[#This Row],[DATA]])","v":2019}]
["14/03/2019","86","Estacionamento",7604,0,176157.27,176157.27,{"$f":"TEXT(SPP[[#This Row],[DATA]],\"mmmm\")","v":"março"},{"$f":"YEAR(SPP[[#This Row],[DATA]])","v":2019}]
["14/03/2019","100","BILHETE UNICO MENSAL - CASCO",2872474,514421073.68000001,44370528.880000003,558791602.55999994,{"$f":"TEXT(SPP[[#This Row],[DATA]],\"mmmm\")","v":"março"},{"$f":"YEAR(SPP[[#This Row],[DATA]])","v":2019}]
["14/03/2019","110","BUM - ANÔNIMO - CASCO",1080852,0,13686618.310000001,13686618.310000001,{"$f":"TEXT(SPP[[#This Row],[DATA]],\"mmmm\")","v":"março"},{"$f":"YEAR(SPP[[#This Row],[DATA]])","v":2019}]
["15/03/2019","51","COMUM 4 VIAGENS",4,0,27.16,27.16,{"$f":"TEXT(SPP[[#This Row],[DATA]],\"mmmm\")","v":"março"},{"$f":"YEAR(SPP[[#This Row],[DATA]])","v":2019}]
["15/03/2019","52","ESTUDANTE",35931,37472.68,377896.7,415369.38,{"$f":"TEXT(SPP[[#This Row],[DATA]],\"mmmm\")","v":"março"},{"$f":"YEAR(SPP[[#This Row],[DATA]])","v":2019}]
["15/03/2019","59","VT",2686815,273740237.63999999,30236314.940000001,303976552.57999998,{"$f":"TEXT(SPP[[#This Row],[DATA]],\"mmmm\")","v":"março"},{"$f":"YEAR(SPP[[#This Row],[DATA]])","v":2019}]
["15/03/2019","68","ESTUDANTE 8VG",1,0,2.7,2.7,{"$f":"TEXT(SPP[[#This Row],[DATA]],\"mmmm\")","v":"março"},{"$f":"YEAR(SPP[[#This Row],[DATA]])","v":2019}]
["15/03/2019","69","VT 8VG",816,0,26068.43,26068.43,{"$f":"TEXT(SPP[[#This Row],[DATA]],\"mmmm\")","v":"março"},{"$f":"YEAR(SPP[[#This Row],[DATA]])","v":2019}]
["15/03/2019","71","MÃE PAULISTANA",66250,269190.88,585485.80000000005,854676.68,{"$f":"TEXT(SPP[[#This Row],[DATA]],\"mmmm\")","v":"março"},{"$f":"YEAR(SPP[[#This Row],[DATA]])","v":2019}]
["15/03/2019","74","PROFESSOR",14758,985690.26,0,985690.26,{"$f":"TEXT(SPP[[#This Row],[DATA]],\"mmmm\")","v":"março"},{"$f":"YEAR(SPP[[#This Row],[DATA]])","v":2019}]
["15/03/2019","75","CARTAO FIDELIDADE",75035,0,6842133.9800000004,6842133.9800000004,{"$f":"TEXT(SPP[[#This Row],[DATA]],\"mmmm\")","v":"março"},{"$f":"YEAR(SPP[[#This Row],[DATA]])","v":2019}]
["15/03/2019","76","Lazer",191,0,7493.66,7493.66,{"$f":"TEXT(SPP[[#This Row],[DATA]],\"mmmm\")","v":"março"},{"$f":"YEAR(SPP[[#This Row],[DATA]])","v":2019}]
["15/03/2019","86","Estacionamento",7628,0,174886.04,174886.04,{"$f":"TEXT(SPP[[#This Row],[DATA]],\"mmmm\")","v":"março"},{"$f":"YEAR(SPP[[#This Row],[DATA]])","v":2019}]
["15/03/2019","100","BILHETE UNICO MENSAL - CASCO",2882550,510389108.5,44139041.43,554528149.92999995,{"$f":"TEXT(SPP[[#This Row],[DATA]],\"mmmm\")","v":"março"},{"$f":"YEAR(SPP[[#This Row],[DATA]])","v":2019}]
["15/03/2019","110","BUM - ANÔNIMO - CASCO",1083424,0,13615582.68,13615582.68,{"$f":"TEXT(SPP[[#This Row],[DATA]],\"mmmm\")","v":"março"},{"$f":"YEAR(SPP[[#This Row],[DATA]])","v":2019}]
["16/03/2019","51","COMUM 4 VIAGENS",4,0,18.559999999999999,18.559999999999999,{"$f":"TEXT(SPP[[#This Row],[DATA]],\"mmmm\")","v":"março"},{"$f":"YEAR(SPP[[#This Row],[DATA]])","v":2019}]
["16/03/2019","52","ESTUDANTE",36057,37435.61,366690.69,404126.3,{"$f":"TEXT(SPP[[#This Row],[DATA]],\"mmmm\")","v":"março"},{"$f":"YEAR(SPP[[#This Row],[DATA]])","v":2019}]
["16/03/2019","59","VT",2691636,272118780.41000003,29268144.84,301386925.25,{"$f":"TEXT(SPP[[#This Row],[DATA]],\"mmmm\")","v":"março"},{"$f":"YEAR(SPP[[#This Row],[DATA]])","v":2019}]
["16/03/2019","68","ESTUDANTE 8VG",1,0,2.7,2.7,{"$f":"TEXT(SPP[[#This Row],[DATA]],\"mmmm\")","v":"março"},{"$f":"YEAR(SPP[[#This Row],[DATA]])","v":2019}]
["16/03/2019","69","VT 8VG",816,0,25689.06,25689.06,{"$f":"TEXT(SPP[[#This Row],[DATA]],\"mmmm\")","v":"março"},{"$f":"YEAR(SPP[[#This Row],[DATA]])","v":2019}]
["16/03/2019","71","MÃE PAULISTANA",66448,265209.21000000002,567954.55000000005,833163.76,{"$f":"TEXT(SPP[[#This Row],[DATA]],\"mmmm\")","v":"março"},{"$f":"YEAR(SPP[[#This Row],[DATA]])","v":2019}]
["16/03/2019","74","PROFESSOR",14800,973813.84,0,973813.84,{"$f":"TEXT(SPP[[#This Row],[DATA]],\"mmmm\")","v":"março"},{"$f":"YEAR(SPP[[#This Row],[DATA]])","v":2019}]
["16/03/2019","75","CARTAO FIDELIDADE",74624,0,6646677.7699999996,6646677.7699999996,{"$f":"TEXT(SPP[[#This Row],[DATA]],\"mmmm\")","v":"março"},{"$f":"YEAR(SPP[[#This Row],[DATA]])","v":2019}]
["16/03/2019","76","Lazer",191,0,7493.66,7493.66,{"$f":"TEXT(SPP[[#This Row],[DATA]],\"mmmm\")","v":"março"},{"$f":"YEAR(SPP[[#This Row],[DATA]])","v":2019}]
["16/03/2019","86","Estacionamento",7653,0,168103.59,168103.59,{"$f":"TEXT(SPP[[#This Row],[DATA]],\"mmmm\")","v":"março"},{"$f":"YEAR(SPP[[#This Row],[DATA]])","v":2019}]
["16/03/2019","100","BILHETE UNICO MENSAL - CASCO",2889313,505492125.74000001,42819389.780000001,548311515.51999998,{"$f":"TEXT(SPP[[#This Row],[DATA]],\"mmmm\")","v":"março"},{"$f":"YEAR(SPP[[#This Row],[DATA]])","v":2019}]
["16/03/2019","110","BUM - ANÔNIMO - CASCO",1085411,0,13135728.35,13135728.35,{"$f":"TEXT(SPP[[#This Row],[DATA]],\"mmmm\")","v":"março"},{"$f":"YEAR(SPP[[#This Row],[DATA]])","v":2019}]
["17/03/2019","51","COMUM 4 VIAGENS",4,0,18.559999999999999,18.559999999999999,{"$f":"TEXT(SPP[[#This Row],[DATA]],\"mmmm\")","v":"março"},{"$f":"YEAR(SPP[[#This Row],[DATA]])","v":2019}]
["17/03/2019","52","ESTUDANTE",36137,38479.03,361767.56,400246.59,{"$f":"TEXT(SPP[[#This Row],[DATA]],\"mmmm\")","v":"março"},{"$f":"YEAR(SPP[[#This Row],[DATA]])","v":2019}]
["17/03/2019","59","VT",2694069,271396225.56,28784009.899999999,300180235.45999998,{"$f":"TEXT(SPP[[#This Row],[DATA]],\"mmmm\")","v":"março"},{"$f":"YEAR(SPP[[#This Row],[DATA]])","v":2019}]
["17/03/2019","68","ESTUDANTE 8VG",1,0,2.7,2.7,{"$f":"TEXT(SPP[[#This Row],[DATA]],\"mmmm\")","v":"março"},{"$f":"YEAR(SPP[[#This Row],[DATA]])","v":2019}]
["17/03/2019","69","VT 8VG",817,0,25280.14,25280.14,{"$f":"TEXT(SPP[[#This Row],[DATA]],\"mmmm\")","v":"março"},{"$f":"YEAR(SPP[[#This Row],[DATA]])","v":2019}]
["17/03/2019","71","MÃE PAULISTANA",66529,264222.19,557533.54,821755.73,{"$f":"TEXT(SPP[[#This Row],[DATA]],\"mmmm\")","v":"março"},{"$f":"YEAR(SPP[[#This Row],[DATA]])","v":2019}]
["17/03/2019","74","PROFESSOR",14825,970605.23,0,970605.23,{"$f":"TEXT(SPP[[#This Row],[DATA]],\"mmmm\")","v":"março"},{"$f":"YEAR(SPP[[#This Row],[DATA]])","v":2019}]
["17/03/2019","75","CARTAO FIDELIDADE",74620,0,6619992.9000000004,6619992.9000000004,{"$f":"TEXT(SPP[[#This Row],[DATA]],\"mmmm\")","v":"março"},{"$f":"YEAR(SPP[[#This Row],[DATA]])","v":2019}]
["17/03/2019","76","Lazer",193,0,7499.46,7499.46,{"$f":"TEXT(SPP[[#This Row],[DATA]],\"mmmm\")","v":"março"},{"$f":"YEAR(SPP[[#This Row],[DATA]])","v":2019}]
["17/03/2019","86","Estacionamento",7665,0,165900.12,165900.12,{"$f":"TEXT(SPP[[#This Row],[DATA]],\"mmmm\")","v":"março"},{"$f":"YEAR(SPP[[#This Row],[DATA]])","v":2019}]
["17/03/2019","100","BILHETE UNICO MENSAL - CASCO",2892359,503066099.19999999,42326259.700000003,545392358.89999998,{"$f":"TEXT(SPP[[#This Row],[DATA]],\"mmmm\")","v":"março"},{"$f":"YEAR(SPP[[#This Row],[DATA]])","v":2019}]
["17/03/2019","110","BUM - ANÔNIMO - CASCO",1086493,0,12929223.869999999,12929223.869999999,{"$f":"TEXT(SPP[[#This Row],[DATA]],\"mmmm\")","v":"março"},{"$f":"YEAR(SPP[[#This Row],[DATA]])","v":2019}]
["18/03/2019","51","COMUM 4 VIAGENS",2,0,6.58,6.58,{"$f":"TEXT(SPP[[#This Row],[DATA]],\"mmmm\")","v":"março"},{"$f":"YEAR(SPP[[#This Row],[DATA]])","v":2019}]
["18/03/2019","52","ESTUDANTE",36408,38678.120000000003,383576.73,422254.85000000003,{"$f":"TEXT(SPP[[#This Row],[DATA]],\"mmmm\")","v":"março"},{"$f":"YEAR(SPP[[#This Row],[DATA]])","v":2019}]
["18/03/2019","59","VT",2702022,270339783.31,30425978.620000001,300765761.93000001,{"$f":"TEXT(SPP[[#This Row],[DATA]],\"mmmm\")","v":"março"},{"$f":"YEAR(SPP[[#This Row],[DATA]])","v":2019}]
["18/03/2019","68","ESTUDANTE 8VG",1,0,2.7,2.7,{"$f":"TEXT(SPP[[#This Row],[DATA]],\"mmmm\")","v":"março"},{"$f":"YEAR(SPP[[#This Row],[DATA]])","v":2019}]
["18/03/2019","69","VT 8VG",819,0,25813.98,25813.98,{"$f":"TEXT(SPP[[#This Row],[DATA]],\"mmmm\")","v":"março"},{"$f":"YEAR(SPP[[#This Row],[DATA]])","v":2019}]
["18/03/2019","71","MÃE PAULISTANA",66975,266050.01,586520.27,852570.28,{"$f":"TEXT(SPP[[#This Row],[DATA]],\"mmmm\")","v":"março"},{"$f":"YEAR(SPP[[#This Row],[DATA]])","v":2019}]
["18/03/2019","74","PROFESSOR",14926,990796.66,0,990796.66,{"$f":"TEXT(SPP[[#This Row],[DATA]],\"mmmm\")","v":"março"},{"$f":"YEAR(SPP[[#This Row],[DATA]])","v":2019}]
["18/03/2019","75","CARTAO FIDELIDADE",75536,0,6874306.4699999997,6874306.4699999997,{"$f":"TEXT(SPP[[#This Row],[DATA]],\"mmmm\")","v":"março"},{"$f":"YEAR(SPP[[#This Row],[DATA]])","v":2019}]
["18/03/2019","76","Lazer",194,0,7303.31,7303.31,{"$f":"TEXT(SPP[[#This Row],[DATA]],\"mmmm\")","v":"março"},{"$f":"YEAR(SPP[[#This Row],[DATA]])","v":2019}]
["18/03/2019","86","Estacionamento",7687,0,177432.84,177432.84,{"$f":"TEXT(SPP[[#This Row],[DATA]],\"mmmm\")","v":"março"},{"$f":"YEAR(SPP[[#This Row],[DATA]])","v":2019}]
["18/03/2019","100","BILHETE UNICO MENSAL - CASCO",2903992,501066088.60000002,44387958.469999999,545454047.07000005,{"$f":"TEXT(SPP[[#This Row],[DATA]],\"mmmm\")","v":"março"},{"$f":"YEAR(SPP[[#This Row],[DATA]])","v":2019}]
["18/03/2019","110","BUM - ANÔNIMO - CASCO",1090065,0,13731624.9,13731624.9,{"$f":"TEXT(SPP[[#This Row],[DATA]],\"mmmm\")","v":"março"},{"$f":"YEAR(SPP[[#This Row],[DATA]])","v":2019}]
["19/03/2019","51","COMUM 4 VIAGENS",3,0,49.82,49.82,{"$f":"TEXT(SPP[[#This Row],[DATA]],\"mmmm\")","v":"março"},{"$f":"YEAR(SPP[[#This Row],[DATA]])","v":2019}]
["19/03/2019","52","ESTUDANTE",36645,39187.01,384211.27,423398.28,{"$f":"TEXT(SPP[[#This Row],[DATA]],\"mmmm\")","v":"março"},{"$f":"YEAR(SPP[[#This Row],[DATA]])","v":2019}]
["19/03/2019","59","VT",2708817,268786160.63,30468048.190000001,299254208.81999999,{"$f":"TEXT(SPP[[#This Row],[DATA]],\"mmmm\")","v":"março"},{"$f":"YEAR(SPP[[#This Row],[DATA]])","v":2019}]
["19/03/2019","68","ESTUDANTE 8VG",1,0,2.7,2.7,{"$f":"TEXT(SPP[[#This Row],[DATA]],\"mmmm\")","v":"março"},{"$f":"YEAR(SPP[[#This Row],[DATA]])","v":2019}]
["19/03/2019","69","VT 8VG",823,0,25443.23,25443.23,{"$f":"TEXT(SPP[[#This Row],[DATA]],\"mmmm\")","v":"março"},{"$f":"YEAR(SPP[[#This Row],[DATA]])","v":2019}]
["19/03/2019","71","MÃE PAULISTANA",67322,264178.06,587872.35,852050.41,{"$f":"TEXT(SPP[[#This Row],[DATA]],\"mmmm\")","v":"março"},{"$f":"YEAR(SPP[[#This Row],[DATA]])","v":2019}]
["19/03/2019","74","PROFESSOR",15027,991516.31,0,991516.31,{"$f":"TEXT(SPP[[#This Row],[DATA]],\"mmmm\")","v":"março"},{"$f":"YEAR(SPP[[#This Row],[DATA]])","v":2019}]
["19/03/2019","75","CARTAO FIDELIDADE",75850,0,6853455.8399999999,6853455.8399999999,{"$f":"TEXT(SPP[[#This Row],[DATA]],\"mmmm\")","v":"março"},{"$f":"YEAR(SPP[[#This Row],[DATA]])","v":2019}]
["19/03/2019","76","Lazer",194,0,7346.31,7346.31,{"$f":"TEXT(SPP[[#This Row],[DATA]],\"mmmm\")","v":"março"},{"$f":"YEAR(SPP[[#This Row],[DATA]])","v":2019}]
["19/03/2019","86","Estacionamento",7721,0,176667.09,176667.09,{"$f":"TEXT(SPP[[#This Row],[DATA]],\"mmmm\")","v":"março"},{"$f":"YEAR(SPP[[#This Row],[DATA]])","v":2019}]
["19/03/2019","100","BILHETE UNICO MENSAL - CASCO",2914644,497266061.12,44333965.090000004,541600026.21000004,{"$f":"TEXT(SPP[[#This Row],[DATA]],\"mmmm\")","v":"março"},{"$f":"YEAR(SPP[[#This Row],[DATA]])","v":2019}]
["19/03/2019","110","BUM - ANÔNIMO - CASCO",1093063,0,13746802.48,13746802.48,{"$f":"TEXT(SPP[[#This Row],[DATA]],\"mmmm\")","v":"março"},{"$f":"YEAR(SPP[[#This Row],[DATA]])","v":2019}]
["20/03/2019","51","COMUM 4 VIAGENS",4,0,53.22,53.22,{"$f":"TEXT(SPP[[#This Row],[DATA]],\"mmmm\")","v":"março"},{"$f":"YEAR(SPP[[#This Row],[DATA]])","v":2019}]
["20/03/2019","52","ESTUDANTE",36893,39216.620000000003,389729.04,428945.66000000003,{"$f":"TEXT(SPP[[#This Row],[DATA]],\"mmmm\")","v":"março"},{"$f":"YEAR(SPP[[#This Row],[DATA]])","v":2019}]
["20/03/2019","59","VT",2715387,267307195.44,30724775.370000001,298031970.81,{"$f":"TEXT(SPP[[#This Row],[DATA]],\"mmmm\")","v":"março"},{"$f":"YEAR(SPP[[#This Row],[DATA]])","v":2019}]
["20/03/2019","68","ESTUDANTE 8VG",1,0,2.7,2.7,{"$f":"TEXT(SPP[[#This Row],[DATA]],\"mmmm\")","v":"março"},{"$f":"YEAR(SPP[[#This Row],[DATA]])","v":2019}]
["20/03/2019","69","VT 8VG",825,0,25696.55,25696.55,{"$f":"TEXT(SPP[[#This Row],[DATA]],\"mmmm\")","v":"março"},{"$f":"YEAR(SPP[[#This Row],[DATA]])","v":2019}]
["20/03/2019","71","MÃE PAULISTANA",67724,263844.26,594678.99,858523.25,{"$f":"TEXT(SPP[[#This Row],[DATA]],\"mmmm\")","v":"março"},{"$f":"YEAR(SPP[[#This Row],[DATA]])","v":2019}]
["20/03/2019","74","PROFESSOR",15141,990496.5,0,990496.5,{"$f":"TEXT(SPP[[#This Row],[DATA]],\"mmmm\")","v":"março"},{"$f":"YEAR(SPP[[#This Row],[DATA]])","v":2019}]
["20/03/2019","75","CARTAO FIDELIDADE",76035,0,6838975.0899999999,6838975.0899999999,{"$f":"TEXT(SPP[[#This Row],[DATA]],\"mmmm\")","v":"março"},{"$f":"YEAR(SPP[[#This Row],[DATA]])","v":2019}]
["20/03/2019","76","Lazer",194,0,7346.31,7346.31,{"$f":"TEXT(SPP[[#This Row],[DATA]],\"mmmm\")","v":"março"},{"$f":"YEAR(SPP[[#This Row],[DATA]])","v":2019}]
["20/03/2019","86","Estacionamento",7747,0,176400.24,176400.24,{"$f":"TEXT(SPP[[#This Row],[DATA]],\"mmmm\")","v":"março"},{"$f":"YEAR(SPP[[#This Row],[DATA]])","v":2019}]
["20/03/2019","100","BILHETE UNICO MENSAL - CASCO",2924596,493830917.36000001,44708432.729999997,538539350.09000003,{"$f":"TEXT(SPP[[#This Row],[DATA]],\"mmmm\")","v":"março"},{"$f":"YEAR(SPP[[#This Row],[DATA]])","v":2019}]
["20/03/2019","110","BUM - ANÔNIMO - CASCO",1095630,0,13866731.529999999,13866731.529999999,{"$f":"TEXT(SPP[[#This Row],[DATA]],\"mmmm\")","v":"março"},{"$f":"YEAR(SPP[[#This Row],[DATA]])","v":2019}]
["21/03/2019","51","COMUM 4 VIAGENS",4,0,53.22,53.22,{"$f":"TEXT(SPP[[#This Row],[DATA]],\"mmmm\")","v":"março"},{"$f":"YEAR(SPP[[#This Row],[DATA]])","v":2019}]
["21/03/2019","52","ESTUDANTE",37047,38945.870000000003,384990.08,423935.95,{"$f":"TEXT(SPP[[#This Row],[DATA]],\"mmmm\")","v":"março"},{"$f":"YEAR(SPP[[#This Row],[DATA]])","v":2019}]
["21/03/2019","59","VT",2720695,265682209.33000001,30328461.879999999,296010671.20999998,{"$f":"TEXT(SPP[[#This Row],[DATA]],\"mmmm\")","v":"março"},{"$f":"YEAR(SPP[[#This Row],[DATA]])","v":2019}]
["21/03/2019","68","ESTUDANTE 8VG",1,0,2.7,2.7,{"$f":"TEXT(SPP[[#This Row],[DATA]],\"mmmm\")","v":"março"},{"$f":"YEAR(SPP[[#This Row],[DATA]])","v":2019}]
["21/03/2019","69","VT 8VG",827,0,25186.639999999999,25186.639999999999,{"$f":"TEXT(SPP[[#This Row],[DATA]],\"mmmm\")","v":"março"},{"$f":"YEAR(SPP[[#This Row],[DATA]])","v":2019}]
["21/03/2019","71","MÃE PAULISTANA",68002,263651.08,587995.49,851646.57000000007,{"$f":"TEXT(SPP[[#This Row],[DATA]],\"mmmm\")","v":"março"},{"$f":"YEAR(SPP[[#This Row],[DATA]])","v":2019}]
["21/03/2019","74","PROFESSOR",15219,980890.32000000007,0,980890.32000000007,{"$f":"TEXT(SPP[[#This Row],[DATA]],\"mmmm\")","v":"março"},{"$f":"YEAR(SPP[[#This Row],[DATA]])","v":2019}]
["21/03/2019","75","CARTAO FIDELIDADE",76135,0,6790586.5599999996,6790586.5599999996,{"$f":"TEXT(SPP[[#This Row],[DATA]],\"mmmm\")","v":"março"},{"$f":"YEAR(SPP[[#This Row],[DATA]])","v":2019}]
["21/03/2019","76","Lazer",193,0,7302.16,7302.16,{"$f":"TEXT(SPP[[#This Row],[DATA]],\"mmmm\")","v":"março"},{"$f":"YEAR(SPP[[#This Row],[DATA]])","v":2019}]
["21/03/2019","86","Estacionamento",7782,0,174468.30000000002,174468.30000000002,{"$f":"TEXT(SPP[[#This Row],[DATA]],\"mmmm\")","v":"março"},{"$f":"YEAR(SPP[[#This Row],[DATA]])","v":2019}]
["21/03/2019","100","BILHETE UNICO MENSAL - CASCO",2933533,489728019.75,44203598.060000002,533931617.81,{"$f":"TEXT(SPP[[#This Row],[DATA]],\"mmmm\")","v":"março"},{"$f":"YEAR(SPP[[#This Row],[DATA]])","v":2019}]
["21/03/2019","110","BUM - ANÔNIMO - CASCO",1098115,0,13692034.93,13692034.93,{"$f":"TEXT(SPP[[#This Row],[DATA]],\"mmmm\")","v":"março"},{"$f":"YEAR(SPP[[#This Row],[DATA]])","v":2019}]
["22/03/2019","51","COMUM 4 VIAGENS",4,0,53.22,53.22,{"$f":"TEXT(SPP[[#This Row],[DATA]],\"mmmm\")","v":"março"},{"$f":"YEAR(SPP[[#This Row],[DATA]])","v":2019}]
["22/03/2019","52","ESTUDANTE",37249,39368.11,381481.3,420849.41000000003,{"$f":"TEXT(SPP[[#This Row],[DATA]],\"mmmm\")","v":"março"},{"$f":"YEAR(SPP[[#This Row],[DATA]])","v":2019}]
["22/03/2019","59","VT",2726679,264185803.66999999,30049357.739999998,294235161.41000003,{"$f":"TEXT(SPP[[#This Row],[DATA]],\"mmmm\")","v":"março"},{"$f":"YEAR(SPP[[#This Row],[DATA]])","v":2019}]
["22/03/2019","68","ESTUDANTE 8VG",1,0,2.7,2.7,{"$f":"TEXT(SPP[[#This Row],[DATA]],\"mmmm\")","v":"março"},{"$f":"YEAR(SPP[[#This Row],[DATA]])","v":2019}]
["22/03/2019","69","VT 8VG",826,0,24945.49,24945.49,{"$f":"TEXT(SPP[[#This Row],[DATA]],\"mmmm\")","v":"março"},{"$f":"YEAR(SPP[[#This Row],[DATA]])","v":2019}]
["22/03/2019","71","MÃE PAULISTANA",68322,265442.77,574897.97,840340.74,{"$f":"TEXT(SPP[[#This Row],[DATA]],\"mmmm\")","v":"março"},{"$f":"YEAR(SPP[[#This Row],[DATA]])","v":2019}]
["22/03/2019","74","PROFESSOR",15296,975103.92,0,975103.92,{"$f":"TEXT(SPP[[#This Row],[DATA]],\"mmmm\")","v":"março"},{"$f":"YEAR(SPP[[#This Row],[DATA]])","v":2019}]
["22/03/2019","75","CARTAO FIDELIDADE",76220,0,6733404.25,6733404.25,{"$f":"TEXT(SPP[[#This Row],[DATA]],\"mmmm\")","v":"março"},{"$f":"YEAR(SPP[[#This Row],[DATA]])","v":2019}]
["22/03/2019","76","Lazer",193,0,7302.16,7302.16,{"$f":"TEXT(SPP[[#This Row],[DATA]],\"mmmm\")","v":"março"},{"$f":"YEAR(SPP[[#This Row],[DATA]])","v":2019}]
["22/03/2019","86","Estacionamento",7814,0,171998.7,171998.7,{"$f":"TEXT(SPP[[#This Row],[DATA]],\"mmmm\")","v":"março"},{"$f":"YEAR(SPP[[#This Row],[DATA]])","v":2019}]
["22/03/2019","100","BILHETE UNICO MENSAL - CASCO",2942395,486270742.75999999,43501547.329999998,529772290.08999997,{"$f":"TEXT(SPP[[#This Row],[DATA]],\"mmmm\")","v":"março"},{"$f":"YEAR(SPP[[#This Row],[DATA]])","v":2019}]
["22/03/2019","110","BUM - ANÔNIMO - CASCO",1100715,0,13538167.130000001,13538167.130000001,{"$f":"TEXT(SPP[[#This Row],[DATA]],\"mmmm\")","v":"março"},{"$f":"YEAR(SPP[[#This Row],[DATA]])","v":2019}]
["23/03/2019","51","COMUM 4 VIAGENS",4,0,53.22,53.22,{"$f":"TEXT(SPP[[#This Row],[DATA]],\"mmmm\")","v":"março"},{"$f":"YEAR(SPP[[#This Row],[DATA]])","v":2019}]
["23/03/2019","52","ESTUDANTE",37380,39703.89,366465.14,406169.03,{"$f":"TEXT(SPP[[#This Row],[DATA]],\"mmmm\")","v":"março"},{"$f":"YEAR(SPP[[#This Row],[DATA]])","v":2019}]
["23/03/2019","59","VT",2730956,262768938.47999999,28817305.870000001,291586244.35000002,{"$f":"TEXT(SPP[[#This Row],[DATA]],\"mmmm\")","v":"março"},{"$f":"YEAR(SPP[[#This Row],[DATA]])","v":2019}]
["23/03/2019","68","ESTUDANTE 8VG",1,0,2.7,2.7,{"$f":"TEXT(SPP[[#This Row],[DATA]],\"mmmm\")","v":"março"},{"$f":"YEAR(SPP[[#This Row],[DATA]])","v":2019}]
["23/03/2019","69","VT 8VG",828,0,24191.99,24191.99,{"$f":"TEXT(SPP[[#This Row],[DATA]],\"mmmm\")","v":"março"},{"$f":"YEAR(SPP[[#This Row],[DATA]])","v":2019}]
["23/03/2019","71","MÃE PAULISTANA",68481,264516.91000000003,549656.19999999995,814173.11,{"$f":"TEXT(SPP[[#This Row],[DATA]],\"mmmm\")","v":"março"},{"$f":"YEAR(SPP[[#This Row],[DATA]])","v":2019}]
["23/03/2019","74","PROFESSOR",15327,960493.84,0,960493.84,{"$f":"TEXT(SPP[[#This Row],[DATA]],\"mmmm\")","v":"março"},{"$f":"YEAR(SPP[[#This Row],[DATA]])","v":2019}]
["23/03/2019","75","CARTAO FIDELIDADE",75795,0,6542535.1200000001,6542535.1200000001,{"$f":"TEXT(SPP[[#This Row],[DATA]],\"mmmm\")","v":"março"},{"$f":"YEAR(SPP[[#This Row],[DATA]])","v":2019}]
["23/03/2019","76","Lazer",194,0,7345.16,7345.16,{"$f":"TEXT(SPP[[#This Row],[DATA]],\"mmmm\")","v":"março"},{"$f":"YEAR(SPP[[#This Row],[DATA]])","v":2019}]
["23/03/2019","86","Estacionamento",7827,0,162820.49,162820.49,{"$f":"TEXT(SPP[[#This Row],[DATA]],\"mmmm\")","v":"março"},{"$f":"YEAR(SPP[[#This Row],[DATA]])","v":2019}]
["23/03/2019","100","BILHETE UNICO MENSAL - CASCO",2948134,482259273.67000002,41538971.060000002,523798244.73000002,{"$f":"TEXT(SPP[[#This Row],[DATA]],\"mmmm\")","v":"março"},{"$f":"YEAR(SPP[[#This Row],[DATA]])","v":2019}]
["23/03/2019","110","BUM - ANÔNIMO - CASCO",1102472,0,12912061.57,12912061.57,{"$f":"TEXT(SPP[[#This Row],[DATA]],\"mmmm\")","v":"março"},{"$f":"YEAR(SPP[[#This Row],[DATA]])","v":2019}]
["24/03/2019","51","COMUM 4 VIAGENS",4,0,53.22,53.22,{"$f":"TEXT(SPP[[#This Row],[DATA]],\"mmmm\")","v":"março"},{"$f":"YEAR(SPP[[#This Row],[DATA]])","v":2019}]
["24/03/2019","52","ESTUDANTE",37419,40002.300000000003,359533.32,399535.62,{"$f":"TEXT(SPP[[#This Row],[DATA]],\"mmmm\")","v":"março"},{"$f":"YEAR(SPP[[#This Row],[DATA]])","v":2019}]
["24/03/2019","59","VT",2733180,262240937.49000001,28280748.390000001,290521685.88,{"$f":"TEXT(SPP[[#This Row],[DATA]],\"mmmm\")","v":"março"},{"$f":"YEAR(SPP[[#This Row],[DATA]])","v":2019}]
["24/03/2019","68","ESTUDANTE 8VG",1,0,2.7,2.7,{"$f":"TEXT(SPP[[#This Row],[DATA]],\"mmmm\")","v":"março"},{"$f":"YEAR(SPP[[#This Row],[DATA]])","v":2019}]
["24/03/2019","69","VT 8VG",829,0,23864.33,23864.33,{"$f":"TEXT(SPP[[#This Row],[DATA]],\"mmmm\")","v":"março"},{"$f":"YEAR(SPP[[#This Row],[DATA]])","v":2019}]
["24/03/2019","71","MÃE PAULISTANA",68546,261935.54,538472.36,800407.9,{"$f":"TEXT(SPP[[#This Row],[DATA]],\"mmmm\")","v":"março"},{"$f":"YEAR(SPP[[#This Row],[DATA]])","v":2019}]
["24/03/2019","74","PROFESSOR",15352,956047.17,0,956047.17,{"$f":"TEXT(SPP[[#This Row],[DATA]],\"mmmm\")","v":"março"},{"$f":"YEAR(SPP[[#This Row],[DATA]])","v":2019}]
["24/03/2019","75","CARTAO FIDELIDADE",75800,0,6520636.2400000002,6520636.2400000002,{"$f":"TEXT(SPP[[#This Row],[DATA]],\"mmmm\")","v":"março"},{"$f":"YEAR(SPP[[#This Row],[DATA]])","v":2019}]
["24/03/2019","76","Lazer",197,0,7537.06,7537.06,{"$f":"TEXT(SPP[[#This Row],[DATA]],\"mmmm\")","v":"março"},{"$f":"YEAR(SPP[[#This Row],[DATA]])","v":2019}]
["24/03/2019","86","Estacionamento",7833,0,161389.83000000002,161389.83000000002,{"$f":"TEXT(SPP[[#This Row],[DATA]],\"mmmm\")","v":"março"},{"$f":"YEAR(SPP[[#This Row],[DATA]])","v":2019}]
["24/03/2019","100","BILHETE UNICO MENSAL - CASCO",2950840,480825462.17000002,40914332.850000001,521739795.01999998,{"$f":"TEXT(SPP[[#This Row],[DATA]],\"mmmm\")","v":"março"},{"$f":"YEAR(SPP[[#This Row],[DATA]])","v":2019}]
["24/03/2019","110","BUM - ANÔNIMO - CASCO",1103318,0,12663531,12663531,{"$f":"TEXT(SPP[[#This Row],[DATA]],\"mmmm\")","v":"março"},{"$f":"YEAR(SPP[[#This Row],[DATA]])","v":2019}]
["25/03/2019","51","COMUM 4 VIAGENS",4,0,53.22,53.22,{"$f":"TEXT(SPP[[#This Row],[DATA]],\"mmmm\")","v":"março"},{"$f":"YEAR(SPP[[#This Row],[DATA]])","v":2019}]
["25/03/2019","52","ESTUDANTE",37655,40096.04,380866.71,420962.75,{"$f":"TEXT(SPP[[#This Row],[DATA]],\"mmmm\")","v":"março"},{"$f":"YEAR(SPP[[#This Row],[DATA]])","v":2019}]
["25/03/2019","59","VT",2740646,261964157.71000001,30042859.649999999,292007017.36000001,{"$f":"TEXT(SPP[[#This Row],[DATA]],\"mmmm\")","v":"março"},{"$f":"YEAR(SPP[[#This Row],[DATA]])","v":2019}]
["25/03/2019","68","ESTUDANTE 8VG",1,0,2.7,2.7,{"$f":"TEXT(SPP[[#This Row],[DATA]],\"mmmm\")","v":"março"},{"$f":"YEAR(SPP[[#This Row],[DATA]])","v":2019}]
["25/03/2019","69","VT 8VG",833,0,24239.100000000002,24239.100000000002,{"$f":"TEXT(SPP[[#This Row],[DATA]],\"mmmm\")","v":"março"},{"$f":"YEAR(SPP[[#This Row],[DATA]])","v":2019}]
["25/03/2019","71","MÃE PAULISTANA",68964,265986.24,567326.06000000006,833312.3,{"$f":"TEXT(SPP[[#This Row],[DATA]],\"mmmm\")","v":"março"},{"$f":"YEAR(SPP[[#This Row],[DATA]])","v":2019}]
["25/03/2019","74","PROFESSOR",15431,971700,0,971700,{"$f":"TEXT(SPP[[#This Row],[DATA]],\"mmmm\")","v":"março"},{"$f":"YEAR(SPP[[#This Row],[DATA]])","v":2019}]
["25/03/2019","75","CARTAO FIDELIDADE",76641,0,6758887.8899999997,6758887.8899999997,{"$f":"TEXT(SPP[[#This Row],[DATA]],\"mmmm\")","v":"março"},{"$f":"YEAR(SPP[[#This Row],[DATA]])","v":2019}]
["25/03/2019","76","Lazer",200,0,7317.16,7317.16,{"$f":"TEXT(SPP[[#This Row],[DATA]],\"mmmm\")","v":"março"},{"$f":"YEAR(SPP[[#This Row],[DATA]])","v":2019}]
["25/03/2019","86","Estacionamento",7847,0,171521.75,171521.75,{"$f":"TEXT(SPP[[#This Row],[DATA]],\"mmmm\")","v":"março"},{"$f":"YEAR(SPP[[#This Row],[DATA]])","v":2019}]
["25/03/2019","100","BILHETE UNICO MENSAL - CASCO",2961230,481911982.31999999,43235800.950000003,525147783.26999998,{"$f":"TEXT(SPP[[#This Row],[DATA]],\"mmmm\")","v":"março"},{"$f":"YEAR(SPP[[#This Row],[DATA]])","v":2019}]
["25/03/2019","110","BUM - ANÔNIMO - CASCO",1106599,0,13534919.029999999,13534919.029999999,{"$f":"TEXT(SPP[[#This Row],[DATA]],\"mmmm\")","v":"março"},{"$f":"YEAR(SPP[[#This Row],[DATA]])","v":2019}]
["26/03/2019","51","COMUM 4 VIAGENS",4,0,36.020000000000003,36.020000000000003,{"$f":"TEXT(SPP[[#This Row],[DATA]],\"mmmm\")","v":"março"},{"$f":"YEAR(SPP[[#This Row],[DATA]])","v":2019}]
["26/03/2019","52","ESTUDANTE",37829,39936.11,380812.02,420748.13,{"$f":"TEXT(SPP[[#This Row],[DATA]],\"mmmm\")","v":"março"},{"$f":"YEAR(SPP[[#This Row],[DATA]])","v":2019}]
["26/03/2019","59","VT",2746989,262204155.03999999,29953465.510000002,292157620.55000001,{"$f":"TEXT(SPP[[#This Row],[DATA]],\"mmmm\")","v":"março"},{"$f":"YEAR(SPP[[#This Row],[DATA]])","v":2019}]
["26/03/2019","68","ESTUDANTE 8VG",1,0,2.7,2.7,{"$f":"TEXT(SPP[[#This Row],[DATA]],\"mmmm\")","v":"março"},{"$f":"YEAR(SPP[[#This Row],[DATA]])","v":2019}]
["26/03/2019","69","VT 8VG",836,0,23782.260000000002,23782.260000000002,{"$f":"TEXT(SPP[[#This Row],[DATA]],\"mmmm\")","v":"março"},{"$f":"YEAR(SPP[[#This Row],[DATA]])","v":2019}]
["26/03/2019","71","MÃE PAULISTANA",69424,271349.84000000003,563538.68000000005,834888.52,{"$f":"TEXT(SPP[[#This Row],[DATA]],\"mmmm\")","v":"março"},{"$f":"YEAR(SPP[[#This Row],[DATA]])","v":2019}]
["26/03/2019","74","PROFESSOR",15510,963993.27,0,963993.27,{"$f":"TEXT(SPP[[#This Row],[DATA]],\"mmmm\")","v":"março"},{"$f":"YEAR(SPP[[#This Row],[DATA]])","v":2019}]
["26/03/2019","75","CARTAO FIDELIDADE",76785,0,6712385.2000000002,6712385.2000000002,{"$f":"TEXT(SPP[[#This Row],[DATA]],\"mmmm\")","v":"março"},{"$f":"YEAR(SPP[[#This Row],[DATA]])","v":2019}]
["26/03/2019","76","Lazer",200,0,7317.16,7317.16,{"$f":"TEXT(SPP[[#This Row],[DATA]],\"mmmm\")","v":"março"},{"$f":"YEAR(SPP[[#This Row],[DATA]])","v":2019}]
["26/03/2019","86","Estacionamento",7872,0,168963.38,168963.38,{"$f":"TEXT(SPP[[#This Row],[DATA]],\"mmmm\")","v":"março"},{"$f":"YEAR(SPP[[#This Row],[DATA]])","v":2019}]
["26/03/2019","100","BILHETE UNICO MENSAL - CASCO",2971228,484708290.88,42680927.119999997,527389218,{"$f":"TEXT(SPP[[#This Row],[DATA]],\"mmmm\")","v":"março"},{"$f":"YEAR(SPP[[#This Row],[DATA]])","v":2019}]
["26/03/2019","110","BUM - ANÔNIMO - CASCO",1109269,0,13495355.800000001,13495355.800000001,{"$f":"TEXT(SPP[[#This Row],[DATA]],\"mmmm\")","v":"março"},{"$f":"YEAR(SPP[[#This Row],[DATA]])","v":2019}]
["27/03/2019","51","COMUM 4 VIAGENS",4,0,25.36,25.36,{"$f":"TEXT(SPP[[#This Row],[DATA]],\"mmmm\")","v":"março"},{"$f":"YEAR(SPP[[#This Row],[DATA]])","v":2019}]
["27/03/2019","52","ESTUDANTE",38020,40852.379999999997,381948.98,422801.36,{"$f":"TEXT(SPP[[#This Row],[DATA]],\"mmmm\")","v":"março"},{"$f":"YEAR(SPP[[#This Row],[DATA]])","v":2019}]
["27/03/2019","59","VT",2752756,263455140.66999999,29958248.329999998,293413389,{"$f":"TEXT(SPP[[#This Row],[DATA]],\"mmmm\")","v":"março"},{"$f":"YEAR(SPP[[#This Row],[DATA]])","v":2019}]
["27/03/2019","68","ESTUDANTE 8VG",1,0,2.7,2.7,{"$f":"TEXT(SPP[[#This Row],[DATA]],\"mmmm\")","v":"março"},{"$f":"YEAR(SPP[[#This Row],[DATA]])","v":2019}]
["27/03/2019","69","VT 8VG",837,0,23676.68,23676.68,{"$f":"TEXT(SPP[[#This Row],[DATA]],\"mmmm\")","v":"março"},{"$f":"YEAR(SPP[[#This Row],[DATA]])","v":2019}]
["27/03/2019","71","MÃE PAULISTANA",69881,281863.3,560374.17000000004,842237.47,{"$f":"TEXT(SPP[[#This Row],[DATA]],\"mmmm\")","v":"março"},{"$f":"YEAR(SPP[[#This Row],[DATA]])","v":2019}]
["27/03/2019","74","PROFESSOR",15576,961291.88,0,961291.88,{"$f":"TEXT(SPP[[#This Row],[DATA]],\"mmmm\")","v":"março"},{"$f":"YEAR(SPP[[#This Row],[DATA]])","v":2019}]
["27/03/2019","75","CARTAO FIDELIDADE",76955,0,6708283.1299999999,6708283.1299999999,{"$f":"TEXT(SPP[[#This Row],[DATA]],\"mmmm\")","v":"março"},{"$f":"YEAR(SPP[[#This Row],[DATA]])","v":2019}]
["27/03/2019","76","Lazer",200,0,7317.16,7317.16,{"$f":"TEXT(SPP[[#This Row],[DATA]],\"mmmm\")","v":"março"},{"$f":"YEAR(SPP[[#This Row],[DATA]])","v":2019}]
["27/03/2019","86","Estacionamento",7902,0,168039.5,168039.5,{"$f":"TEXT(SPP[[#This Row],[DATA]],\"mmmm\")","v":"março"},{"$f":"YEAR(SPP[[#This Row],[DATA]])","v":2019}]
["27/03/2019","100","BILHETE UNICO MENSAL - CASCO",2980585,490726729.25999999,42401071.780000001,533127801.04000002,{"$f":"TEXT(SPP[[#This Row],[DATA]],\"mmmm\")","v":"março"},{"$f":"YEAR(SPP[[#This Row],[DATA]])","v":2019}]
["27/03/2019","110","BUM - ANÔNIMO - CASCO",1111958,0,13512998.23,13512998.23,{"$f":"TEXT(SPP[[#This Row],[DATA]],\"mmmm\")","v":"março"},{"$f":"YEAR(SPP[[#This Row],[DATA]])","v":2019}]
["28/03/2019","51","COMUM 4 VIAGENS",4,0,25.36,25.36,{"$f":"TEXT(SPP[[#This Row],[DATA]],\"mmmm\")","v":"março"},{"$f":"YEAR(SPP[[#This Row],[DATA]])","v":2019}]
["28/03/2019","52","ESTUDANTE",38187,40495.040000000001,375980.27,416475.31,{"$f":"TEXT(SPP[[#This Row],[DATA]],\"mmmm\")","v":"março"},{"$f":"YEAR(SPP[[#This Row],[DATA]])","v":2019}]
["28/03/2019","59","VT",2757663,265626688.5,29343301.41,294969989.91000003,{"$f":"TEXT(SPP[[#This Row],[DATA]],\"mmmm\")","v":"março"},{"$f":"YEAR(SPP[[#This Row],[DATA]])","v":2019}]
["28/03/2019","68","ESTUDANTE 8VG",1,0,2.7,2.7,{"$f":"TEXT(SPP[[#This Row],[DATA]],\"mmmm\")","v":"março"},{"$f":"YEAR(SPP[[#This Row],[DATA]])","v":2019}]
["28/03/2019","69","VT 8VG",835,0,23068.53,23068.53,{"$f":"TEXT(SPP[[#This Row],[DATA]],\"mmmm\")","v":"março"},{"$f":"YEAR(SPP[[#This Row],[DATA]])","v":2019}]
["28/03/2019","71","MÃE PAULISTANA",70337,288793.76,549540.57999999996,838334.34,{"$f":"TEXT(SPP[[#This Row],[DATA]],\"mmmm\")","v":"março"},{"$f":"YEAR(SPP[[#This Row],[DATA]])","v":2019}]
["28/03/2019","74","PROFESSOR",15636,955225.18,0,955225.18,{"$f":"TEXT(SPP[[#This Row],[DATA]],\"mmmm\")","v":"março"},{"$f":"YEAR(SPP[[#This Row],[DATA]])","v":2019}]
["28/03/2019","75","CARTAO FIDELIDADE",77028,0,6678747.3399999999,6678747.3399999999,{"$f":"TEXT(SPP[[#This Row],[DATA]],\"mmmm\")","v":"março"},{"$f":"YEAR(SPP[[#This Row],[DATA]])","v":2019}]
["28/03/2019","76","Lazer",200,0,7317.16,7317.16,{"$f":"TEXT(SPP[[#This Row],[DATA]],\"mmmm\")","v":"março"},{"$f":"YEAR(SPP[[#This Row],[DATA]])","v":2019}]
["28/03/2019","86","Estacionamento",7924,0,168324.48000000001,168324.48000000001,{"$f":"TEXT(SPP[[#This Row],[DATA]],\"mmmm\")","v":"março"},{"$f":"YEAR(SPP[[#This Row],[DATA]])","v":2019}]
["28/03/2019","100","BILHETE UNICO MENSAL - CASCO",2988844,499522488.62,41226365.43,540748854.04999995,{"$f":"TEXT(SPP[[#This Row],[DATA]],\"mmmm\")","v":"março"},{"$f":"YEAR(SPP[[#This Row],[DATA]])","v":2019}]
["28/03/2019","110","BUM - ANÔNIMO - CASCO",1114182,0,13207395.539999999,13207395.539999999,{"$f":"TEXT(SPP[[#This Row],[DATA]],\"mmmm\")","v":"março"},{"$f":"YEAR(SPP[[#This Row],[DATA]])","v":2019}]
["29/03/2019","51","COMUM 4 VIAGENS",4,0,25.36,25.36,{"$f":"TEXT(SPP[[#This Row],[DATA]],\"mmmm\")","v":"março"},{"$f":"YEAR(SPP[[#This Row],[DATA]])","v":2019}]
["29/03/2019","52","ESTUDANTE",38355,41150.26,368418.42,409568.68,{"$f":"TEXT(SPP[[#This Row],[DATA]],\"mmmm\")","v":"março"},{"$f":"YEAR(SPP[[#This Row],[DATA]])","v":2019}]
["29/03/2019","59","VT",2762485,268194729.86000001,28730808.559999999,296925538.42000002,{"$f":"TEXT(SPP[[#This Row],[DATA]],\"mmmm\")","v":"março"},{"$f":"YEAR(SPP[[#This Row],[DATA]])","v":2019}]
["29/03/2019","68","ESTUDANTE 8VG",1,0,2.7,2.7,{"$f":"TEXT(SPP[[#This Row],[DATA]],\"mmmm\")","v":"março"},{"$f":"YEAR(SPP[[#This Row],[DATA]])","v":2019}]
["29/03/2019","69","VT 8VG",833,0,23502.02,23502.02,{"$f":"TEXT(SPP[[#This Row],[DATA]],\"mmmm\")","v":"março"},{"$f":"YEAR(SPP[[#This Row],[DATA]])","v":2019}]
["29/03/2019","71","MÃE PAULISTANA",70772,296098.88,541868.9,837967.78,{"$f":"TEXT(SPP[[#This Row],[DATA]],\"mmmm\")","v":"março"},{"$f":"YEAR(SPP[[#This Row],[DATA]])","v":2019}]
["29/03/2019","74","PROFESSOR",15721,958315.94000000006,0,958315.94000000006,{"$f":"TEXT(SPP[[#This Row],[DATA]],\"mmmm\")","v":"março"},{"$f":"YEAR(SPP[[#This Row],[DATA]])","v":2019}]
["29/03/2019","75","CARTAO FIDELIDADE",77180,0,6687160.54,6687160.54,{"$f":"TEXT(SPP[[#This Row],[DATA]],\"mmmm\")","v":"março"},{"$f":"YEAR(SPP[[#This Row],[DATA]])","v":2019}]
["29/03/2019","76","Lazer",202,0,7403.16,7403.16,{"$f":"TEXT(SPP[[#This Row],[DATA]],\"mmmm\")","v":"março"},{"$f":"YEAR(SPP[[#This Row],[DATA]])","v":2019}]
["29/03/2019","86","Estacionamento",7949,0,166721.29,166721.29,{"$f":"TEXT(SPP[[#This Row],[DATA]],\"mmmm\")","v":"março"},{"$f":"YEAR(SPP[[#This Row],[DATA]])","v":2019}]
["29/03/2019","100","BILHETE UNICO MENSAL - CASCO",2998329,511169238.62,41149856.119999997,552319094.74000001,{"$f":"TEXT(SPP[[#This Row],[DATA]],\"mmmm\")","v":"março"},{"$f":"YEAR(SPP[[#This Row],[DATA]])","v":2019}]
["29/03/2019","110","BUM - ANÔNIMO - CASCO",1116205,0,12906367.859999999,12906367.859999999,{"$f":"TEXT(SPP[[#This Row],[DATA]],\"mmmm\")","v":"março"},{"$f":"YEAR(SPP[[#This Row],[DATA]])","v":2019}]
["30/03/2019","51","COMUM 4 VIAGENS",4,0,25.36,25.36,{"$f":"TEXT(SPP[[#This Row],[DATA]],\"mmmm\")","v":"março"},{"$f":"YEAR(SPP[[#This Row],[DATA]])","v":2019}]
["30/03/2019","52","ESTUDANTE",38498,42159.03,360655.65,402814.68,{"$f":"TEXT(SPP[[#This Row],[DATA]],\"mmmm\")","v":"março"},{"$f":"YEAR(SPP[[#This Row],[DATA]])","v":2019}]
["30/03/2019","59","VT",2766205,270356633.54000002,27950129.120000001,298306762.66000003,{"$f":"TEXT(SPP[[#This Row],[DATA]],\"mmmm\")","v":"março"},{"$f":"YEAR(SPP[[#This Row],[DATA]])","v":2019}]
["30/03/2019","68","ESTUDANTE 8VG",1,0,2.7,2.7,{"$f":"TEXT(SPP[[#This Row],[DATA]],\"mmmm\")","v":"março"},{"$f":"YEAR(SPP[[#This Row],[DATA]])","v":2019}]
["30/03/2019","69","VT 8VG",835,0,23411.850000000002,23411.850000000002,{"$f":"TEXT(SPP[[#This Row],[DATA]],\"mmmm\")","v":"março"},{"$f":"YEAR(SPP[[#This Row],[DATA]])","v":2019}]
["30/03/2019","71","MÃE PAULISTANA",71032,299415.98,534641.65,834057.63,{"$f":"TEXT(SPP[[#This Row],[DATA]],\"mmmm\")","v":"março"},{"$f":"YEAR(SPP[[#This Row],[DATA]])","v":2019}]
["30/03/2019","74","PROFESSOR",15751,946366.92,0,946366.92,{"$f":"TEXT(SPP[[#This Row],[DATA]],\"mmmm\")","v":"março"},{"$f":"YEAR(SPP[[#This Row],[DATA]])","v":2019}]
["30/03/2019","75","CARTAO FIDELIDADE",76711,0,6513442.8700000001,6513442.8700000001,{"$f":"TEXT(SPP[[#This Row],[DATA]],\"mmmm\")","v":"março"},{"$f":"YEAR(SPP[[#This Row],[DATA]])","v":2019}]
["30/03/2019","76","Lazer",203,0,7446.16,7446.16,{"$f":"TEXT(SPP[[#This Row],[DATA]],\"mmmm\")","v":"março"},{"$f":"YEAR(SPP[[#This Row],[DATA]])","v":2019}]
["30/03/2019","86","Estacionamento",7962,0,159516.16,159516.16,{"$f":"TEXT(SPP[[#This Row],[DATA]],\"mmmm\")","v":"março"},{"$f":"YEAR(SPP[[#This Row],[DATA]])","v":2019}]
["30/03/2019","100","BILHETE UNICO MENSAL - CASCO",3004117,518945038.92000002,40564364.630000003,559509403.54999995,{"$f":"TEXT(SPP[[#This Row],[DATA]],\"mmmm\")","v":"março"},{"$f":"YEAR(SPP[[#This Row],[DATA]])","v":2019}]
["30/03/2019","110","BUM - ANÔNIMO - CASCO",1117558,0,12574498.199999999,12574498.199999999,{"$f":"TEXT(SPP[[#This Row],[DATA]],\"mmmm\")","v":"março"},{"$f":"YEAR(SPP[[#This Row],[DATA]])","v":2019}]
["31/03/2019","51","COMUM 4 VIAGENS",4,0,25.36,25.36,{"$f":"TEXT(SPP[[#This Row],[DATA]],\"mmmm\")","v":"março"},{"$f":"YEAR(SPP[[#This Row],[DATA]])","v":2019}]
["31/03/2019","52","ESTUDANTE",38584,43078.53,354669.60000000003,397748.13,{"$f":"TEXT(SPP[[#This Row],[DATA]],\"mmmm\")","v":"março"},{"$f":"YEAR(SPP[[#This Row],[DATA]])","v":2019}]
["31/03/2019","59","VT",2768249,271213440.11000001,27463949.77,298677389.88,{"$f":"TEXT(SPP[[#This Row],[DATA]],\"mmmm\")","v":"março"},{"$f":"YEAR(SPP[[#This Row],[DATA]])","v":2019}]
["31/03/2019","68","ESTUDANTE 8VG",1,0,2.7,2.7,{"$f":"TEXT(SPP[[#This Row],[DATA]],\"mmmm\")","v":"março"},{"$f":"YEAR(SPP[[#This Row],[DATA]])","v":2019}]
["31/03/2019","69","VT 8VG",836,0,23316.959999999999,23316.959999999999,{"$f":"TEXT(SPP[[#This Row],[DATA]],\"mmmm\")","v":"março"},{"$f":"YEAR(SPP[[#This Row],[DATA]])","v":2019}]
["31/03/2019","71","MÃE PAULISTANA",71119,299540.95,528236.03,827776.98,{"$f":"TEXT(SPP[[#This Row],[DATA]],\"mmmm\")","v":"março"},{"$f":"YEAR(SPP[[#This Row],[DATA]])","v":2019}]
["31/03/2019","74","PROFESSOR",15766,947931.42,0,947931.42,{"$f":"TEXT(SPP[[#This Row],[DATA]],\"mmmm\")","v":"março"},{"$f":"YEAR(SPP[[#This Row],[DATA]])","v":2019}]
["31/03/2019","75","CARTAO FIDELIDADE",76750,0,6500983.2400000002,6500983.2400000002,{"$f":"TEXT(SPP[[#This Row],[DATA]],\"mmmm\")","v":"março"},{"$f":"YEAR(SPP[[#This Row],[DATA]])","v":2019}]
["31/03/2019","76","Lazer",202,0,7586.06,7586.06,{"$f":"TEXT(SPP[[#This Row],[DATA]],\"mmmm\")","v":"março"},{"$f":"YEAR(SPP[[#This Row],[DATA]])","v":2019}]
["31/03/2019","86","Estacionamento",7972,0,158359.32,158359.32,{"$f":"TEXT(SPP[[#This Row],[DATA]],\"mmmm\")","v":"março"},{"$f":"YEAR(SPP[[#This Row],[DATA]])","v":2019}]
["31/03/2019","100","BILHETE UNICO MENSAL - CASCO",3007068,522473718.13999999,40369349.030000001,562843067.16999996,{"$f":"TEXT(SPP[[#This Row],[DATA]],\"mmmm\")","v":"março"},{"$f":"YEAR(SPP[[#This Row],[DATA]])","v":2019}]
["31/03/2019","110","BUM - ANÔNIMO - CASCO",1118383,0,12367580.41,12367580.41,{"$f":"TEXT(SPP[[#This Row],[DATA]],\"mmmm\")","v":"março"},{"$f":"YEAR(SPP[[#This Row],[DATA]])","v":2019}]
["01/04/2019","51","COMUM 4 VIAGENS",3,0,24.2,24.2,{"$f":"TEXT(SPP[[#This Row],[DATA]],\"mmmm\")","v":"abril"},{"$f":"YEAR(SPP[[#This Row],[DATA]])","v":2019}]
["01/04/2019","52","ESTUDANTE",38829,43264.23,376204.86,419469.09,{"$f":"TEXT(SPP[[#This Row],[DATA]],\"mmmm\")","v":"abril"},{"$f":"YEAR(SPP[[#This Row],[DATA]])","v":2019}]
["01/04/2019","59","VT",2775285,272657773.10000002,29085294.84,301743067.94,{"$f":"TEXT(SPP[[#This Row],[DATA]],\"mmmm\")","v":"abril"},{"$f":"YEAR(SPP[[#This Row],[DATA]])","v":2019}]
["01/04/2019","68","ESTUDANTE 8VG",1,0,2.7,2.7,{"$f":"TEXT(SPP[[#This Row],[DATA]],\"mmmm\")","v":"abril"},{"$f":"YEAR(SPP[[#This Row],[DATA]])","v":2019}]
["01/04/2019","69","VT 8VG",838,0,24272.13,24272.13,{"$f":"TEXT(SPP[[#This Row],[DATA]],\"mmmm\")","v":"abril"},{"$f":"YEAR(SPP[[#This Row],[DATA]])","v":2019}]
["01/04/2019","71","MÃE PAULISTANA",71617,305914.28000000003,571936.11,877850.39,{"$f":"TEXT(SPP[[#This Row],[DATA]],\"mmmm\")","v":"abril"},{"$f":"YEAR(SPP[[#This Row],[DATA]])","v":2019}]
["01/04/2019","74","PROFESSOR",15878,987883.09,0,987883.09,{"$f":"TEXT(SPP[[#This Row],[DATA]],\"mmmm\")","v":"abril"},{"$f":"YEAR(SPP[[#This Row],[DATA]])","v":2019}]
["01/04/2019","75","CARTAO FIDELIDADE",77676,0,6769867.1600000001,6769867.1600000001,{"$f":"TEXT(SPP[[#This Row],[DATA]],\"mmmm\")","v":"abril"},{"$f":"YEAR(SPP[[#This Row],[DATA]])","v":2019}]
["01/04/2019","76","Lazer",202,0,7407.76,7407.76,{"$f":"TEXT(SPP[[#This Row],[DATA]],\"mmmm\")","v":"abril"},{"$f":"YEAR(SPP[[#This Row],[DATA]])","v":2019}]
["01/04/2019","86","Estacionamento",7995,0,171673.91,171673.91,{"$f":"TEXT(SPP[[#This Row],[DATA]],\"mmmm\")","v":"abril"},{"$f":"YEAR(SPP[[#This Row],[DATA]])","v":2019}]
["01/04/2019","100","BILHETE UNICO MENSAL - CASCO",3018931,531293210.81,44135175.850000001,575428386.65999997,{"$f":"TEXT(SPP[[#This Row],[DATA]],\"mmmm\")","v":"abril"},{"$f":"YEAR(SPP[[#This Row],[DATA]])","v":2019}]
["01/04/2019","110","BUM - ANÔNIMO - CASCO",1121505,0,13173339.619999999,13173339.619999999,{"$f":"TEXT(SPP[[#This Row],[DATA]],\"mmmm\")","v":"abril"},{"$f":"YEAR(SPP[[#This Row],[DATA]])","v":2019}]
["02/04/2019","51","COMUM 4 VIAGENS",3,0,19.900000000000002,19.900000000000002,{"$f":"TEXT(SPP[[#This Row],[DATA]],\"mmmm\")","v":"abril"},{"$f":"YEAR(SPP[[#This Row],[DATA]])","v":2019}]
["02/04/2019","52","ESTUDANTE",38993,43914.28,383316.86,427231.14,{"$f":"TEXT(SPP[[#This Row],[DATA]],\"mmmm\")","v":"abril"},{"$f":"YEAR(SPP[[#This Row],[DATA]])","v":2019}]
["02/04/2019","59","VT",2781066,274412320.39999998,29729048.359999999,304141368.75999999,{"$f":"TEXT(SPP[[#This Row],[DATA]],\"mmmm\")","v":"abril"},{"$f":"YEAR(SPP[[#This Row],[DATA]])","v":2019}]
["02/04/2019","68","ESTUDANTE 8VG",1,0,2.7,2.7,{"$f":"TEXT(SPP[[#This Row],[DATA]],\"mmmm\")","v":"abril"},{"$f":"YEAR(SPP[[#This Row],[DATA]])","v":2019}]
["02/04/2019","69","VT 8VG",839,0,24531.190000000002,24531.190000000002,{"$f":"TEXT(SPP[[#This Row],[DATA]],\"mmmm\")","v":"abril"},{"$f":"YEAR(SPP[[#This Row],[DATA]])","v":2019}]
["02/04/2019","71","MÃE PAULISTANA",72033,309761.48,596645.35,906406.83000000007,{"$f":"TEXT(SPP[[#This Row],[DATA]],\"mmmm\")","v":"abril"},{"$f":"YEAR(SPP[[#This Row],[DATA]])","v":2019}]
["02/04/2019","74","PROFESSOR",15960,1009432.47,0,1009432.47,{"$f":"TEXT(SPP[[#This Row],[DATA]],\"mmmm\")","v":"abril"},{"$f":"YEAR(SPP[[#This Row],[DATA]])","v":2019}]
["02/04/2019","75","CARTAO FIDELIDADE",78050,0,6882486.5999999996,6882486.5999999996,{"$f":"TEXT(SPP[[#This Row],[DATA]],\"mmmm\")","v":"abril"},{"$f":"YEAR(SPP[[#This Row],[DATA]])","v":2019}]
["02/04/2019","76","Lazer",202,0,7407.76,7407.76,{"$f":"TEXT(SPP[[#This Row],[DATA]],\"mmmm\")","v":"abril"},{"$f":"YEAR(SPP[[#This Row],[DATA]])","v":2019}]
["02/04/2019","86","Estacionamento",8012,0,176241.83000000002,176241.83000000002,{"$f":"TEXT(SPP[[#This Row],[DATA]],\"mmmm\")","v":"abril"},{"$f":"YEAR(SPP[[#This Row],[DATA]])","v":2019}]
["02/04/2019","100","BILHETE UNICO MENSAL - CASCO",3029267,539596688.35000002,46403453.75,586000142.10000002,{"$f":"TEXT(SPP[[#This Row],[DATA]],\"mmmm\")","v":"abril"},{"$f":"YEAR(SPP[[#This Row],[DATA]])","v":2019}]
["02/04/2019","110","BUM - ANÔNIMO - CASCO",1124324,0,13528387.779999999,13528387.779999999,{"$f":"TEXT(SPP[[#This Row],[DATA]],\"mmmm\")","v":"abril"},{"$f":"YEAR(SPP[[#This Row],[DATA]])","v":2019}]
["03/04/2019","51","COMUM 4 VIAGENS",2,0,6.58,6.58,{"$f":"TEXT(SPP[[#This Row],[DATA]],\"mmmm\")","v":"abril"},{"$f":"YEAR(SPP[[#This Row],[DATA]])","v":2019}]
["03/04/2019","52","ESTUDANTE",39181,44294.21,377932.42,422226.63,{"$f":"TEXT(SPP[[#This Row],[DATA]],\"mmmm\")","v":"abril"},{"$f":"YEAR(SPP[[#This Row],[DATA]])","v":2019}]
["03/04/2019","59","VT",2786234,275390194.07999998,29183018.940000001,304573213.01999998,{"$f":"TEXT(SPP[[#This Row],[DATA]],\"mmmm\")","v":"abril"},{"$f":"YEAR(SPP[[#This Row],[DATA]])","v":2019}]
["03/04/2019","68","ESTUDANTE 8VG",1,0,2.7,2.7,{"$f":"TEXT(SPP[[#This Row],[DATA]],\"mmmm\")","v":"abril"},{"$f":"YEAR(SPP[[#This Row],[DATA]])","v":2019}]
["03/04/2019","69","VT 8VG",842,0,24485.02,24485.02,{"$f":"TEXT(SPP[[#This Row],[DATA]],\"mmmm\")","v":"abril"},{"$f":"YEAR(SPP[[#This Row],[DATA]])","v":2019}]
["03/04/2019","71","MÃE PAULISTANA",72392,313335.78999999998,592725.85,906061.64,{"$f":"TEXT(SPP[[#This Row],[DATA]],\"mmmm\")","v":"abril"},{"$f":"YEAR(SPP[[#This Row],[DATA]])","v":2019}]
["03/04/2019","74","PROFESSOR",16048,1025856.36,0,1025856.36,{"$f":"TEXT(SPP[[#This Row],[DATA]],\"mmmm\")","v":"abril"},{"$f":"YEAR(SPP[[#This Row],[DATA]])","v":2019}]
["03/04/2019","75","CARTAO FIDELIDADE",78431,0,6935453.5300000003,6935453.5300000003,{"$f":"TEXT(SPP[[#This Row],[DATA]],\"mmmm\")","v":"abril"},{"$f":"YEAR(SPP[[#This Row],[DATA]])","v":2019}]
["03/04/2019","76","Lazer",202,0,7407.76,7407.76,{"$f":"TEXT(SPP[[#This Row],[DATA]],\"mmmm\")","v":"abril"},{"$f":"YEAR(SPP[[#This Row],[DATA]])","v":2019}]
["03/04/2019","86","Estacionamento",8040,0,178084.47,178084.47,{"$f":"TEXT(SPP[[#This Row],[DATA]],\"mmmm\")","v":"abril"},{"$f":"YEAR(SPP[[#This Row],[DATA]])","v":2019}]
["03/04/2019","100","BILHETE UNICO MENSAL - CASCO",3038773,543790131.17999995,46448442.530000001,590238573.71000004,{"$f":"TEXT(SPP[[#This Row],[DATA]],\"mmmm\")","v":"abril"},{"$f":"YEAR(SPP[[#This Row],[DATA]])","v":2019}]
["03/04/2019","110","BUM - ANÔNIMO - CASCO",1126670,0,13211788.970000001,13211788.970000001,{"$f":"TEXT(SPP[[#This Row],[DATA]],\"mmmm\")","v":"abril"},{"$f":"YEAR(SPP[[#This Row],[DATA]])","v":2019}]
["04/04/2019","51","COMUM 4 VIAGENS",4,0,55.06,55.06,{"$f":"TEXT(SPP[[#This Row],[DATA]],\"mmmm\")","v":"abril"},{"$f":"YEAR(SPP[[#This Row],[DATA]])","v":2019}]
["04/04/2019","52","ESTUDANTE",39333,45961.72,378142.61,424104.33,{"$f":"TEXT(SPP[[#This Row],[DATA]],\"mmmm\")","v":"abril"},{"$f":"YEAR(SPP[[#This Row],[DATA]])","v":2019}]
["04/04/2019","59","VT",2791331,275605825.88,29138482.289999999,304744308.17000002,{"$f":"TEXT(SPP[[#This Row],[DATA]],\"mmmm\")","v":"abril"},{"$f":"YEAR(SPP[[#This Row],[DATA]])","v":2019}]
["04/04/2019","68","ESTUDANTE 8VG",1,0,2.7,2.7,{"$f":"TEXT(SPP[[#This Row],[DATA]],\"mmmm\")","v":"abril"},{"$f":"YEAR(SPP[[#This Row],[DATA]])","v":2019}]
["04/04/2019","69","VT 8VG",842,0,24678.06,24678.06,{"$f":"TEXT(SPP[[#This Row],[DATA]],\"mmmm\")","v":"abril"},{"$f":"YEAR(SPP[[#This Row],[DATA]])","v":2019}]
["04/04/2019","71","MÃE PAULISTANA",72818,315320.57,595003.07000000007,910323.64,{"$f":"TEXT(SPP[[#This Row],[DATA]],\"mmmm\")","v":"abril"},{"$f":"YEAR(SPP[[#This Row],[DATA]])","v":2019}]
["04/04/2019","74","PROFESSOR",16126,1031362.64,0,1031362.64,{"$f":"TEXT(SPP[[#This Row],[DATA]],\"mmmm\")","v":"abril"},{"$f":"YEAR(SPP[[#This Row],[DATA]])","v":2019}]
["04/04/2019","75","CARTAO FIDELIDADE",78633,0,6946112.46,6946112.46,{"$f":"TEXT(SPP[[#This Row],[DATA]],\"mmmm\")","v":"abril"},{"$f":"YEAR(SPP[[#This Row],[DATA]])","v":2019}]
["04/04/2019","76","Lazer",203,0,7450.76,7450.76,{"$f":"TEXT(SPP[[#This Row],[DATA]],\"mmmm\")","v":"abril"},{"$f":"YEAR(SPP[[#This Row],[DATA]])","v":2019}]
["04/04/2019","86","Estacionamento",8063,0,175191.55000000002,175191.55000000002,{"$f":"TEXT(SPP[[#This Row],[DATA]],\"mmmm\")","v":"abril"},{"$f":"YEAR(SPP[[#This Row],[DATA]])","v":2019}]
["04/04/2019","100","BILHETE UNICO MENSAL - CASCO",3046817,545135939.19000006,46809234.810000002,591945174,{"$f":"TEXT(SPP[[#This Row],[DATA]],\"mmmm\")","v":"abril"},{"$f":"YEAR(SPP[[#This Row],[DATA]])","v":2019}]
["04/04/2019","110","BUM - ANÔNIMO - CASCO",1129327,0,13249798.51,13249798.51,{"$f":"TEXT(SPP[[#This Row],[DATA]],\"mmmm\")","v":"abril"},{"$f":"YEAR(SPP[[#This Row],[DATA]])","v":2019}]
["05/04/2019","51","COMUM 4 VIAGENS",4,0,55.06,55.06,{"$f":"TEXT(SPP[[#This Row],[DATA]],\"mmmm\")","v":"abril"},{"$f":"YEAR(SPP[[#This Row],[DATA]])","v":2019}]
["05/04/2019","52","ESTUDANTE",39506,46120.17,372776.68,418896.85000000003,{"$f":"TEXT(SPP[[#This Row],[DATA]],\"mmmm\")","v":"abril"},{"$f":"YEAR(SPP[[#This Row],[DATA]])","v":2019}]
["05/04/2019","59","VT",2796516,275327008.69999999,28706621.780000001,304033630.48000002,{"$f":"TEXT(SPP[[#This Row],[DATA]],\"mmmm\")","v":"abril"},{"$f":"YEAR(SPP[[#This Row],[DATA]])","v":2019}]
["05/04/2019","68","ESTUDANTE 8VG",1,0,2.7,2.7,{"$f":"TEXT(SPP[[#This Row],[DATA]],\"mmmm\")","v":"abril"},{"$f":"YEAR(SPP[[#This Row],[DATA]])","v":2019}]
["05/04/2019","69","VT 8VG",844,0,24164.15,24164.15,{"$f":"TEXT(SPP[[#This Row],[DATA]],\"mmmm\")","v":"abril"},{"$f":"YEAR(SPP[[#This Row],[DATA]])","v":2019}]
["05/04/2019","71","MÃE PAULISTANA",73145,319864.90000000002,592731.14,912596.04,{"$f":"TEXT(SPP[[#This Row],[DATA]],\"mmmm\")","v":"abril"},{"$f":"YEAR(SPP[[#This Row],[DATA]])","v":2019}]
["05/04/2019","74","PROFESSOR",16190,1037931.42,0,1037931.42,{"$f":"TEXT(SPP[[#This Row],[DATA]],\"mmmm\")","v":"abril"},{"$f":"YEAR(SPP[[#This Row],[DATA]])","v":2019}]
["05/04/2019","75","CARTAO FIDELIDADE",78671,0,6946468.3700000001,6946468.3700000001,{"$f":"TEXT(SPP[[#This Row],[DATA]],\"mmmm\")","v":"abril"},{"$f":"YEAR(SPP[[#This Row],[DATA]])","v":2019}]
["05/04/2019","76","Lazer",203,0,7485.46,7485.46,{"$f":"TEXT(SPP[[#This Row],[DATA]],\"mmmm\")","v":"abril"},{"$f":"YEAR(SPP[[#This Row],[DATA]])","v":2019}]
["05/04/2019","86","Estacionamento",8087,0,174911.59,174911.59,{"$f":"TEXT(SPP[[#This Row],[DATA]],\"mmmm\")","v":"abril"},{"$f":"YEAR(SPP[[#This Row],[DATA]])","v":2019}]
["05/04/2019","100","BILHETE UNICO MENSAL - CASCO",3055299,545291171.17999995,47286161.5,592577332.67999995,{"$f":"TEXT(SPP[[#This Row],[DATA]],\"mmmm\")","v":"abril"},{"$f":"YEAR(SPP[[#This Row],[DATA]])","v":2019}]
["05/04/2019","110","BUM - ANÔNIMO - CASCO",1131125,0,13009043.16,13009043.16,{"$f":"TEXT(SPP[[#This Row],[DATA]],\"mmmm\")","v":"abril"},{"$f":"YEAR(SPP[[#This Row],[DATA]])","v":2019}]
["06/04/2019","51","COMUM 4 VIAGENS",4,0,55.06,55.06,{"$f":"TEXT(SPP[[#This Row],[DATA]],\"mmmm\")","v":"abril"},{"$f":"YEAR(SPP[[#This Row],[DATA]])","v":2019}]
["06/04/2019","52","ESTUDANTE",39646,46888.959999999999,367909.10000000003,414798.06,{"$f":"TEXT(SPP[[#This Row],[DATA]],\"mmmm\")","v":"abril"},{"$f":"YEAR(SPP[[#This Row],[DATA]])","v":2019}]
["06/04/2019","59","VT",2800522,274999419.87,28068816.489999998,303068236.36000001,{"$f":"TEXT(SPP[[#This Row],[DATA]],\"mmmm\")","v":"abril"},{"$f":"YEAR(SPP[[#This Row],[DATA]])","v":2019}]
["06/04/2019","68","ESTUDANTE 8VG",1,0,2.7,2.7,{"$f":"TEXT(SPP[[#This Row],[DATA]],\"mmmm\")","v":"abril"},{"$f":"YEAR(SPP[[#This Row],[DATA]])","v":2019}]
["06/04/2019","69","VT 8VG",843,0,23857.99,23857.99,{"$f":"TEXT(SPP[[#This Row],[DATA]],\"mmmm\")","v":"abril"},{"$f":"YEAR(SPP[[#This Row],[DATA]])","v":2019}]
["06/04/2019","71","MÃE PAULISTANA",73377,317060.59000000003,589202.81000000006,906263.4,{"$f":"TEXT(SPP[[#This Row],[DATA]],\"mmmm\")","v":"abril"},{"$f":"YEAR(SPP[[#This Row],[DATA]])","v":2019}]
["06/04/2019","74","PROFESSOR",16230,1033660.47,0,1033660.47,{"$f":"TEXT(SPP[[#This Row],[DATA]],\"mmmm\")","v":"abril"},{"$f":"YEAR(SPP[[#This Row],[DATA]])","v":2019}]
["06/04/2019","75","CARTAO FIDELIDADE",78286,0,6776907.3300000001,6776907.3300000001,{"$f":"TEXT(SPP[[#This Row],[DATA]],\"mmmm\")","v":"abril"},{"$f":"YEAR(SPP[[#This Row],[DATA]])","v":2019}]
["06/04/2019","76","Lazer",204,0,7528.46,7528.46,{"$f":"TEXT(SPP[[#This Row],[DATA]],\"mmmm\")","v":"abril"},{"$f":"YEAR(SPP[[#This Row],[DATA]])","v":2019}]
["06/04/2019","86","Estacionamento",8102,0,168118.69,168118.69,{"$f":"TEXT(SPP[[#This Row],[DATA]],\"mmmm\")","v":"abril"},{"$f":"YEAR(SPP[[#This Row],[DATA]])","v":2019}]
["06/04/2019","100","BILHETE UNICO MENSAL - CASCO",3061197,544302811.79999995,47005866.079999998,591308677.88,{"$f":"TEXT(SPP[[#This Row],[DATA]],\"mmmm\")","v":"abril"},{"$f":"YEAR(SPP[[#This Row],[DATA]])","v":2019}]
["06/04/2019","110","BUM - ANÔNIMO - CASCO",1132819,0,12700680.16,12700680.16,{"$f":"TEXT(SPP[[#This Row],[DATA]],\"mmmm\")","v":"abril"},{"$f":"YEAR(SPP[[#This Row],[DATA]])","v":2019}]
["07/04/2019","51","COMUM 4 VIAGENS",4,0,55.06,55.06,{"$f":"TEXT(SPP[[#This Row],[DATA]],\"mmmm\")","v":"abril"},{"$f":"YEAR(SPP[[#This Row],[DATA]])","v":2019}]
["07/04/2019","52","ESTUDANTE",39712,46821.599999999999,363446.57,410268.17,{"$f":"TEXT(SPP[[#This Row],[DATA]],\"mmmm\")","v":"abril"},{"$f":"YEAR(SPP[[#This Row],[DATA]])","v":2019}]
["07/04/2019","59","VT",2802956,274598947.97000003,27559996.199999999,302158944.17000002,{"$f":"TEXT(SPP[[#This Row],[DATA]],\"mmmm\")","v":"abril"},{"$f":"YEAR(SPP[[#This Row],[DATA]])","v":2019}]
["07/04/2019","68","ESTUDANTE 8VG",1,0,2.7,2.7,{"$f":"TEXT(SPP[[#This Row],[DATA]],\"mmmm\")","v":"abril"},{"$f":"YEAR(SPP[[#This Row],[DATA]])","v":2019}]
["07/04/2019","69","VT 8VG",843,0,23439.15,23439.15,{"$f":"TEXT(SPP[[#This Row],[DATA]],\"mmmm\")","v":"abril"},{"$f":"YEAR(SPP[[#This Row],[DATA]])","v":2019}]
["07/04/2019","71","MÃE PAULISTANA",73468,314822.2,585966.6,900788.8,{"$f":"TEXT(SPP[[#This Row],[DATA]],\"mmmm\")","v":"abril"},{"$f":"YEAR(SPP[[#This Row],[DATA]])","v":2019}]
["07/04/2019","74","PROFESSOR",16241,1024801.95,0,1024801.95,{"$f":"TEXT(SPP[[#This Row],[DATA]],\"mmmm\")","v":"abril"},{"$f":"YEAR(SPP[[#This Row],[DATA]])","v":2019}]
["07/04/2019","75","CARTAO FIDELIDADE",78141,0,6728776.5899999999,6728776.5899999999,{"$f":"TEXT(SPP[[#This Row],[DATA]],\"mmmm\")","v":"abril"},{"$f":"YEAR(SPP[[#This Row],[DATA]])","v":2019}]
["07/04/2019","76","Lazer",206,0,7607.16,7607.16,{"$f":"TEXT(SPP[[#This Row],[DATA]],\"mmmm\")","v":"abril"},{"$f":"YEAR(SPP[[#This Row],[DATA]])","v":2019}]
["07/04/2019","86","Estacionamento",8113,0,165806.6,165806.6,{"$f":"TEXT(SPP[[#This Row],[DATA]],\"mmmm\")","v":"abril"},{"$f":"YEAR(SPP[[#This Row],[DATA]])","v":2019}]
["07/04/2019","100","BILHETE UNICO MENSAL - CASCO",3064088,542839084.63,46887368.590000004,589726453.22000003,{"$f":"TEXT(SPP[[#This Row],[DATA]],\"mmmm\")","v":"abril"},{"$f":"YEAR(SPP[[#This Row],[DATA]])","v":2019}]
["07/04/2019","110","BUM - ANÔNIMO - CASCO",1133789,0,12462893.310000001,12462893.310000001,{"$f":"TEXT(SPP[[#This Row],[DATA]],\"mmmm\")","v":"abril"},{"$f":"YEAR(SPP[[#This Row],[DATA]])","v":2019}]
["08/04/2019","51","COMUM 4 VIAGENS",4,0,55.06,55.06,{"$f":"TEXT(SPP[[#This Row],[DATA]],\"mmmm\")","v":"abril"},{"$f":"YEAR(SPP[[#This Row],[DATA]])","v":2019}]
["08/04/2019","52","ESTUDANTE",39884,47363.41,382567.98,429931.39,{"$f":"TEXT(SPP[[#This Row],[DATA]],\"mmmm\")","v":"abril"},{"$f":"YEAR(SPP[[#This Row],[DATA]])","v":2019}]
["08/04/2019","59","VT",2808722,274005296.79000002,29066385.91,303071682.69999999,{"$f":"TEXT(SPP[[#This Row],[DATA]],\"mmmm\")","v":"abril"},{"$f":"YEAR(SPP[[#This Row],[DATA]])","v":2019}]
["08/04/2019","68","ESTUDANTE 8VG",1,0,2.7,2.7,{"$f":"TEXT(SPP[[#This Row],[DATA]],\"mmmm\")","v":"abril"},{"$f":"YEAR(SPP[[#This Row],[DATA]])","v":2019}]
["08/04/2019","69","VT 8VG",843,0,24041.93,24041.93,{"$f":"TEXT(SPP[[#This Row],[DATA]],\"mmmm\")","v":"abril"},{"$f":"YEAR(SPP[[#This Row],[DATA]])","v":2019}]
["08/04/2019","71","MÃE PAULISTANA",73747,315477.14,623531.25,939008.39,{"$f":"TEXT(SPP[[#This Row],[DATA]],\"mmmm\")","v":"abril"},{"$f":"YEAR(SPP[[#This Row],[DATA]])","v":2019}]
["08/04/2019","74","PROFESSOR",16314,1056588.92,0,1056588.92,{"$f":"TEXT(SPP[[#This Row],[DATA]],\"mmmm\")","v":"abril"},{"$f":"YEAR(SPP[[#This Row],[DATA]])","v":2019}]
["08/04/2019","75","CARTAO FIDELIDADE",78965,0,6985083.1399999997,6985083.1399999997,{"$f":"TEXT(SPP[[#This Row],[DATA]],\"mmmm\")","v":"abril"},{"$f":"YEAR(SPP[[#This Row],[DATA]])","v":2019}]
["08/04/2019","76","Lazer",208,0,7486.96,7486.96,{"$f":"TEXT(SPP[[#This Row],[DATA]],\"mmmm\")","v":"abril"},{"$f":"YEAR(SPP[[#This Row],[DATA]])","v":2019}]
["08/04/2019","86","Estacionamento",8134,0,177171.20000000001,177171.20000000001,{"$f":"TEXT(SPP[[#This Row],[DATA]],\"mmmm\")","v":"abril"},{"$f":"YEAR(SPP[[#This Row],[DATA]])","v":2019}]
["08/04/2019","100","BILHETE UNICO MENSAL - CASCO",3072660,542390596.19000006,49946476.700000003,592337072.88999999,{"$f":"TEXT(SPP[[#This Row],[DATA]],\"mmmm\")","v":"abril"},{"$f":"YEAR(SPP[[#This Row],[DATA]])","v":2019}]
["08/04/2019","110","BUM - ANÔNIMO - CASCO",1136744,0,13251057.359999999,13251057.359999999,{"$f":"TEXT(SPP[[#This Row],[DATA]],\"mmmm\")","v":"abril"},{"$f":"YEAR(SPP[[#This Row],[DATA]])","v":2019}]
["09/04/2019","51","COMUM 4 VIAGENS",3,0,47.46,47.46,{"$f":"TEXT(SPP[[#This Row],[DATA]],\"mmmm\")","v":"abril"},{"$f":"YEAR(SPP[[#This Row],[DATA]])","v":2019}]
["09/04/2019","52","ESTUDANTE",40081,47551.15,387294.06,434845.21,{"$f":"TEXT(SPP[[#This Row],[DATA]],\"mmmm\")","v":"abril"},{"$f":"YEAR(SPP[[#This Row],[DATA]])","v":2019}]
["09/04/2019","59","VT",2813886,272805557.45999998,29274619.989999998,302080177.44999999,{"$f":"TEXT(SPP[[#This Row],[DATA]],\"mmmm\")","v":"abril"},{"$f":"YEAR(SPP[[#This Row],[DATA]])","v":2019}]
["09/04/2019","68","ESTUDANTE 8VG",1,0,2.7,2.7,{"$f":"TEXT(SPP[[#This Row],[DATA]],\"mmmm\")","v":"abril"},{"$f":"YEAR(SPP[[#This Row],[DATA]])","v":2019}]
["09/04/2019","69","VT 8VG",846,0,24077.510000000002,24077.510000000002,{"$f":"TEXT(SPP[[#This Row],[DATA]],\"mmmm\")","v":"abril"},{"$f":"YEAR(SPP[[#This Row],[DATA]])","v":2019}]
["09/04/2019","71","MÃE PAULISTANA",74077,314746.68,637627.20000000007,952373.88,{"$f":"TEXT(SPP[[#This Row],[DATA]],\"mmmm\")","v":"abril"},{"$f":"YEAR(SPP[[#This Row],[DATA]])","v":2019}]
["09/04/2019","74","PROFESSOR",16381,1066017.74,0,1066017.74,{"$f":"TEXT(SPP[[#This Row],[DATA]],\"mmmm\")","v":"abril"},{"$f":"YEAR(SPP[[#This Row],[DATA]])","v":2019}]
["09/04/2019","75","CARTAO FIDELIDADE",79320,0,7038435.5899999999,7038435.5899999999,{"$f":"TEXT(SPP[[#This Row],[DATA]],\"mmmm\")","v":"abril"},{"$f":"YEAR(SPP[[#This Row],[DATA]])","v":2019}]
["09/04/2019","76","Lazer",208,0,7486.96,7486.96,{"$f":"TEXT(SPP[[#This Row],[DATA]],\"mmmm\")","v":"abril"},{"$f":"YEAR(SPP[[#This Row],[DATA]])","v":2019}]
["09/04/2019","86","Estacionamento",8156,0,177903.53,177903.53,{"$f":"TEXT(SPP[[#This Row],[DATA]],\"mmmm\")","v":"abril"},{"$f":"YEAR(SPP[[#This Row],[DATA]])","v":2019}]
["09/04/2019","100","BILHETE UNICO MENSAL - CASCO",3081407,539726783.75,50568121.939999998,590294905.69000006,{"$f":"TEXT(SPP[[#This Row],[DATA]],\"mmmm\")","v":"abril"},{"$f":"YEAR(SPP[[#This Row],[DATA]])","v":2019}]
["09/04/2019","110","BUM - ANÔNIMO - CASCO",1139058,0,13323397.52,13323397.52,{"$f":"TEXT(SPP[[#This Row],[DATA]],\"mmmm\")","v":"abril"},{"$f":"YEAR(SPP[[#This Row],[DATA]])","v":2019}]
["10/04/2019","51","COMUM 4 VIAGENS",4,0,44.09,44.09,{"$f":"TEXT(SPP[[#This Row],[DATA]],\"mmmm\")","v":"abril"},{"$f":"YEAR(SPP[[#This Row],[DATA]])","v":2019}]
["10/04/2019","52","ESTUDANTE",40280,47624.770000000004,392658.46,440283.23,{"$f":"TEXT(SPP[[#This Row],[DATA]],\"mmmm\")","v":"abril"},{"$f":"YEAR(SPP[[#This Row],[DATA]])","v":2019}]
["10/04/2019","59","VT",2819328,271556170.79000002,29622125.27,301178296.06,{"$f":"TEXT(SPP[[#This Row],[DATA]],\"mmmm\")","v":"abril"},{"$f":"YEAR(SPP[[#This Row],[DATA]])","v":2019}]
["10/04/2019","68","ESTUDANTE 8VG",1,0,2.7,2.7,{"$f":"TEXT(SPP[[#This Row],[DATA]],\"mmmm\")","v":"abril"},{"$f":"YEAR(SPP[[#This Row],[DATA]])","v":2019}]
["10/04/2019","69","VT 8VG",844,0,24315.33,24315.33,{"$f":"TEXT(SPP[[#This Row],[DATA]],\"mmmm\")","v":"abril"},{"$f":"YEAR(SPP[[#This Row],[DATA]])","v":2019}]
["10/04/2019","71","MÃE PAULISTANA",74485,318631.17,645574.70000000007,964205.87,{"$f":"TEXT(SPP[[#This Row],[DATA]],\"mmmm\")","v":"abril"},{"$f":"YEAR(SPP[[#This Row],[DATA]])","v":2019}]
["10/04/2019","74","PROFESSOR",16431,1073281.6499999999,0,1073281.6499999999,{"$f":"TEXT(SPP[[#This Row],[DATA]],\"mmmm\")","v":"abril"},{"$f":"YEAR(SPP[[#This Row],[DATA]])","v":2019}]
["10/04/2019","75","CARTAO FIDELIDADE",79690,0,7071249.8300000001,7071249.8300000001,{"$f":"TEXT(SPP[[#This Row],[DATA]],\"mmmm\")","v":"abril"},{"$f":"YEAR(SPP[[#This Row],[DATA]])","v":2019}]
["10/04/2019","76","Lazer",208,0,7486.96,7486.96,{"$f":"TEXT(SPP[[#This Row],[DATA]],\"mmmm\")","v":"abril"},{"$f":"YEAR(SPP[[#This Row],[DATA]])","v":2019}]
["10/04/2019","86","Estacionamento",8191,0,181008.77,181008.77,{"$f":"TEXT(SPP[[#This Row],[DATA]],\"mmmm\")","v":"abril"},{"$f":"YEAR(SPP[[#This Row],[DATA]])","v":2019}]
["10/04/2019","100","BILHETE UNICO MENSAL - CASCO",3089502,536674287.75999999,51158305.939999998,587832593.70000005,{"$f":"TEXT(SPP[[#This Row],[DATA]],\"mmmm\")","v":"abril"},{"$f":"YEAR(SPP[[#This Row],[DATA]])","v":2019}]
["10/04/2019","110","BUM - ANÔNIMO - CASCO",1141488,0,13511905.6,13511905.6,{"$f":"TEXT(SPP[[#This Row],[DATA]],\"mmmm\")","v":"abril"},{"$f":"YEAR(SPP[[#This Row],[DATA]])","v":2019}]
["11/04/2019","51","COMUM 4 VIAGENS",3,0,35.68,35.68,{"$f":"TEXT(SPP[[#This Row],[DATA]],\"mmmm\")","v":"abril"},{"$f":"YEAR(SPP[[#This Row],[DATA]])","v":2019}]
["11/04/2019","52","ESTUDANTE",40459,47659.51,387888.67,435548.18,{"$f":"TEXT(SPP[[#This Row],[DATA]],\"mmmm\")","v":"abril"},{"$f":"YEAR(SPP[[#This Row],[DATA]])","v":2019}]
["11/04/2019","59","VT",2824149,269946913.61000001,29178294.66,299125208.26999998,{"$f":"TEXT(SPP[[#This Row],[DATA]],\"mmmm\")","v":"abril"},{"$f":"YEAR(SPP[[#This Row],[DATA]])","v":2019}]
["11/04/2019","68","ESTUDANTE 8VG",1,0,2.7,2.7,{"$f":"TEXT(SPP[[#This Row],[DATA]],\"mmmm\")","v":"abril"},{"$f":"YEAR(SPP[[#This Row],[DATA]])","v":2019}]
["11/04/2019","69","VT 8VG",842,0,24157.16,24157.16,{"$f":"TEXT(SPP[[#This Row],[DATA]],\"mmmm\")","v":"abril"},{"$f":"YEAR(SPP[[#This Row],[DATA]])","v":2019}]
["11/04/2019","71","MÃE PAULISTANA",74851,318468.87,632223.05000000005,950691.92,{"$f":"TEXT(SPP[[#This Row],[DATA]],\"mmmm\")","v":"abril"},{"$f":"YEAR(SPP[[#This Row],[DATA]])","v":2019}]
["11/04/2019","74","PROFESSOR",16485,1074374.69,0,1074374.69,{"$f":"TEXT(SPP[[#This Row],[DATA]],\"mmmm\")","v":"abril"},{"$f":"YEAR(SPP[[#This Row],[DATA]])","v":2019}]
["11/04/2019","75","CARTAO FIDELIDADE",79919,0,7064122.0800000001,7064122.0800000001,{"$f":"TEXT(SPP[[#This Row],[DATA]],\"mmmm\")","v":"abril"},{"$f":"YEAR(SPP[[#This Row],[DATA]])","v":2019}]
["11/04/2019","76","Lazer",208,0,7486.96,7486.96,{"$f":"TEXT(SPP[[#This Row],[DATA]],\"mmmm\")","v":"abril"},{"$f":"YEAR(SPP[[#This Row],[DATA]])","v":2019}]
["11/04/2019","86","Estacionamento",8204,0,178187.24,178187.24,{"$f":"TEXT(SPP[[#This Row],[DATA]],\"mmmm\")","v":"abril"},{"$f":"YEAR(SPP[[#This Row],[DATA]])","v":2019}]
["11/04/2019","100","BILHETE UNICO MENSAL - CASCO",3096865,532199017.60000002,50290231.57,582489249.16999996,{"$f":"TEXT(SPP[[#This Row],[DATA]],\"mmmm\")","v":"abril"},{"$f":"YEAR(SPP[[#This Row],[DATA]])","v":2019}]
["11/04/2019","110","BUM - ANÔNIMO - CASCO",1143244,0,13261716.9,13261716.9,{"$f":"TEXT(SPP[[#This Row],[DATA]],\"mmmm\")","v":"abril"},{"$f":"YEAR(SPP[[#This Row],[DATA]])","v":2019}]
["12/04/2019","51","COMUM 4 VIAGENS",3,0,35.68,35.68,{"$f":"TEXT(SPP[[#This Row],[DATA]],\"mmmm\")","v":"abril"},{"$f":"YEAR(SPP[[#This Row],[DATA]])","v":2019}]
["12/04/2019","52","ESTUDANTE",40631,47288.04,380542.17,427830.21,{"$f":"TEXT(SPP[[#This Row],[DATA]],\"mmmm\")","v":"abril"},{"$f":"YEAR(SPP[[#This Row],[DATA]])","v":2019}]
["12/04/2019","59","VT",2828349,267882387.56999999,28505401.02,296387788.58999997,{"$f":"TEXT(SPP[[#This Row],[DATA]],\"mmmm\")","v":"abril"},{"$f":"YEAR(SPP[[#This Row],[DATA]])","v":2019}]
["12/04/2019","68","ESTUDANTE 8VG",1,0,2.7,2.7,{"$f":"TEXT(SPP[[#This Row],[DATA]],\"mmmm\")","v":"abril"},{"$f":"YEAR(SPP[[#This Row],[DATA]])","v":2019}]
["12/04/2019","69","VT 8VG",841,0,23516.73,23516.73,{"$f":"TEXT(SPP[[#This Row],[DATA]],\"mmmm\")","v":"abril"},{"$f":"YEAR(SPP[[#This Row],[DATA]])","v":2019}]
["12/04/2019","71","MÃE PAULISTANA",75162,316858.08,611961.78,928819.86,{"$f":"TEXT(SPP[[#This Row],[DATA]],\"mmmm\")","v":"abril"},{"$f":"YEAR(SPP[[#This Row],[DATA]])","v":2019}]
["12/04/2019","74","PROFESSOR",16540,1069986.76,0,1069986.76,{"$f":"TEXT(SPP[[#This Row],[DATA]],\"mmmm\")","v":"abril"},{"$f":"YEAR(SPP[[#This Row],[DATA]])","v":2019}]
["12/04/2019","75","CARTAO FIDELIDADE",80024,0,7010862.1200000001,7010862.1200000001,{"$f":"TEXT(SPP[[#This Row],[DATA]],\"mmmm\")","v":"abril"},{"$f":"YEAR(SPP[[#This Row],[DATA]])","v":2019}]
["12/04/2019","76","Lazer",208,0,7486.96,7486.96,{"$f":"TEXT(SPP[[#This Row],[DATA]],\"mmmm\")","v":"abril"},{"$f":"YEAR(SPP[[#This Row],[DATA]])","v":2019}]
["12/04/2019","86","Estacionamento",8229,0,174532.25,174532.25,{"$f":"TEXT(SPP[[#This Row],[DATA]],\"mmmm\")","v":"abril"},{"$f":"YEAR(SPP[[#This Row],[DATA]])","v":2019}]
["12/04/2019","100","BILHETE UNICO MENSAL - CASCO",3103854,526467811.50999999,48919938.649999999,575387750.15999997,{"$f":"TEXT(SPP[[#This Row],[DATA]],\"mmmm\")","v":"abril"},{"$f":"YEAR(SPP[[#This Row],[DATA]])","v":2019}]
["12/04/2019","110","BUM - ANÔNIMO - CASCO",1145120,0,12904934.48,12904934.48,{"$f":"TEXT(SPP[[#This Row],[DATA]],\"mmmm\")","v":"abril"},{"$f":"YEAR(SPP[[#This Row],[DATA]])","v":2019}]
["13/04/2019","51","COMUM 4 VIAGENS",4,0,59.870000000000005,59.870000000000005,{"$f":"TEXT(SPP[[#This Row],[DATA]],\"mmmm\")","v":"abril"},{"$f":"YEAR(SPP[[#This Row],[DATA]])","v":2019}]
["13/04/2019","52","ESTUDANTE",40739,47548.51,372808.4,420356.91000000003,{"$f":"TEXT(SPP[[#This Row],[DATA]],\"mmmm\")","v":"abril"},{"$f":"YEAR(SPP[[#This Row],[DATA]])","v":2019}]
["13/04/2019","59","VT",2831870,266321216.75,27789282.960000001,294110499.70999998,{"$f":"TEXT(SPP[[#This Row],[DATA]],\"mmmm\")","v":"abril"},{"$f":"YEAR(SPP[[#This Row],[DATA]])","v":2019}]
["13/04/2019","68","ESTUDANTE 8VG",1,0,2.7,2.7,{"$f":"TEXT(SPP[[#This Row],[DATA]],\"mmmm\")","v":"abril"},{"$f":"YEAR(SPP[[#This Row],[DATA]])","v":2019}]
["13/04/2019","69","VT 8VG",841,0,23347.57,23347.57,{"$f":"TEXT(SPP[[#This Row],[DATA]],\"mmmm\")","v":"abril"},{"$f":"YEAR(SPP[[#This Row],[DATA]])","v":2019}]
["13/04/2019","71","MÃE PAULISTANA",75345,315229.23,598175.27,913404.5,{"$f":"TEXT(SPP[[#This Row],[DATA]],\"mmmm\")","v":"abril"},{"$f":"YEAR(SPP[[#This Row],[DATA]])","v":2019}]
["13/04/2019","74","PROFESSOR",16562,1056184.43,0,1056184.43,{"$f":"TEXT(SPP[[#This Row],[DATA]],\"mmmm\")","v":"abril"},{"$f":"YEAR(SPP[[#This Row],[DATA]])","v":2019}]
["13/04/2019","75","CARTAO FIDELIDADE",79598,0,6811524.6200000001,6811524.6200000001,{"$f":"TEXT(SPP[[#This Row],[DATA]],\"mmmm\")","v":"abril"},{"$f":"YEAR(SPP[[#This Row],[DATA]])","v":2019}]
["13/04/2019","76","Lazer",211,0,7701.96,7701.96,{"$f":"TEXT(SPP[[#This Row],[DATA]],\"mmmm\")","v":"abril"},{"$f":"YEAR(SPP[[#This Row],[DATA]])","v":2019}]
["13/04/2019","86","Estacionamento",8249,0,168598.41,168598.41,{"$f":"TEXT(SPP[[#This Row],[DATA]],\"mmmm\")","v":"abril"},{"$f":"YEAR(SPP[[#This Row],[DATA]])","v":2019}]
["13/04/2019","100","BILHETE UNICO MENSAL - CASCO",3108642,521595928.13,47551790.020000003,569147718.14999998,{"$f":"TEXT(SPP[[#This Row],[DATA]],\"mmmm\")","v":"abril"},{"$f":"YEAR(SPP[[#This Row],[DATA]])","v":2019}]
["13/04/2019","110","BUM - ANÔNIMO - CASCO",1146249,0,12553731.18,12553731.18,{"$f":"TEXT(SPP[[#This Row],[DATA]],\"mmmm\")","v":"abril"},{"$f":"YEAR(SPP[[#This Row],[DATA]])","v":2019}]
["14/04/2019","51","COMUM 4 VIAGENS",4,0,59.870000000000005,59.870000000000005,{"$f":"TEXT(SPP[[#This Row],[DATA]],\"mmmm\")","v":"abril"},{"$f":"YEAR(SPP[[#This Row],[DATA]])","v":2019}]
["14/04/2019","52","ESTUDANTE",40780,47317.340000000004,364146.77,411464.11,{"$f":"TEXT(SPP[[#This Row],[DATA]],\"mmmm\")","v":"abril"},{"$f":"YEAR(SPP[[#This Row],[DATA]])","v":2019}]
["14/04/2019","59","VT",2833205,265458108.88999999,27081684.27,292539793.16000003,{"$f":"TEXT(SPP[[#This Row],[DATA]],\"mmmm\")","v":"abril"},{"$f":"YEAR(SPP[[#This Row],[DATA]])","v":2019}]
["14/04/2019","68","ESTUDANTE 8VG",1,0,2.7,2.7,{"$f":"TEXT(SPP[[#This Row],[DATA]],\"mmmm\")","v":"abril"},{"$f":"YEAR(SPP[[#This Row],[DATA]])","v":2019}]
["14/04/2019","69","VT 8VG",844,0,23139.22,23139.22,{"$f":"TEXT(SPP[[#This Row],[DATA]],\"mmmm\")","v":"abril"},{"$f":"YEAR(SPP[[#This Row],[DATA]])","v":2019}]
["14/04/2019","71","MÃE PAULISTANA",75354,312362.23,580023.19000000006,892385.42,{"$f":"TEXT(SPP[[#This Row],[DATA]],\"mmmm\")","v":"abril"},{"$f":"YEAR(SPP[[#This Row],[DATA]])","v":2019}]
["14/04/2019","74","PROFESSOR",16577,1050640.74,0,1050640.74,{"$f":"TEXT(SPP[[#This Row],[DATA]],\"mmmm\")","v":"abril"},{"$f":"YEAR(SPP[[#This Row],[DATA]])","v":2019}]
["14/04/2019","75","CARTAO FIDELIDADE",79495,0,6771148.8899999997,6771148.8899999997,{"$f":"TEXT(SPP[[#This Row],[DATA]],\"mmmm\")","v":"abril"},{"$f":"YEAR(SPP[[#This Row],[DATA]])","v":2019}]
["14/04/2019","76","Lazer",213,0,7778.06,7778.06,{"$f":"TEXT(SPP[[#This Row],[DATA]],\"mmmm\")","v":"abril"},{"$f":"YEAR(SPP[[#This Row],[DATA]])","v":2019}]
["14/04/2019","86","Estacionamento",8251,0,165354.65,165354.65,{"$f":"TEXT(SPP[[#This Row],[DATA]],\"mmmm\")","v":"abril"},{"$f":"YEAR(SPP[[#This Row],[DATA]])","v":2019}]
["14/04/2019","100","BILHETE UNICO MENSAL - CASCO",3110526,518615616.79000002,46608807.350000001,565224424.13999999,{"$f":"TEXT(SPP[[#This Row],[DATA]],\"mmmm\")","v":"abril"},{"$f":"YEAR(SPP[[#This Row],[DATA]])","v":2019}]
["14/04/2019","110","BUM - ANÔNIMO - CASCO",1146622,0,12191323.35,12191323.35,{"$f":"TEXT(SPP[[#This Row],[DATA]],\"mmmm\")","v":"abril"},{"$f":"YEAR(SPP[[#This Row],[DATA]])","v":2019}]
["15/04/2019","51","COMUM 4 VIAGENS",4,0,59.870000000000005,59.870000000000005,{"$f":"TEXT(SPP[[#This Row],[DATA]],\"mmmm\")","v":"abril"},{"$f":"YEAR(SPP[[#This Row],[DATA]])","v":2019}]
["15/04/2019","52","ESTUDANTE",40955,46772.090000000004,382453.93,429226.02,{"$f":"TEXT(SPP[[#This Row],[DATA]],\"mmmm\")","v":"abril"},{"$f":"YEAR(SPP[[#This Row],[DATA]])","v":2019}]
["15/04/2019","59","VT",2839080,264484014.90000001,28698207.760000002,293182222.66000003,{"$f":"TEXT(SPP[[#This Row],[DATA]],\"mmmm\")","v":"abril"},{"$f":"YEAR(SPP[[#This Row],[DATA]])","v":2019}]
["15/04/2019","68","ESTUDANTE 8VG",1,0,2.7,2.7,{"$f":"TEXT(SPP[[#This Row],[DATA]],\"mmmm\")","v":"abril"},{"$f":"YEAR(SPP[[#This Row],[DATA]])","v":2019}]
["15/04/2019","69","VT 8VG",847,0,23482.75,23482.75,{"$f":"TEXT(SPP[[#This Row],[DATA]],\"mmmm\")","v":"abril"},{"$f":"YEAR(SPP[[#This Row],[DATA]])","v":2019}]
["15/04/2019","71","MÃE PAULISTANA",75771,311619.08,609669.59,921288.67,{"$f":"TEXT(SPP[[#This Row],[DATA]],\"mmmm\")","v":"abril"},{"$f":"YEAR(SPP[[#This Row],[DATA]])","v":2019}]
["15/04/2019","74","PROFESSOR",16639,1070166.3999999999,0,1070166.3999999999,{"$f":"TEXT(SPP[[#This Row],[DATA]],\"mmmm\")","v":"abril"},{"$f":"YEAR(SPP[[#This Row],[DATA]])","v":2019}]
["15/04/2019","75","CARTAO FIDELIDADE",80371,0,7032550.7599999998,7032550.7599999998,{"$f":"TEXT(SPP[[#This Row],[DATA]],\"mmmm\")","v":"abril"},{"$f":"YEAR(SPP[[#This Row],[DATA]])","v":2019}]
["15/04/2019","76","Lazer",215,0,7642.16,7642.16,{"$f":"TEXT(SPP[[#This Row],[DATA]],\"mmmm\")","v":"abril"},{"$f":"YEAR(SPP[[#This Row],[DATA]])","v":2019}]
["15/04/2019","86","Estacionamento",8273,0,175628.30000000002,175628.30000000002,{"$f":"TEXT(SPP[[#This Row],[DATA]],\"mmmm\")","v":"abril"},{"$f":"YEAR(SPP[[#This Row],[DATA]])","v":2019}]
["15/04/2019","100","BILHETE UNICO MENSAL - CASCO",3118139,516885334.83999997,48833974.82,565719309.65999997,{"$f":"TEXT(SPP[[#This Row],[DATA]],\"mmmm\")","v":"abril"},{"$f":"YEAR(SPP[[#This Row],[DATA]])","v":2019}]
["15/04/2019","110","BUM - ANÔNIMO - CASCO",1149100,0,12983159.369999999,12983159.369999999,{"$f":"TEXT(SPP[[#This Row],[DATA]],\"mmmm\")","v":"abril"},{"$f":"YEAR(SPP[[#This Row],[DATA]])","v":2019}]
["16/04/2019","51","COMUM 4 VIAGENS",3,0,26.47,26.47,{"$f":"TEXT(SPP[[#This Row],[DATA]],\"mmmm\")","v":"abril"},{"$f":"YEAR(SPP[[#This Row],[DATA]])","v":2019}]
["16/04/2019","52","ESTUDANTE",41123,46939.31,385598.7,432538.01,{"$f":"TEXT(SPP[[#This Row],[DATA]],\"mmmm\")","v":"abril"},{"$f":"YEAR(SPP[[#This Row],[DATA]])","v":2019}]
["16/04/2019","59","VT",2844177,262974456.15000001,28852292.57,291826748.72000003,{"$f":"TEXT(SPP[[#This Row],[DATA]],\"mmmm\")","v":"abril"},{"$f":"YEAR(SPP[[#This Row],[DATA]])","v":2019}]
["16/04/2019","68","ESTUDANTE 8VG",1,0,2.7,2.7,{"$f":"TEXT(SPP[[#This Row],[DATA]],\"mmmm\")","v":"abril"},{"$f":"YEAR(SPP[[#This Row],[DATA]])","v":2019}]
["16/04/2019","69","VT 8VG",848,0,23435.06,23435.06,{"$f":"TEXT(SPP[[#This Row],[DATA]],\"mmmm\")","v":"abril"},{"$f":"YEAR(SPP[[#This Row],[DATA]])","v":2019}]
["16/04/2019","71","MÃE PAULISTANA",76166,313738.09000000003,616734.82999999996,930472.92,{"$f":"TEXT(SPP[[#This Row],[DATA]],\"mmmm\")","v":"abril"},{"$f":"YEAR(SPP[[#This Row],[DATA]])","v":2019}]
["16/04/2019","74","PROFESSOR",16695,1065004.1499999999,0,1065004.1499999999,{"$f":"TEXT(SPP[[#This Row],[DATA]],\"mmmm\")","v":"abril"},{"$f":"YEAR(SPP[[#This Row],[DATA]])","v":2019}]
["16/04/2019","75","CARTAO FIDELIDADE",80534,0,7030218.8300000001,7030218.8300000001,{"$f":"TEXT(SPP[[#This Row],[DATA]],\"mmmm\")","v":"abril"},{"$f":"YEAR(SPP[[#This Row],[DATA]])","v":2019}]
["16/04/2019","76","Lazer",215,0,7637.8600000000006,7637.8600000000006,{"$f":"TEXT(SPP[[#This Row],[DATA]],\"mmmm\")","v":"abril"},{"$f":"YEAR(SPP[[#This Row],[DATA]])","v":2019}]
["16/04/2019","86","Estacionamento",8285,0,174352.33000000002,174352.33000000002,{"$f":"TEXT(SPP[[#This Row],[DATA]],\"mmmm\")","v":"abril"},{"$f":"YEAR(SPP[[#This Row],[DATA]])","v":2019}]
["16/04/2019","100","BILHETE UNICO MENSAL - CASCO",3125915,513166957.25,48935229.380000003,562102186.63,{"$f":"TEXT(SPP[[#This Row],[DATA]],\"mmmm\")","v":"abril"},{"$f":"YEAR(SPP[[#This Row],[DATA]])","v":2019}]
["16/04/2019","110","BUM - ANÔNIMO - CASCO",1151432,0,13071054.060000001,13071054.060000001,{"$f":"TEXT(SPP[[#This Row],[DATA]],\"mmmm\")","v":"abril"},{"$f":"YEAR(SPP[[#This Row],[DATA]])","v":2019}]
["17/04/2019","51","COMUM 4 VIAGENS",5,0,70.97,70.97,{"$f":"TEXT(SPP[[#This Row],[DATA]],\"mmmm\")","v":"abril"},{"$f":"YEAR(SPP[[#This Row],[DATA]])","v":2019}]
["17/04/2019","52","ESTUDANTE",41288,46295.53,381648.78,427944.31,{"$f":"TEXT(SPP[[#This Row],[DATA]],\"mmmm\")","v":"abril"},{"$f":"YEAR(SPP[[#This Row],[DATA]])","v":2019}]
["17/04/2019","59","VT",2848841,261124691.24000001,28448330.469999999,289573021.70999998,{"$f":"TEXT(SPP[[#This Row],[DATA]],\"mmmm\")","v":"abril"},{"$f":"YEAR(SPP[[#This Row],[DATA]])","v":2019}]
["17/04/2019","68","ESTUDANTE 8VG",1,0,2.7,2.7,{"$f":"TEXT(SPP[[#This Row],[DATA]],\"mmmm\")","v":"abril"},{"$f":"YEAR(SPP[[#This Row],[DATA]])","v":2019}]
["17/04/2019","69","VT 8VG",849,0,23065.600000000002,23065.600000000002,{"$f":"TEXT(SPP[[#This Row],[DATA]],\"mmmm\")","v":"abril"},{"$f":"YEAR(SPP[[#This Row],[DATA]])","v":2019}]
["17/04/2019","71","MÃE PAULISTANA",76538,313490.09000000003,605327.82000000007,918817.91,{"$f":"TEXT(SPP[[#This Row],[DATA]],\"mmmm\")","v":"abril"},{"$f":"YEAR(SPP[[#This Row],[DATA]])","v":2019}]
["17/04/2019","74","PROFESSOR",16759,1056442.5900000001,0,1056442.5900000001,{"$f":"TEXT(SPP[[#This Row],[DATA]],\"mmmm\")","v":"abril"},{"$f":"YEAR(SPP[[#This Row],[DATA]])","v":2019}]
["17/04/2019","75","CARTAO FIDELIDADE",80705,0,6983333.9400000004,6983333.9400000004,{"$f":"TEXT(SPP[[#This Row],[DATA]],\"mmmm\")","v":"abril"},{"$f":"YEAR(SPP[[#This Row],[DATA]])","v":2019}]
["17/04/2019","76","Lazer",216,0,7676.8600000000006,7676.8600000000006,{"$f":"TEXT(SPP[[#This Row],[DATA]],\"mmmm\")","v":"abril"},{"$f":"YEAR(SPP[[#This Row],[DATA]])","v":2019}]
["17/04/2019","86","Estacionamento",8309,0,172147.59,172147.59,{"$f":"TEXT(SPP[[#This Row],[DATA]],\"mmmm\")","v":"abril"},{"$f":"YEAR(SPP[[#This Row],[DATA]])","v":2019}]
["17/04/2019","100","BILHETE UNICO MENSAL - CASCO",3132855,507978980.99000001,47972685.020000003,555951666.00999999,{"$f":"TEXT(SPP[[#This Row],[DATA]],\"mmmm\")","v":"abril"},{"$f":"YEAR(SPP[[#This Row],[DATA]])","v":2019}]
["17/04/2019","110","BUM - ANÔNIMO - CASCO",1153345,0,12848697.119999999,12848697.119999999,{"$f":"TEXT(SPP[[#This Row],[DATA]],\"mmmm\")","v":"abril"},{"$f":"YEAR(SPP[[#This Row],[DATA]])","v":2019}]
["18/04/2019","51","COMUM 4 VIAGENS",3,0,42.5,42.5,{"$f":"TEXT(SPP[[#This Row],[DATA]],\"mmmm\")","v":"abril"},{"$f":"YEAR(SPP[[#This Row],[DATA]])","v":2019}]
["18/04/2019","52","ESTUDANTE",41443,45805.74,377868.08,423673.82,{"$f":"TEXT(SPP[[#This Row],[DATA]],\"mmmm\")","v":"abril"},{"$f":"YEAR(SPP[[#This Row],[DATA]])","v":2019}]
["18/04/2019","59","VT",2853551,259235511.61000001,28143511.52,287379023.13,{"$f":"TEXT(SPP[[#This Row],[DATA]],\"mmmm\")","v":"abril"},{"$f":"YEAR(SPP[[#This Row],[DATA]])","v":2019}]
["18/04/2019","68","ESTUDANTE 8VG",1,0,2.7,2.7,{"$f":"TEXT(SPP[[#This Row],[DATA]],\"mmmm\")","v":"abril"},{"$f":"YEAR(SPP[[#This Row],[DATA]])","v":2019}]
["18/04/2019","69","VT 8VG",852,0,22836.9,22836.9,{"$f":"TEXT(SPP[[#This Row],[DATA]],\"mmmm\")","v":"abril"},{"$f":"YEAR(SPP[[#This Row],[DATA]])","v":2019}]
["18/04/2019","71","MÃE PAULISTANA",76889,312018.5,596173.67000000004,908192.17,{"$f":"TEXT(SPP[[#This Row],[DATA]],\"mmmm\")","v":"abril"},{"$f":"YEAR(SPP[[#This Row],[DATA]])","v":2019}]
["18/04/2019","74","PROFESSOR",16815,1045078.76,0,1045078.76,{"$f":"TEXT(SPP[[#This Row],[DATA]],\"mmmm\")","v":"abril"},{"$f":"YEAR(SPP[[#This Row],[DATA]])","v":2019}]
["18/04/2019","75","CARTAO FIDELIDADE",80607,0,6898212.2000000002,6898212.2000000002,{"$f":"TEXT(SPP[[#This Row],[DATA]],\"mmmm\")","v":"abril"},{"$f":"YEAR(SPP[[#This Row],[DATA]])","v":2019}]
["18/04/2019","76","Lazer",217,0,7732.06,7732.06,{"$f":"TEXT(SPP[[#This Row],[DATA]],\"mmmm\")","v":"abril"},{"$f":"YEAR(SPP[[#This Row],[DATA]])","v":2019}]
["18/04/2019","86","Estacionamento",8323,0,167594.67000000001,167594.67000000001,{"$f":"TEXT(SPP[[#This Row],[DATA]],\"mmmm\")","v":"abril"},{"$f":"YEAR(SPP[[#This Row],[DATA]])","v":2019}]
["18/04/2019","100","BILHETE UNICO MENSAL - CASCO",3139195,503099340.55000001,47115804.119999997,550215144.66999996,{"$f":"TEXT(SPP[[#This Row],[DATA]],\"mmmm\")","v":"abril"},{"$f":"YEAR(SPP[[#This Row],[DATA]])","v":2019}]
["18/04/2019","110","BUM - ANÔNIMO - CASCO",1155364,0,12695913.869999999,12695913.869999999,{"$f":"TEXT(SPP[[#This Row],[DATA]],\"mmmm\")","v":"abril"},{"$f":"YEAR(SPP[[#This Row],[DATA]])","v":2019}]
["19/04/2019","51","COMUM 4 VIAGENS",5,0,61.33,61.33,{"$f":"TEXT(SPP[[#This Row],[DATA]],\"mmmm\")","v":"abril"},{"$f":"YEAR(SPP[[#This Row],[DATA]])","v":2019}]
["19/04/2019","52","ESTUDANTE",41515,46038.85,357925.78,403964.63,{"$f":"TEXT(SPP[[#This Row],[DATA]],\"mmmm\")","v":"abril"},{"$f":"YEAR(SPP[[#This Row],[DATA]])","v":2019}]
["19/04/2019","59","VT",2854820,257609865.25,26463083.640000001,284072948.88999999,{"$f":"TEXT(SPP[[#This Row],[DATA]],\"mmmm\")","v":"abril"},{"$f":"YEAR(SPP[[#This Row],[DATA]])","v":2019}]
["19/04/2019","68","ESTUDANTE 8VG",1,0,2.7,2.7,{"$f":"TEXT(SPP[[#This Row],[DATA]],\"mmmm\")","v":"abril"},{"$f":"YEAR(SPP[[#This Row],[DATA]])","v":2019}]
["19/04/2019","69","VT 8VG",854,0,21969.49,21969.49,{"$f":"TEXT(SPP[[#This Row],[DATA]],\"mmmm\")","v":"abril"},{"$f":"YEAR(SPP[[#This Row],[DATA]])","v":2019}]
["19/04/2019","71","MÃE PAULISTANA",76863,306542.21000000002,563949.67000000004,870491.88,{"$f":"TEXT(SPP[[#This Row],[DATA]],\"mmmm\")","v":"abril"},{"$f":"YEAR(SPP[[#This Row],[DATA]])","v":2019}]
["19/04/2019","74","PROFESSOR",16813,1023002.82,0,1023002.82,{"$f":"TEXT(SPP[[#This Row],[DATA]],\"mmmm\")","v":"abril"},{"$f":"YEAR(SPP[[#This Row],[DATA]])","v":2019}]
["19/04/2019","75","CARTAO FIDELIDADE",80020,0,6679971.3200000003,6679971.3200000003,{"$f":"TEXT(SPP[[#This Row],[DATA]],\"mmmm\")","v":"abril"},{"$f":"YEAR(SPP[[#This Row],[DATA]])","v":2019}]
["19/04/2019","76","Lazer",218,0,7797.76,7797.76,{"$f":"TEXT(SPP[[#This Row],[DATA]],\"mmmm\")","v":"abril"},{"$f":"YEAR(SPP[[#This Row],[DATA]])","v":2019}]
["19/04/2019","86","Estacionamento",8330,0,156832.18,156832.18,{"$f":"TEXT(SPP[[#This Row],[DATA]],\"mmmm\")","v":"abril"},{"$f":"YEAR(SPP[[#This Row],[DATA]])","v":2019}]
["19/04/2019","100","BILHETE UNICO MENSAL - CASCO",3140882,498085494.63999999,44508034.75,542593529.38999999,{"$f":"TEXT(SPP[[#This Row],[DATA]],\"mmmm\")","v":"abril"},{"$f":"YEAR(SPP[[#This Row],[DATA]])","v":2019}]
["19/04/2019","110","BUM - ANÔNIMO - CASCO",1155628,0,11878017.1,11878017.1,{"$f":"TEXT(SPP[[#This Row],[DATA]],\"mmmm\")","v":"abril"},{"$f":"YEAR(SPP[[#This Row],[DATA]])","v":2019}]
["20/04/2019","51","COMUM 4 VIAGENS",5,0,57.03,57.03,{"$f":"TEXT(SPP[[#This Row],[DATA]],\"mmmm\")","v":"abril"},{"$f":"YEAR(SPP[[#This Row],[DATA]])","v":2019}]
["20/04/2019","52","ESTUDANTE",41645,45903.61,367403.27,413306.88,{"$f":"TEXT(SPP[[#This Row],[DATA]],\"mmmm\")","v":"abril"},{"$f":"YEAR(SPP[[#This Row],[DATA]])","v":2019}]
["20/04/2019","59","VT",2858817,256925341.43000001,27064742.66,283990084.08999997,{"$f":"TEXT(SPP[[#This Row],[DATA]],\"mmmm\")","v":"abril"},{"$f":"YEAR(SPP[[#This Row],[DATA]])","v":2019}]
["20/04/2019","68","ESTUDANTE 8VG",1,0,2.7,2.7,{"$f":"TEXT(SPP[[#This Row],[DATA]],\"mmmm\")","v":"abril"},{"$f":"YEAR(SPP[[#This Row],[DATA]])","v":2019}]
["20/04/2019","69","VT 8VG",856,0,21953.09,21953.09,{"$f":"TEXT(SPP[[#This Row],[DATA]],\"mmmm\")","v":"abril"},{"$f":"YEAR(SPP[[#This Row],[DATA]])","v":2019}]
["20/04/2019","71","MÃE PAULISTANA",77066,306111.11,575215.6,881326.71,{"$f":"TEXT(SPP[[#This Row],[DATA]],\"mmmm\")","v":"abril"},{"$f":"YEAR(SPP[[#This Row],[DATA]])","v":2019}]
["20/04/2019","74","PROFESSOR",16833,1026691.44,0,1026691.44,{"$f":"TEXT(SPP[[#This Row],[DATA]],\"mmmm\")","v":"abril"},{"$f":"YEAR(SPP[[#This Row],[DATA]])","v":2019}]
["20/04/2019","75","CARTAO FIDELIDADE",80139,0,6693809.79,6693809.79,{"$f":"TEXT(SPP[[#This Row],[DATA]],\"mmmm\")","v":"abril"},{"$f":"YEAR(SPP[[#This Row],[DATA]])","v":2019}]
["20/04/2019","76","Lazer",219,0,7778.41,7778.41,{"$f":"TEXT(SPP[[#This Row],[DATA]],\"mmmm\")","v":"abril"},{"$f":"YEAR(SPP[[#This Row],[DATA]])","v":2019}]
["20/04/2019","86","Estacionamento",8338,0,159146.59,159146.59,{"$f":"TEXT(SPP[[#This Row],[DATA]],\"mmmm\")","v":"abril"},{"$f":"YEAR(SPP[[#This Row],[DATA]])","v":2019}]
["20/04/2019","100","BILHETE UNICO MENSAL - CASCO",3144994,496313713.42000002,45301024.170000002,541614737.59000003,{"$f":"TEXT(SPP[[#This Row],[DATA]],\"mmmm\")","v":"abril"},{"$f":"YEAR(SPP[[#This Row],[DATA]])","v":2019}]
["20/04/2019","110","BUM - ANÔNIMO - CASCO",1157494,0,12188623.810000001,12188623.810000001,{"$f":"TEXT(SPP[[#This Row],[DATA]],\"mmmm\")","v":"abril"},{"$f":"YEAR(SPP[[#This Row],[DATA]])","v":2019}]
["21/04/2019","51","COMUM 4 VIAGENS",5,0,57.03,57.03,{"$f":"TEXT(SPP[[#This Row],[DATA]],\"mmmm\")","v":"abril"},{"$f":"YEAR(SPP[[#This Row],[DATA]])","v":2019}]
["21/04/2019","52","ESTUDANTE",41702,45640.959999999999,362163.75,407804.71,{"$f":"TEXT(SPP[[#This Row],[DATA]],\"mmmm\")","v":"abril"},{"$f":"YEAR(SPP[[#This Row],[DATA]])","v":2019}]
["21/04/2019","59","VT",2860237,256198754.28999999,26646858.41,282845612.69999999,{"$f":"TEXT(SPP[[#This Row],[DATA]],\"mmmm\")","v":"abril"},{"$f":"YEAR(SPP[[#This Row],[DATA]])","v":2019}]
["21/04/2019","68","ESTUDANTE 8VG",1,0,2.7,2.7,{"$f":"TEXT(SPP[[#This Row],[DATA]],\"mmmm\")","v":"abril"},{"$f":"YEAR(SPP[[#This Row],[DATA]])","v":2019}]
["21/04/2019","69","VT 8VG",854,0,21822.82,21822.82,{"$f":"TEXT(SPP[[#This Row],[DATA]],\"mmmm\")","v":"abril"},{"$f":"YEAR(SPP[[#This Row],[DATA]])","v":2019}]
["21/04/2019","71","MÃE PAULISTANA",77080,302025.37,565916.04,867941.41,{"$f":"TEXT(SPP[[#This Row],[DATA]],\"mmmm\")","v":"abril"},{"$f":"YEAR(SPP[[#This Row],[DATA]])","v":2019}]
["21/04/2019","74","PROFESSOR",16845,1024494.76,0,1024494.76,{"$f":"TEXT(SPP[[#This Row],[DATA]],\"mmmm\")","v":"abril"},{"$f":"YEAR(SPP[[#This Row],[DATA]])","v":2019}]
["21/04/2019","75","CARTAO FIDELIDADE",80115,0,6675465.9800000004,6675465.9800000004,{"$f":"TEXT(SPP[[#This Row],[DATA]],\"mmmm\")","v":"abril"},{"$f":"YEAR(SPP[[#This Row],[DATA]])","v":2019}]
["21/04/2019","76","Lazer",221,0,7809.71,7809.71,{"$f":"TEXT(SPP[[#This Row],[DATA]],\"mmmm\")","v":"abril"},{"$f":"YEAR(SPP[[#This Row],[DATA]])","v":2019}]
["21/04/2019","86","Estacionamento",8347,0,158231.5,158231.5,{"$f":"TEXT(SPP[[#This Row],[DATA]],\"mmmm\")","v":"abril"},{"$f":"YEAR(SPP[[#This Row],[DATA]])","v":2019}]
["21/04/2019","100","BILHETE UNICO MENSAL - CASCO",3146845,494034840.95999998,44784605.93,538819446.88999999,{"$f":"TEXT(SPP[[#This Row],[DATA]],\"mmmm\")","v":"abril"},{"$f":"YEAR(SPP[[#This Row],[DATA]])","v":2019}]
["21/04/2019","110","BUM - ANÔNIMO - CASCO",1157909,0,11999980.109999999,11999980.109999999,{"$f":"TEXT(SPP[[#This Row],[DATA]],\"mmmm\")","v":"abril"},{"$f":"YEAR(SPP[[#This Row],[DATA]])","v":2019}]
["22/04/2019","51","COMUM 4 VIAGENS",5,0,57.03,57.03,{"$f":"TEXT(SPP[[#This Row],[DATA]],\"mmmm\")","v":"abril"},{"$f":"YEAR(SPP[[#This Row],[DATA]])","v":2019}]
["22/04/2019","52","ESTUDANTE",41872,45815.56,381387.92,427203.48,{"$f":"TEXT(SPP[[#This Row],[DATA]],\"mmmm\")","v":"abril"},{"$f":"YEAR(SPP[[#This Row],[DATA]])","v":2019}]
["22/04/2019","59","VT",2865440,255272635.25,28164474.449999999,283437109.69999999,{"$f":"TEXT(SPP[[#This Row],[DATA]],\"mmmm\")","v":"abril"},{"$f":"YEAR(SPP[[#This Row],[DATA]])","v":2019}]
["22/04/2019","68","ESTUDANTE 8VG",1,0,2.7,2.7,{"$f":"TEXT(SPP[[#This Row],[DATA]],\"mmmm\")","v":"abril"},{"$f":"YEAR(SPP[[#This Row],[DATA]])","v":2019}]
["22/04/2019","69","VT 8VG",855,0,22146.880000000001,22146.880000000001,{"$f":"TEXT(SPP[[#This Row],[DATA]],\"mmmm\")","v":"abril"},{"$f":"YEAR(SPP[[#This Row],[DATA]])","v":2019}]
["22/04/2019","71","MÃE PAULISTANA",77449,303635.83,592009.87,895645.70000000007,{"$f":"TEXT(SPP[[#This Row],[DATA]],\"mmmm\")","v":"abril"},{"$f":"YEAR(SPP[[#This Row],[DATA]])","v":2019}]
["22/04/2019","74","PROFESSOR",16894,1042623.09,0,1042623.09,{"$f":"TEXT(SPP[[#This Row],[DATA]],\"mmmm\")","v":"abril"},{"$f":"YEAR(SPP[[#This Row],[DATA]])","v":2019}]
["22/04/2019","75","CARTAO FIDELIDADE",81039,0,6956908.8700000001,6956908.8700000001,{"$f":"TEXT(SPP[[#This Row],[DATA]],\"mmmm\")","v":"abril"},{"$f":"YEAR(SPP[[#This Row],[DATA]])","v":2019}]
["22/04/2019","76","Lazer",221,0,7670.3600000000006,7670.3600000000006,{"$f":"TEXT(SPP[[#This Row],[DATA]],\"mmmm\")","v":"abril"},{"$f":"YEAR(SPP[[#This Row],[DATA]])","v":2019}]
["22/04/2019","86","Estacionamento",8369,0,169860.57,169860.57,{"$f":"TEXT(SPP[[#This Row],[DATA]],\"mmmm\")","v":"abril"},{"$f":"YEAR(SPP[[#This Row],[DATA]])","v":2019}]
["22/04/2019","100","BILHETE UNICO MENSAL - CASCO",3154424,492813748.77999997,47175777.82,539989526.60000002,{"$f":"TEXT(SPP[[#This Row],[DATA]],\"mmmm\")","v":"abril"},{"$f":"YEAR(SPP[[#This Row],[DATA]])","v":2019}]
["22/04/2019","110","BUM - ANÔNIMO - CASCO",1160229,0,12763811.16,12763811.16,{"$f":"TEXT(SPP[[#This Row],[DATA]],\"mmmm\")","v":"abril"},{"$f":"YEAR(SPP[[#This Row],[DATA]])","v":2019}]
["23/04/2019","51","COMUM 4 VIAGENS",4,0,24.95,24.95,{"$f":"TEXT(SPP[[#This Row],[DATA]],\"mmmm\")","v":"abril"},{"$f":"YEAR(SPP[[#This Row],[DATA]])","v":2019}]
["23/04/2019","52","ESTUDANTE",42051,45450.71,385985.05,431435.76,{"$f":"TEXT(SPP[[#This Row],[DATA]],\"mmmm\")","v":"abril"},{"$f":"YEAR(SPP[[#This Row],[DATA]])","v":2019}]
["23/04/2019","59","VT",2870254,253837403.71000001,28335855.609999999,282173259.31999999,{"$f":"TEXT(SPP[[#This Row],[DATA]],\"mmmm\")","v":"abril"},{"$f":"YEAR(SPP[[#This Row],[DATA]])","v":2019}]
["23/04/2019","68","ESTUDANTE 8VG",1,0,2.7,2.7,{"$f":"TEXT(SPP[[#This Row],[DATA]],\"mmmm\")","v":"abril"},{"$f":"YEAR(SPP[[#This Row],[DATA]])","v":2019}]
["23/04/2019","69","VT 8VG",854,0,22066.400000000001,22066.400000000001,{"$f":"TEXT(SPP[[#This Row],[DATA]],\"mmmm\")","v":"abril"},{"$f":"YEAR(SPP[[#This Row],[DATA]])","v":2019}]
["23/04/2019","71","MÃE PAULISTANA",77807,303074.13,596538.32000000007,899612.45000000007,{"$f":"TEXT(SPP[[#This Row],[DATA]],\"mmmm\")","v":"abril"},{"$f":"YEAR(SPP[[#This Row],[DATA]])","v":2019}]
["23/04/2019","74","PROFESSOR",16943,1039309.89,0,1039309.89,{"$f":"TEXT(SPP[[#This Row],[DATA]],\"mmmm\")","v":"abril"},{"$f":"YEAR(SPP[[#This Row],[DATA]])","v":2019}]
["23/04/2019","75","CARTAO FIDELIDADE",81435,0,6954536.2599999998,6954536.2599999998,{"$f":"TEXT(SPP[[#This Row],[DATA]],\"mmmm\")","v":"abril"},{"$f":"YEAR(SPP[[#This Row],[DATA]])","v":2019}]
["23/04/2019","76","Lazer",221,0,7670.3600000000006,7670.3600000000006,{"$f":"TEXT(SPP[[#This Row],[DATA]],\"mmmm\")","v":"abril"},{"$f":"YEAR(SPP[[#This Row],[DATA]])","v":2019}]
["23/04/2019","86","Estacionamento",8390,0,170285.41,170285.41,{"$f":"TEXT(SPP[[#This Row],[DATA]],\"mmmm\")","v":"abril"},{"$f":"YEAR(SPP[[#This Row],[DATA]])","v":2019}]
["23/04/2019","100","BILHETE UNICO MENSAL - CASCO",3162207,490497598.37,47016051.219999999,537513649.59000003,{"$f":"TEXT(SPP[[#This Row],[DATA]],\"mmmm\")","v":"abril"},{"$f":"YEAR(SPP[[#This Row],[DATA]])","v":2019}]
["23/04/2019","110","BUM - ANÔNIMO - CASCO",1162072,0,12796369.460000001,12796369.460000001,{"$f":"TEXT(SPP[[#This Row],[DATA]],\"mmmm\")","v":"abril"},{"$f":"YEAR(SPP[[#This Row],[DATA]])","v":2019}]
["24/04/2019","51","COMUM 4 VIAGENS",4,0,67.14,67.14,{"$f":"TEXT(SPP[[#This Row],[DATA]],\"mmmm\")","v":"abril"},{"$f":"YEAR(SPP[[#This Row],[DATA]])","v":2019}]
["24/04/2019","52","ESTUDANTE",42231,45919.87,390354.44,436274.31,{"$f":"TEXT(SPP[[#This Row],[DATA]],\"mmmm\")","v":"abril"},{"$f":"YEAR(SPP[[#This Row],[DATA]])","v":2019}]
["24/04/2019","59","VT",2874774,253134872.58000001,28609680.440000001,281744553.01999998,{"$f":"TEXT(SPP[[#This Row],[DATA]],\"mmmm\")","v":"abril"},{"$f":"YEAR(SPP[[#This Row],[DATA]])","v":2019}]
["24/04/2019","68","ESTUDANTE 8VG",1,0,2.7,2.7,{"$f":"TEXT(SPP[[#This Row],[DATA]],\"mmmm\")","v":"abril"},{"$f":"YEAR(SPP[[#This Row],[DATA]])","v":2019}]
["24/04/2019","69","VT 8VG",856,0,22241.02,22241.02,{"$f":"TEXT(SPP[[#This Row],[DATA]],\"mmmm\")","v":"abril"},{"$f":"YEAR(SPP[[#This Row],[DATA]])","v":2019}]
["24/04/2019","71","MÃE PAULISTANA",78243,307718.74,604412.72,912131.46,{"$f":"TEXT(SPP[[#This Row],[DATA]],\"mmmm\")","v":"abril"},{"$f":"YEAR(SPP[[#This Row],[DATA]])","v":2019}]
["24/04/2019","74","PROFESSOR",17001,1031999.6,0,1031999.6,{"$f":"TEXT(SPP[[#This Row],[DATA]],\"mmmm\")","v":"abril"},{"$f":"YEAR(SPP[[#This Row],[DATA]])","v":2019}]
["24/04/2019","75","CARTAO FIDELIDADE",81508,0,6917731.0700000003,6917731.0700000003,{"$f":"TEXT(SPP[[#This Row],[DATA]],\"mmmm\")","v":"abril"},{"$f":"YEAR(SPP[[#This Row],[DATA]])","v":2019}]
["24/04/2019","76","Lazer",221,0,7666.06,7666.06,{"$f":"TEXT(SPP[[#This Row],[DATA]],\"mmmm\")","v":"abril"},{"$f":"YEAR(SPP[[#This Row],[DATA]])","v":2019}]
["24/04/2019","86","Estacionamento",8407,0,169779.38,169779.38,{"$f":"TEXT(SPP[[#This Row],[DATA]],\"mmmm\")","v":"abril"},{"$f":"YEAR(SPP[[#This Row],[DATA]])","v":2019}]
["24/04/2019","100","BILHETE UNICO MENSAL - CASCO",3169541,490021327.55000001,46978609.030000001,536999936.58000004,{"$f":"TEXT(SPP[[#This Row],[DATA]],\"mmmm\")","v":"abril"},{"$f":"YEAR(SPP[[#This Row],[DATA]])","v":2019}]
["24/04/2019","110","BUM - ANÔNIMO - CASCO",1164008,0,12932979.76,12932979.76,{"$f":"TEXT(SPP[[#This Row],[DATA]],\"mmmm\")","v":"abril"},{"$f":"YEAR(SPP[[#This Row],[DATA]])","v":2019}]
["25/04/2019","51","COMUM 4 VIAGENS",5,0,90.19,90.19,{"$f":"TEXT(SPP[[#This Row],[DATA]],\"mmmm\")","v":"abril"},{"$f":"YEAR(SPP[[#This Row],[DATA]])","v":2019}]
["25/04/2019","52","ESTUDANTE",42378,46087.14,377206.66000000003,423293.8,{"$f":"TEXT(SPP[[#This Row],[DATA]],\"mmmm\")","v":"abril"},{"$f":"YEAR(SPP[[#This Row],[DATA]])","v":2019}]
["25/04/2019","59","VT",2878024,252485122.83000001,27605659.600000001,280090782.43000001,{"$f":"TEXT(SPP[[#This Row],[DATA]],\"mmmm\")","v":"abril"},{"$f":"YEAR(SPP[[#This Row],[DATA]])","v":2019}]
["25/04/2019","68","ESTUDANTE 8VG",1,0,2.7,2.7,{"$f":"TEXT(SPP[[#This Row],[DATA]],\"mmmm\")","v":"abril"},{"$f":"YEAR(SPP[[#This Row],[DATA]])","v":2019}]
["25/04/2019","69","VT 8VG",859,0,22113.27,22113.27,{"$f":"TEXT(SPP[[#This Row],[DATA]],\"mmmm\")","v":"abril"},{"$f":"YEAR(SPP[[#This Row],[DATA]])","v":2019}]
["25/04/2019","71","MÃE PAULISTANA",78518,309025.83,575361.05000000005,884386.88,{"$f":"TEXT(SPP[[#This Row],[DATA]],\"mmmm\")","v":"abril"},{"$f":"YEAR(SPP[[#This Row],[DATA]])","v":2019}]
["25/04/2019","74","PROFESSOR",17044,1021267.48,0,1021267.48,{"$f":"TEXT(SPP[[#This Row],[DATA]],\"mmmm\")","v":"abril"},{"$f":"YEAR(SPP[[#This Row],[DATA]])","v":2019}]
["25/04/2019","75","CARTAO FIDELIDADE",81585,0,6859706.2300000004,6859706.2300000004,{"$f":"TEXT(SPP[[#This Row],[DATA]],\"mmmm\")","v":"abril"},{"$f":"YEAR(SPP[[#This Row],[DATA]])","v":2019}]
["25/04/2019","76","Lazer",221,0,7666.06,7666.06,{"$f":"TEXT(SPP[[#This Row],[DATA]],\"mmmm\")","v":"abril"},{"$f":"YEAR(SPP[[#This Row],[DATA]])","v":2019}]
["25/04/2019","86","Estacionamento",8424,0,166051.28,166051.28,{"$f":"TEXT(SPP[[#This Row],[DATA]],\"mmmm\")","v":"abril"},{"$f":"YEAR(SPP[[#This Row],[DATA]])","v":2019}]
["25/04/2019","100","BILHETE UNICO MENSAL - CASCO",3176181,489919851.80000001,44774154.579999998,534694006.38,{"$f":"TEXT(SPP[[#This Row],[DATA]],\"mmmm\")","v":"abril"},{"$f":"YEAR(SPP[[#This Row],[DATA]])","v":2019}]
["25/04/2019","110","BUM - ANÔNIMO - CASCO",1165152,0,12390921.880000001,12390921.880000001,{"$f":"TEXT(SPP[[#This Row],[DATA]],\"mmmm\")","v":"abril"},{"$f":"YEAR(SPP[[#This Row],[DATA]])","v":2019}]
["26/04/2019","51","COMUM 4 VIAGENS",5,0,75.23,75.23,{"$f":"TEXT(SPP[[#This Row],[DATA]],\"mmmm\")","v":"abril"},{"$f":"YEAR(SPP[[#This Row],[DATA]])","v":2019}]
["26/04/2019","52","ESTUDANTE",42526,45834.15,378386.67,424220.82,{"$f":"TEXT(SPP[[#This Row],[DATA]],\"mmmm\")","v":"abril"},{"$f":"YEAR(SPP[[#This Row],[DATA]])","v":2019}]
["26/04/2019","59","VT",2881784,253013839.22999999,27643819.300000001,280657658.52999997,{"$f":"TEXT(SPP[[#This Row],[DATA]],\"mmmm\")","v":"abril"},{"$f":"YEAR(SPP[[#This Row],[DATA]])","v":2019}]
["26/04/2019","68","ESTUDANTE 8VG",1,0,2.7,2.7,{"$f":"TEXT(SPP[[#This Row],[DATA]],\"mmmm\")","v":"abril"},{"$f":"YEAR(SPP[[#This Row],[DATA]])","v":2019}]
["26/04/2019","69","VT 8VG",859,0,22424.240000000002,22424.240000000002,{"$f":"TEXT(SPP[[#This Row],[DATA]],\"mmmm\")","v":"abril"},{"$f":"YEAR(SPP[[#This Row],[DATA]])","v":2019}]
["26/04/2019","71","MÃE PAULISTANA",78795,316357.84000000003,574428.64,890786.48,{"$f":"TEXT(SPP[[#This Row],[DATA]],\"mmmm\")","v":"abril"},{"$f":"YEAR(SPP[[#This Row],[DATA]])","v":2019}]
["26/04/2019","74","PROFESSOR",17090,1009442.22,0,1009442.22,{"$f":"TEXT(SPP[[#This Row],[DATA]],\"mmmm\")","v":"abril"},{"$f":"YEAR(SPP[[#This Row],[DATA]])","v":2019}]
["26/04/2019","75","CARTAO FIDELIDADE",81502,0,6766309.1699999999,6766309.1699999999,{"$f":"TEXT(SPP[[#This Row],[DATA]],\"mmmm\")","v":"abril"},{"$f":"YEAR(SPP[[#This Row],[DATA]])","v":2019}]
["26/04/2019","76","Lazer",221,0,7709.06,7709.06,{"$f":"TEXT(SPP[[#This Row],[DATA]],\"mmmm\")","v":"abril"},{"$f":"YEAR(SPP[[#This Row],[DATA]])","v":2019}]
["26/04/2019","86","Estacionamento",8442,0,162882.56,162882.56,{"$f":"TEXT(SPP[[#This Row],[DATA]],\"mmmm\")","v":"abril"},{"$f":"YEAR(SPP[[#This Row],[DATA]])","v":2019}]
["26/04/2019","100","BILHETE UNICO MENSAL - CASCO",3182747,494321136.19999999,44254329.729999997,538575465.92999995,{"$f":"TEXT(SPP[[#This Row],[DATA]],\"mmmm\")","v":"abril"},{"$f":"YEAR(SPP[[#This Row],[DATA]])","v":2019}]
["26/04/2019","110","BUM - ANÔNIMO - CASCO",1166852,0,12458987.800000001,12458987.800000001,{"$f":"TEXT(SPP[[#This Row],[DATA]],\"mmmm\")","v":"abril"},{"$f":"YEAR(SPP[[#This Row],[DATA]])","v":2019}]
["27/04/2019","51","COMUM 4 VIAGENS",5,0,75.23,75.23,{"$f":"TEXT(SPP[[#This Row],[DATA]],\"mmmm\")","v":"abril"},{"$f":"YEAR(SPP[[#This Row],[DATA]])","v":2019}]
["27/04/2019","52","ESTUDANTE",42643,45684.5,388259.96,433944.46,{"$f":"TEXT(SPP[[#This Row],[DATA]],\"mmmm\")","v":"abril"},{"$f":"YEAR(SPP[[#This Row],[DATA]])","v":2019}]
["27/04/2019","59","VT",2885508,254094616.61000001,28440602.23,282535218.83999997,{"$f":"TEXT(SPP[[#This Row],[DATA]],\"mmmm\")","v":"abril"},{"$f":"YEAR(SPP[[#This Row],[DATA]])","v":2019}]
["27/04/2019","68","ESTUDANTE 8VG",1,0,2.7,2.7,{"$f":"TEXT(SPP[[#This Row],[DATA]],\"mmmm\")","v":"abril"},{"$f":"YEAR(SPP[[#This Row],[DATA]])","v":2019}]
["27/04/2019","69","VT 8VG",862,0,22387.350000000002,22387.350000000002,{"$f":"TEXT(SPP[[#This Row],[DATA]],\"mmmm\")","v":"abril"},{"$f":"YEAR(SPP[[#This Row],[DATA]])","v":2019}]
["27/04/2019","71","MÃE PAULISTANA",79084,320765.05,591234.68000000005,911999.73,{"$f":"TEXT(SPP[[#This Row],[DATA]],\"mmmm\")","v":"abril"},{"$f":"YEAR(SPP[[#This Row],[DATA]])","v":2019}]
["27/04/2019","74","PROFESSOR",17117,1016053.2,0,1016053.2,{"$f":"TEXT(SPP[[#This Row],[DATA]],\"mmmm\")","v":"abril"},{"$f":"YEAR(SPP[[#This Row],[DATA]])","v":2019}]
["27/04/2019","75","CARTAO FIDELIDADE",81724,0,6832888.6100000003,6832888.6100000003,{"$f":"TEXT(SPP[[#This Row],[DATA]],\"mmmm\")","v":"abril"},{"$f":"YEAR(SPP[[#This Row],[DATA]])","v":2019}]
["27/04/2019","76","Lazer",223,0,7835.96,7835.96,{"$f":"TEXT(SPP[[#This Row],[DATA]],\"mmmm\")","v":"abril"},{"$f":"YEAR(SPP[[#This Row],[DATA]])","v":2019}]
["27/04/2019","86","Estacionamento",8456,0,166461.42000000001,166461.42000000001,{"$f":"TEXT(SPP[[#This Row],[DATA]],\"mmmm\")","v":"abril"},{"$f":"YEAR(SPP[[#This Row],[DATA]])","v":2019}]
["27/04/2019","100","BILHETE UNICO MENSAL - CASCO",3187443,499286821.88,45192959.100000001,544479780.98000002,{"$f":"TEXT(SPP[[#This Row],[DATA]],\"mmmm\")","v":"abril"},{"$f":"YEAR(SPP[[#This Row],[DATA]])","v":2019}]
["27/04/2019","110","BUM - ANÔNIMO - CASCO",1168562,0,12928558.49,12928558.49,{"$f":"TEXT(SPP[[#This Row],[DATA]],\"mmmm\")","v":"abril"},{"$f":"YEAR(SPP[[#This Row],[DATA]])","v":2019}]
["28/04/2019","51","COMUM 4 VIAGENS",5,0,75.23,75.23,{"$f":"TEXT(SPP[[#This Row],[DATA]],\"mmmm\")","v":"abril"},{"$f":"YEAR(SPP[[#This Row],[DATA]])","v":2019}]
["28/04/2019","52","ESTUDANTE",42702,45468.6,389712.66000000003,435181.26,{"$f":"TEXT(SPP[[#This Row],[DATA]],\"mmmm\")","v":"abril"},{"$f":"YEAR(SPP[[#This Row],[DATA]])","v":2019}]
["28/04/2019","59","VT",2886975,254176142.24000001,28527203.440000001,282703345.68000001,{"$f":"TEXT(SPP[[#This Row],[DATA]],\"mmmm\")","v":"abril"},{"$f":"YEAR(SPP[[#This Row],[DATA]])","v":2019}]
["28/04/2019","68","ESTUDANTE 8VG",1,0,2.7,2.7,{"$f":"TEXT(SPP[[#This Row],[DATA]],\"mmmm\")","v":"abril"},{"$f":"YEAR(SPP[[#This Row],[DATA]])","v":2019}]
["28/04/2019","69","VT 8VG",862,0,22263.78,22263.78,{"$f":"TEXT(SPP[[#This Row],[DATA]],\"mmmm\")","v":"abril"},{"$f":"YEAR(SPP[[#This Row],[DATA]])","v":2019}]
["28/04/2019","71","MÃE PAULISTANA",79160,319247.23,592331.48,911578.71,{"$f":"TEXT(SPP[[#This Row],[DATA]],\"mmmm\")","v":"abril"},{"$f":"YEAR(SPP[[#This Row],[DATA]])","v":2019}]
["28/04/2019","74","PROFESSOR",17129,1016940.03,0,1016940.03,{"$f":"TEXT(SPP[[#This Row],[DATA]],\"mmmm\")","v":"abril"},{"$f":"YEAR(SPP[[#This Row],[DATA]])","v":2019}]
["28/04/2019","75","CARTAO FIDELIDADE",81817,0,6861278.7000000002,6861278.7000000002,{"$f":"TEXT(SPP[[#This Row],[DATA]],\"mmmm\")","v":"abril"},{"$f":"YEAR(SPP[[#This Row],[DATA]])","v":2019}]
["28/04/2019","76","Lazer",224,0,7921.96,7921.96,{"$f":"TEXT(SPP[[#This Row],[DATA]],\"mmmm\")","v":"abril"},{"$f":"YEAR(SPP[[#This Row],[DATA]])","v":2019}]
["28/04/2019","86","Estacionamento",8460,0,166539.31,166539.31,{"$f":"TEXT(SPP[[#This Row],[DATA]],\"mmmm\")","v":"abril"},{"$f":"YEAR(SPP[[#This Row],[DATA]])","v":2019}]
["28/04/2019","100","BILHETE UNICO MENSAL - CASCO",3189438,500224185.93000001,45199426.68,545423612.61000001,{"$f":"TEXT(SPP[[#This Row],[DATA]],\"mmmm\")","v":"abril"},{"$f":"YEAR(SPP[[#This Row],[DATA]])","v":2019}]
["28/04/2019","110","BUM - ANÔNIMO - CASCO",1169299,0,13040247.859999999,13040247.859999999,{"$f":"TEXT(SPP[[#This Row],[DATA]],\"mmmm\")","v":"abril"},{"$f":"YEAR(SPP[[#This Row],[DATA]])","v":2019}]
["29/04/2019","51","COMUM 4 VIAGENS",4,0,52.18,52.18,{"$f":"TEXT(SPP[[#This Row],[DATA]],\"mmmm\")","v":"abril"},{"$f":"YEAR(SPP[[#This Row],[DATA]])","v":2019}]
["29/04/2019","52","ESTUDANTE",42874,45744.520000000004,417304.62,463049.14,{"$f":"TEXT(SPP[[#This Row],[DATA]],\"mmmm\")","v":"abril"},{"$f":"YEAR(SPP[[#This Row],[DATA]])","v":2019}]
["29/04/2019","59","VT",2892111,255743169.38999999,30614413.039999999,286357582.43000001,{"$f":"TEXT(SPP[[#This Row],[DATA]],\"mmmm\")","v":"abril"},{"$f":"YEAR(SPP[[#This Row],[DATA]])","v":2019}]
["29/04/2019","68","ESTUDANTE 8VG",1,0,2.7,2.7,{"$f":"TEXT(SPP[[#This Row],[DATA]],\"mmmm\")","v":"abril"},{"$f":"YEAR(SPP[[#This Row],[DATA]])","v":2019}]
["29/04/2019","69","VT 8VG",861,0,23108.58,23108.58,{"$f":"TEXT(SPP[[#This Row],[DATA]],\"mmmm\")","v":"abril"},{"$f":"YEAR(SPP[[#This Row],[DATA]])","v":2019}]
["29/04/2019","71","MÃE PAULISTANA",79656,329729.03999999998,638995.04,968724.08000000007,{"$f":"TEXT(SPP[[#This Row],[DATA]],\"mmmm\")","v":"abril"},{"$f":"YEAR(SPP[[#This Row],[DATA]])","v":2019}]
["29/04/2019","74","PROFESSOR",17190,1038517.16,0,1038517.16,{"$f":"TEXT(SPP[[#This Row],[DATA]],\"mmmm\")","v":"abril"},{"$f":"YEAR(SPP[[#This Row],[DATA]])","v":2019}]
["29/04/2019","75","CARTAO FIDELIDADE",82459,0,7144733.4100000001,7144733.4100000001,{"$f":"TEXT(SPP[[#This Row],[DATA]],\"mmmm\")","v":"abril"},{"$f":"YEAR(SPP[[#This Row],[DATA]])","v":2019}]
["29/04/2019","76","Lazer",224,0,7921.96,7921.96,{"$f":"TEXT(SPP[[#This Row],[DATA]],\"mmmm\")","v":"abril"},{"$f":"YEAR(SPP[[#This Row],[DATA]])","v":2019}]
["29/04/2019","86","Estacionamento",8482,0,178884.38,178884.38,{"$f":"TEXT(SPP[[#This Row],[DATA]],\"mmmm\")","v":"abril"},{"$f":"YEAR(SPP[[#This Row],[DATA]])","v":2019}]
["29/04/2019","100","BILHETE UNICO MENSAL - CASCO",3197412,508601797.94999999,48676615.490000002,557278413.44000006,{"$f":"TEXT(SPP[[#This Row],[DATA]],\"mmmm\")","v":"abril"},{"$f":"YEAR(SPP[[#This Row],[DATA]])","v":2019}]
["29/04/2019","110","BUM - ANÔNIMO - CASCO",1171817,0,14140622.140000001,14140622.140000001,{"$f":"TEXT(SPP[[#This Row],[DATA]],\"mmmm\")","v":"abril"},{"$f":"YEAR(SPP[[#This Row],[DATA]])","v":2019}]
["30/04/2019","51","COMUM 4 VIAGENS",4,0,52.18,52.18,{"$f":"TEXT(SPP[[#This Row],[DATA]],\"mmmm\")","v":"abril"},{"$f":"YEAR(SPP[[#This Row],[DATA]])","v":2019}]
["30/04/2019","52","ESTUDANTE",43015,45663.03,417676.53,463339.56,{"$f":"TEXT(SPP[[#This Row],[DATA]],\"mmmm\")","v":"abril"},{"$f":"YEAR(SPP[[#This Row],[DATA]])","v":2019}]
["30/04/2019","59","VT",2896044,258762740.65000001,30599490.649999999,289362231.30000001,{"$f":"TEXT(SPP[[#This Row],[DATA]],\"mmmm\")","v":"abril"},{"$f":"YEAR(SPP[[#This Row],[DATA]])","v":2019}]
["30/04/2019","68","ESTUDANTE 8VG",1,0,2.7,2.7,{"$f":"TEXT(SPP[[#This Row],[DATA]],\"mmmm\")","v":"abril"},{"$f":"YEAR(SPP[[#This Row],[DATA]])","v":2019}]
["30/04/2019","69","VT 8VG",860,0,23581.170000000002,23581.170000000002,{"$f":"TEXT(SPP[[#This Row],[DATA]],\"mmmm\")","v":"abril"},{"$f":"YEAR(SPP[[#This Row],[DATA]])","v":2019}]
["30/04/2019","71","MÃE PAULISTANA",79995,335309.26,650591.20000000007,985900.46,{"$f":"TEXT(SPP[[#This Row],[DATA]],\"mmmm\")","v":"abril"},{"$f":"YEAR(SPP[[#This Row],[DATA]])","v":2019}]
["30/04/2019","74","PROFESSOR",17241,1052207.92,0,1052207.92,{"$f":"TEXT(SPP[[#This Row],[DATA]],\"mmmm\")","v":"abril"},{"$f":"YEAR(SPP[[#This Row],[DATA]])","v":2019}]
["30/04/2019","75","CARTAO FIDELIDADE",82632,0,7220076.54,7220076.54,{"$f":"TEXT(SPP[[#This Row],[DATA]],\"mmmm\")","v":"abril"},{"$f":"YEAR(SPP[[#This Row],[DATA]])","v":2019}]
["30/04/2019","76","Lazer",225,0,7818.3600000000006,7818.3600000000006,{"$f":"TEXT(SPP[[#This Row],[DATA]],\"mmmm\")","v":"abril"},{"$f":"YEAR(SPP[[#This Row],[DATA]])","v":2019}]
["30/04/2019","86","Estacionamento",8500,0,182825.1,182825.1,{"$f":"TEXT(SPP[[#This Row],[DATA]],\"mmmm\")","v":"abril"},{"$f":"YEAR(SPP[[#This Row],[DATA]])","v":2019}]
["30/04/2019","100","BILHETE UNICO MENSAL - CASCO",3205517,522816632.11000001,50354091.990000002,573170724.10000002,{"$f":"TEXT(SPP[[#This Row],[DATA]],\"mmmm\")","v":"abril"},{"$f":"YEAR(SPP[[#This Row],[DATA]])","v":2019}]
["30/04/2019","110","BUM - ANÔNIMO - CASCO",1173452,0,14105082.939999999,14105082.939999999,{"$f":"TEXT(SPP[[#This Row],[DATA]],\"mmmm\")","v":"abril"},{"$f":"YEAR(SPP[[#This Row],[DATA]])","v":2019}]
["01/05/2019","51","COMUM 4 VIAGENS",5,0,74.59,74.59,{"$f":"TEXT(SPP[[#This Row],[DATA]],\"mmmm\")","v":"maio"},{"$f":"YEAR(SPP[[#This Row],[DATA]])","v":2019}]
["01/05/2019","52","ESTUDANTE",43033,46823.55,358512.54,405336.09,{"$f":"TEXT(SPP[[#This Row],[DATA]],\"mmmm\")","v":"maio"},{"$f":"YEAR(SPP[[#This Row],[DATA]])","v":2019}]
["01/05/2019","59","VT",2895232,260966224.25999999,25813516.890000001,286779741.14999998,{"$f":"TEXT(SPP[[#This Row],[DATA]],\"mmmm\")","v":"maio"},{"$f":"YEAR(SPP[[#This Row],[DATA]])","v":2019}]
["01/05/2019","68","ESTUDANTE 8VG",1,0,2.7,2.7,{"$f":"TEXT(SPP[[#This Row],[DATA]],\"mmmm\")","v":"maio"},{"$f":"YEAR(SPP[[#This Row],[DATA]])","v":2019}]
["01/05/2019","69","VT 8VG",859,0,21221.79,21221.79,{"$f":"TEXT(SPP[[#This Row],[DATA]],\"mmmm\")","v":"maio"},{"$f":"YEAR(SPP[[#This Row],[DATA]])","v":2019}]
["01/05/2019","71","MÃE PAULISTANA",79644,323410.2,555755.67000000004,879165.87,{"$f":"TEXT(SPP[[#This Row],[DATA]],\"mmmm\")","v":"maio"},{"$f":"YEAR(SPP[[#This Row],[DATA]])","v":2019}]
["01/05/2019","74","PROFESSOR",17223,994115.01,0,994115.01,{"$f":"TEXT(SPP[[#This Row],[DATA]],\"mmmm\")","v":"maio"},{"$f":"YEAR(SPP[[#This Row],[DATA]])","v":2019}]
["01/05/2019","75","CARTAO FIDELIDADE",80962,0,6571391.5300000003,6571391.5300000003,{"$f":"TEXT(SPP[[#This Row],[DATA]],\"mmmm\")","v":"maio"},{"$f":"YEAR(SPP[[#This Row],[DATA]])","v":2019}]
["01/05/2019","76","Lazer",228,0,7947.56,7947.56,{"$f":"TEXT(SPP[[#This Row],[DATA]],\"mmmm\")","v":"maio"},{"$f":"YEAR(SPP[[#This Row],[DATA]])","v":2019}]
["01/05/2019","86","Estacionamento",8519,0,157327.75,157327.75,{"$f":"TEXT(SPP[[#This Row],[DATA]],\"mmmm\")","v":"maio"},{"$f":"YEAR(SPP[[#This Row],[DATA]])","v":2019}]
["01/05/2019","100","BILHETE UNICO MENSAL - CASCO",3208288,532143879.58999997,42553309.490000002,574697189.08000004,{"$f":"TEXT(SPP[[#This Row],[DATA]],\"mmmm\")","v":"maio"},{"$f":"YEAR(SPP[[#This Row],[DATA]])","v":2019}]
["01/05/2019","110","BUM - ANÔNIMO - CASCO",1172175,0,11656271.68,11656271.68,{"$f":"TEXT(SPP[[#This Row],[DATA]],\"mmmm\")","v":"maio"},{"$f":"YEAR(SPP[[#This Row],[DATA]])","v":2019}]
["02/05/2019","51","COMUM 4 VIAGENS",4,0,64.23,64.23,{"$f":"TEXT(SPP[[#This Row],[DATA]],\"mmmm\")","v":"maio"},{"$f":"YEAR(SPP[[#This Row],[DATA]])","v":2019}]
["02/05/2019","52","ESTUDANTE",43170,47889.39,377034.47000000003,424923.86,{"$f":"TEXT(SPP[[#This Row],[DATA]],\"mmmm\")","v":"maio"},{"$f":"YEAR(SPP[[#This Row],[DATA]])","v":2019}]
["02/05/2019","59","VT",2899983,262718357.05000001,27417983.760000002,290136340.81,{"$f":"TEXT(SPP[[#This Row],[DATA]],\"mmmm\")","v":"maio"},{"$f":"YEAR(SPP[[#This Row],[DATA]])","v":2019}]
["02/05/2019","68","ESTUDANTE 8VG",1,0,2.7,2.7,{"$f":"TEXT(SPP[[#This Row],[DATA]],\"mmmm\")","v":"maio"},{"$f":"YEAR(SPP[[#This Row],[DATA]])","v":2019}]
["02/05/2019","69","VT 8VG",861,0,22158.62,22158.62,{"$f":"TEXT(SPP[[#This Row],[DATA]],\"mmmm\")","v":"maio"},{"$f":"YEAR(SPP[[#This Row],[DATA]])","v":2019}]
["02/05/2019","71","MÃE PAULISTANA",80013,329720.15000000002,605874.26,935594.41,{"$f":"TEXT(SPP[[#This Row],[DATA]],\"mmmm\")","v":"maio"},{"$f":"YEAR(SPP[[#This Row],[DATA]])","v":2019}]
["02/05/2019","74","PROFESSOR",17337,1049757.92,0,1049757.92,{"$f":"TEXT(SPP[[#This Row],[DATA]],\"mmmm\")","v":"maio"},{"$f":"YEAR(SPP[[#This Row],[DATA]])","v":2019}]
["02/05/2019","75","CARTAO FIDELIDADE",82033,0,6903142.2300000004,6903142.2300000004,{"$f":"TEXT(SPP[[#This Row],[DATA]],\"mmmm\")","v":"maio"},{"$f":"YEAR(SPP[[#This Row],[DATA]])","v":2019}]
["02/05/2019","76","Lazer",234,0,7831.56,7831.56,{"$f":"TEXT(SPP[[#This Row],[DATA]],\"mmmm\")","v":"maio"},{"$f":"YEAR(SPP[[#This Row],[DATA]])","v":2019}]
["02/05/2019","86","Estacionamento",8538,0,169363.57,169363.57,{"$f":"TEXT(SPP[[#This Row],[DATA]],\"mmmm\")","v":"maio"},{"$f":"YEAR(SPP[[#This Row],[DATA]])","v":2019}]
["02/05/2019","100","BILHETE UNICO MENSAL - CASCO",3217454,542416349.63,47261203.159999996,589677552.78999996,{"$f":"TEXT(SPP[[#This Row],[DATA]],\"mmmm\")","v":"maio"},{"$f":"YEAR(SPP[[#This Row],[DATA]])","v":2019}]
["02/05/2019","110","BUM - ANÔNIMO - CASCO",1174606,0,12504672.550000001,12504672.550000001,{"$f":"TEXT(SPP[[#This Row],[DATA]],\"mmmm\")","v":"maio"},{"$f":"YEAR(SPP[[#This Row],[DATA]])","v":2019}]
["03/05/2019","51","COMUM 4 VIAGENS",5,0,55.33,55.33,{"$f":"TEXT(SPP[[#This Row],[DATA]],\"mmmm\")","v":"maio"},{"$f":"YEAR(SPP[[#This Row],[DATA]])","v":2019}]
["03/05/2019","52","ESTUDANTE",43298,48136.49,370764.76,418901.25,{"$f":"TEXT(SPP[[#This Row],[DATA]],\"mmmm\")","v":"maio"},{"$f":"YEAR(SPP[[#This Row],[DATA]])","v":2019}]
["03/05/2019","59","VT",2903334,265145184.88999999,26831502.93,291976687.81999999,{"$f":"TEXT(SPP[[#This Row],[DATA]],\"mmmm\")","v":"maio"},{"$f":"YEAR(SPP[[#This Row],[DATA]])","v":2019}]
["03/05/2019","68","ESTUDANTE 8VG",1,0,2.7,2.7,{"$f":"TEXT(SPP[[#This Row],[DATA]],\"mmmm\")","v":"maio"},{"$f":"YEAR(SPP[[#This Row],[DATA]])","v":2019}]
["03/05/2019","69","VT 8VG",861,0,22086.12,22086.12,{"$f":"TEXT(SPP[[#This Row],[DATA]],\"mmmm\")","v":"maio"},{"$f":"YEAR(SPP[[#This Row],[DATA]])","v":2019}]
["03/05/2019","71","MÃE PAULISTANA",80248,332249.21000000002,603906.38,936155.59,{"$f":"TEXT(SPP[[#This Row],[DATA]],\"mmmm\")","v":"maio"},{"$f":"YEAR(SPP[[#This Row],[DATA]])","v":2019}]
["03/05/2019","74","PROFESSOR",17404,1060181.46,0,1060181.46,{"$f":"TEXT(SPP[[#This Row],[DATA]],\"mmmm\")","v":"maio"},{"$f":"YEAR(SPP[[#This Row],[DATA]])","v":2019}]
["03/05/2019","75","CARTAO FIDELIDADE",82124,0,6935090.9400000004,6935090.9400000004,{"$f":"TEXT(SPP[[#This Row],[DATA]],\"mmmm\")","v":"maio"},{"$f":"YEAR(SPP[[#This Row],[DATA]])","v":2019}]
["03/05/2019","76","Lazer",235,0,7874.56,7874.56,{"$f":"TEXT(SPP[[#This Row],[DATA]],\"mmmm\")","v":"maio"},{"$f":"YEAR(SPP[[#This Row],[DATA]])","v":2019}]
["03/05/2019","86","Estacionamento",8568,0,168362.25,168362.25,{"$f":"TEXT(SPP[[#This Row],[DATA]],\"mmmm\")","v":"maio"},{"$f":"YEAR(SPP[[#This Row],[DATA]])","v":2019}]
["03/05/2019","100","BILHETE UNICO MENSAL - CASCO",3224899,553262093.16999996,47518834.859999999,600780928.02999997,{"$f":"TEXT(SPP[[#This Row],[DATA]],\"mmmm\")","v":"maio"},{"$f":"YEAR(SPP[[#This Row],[DATA]])","v":2019}]
["03/05/2019","110","BUM - ANÔNIMO - CASCO",1176203,0,12192545.630000001,12192545.630000001,{"$f":"TEXT(SPP[[#This Row],[DATA]],\"mmmm\")","v":"maio"},{"$f":"YEAR(SPP[[#This Row],[DATA]])","v":2019}]
["04/05/2019","51","COMUM 4 VIAGENS",5,0,58.13,58.13,{"$f":"TEXT(SPP[[#This Row],[DATA]],\"mmmm\")","v":"maio"},{"$f":"YEAR(SPP[[#This Row],[DATA]])","v":2019}]
["04/05/2019","52","ESTUDANTE",43419,48359.37,368761,417120.37,{"$f":"TEXT(SPP[[#This Row],[DATA]],\"mmmm\")","v":"maio"},{"$f":"YEAR(SPP[[#This Row],[DATA]])","v":2019}]
["04/05/2019","59","VT",2906375,266217742.84999999,26455482.239999998,292673225.08999997,{"$f":"TEXT(SPP[[#This Row],[DATA]],\"mmmm\")","v":"maio"},{"$f":"YEAR(SPP[[#This Row],[DATA]])","v":2019}]
["04/05/2019","68","ESTUDANTE 8VG",1,0,2.7,2.7,{"$f":"TEXT(SPP[[#This Row],[DATA]],\"mmmm\")","v":"maio"},{"$f":"YEAR(SPP[[#This Row],[DATA]])","v":2019}]
["04/05/2019","69","VT 8VG",860,0,22309.420000000002,22309.420000000002,{"$f":"TEXT(SPP[[#This Row],[DATA]],\"mmmm\")","v":"maio"},{"$f":"YEAR(SPP[[#This Row],[DATA]])","v":2019}]
["04/05/2019","71","MÃE PAULISTANA",80400,332357.57,602553.69000000006,934911.26,{"$f":"TEXT(SPP[[#This Row],[DATA]],\"mmmm\")","v":"maio"},{"$f":"YEAR(SPP[[#This Row],[DATA]])","v":2019}]
["04/05/2019","74","PROFESSOR",17440,1053917.8799999999,0,1053917.8799999999,{"$f":"TEXT(SPP[[#This Row],[DATA]],\"mmmm\")","v":"maio"},{"$f":"YEAR(SPP[[#This Row],[DATA]])","v":2019}]
["04/05/2019","75","CARTAO FIDELIDADE",81639,0,6754528.8099999996,6754528.8099999996,{"$f":"TEXT(SPP[[#This Row],[DATA]],\"mmmm\")","v":"maio"},{"$f":"YEAR(SPP[[#This Row],[DATA]])","v":2019}]
["04/05/2019","76","Lazer",237,0,7963.51,7963.51,{"$f":"TEXT(SPP[[#This Row],[DATA]],\"mmmm\")","v":"maio"},{"$f":"YEAR(SPP[[#This Row],[DATA]])","v":2019}]
["04/05/2019","86","Estacionamento",8580,0,164571.89000000001,164571.89000000001,{"$f":"TEXT(SPP[[#This Row],[DATA]],\"mmmm\")","v":"maio"},{"$f":"YEAR(SPP[[#This Row],[DATA]])","v":2019}]
["04/05/2019","100","BILHETE UNICO MENSAL - CASCO",3229203,557511584.69000006,47471196.119999997,604982780.80999994,{"$f":"TEXT(SPP[[#This Row],[DATA]],\"mmmm\")","v":"maio"},{"$f":"YEAR(SPP[[#This Row],[DATA]])","v":2019}]
["04/05/2019","110","BUM - ANÔNIMO - CASCO",1177288,0,12022713.98,12022713.98,{"$f":"TEXT(SPP[[#This Row],[DATA]],\"mmmm\")","v":"maio"},{"$f":"YEAR(SPP[[#This Row],[DATA]])","v":2019}]
["05/05/2019","51","COMUM 4 VIAGENS",5,0,45.230000000000004,45.230000000000004,{"$f":"TEXT(SPP[[#This Row],[DATA]],\"mmmm\")","v":"maio"},{"$f":"YEAR(SPP[[#This Row],[DATA]])","v":2019}]
["05/05/2019","52","ESTUDANTE",43466,48418.89,361338.52,409757.41000000003,{"$f":"TEXT(SPP[[#This Row],[DATA]],\"mmmm\")","v":"maio"},{"$f":"YEAR(SPP[[#This Row],[DATA]])","v":2019}]
["05/05/2019","59","VT",2907551,266596257.36000001,25828037.07,292424294.43000001,{"$f":"TEXT(SPP[[#This Row],[DATA]],\"mmmm\")","v":"maio"},{"$f":"YEAR(SPP[[#This Row],[DATA]])","v":2019}]
["05/05/2019","68","ESTUDANTE 8VG",1,0,2.7,2.7,{"$f":"TEXT(SPP[[#This Row],[DATA]],\"mmmm\")","v":"maio"},{"$f":"YEAR(SPP[[#This Row],[DATA]])","v":2019}]
["05/05/2019","69","VT 8VG",861,0,22187.89,22187.89,{"$f":"TEXT(SPP[[#This Row],[DATA]],\"mmmm\")","v":"maio"},{"$f":"YEAR(SPP[[#This Row],[DATA]])","v":2019}]
["05/05/2019","71","MÃE PAULISTANA",80391,328653.95,590445.72,919099.67,{"$f":"TEXT(SPP[[#This Row],[DATA]],\"mmmm\")","v":"maio"},{"$f":"YEAR(SPP[[#This Row],[DATA]])","v":2019}]
["05/05/2019","74","PROFESSOR",17449,1050963.18,0,1050963.18,{"$f":"TEXT(SPP[[#This Row],[DATA]],\"mmmm\")","v":"maio"},{"$f":"YEAR(SPP[[#This Row],[DATA]])","v":2019}]
["05/05/2019","75","CARTAO FIDELIDADE",81583,0,6725413.3200000003,6725413.3200000003,{"$f":"TEXT(SPP[[#This Row],[DATA]],\"mmmm\")","v":"maio"},{"$f":"YEAR(SPP[[#This Row],[DATA]])","v":2019}]
["05/05/2019","76","Lazer",239,0,8121.3200000000006,8121.3200000000006,{"$f":"TEXT(SPP[[#This Row],[DATA]],\"mmmm\")","v":"maio"},{"$f":"YEAR(SPP[[#This Row],[DATA]])","v":2019}]
["05/05/2019","86","Estacionamento",8586,0,162382.97,162382.97,{"$f":"TEXT(SPP[[#This Row],[DATA]],\"mmmm\")","v":"maio"},{"$f":"YEAR(SPP[[#This Row],[DATA]])","v":2019}]
["05/05/2019","100","BILHETE UNICO MENSAL - CASCO",3231203,558485491.38,46921387.719999999,605406879.10000002,{"$f":"TEXT(SPP[[#This Row],[DATA]],\"mmmm\")","v":"maio"},{"$f":"YEAR(SPP[[#This Row],[DATA]])","v":2019}]
["05/05/2019","110","BUM - ANÔNIMO - CASCO",1177744,0,11705411.01,11705411.01,{"$f":"TEXT(SPP[[#This Row],[DATA]],\"mmmm\")","v":"maio"},{"$f":"YEAR(SPP[[#This Row],[DATA]])","v":2019}]
["06/05/2019","51","COMUM 4 VIAGENS",4,0,43.2,43.2,{"$f":"TEXT(SPP[[#This Row],[DATA]],\"mmmm\")","v":"maio"},{"$f":"YEAR(SPP[[#This Row],[DATA]])","v":2019}]
["06/05/2019","52","ESTUDANTE",43663,48288.19,379518.84,427807.03,{"$f":"TEXT(SPP[[#This Row],[DATA]],\"mmmm\")","v":"maio"},{"$f":"YEAR(SPP[[#This Row],[DATA]])","v":2019}]
["06/05/2019","59","VT",2912640,266709303.38,27266892.530000001,293976195.91000003,{"$f":"TEXT(SPP[[#This Row],[DATA]],\"mmmm\")","v":"maio"},{"$f":"YEAR(SPP[[#This Row],[DATA]])","v":2019}]
["06/05/2019","68","ESTUDANTE 8VG",1,0,2.7,2.7,{"$f":"TEXT(SPP[[#This Row],[DATA]],\"mmmm\")","v":"maio"},{"$f":"YEAR(SPP[[#This Row],[DATA]])","v":2019}]
["06/05/2019","69","VT 8VG",868,0,22668.260000000002,22668.260000000002,{"$f":"TEXT(SPP[[#This Row],[DATA]],\"mmmm\")","v":"maio"},{"$f":"YEAR(SPP[[#This Row],[DATA]])","v":2019}]
["06/05/2019","71","MÃE PAULISTANA",80729,330293.87,627833.91,958127.78,{"$f":"TEXT(SPP[[#This Row],[DATA]],\"mmmm\")","v":"maio"},{"$f":"YEAR(SPP[[#This Row],[DATA]])","v":2019}]
["06/05/2019","74","PROFESSOR",17501,1085317.55,0,1085317.55,{"$f":"TEXT(SPP[[#This Row],[DATA]],\"mmmm\")","v":"maio"},{"$f":"YEAR(SPP[[#This Row],[DATA]])","v":2019}]
["06/05/2019","75","CARTAO FIDELIDADE",82636,0,7061354.4199999999,7061354.4199999999,{"$f":"TEXT(SPP[[#This Row],[DATA]],\"mmmm\")","v":"maio"},{"$f":"YEAR(SPP[[#This Row],[DATA]])","v":2019}]
["06/05/2019","76","Lazer",240,0,7871.32,7871.32,{"$f":"TEXT(SPP[[#This Row],[DATA]],\"mmmm\")","v":"maio"},{"$f":"YEAR(SPP[[#This Row],[DATA]])","v":2019}]
["06/05/2019","86","Estacionamento",8607,0,173884.01,173884.01,{"$f":"TEXT(SPP[[#This Row],[DATA]],\"mmmm\")","v":"maio"},{"$f":"YEAR(SPP[[#This Row],[DATA]])","v":2019}]
["06/05/2019","100","BILHETE UNICO MENSAL - CASCO",3239937,561786797.11000001,50070942.530000001,611857739.63999999,{"$f":"TEXT(SPP[[#This Row],[DATA]],\"mmmm\")","v":"maio"},{"$f":"YEAR(SPP[[#This Row],[DATA]])","v":2019}]
["06/05/2019","110","BUM - ANÔNIMO - CASCO",1180244,0,12428412.109999999,12428412.109999999,{"$f":"TEXT(SPP[[#This Row],[DATA]],\"mmmm\")","v":"maio"},{"$f":"YEAR(SPP[[#This Row],[DATA]])","v":2019}]
["07/05/2019","51","COMUM 4 VIAGENS",3,0,30.95,30.95,{"$f":"TEXT(SPP[[#This Row],[DATA]],\"mmmm\")","v":"maio"},{"$f":"YEAR(SPP[[#This Row],[DATA]])","v":2019}]
["07/05/2019","52","ESTUDANTE",43813,48052.55,388076.15,436128.7,{"$f":"TEXT(SPP[[#This Row],[DATA]],\"mmmm\")","v":"maio"},{"$f":"YEAR(SPP[[#This Row],[DATA]])","v":2019}]
["07/05/2019","59","VT",2917113,266919507.93000001,27888173.789999999,294807681.72000003,{"$f":"TEXT(SPP[[#This Row],[DATA]],\"mmmm\")","v":"maio"},{"$f":"YEAR(SPP[[#This Row],[DATA]])","v":2019}]
["07/05/2019","68","ESTUDANTE 8VG",1,0,2.7,2.7,{"$f":"TEXT(SPP[[#This Row],[DATA]],\"mmmm\")","v":"maio"},{"$f":"YEAR(SPP[[#This Row],[DATA]])","v":2019}]
["07/05/2019","69","VT 8VG",870,0,22845.15,22845.15,{"$f":"TEXT(SPP[[#This Row],[DATA]],\"mmmm\")","v":"maio"},{"$f":"YEAR(SPP[[#This Row],[DATA]])","v":2019}]
["07/05/2019","71","MÃE PAULISTANA",81050,334797.63,655498.80000000005,990296.43,{"$f":"TEXT(SPP[[#This Row],[DATA]],\"mmmm\")","v":"maio"},{"$f":"YEAR(SPP[[#This Row],[DATA]])","v":2019}]
["07/05/2019","74","PROFESSOR",17560,1100175.1399999999,0,1100175.1399999999,{"$f":"TEXT(SPP[[#This Row],[DATA]],\"mmmm\")","v":"maio"},{"$f":"YEAR(SPP[[#This Row],[DATA]])","v":2019}]
["07/05/2019","75","CARTAO FIDELIDADE",83006,0,7166922.6399999997,7166922.6399999997,{"$f":"TEXT(SPP[[#This Row],[DATA]],\"mmmm\")","v":"maio"},{"$f":"YEAR(SPP[[#This Row],[DATA]])","v":2019}]
["07/05/2019","76","Lazer",240,0,7871.32,7871.32,{"$f":"TEXT(SPP[[#This Row],[DATA]],\"mmmm\")","v":"maio"},{"$f":"YEAR(SPP[[#This Row],[DATA]])","v":2019}]
["07/05/2019","86","Estacionamento",8617,0,177373.4,177373.4,{"$f":"TEXT(SPP[[#This Row],[DATA]],\"mmmm\")","v":"maio"},{"$f":"YEAR(SPP[[#This Row],[DATA]])","v":2019}]
["07/05/2019","100","BILHETE UNICO MENSAL - CASCO",3248016,564632550.97000003,52239473.18,616872024.14999998,{"$f":"TEXT(SPP[[#This Row],[DATA]],\"mmmm\")","v":"maio"},{"$f":"YEAR(SPP[[#This Row],[DATA]])","v":2019}]
["07/05/2019","110","BUM - ANÔNIMO - CASCO",1182105,0,12757177.800000001,12757177.800000001,{"$f":"TEXT(SPP[[#This Row],[DATA]],\"mmmm\")","v":"maio"},{"$f":"YEAR(SPP[[#This Row],[DATA]])","v":2019}]
["08/05/2019","51","COMUM 4 VIAGENS",5,0,55.17,55.17,{"$f":"TEXT(SPP[[#This Row],[DATA]],\"mmmm\")","v":"maio"},{"$f":"YEAR(SPP[[#This Row],[DATA]])","v":2019}]
["08/05/2019","52","ESTUDANTE",43979,48214.82,391302.93,439517.75,{"$f":"TEXT(SPP[[#This Row],[DATA]],\"mmmm\")","v":"maio"},{"$f":"YEAR(SPP[[#This Row],[DATA]])","v":2019}]
["08/05/2019","59","VT",2921242,266635836.46000001,27968554.210000001,294604390.67000002,{"$f":"TEXT(SPP[[#This Row],[DATA]],\"mmmm\")","v":"maio"},{"$f":"YEAR(SPP[[#This Row],[DATA]])","v":2019}]
["08/05/2019","68","ESTUDANTE 8VG",1,0,2.7,2.7,{"$f":"TEXT(SPP[[#This Row],[DATA]],\"mmmm\")","v":"maio"},{"$f":"YEAR(SPP[[#This Row],[DATA]])","v":2019}]
["08/05/2019","69","VT 8VG",872,0,23582.93,23582.93,{"$f":"TEXT(SPP[[#This Row],[DATA]],\"mmmm\")","v":"maio"},{"$f":"YEAR(SPP[[#This Row],[DATA]])","v":2019}]
["08/05/2019","71","MÃE PAULISTANA",81353,337248.62,671260,1008508.62,{"$f":"TEXT(SPP[[#This Row],[DATA]],\"mmmm\")","v":"maio"},{"$f":"YEAR(SPP[[#This Row],[DATA]])","v":2019}]
["08/05/2019","74","PROFESSOR",17626,1116472.6399999999,0,1116472.6399999999,{"$f":"TEXT(SPP[[#This Row],[DATA]],\"mmmm\")","v":"maio"},{"$f":"YEAR(SPP[[#This Row],[DATA]])","v":2019}]
["08/05/2019","75","CARTAO FIDELIDADE",83394,0,7225120.8499999996,7225120.8499999996,{"$f":"TEXT(SPP[[#This Row],[DATA]],\"mmmm\")","v":"maio"},{"$f":"YEAR(SPP[[#This Row],[DATA]])","v":2019}]
["08/05/2019","76","Lazer",240,0,7871.32,7871.32,{"$f":"TEXT(SPP[[#This Row],[DATA]],\"mmmm\")","v":"maio"},{"$f":"YEAR(SPP[[#This Row],[DATA]])","v":2019}]
["08/05/2019","86","Estacionamento",8633,0,177354.01,177354.01,{"$f":"TEXT(SPP[[#This Row],[DATA]],\"mmmm\")","v":"maio"},{"$f":"YEAR(SPP[[#This Row],[DATA]])","v":2019}]
["08/05/2019","100","BILHETE UNICO MENSAL - CASCO",3255741,565409357.72000003,53553274.590000004,618962632.30999994,{"$f":"TEXT(SPP[[#This Row],[DATA]],\"mmmm\")","v":"maio"},{"$f":"YEAR(SPP[[#This Row],[DATA]])","v":2019}]
["08/05/2019","110","BUM - ANÔNIMO - CASCO",1184006,0,12811266.41,12811266.41,{"$f":"TEXT(SPP[[#This Row],[DATA]],\"mmmm\")","v":"maio"},{"$f":"YEAR(SPP[[#This Row],[DATA]])","v":2019}]
["09/05/2019","51","COMUM 4 VIAGENS",3,0,40.32,40.32,{"$f":"TEXT(SPP[[#This Row],[DATA]],\"mmmm\")","v":"maio"},{"$f":"YEAR(SPP[[#This Row],[DATA]])","v":2019}]
["09/05/2019","52","ESTUDANTE",44117,47638.63,387654.22000000003,435292.85000000003,{"$f":"TEXT(SPP[[#This Row],[DATA]],\"mmmm\")","v":"maio"},{"$f":"YEAR(SPP[[#This Row],[DATA]])","v":2019}]
["09/05/2019","59","VT",2924730,265544986.34,27553252.41,293098238.75,{"$f":"TEXT(SPP[[#This Row],[DATA]],\"mmmm\")","v":"maio"},{"$f":"YEAR(SPP[[#This Row],[DATA]])","v":2019}]
["09/05/2019","68","ESTUDANTE 8VG",1,0,2.7,2.7,{"$f":"TEXT(SPP[[#This Row],[DATA]],\"mmmm\")","v":"maio"},{"$f":"YEAR(SPP[[#This Row],[DATA]])","v":2019}]
["09/05/2019","69","VT 8VG",873,0,23128.45,23128.45,{"$f":"TEXT(SPP[[#This Row],[DATA]],\"mmmm\")","v":"maio"},{"$f":"YEAR(SPP[[#This Row],[DATA]])","v":2019}]
["09/05/2019","71","MÃE PAULISTANA",81628,337945.76,667757.56000000006,1005703.32,{"$f":"TEXT(SPP[[#This Row],[DATA]],\"mmmm\")","v":"maio"},{"$f":"YEAR(SPP[[#This Row],[DATA]])","v":2019}]
["09/05/2019","74","PROFESSOR",17682,1122147.19,0,1122147.19,{"$f":"TEXT(SPP[[#This Row],[DATA]],\"mmmm\")","v":"maio"},{"$f":"YEAR(SPP[[#This Row],[DATA]])","v":2019}]
["09/05/2019","75","CARTAO FIDELIDADE",83541,0,7229927.3499999996,7229927.3499999996,{"$f":"TEXT(SPP[[#This Row],[DATA]],\"mmmm\")","v":"maio"},{"$f":"YEAR(SPP[[#This Row],[DATA]])","v":2019}]
["09/05/2019","76","Lazer",240,0,7871.32,7871.32,{"$f":"TEXT(SPP[[#This Row],[DATA]],\"mmmm\")","v":"maio"},{"$f":"YEAR(SPP[[#This Row],[DATA]])","v":2019}]
["09/05/2019","86","Estacionamento",8654,0,177876.2,177876.2,{"$f":"TEXT(SPP[[#This Row],[DATA]],\"mmmm\")","v":"maio"},{"$f":"YEAR(SPP[[#This Row],[DATA]])","v":2019}]
["09/05/2019","100","BILHETE UNICO MENSAL - CASCO",3262698,563297768.82000005,53530988.420000002,616828757.24000001,{"$f":"TEXT(SPP[[#This Row],[DATA]],\"mmmm\")","v":"maio"},{"$f":"YEAR(SPP[[#This Row],[DATA]])","v":2019}]
["09/05/2019","110","BUM - ANÔNIMO - CASCO",1185476,0,12605195.720000001,12605195.720000001,{"$f":"TEXT(SPP[[#This Row],[DATA]],\"mmmm\")","v":"maio"},{"$f":"YEAR(SPP[[#This Row],[DATA]])","v":2019}]
["10/05/2019","51","COMUM 4 VIAGENS",4,0,41.59,41.59,{"$f":"TEXT(SPP[[#This Row],[DATA]],\"mmmm\")","v":"maio"},{"$f":"YEAR(SPP[[#This Row],[DATA]])","v":2019}]
["10/05/2019","52","ESTUDANTE",44260,47876.55,386158.22000000003,434034.77,{"$f":"TEXT(SPP[[#This Row],[DATA]],\"mmmm\")","v":"maio"},{"$f":"YEAR(SPP[[#This Row],[DATA]])","v":2019}]
["10/05/2019","59","VT",2928275,264183154.99000001,27375830.390000001,291558985.38,{"$f":"TEXT(SPP[[#This Row],[DATA]],\"mmmm\")","v":"maio"},{"$f":"YEAR(SPP[[#This Row],[DATA]])","v":2019}]
["10/05/2019","68","ESTUDANTE 8VG",1,0,2.7,2.7,{"$f":"TEXT(SPP[[#This Row],[DATA]],\"mmmm\")","v":"maio"},{"$f":"YEAR(SPP[[#This Row],[DATA]])","v":2019}]
["10/05/2019","69","VT 8VG",873,0,22831.64,22831.64,{"$f":"TEXT(SPP[[#This Row],[DATA]],\"mmmm\")","v":"maio"},{"$f":"YEAR(SPP[[#This Row],[DATA]])","v":2019}]
["10/05/2019","71","MÃE PAULISTANA",81919,337845.53,665237.43000000005,1003082.96,{"$f":"TEXT(SPP[[#This Row],[DATA]],\"mmmm\")","v":"maio"},{"$f":"YEAR(SPP[[#This Row],[DATA]])","v":2019}]
["10/05/2019","74","PROFESSOR",17740,1127224.47,0,1127224.47,{"$f":"TEXT(SPP[[#This Row],[DATA]],\"mmmm\")","v":"maio"},{"$f":"YEAR(SPP[[#This Row],[DATA]])","v":2019}]
["10/05/2019","75","CARTAO FIDELIDADE",83592,0,7189494.2300000004,7189494.2300000004,{"$f":"TEXT(SPP[[#This Row],[DATA]],\"mmmm\")","v":"maio"},{"$f":"YEAR(SPP[[#This Row],[DATA]])","v":2019}]
["10/05/2019","76","Lazer",240,0,7914.3200000000006,7914.3200000000006,{"$f":"TEXT(SPP[[#This Row],[DATA]],\"mmmm\")","v":"maio"},{"$f":"YEAR(SPP[[#This Row],[DATA]])","v":2019}]
["10/05/2019","86","Estacionamento",8662,0,175260.5,175260.5,{"$f":"TEXT(SPP[[#This Row],[DATA]],\"mmmm\")","v":"maio"},{"$f":"YEAR(SPP[[#This Row],[DATA]])","v":2019}]
["10/05/2019","100","BILHETE UNICO MENSAL - CASCO",3269227,560278477.33000004,53273060.509999998,613551537.84000003,{"$f":"TEXT(SPP[[#This Row],[DATA]],\"mmmm\")","v":"maio"},{"$f":"YEAR(SPP[[#This Row],[DATA]])","v":2019}]
["10/05/2019","110","BUM - ANÔNIMO - CASCO",1187008,0,12513534.800000001,12513534.800000001,{"$f":"TEXT(SPP[[#This Row],[DATA]],\"mmmm\")","v":"maio"},{"$f":"YEAR(SPP[[#This Row],[DATA]])","v":2019}]
["11/05/2019","51","COMUM 4 VIAGENS",5,0,58.71,58.71,{"$f":"TEXT(SPP[[#This Row],[DATA]],\"mmmm\")","v":"maio"},{"$f":"YEAR(SPP[[#This Row],[DATA]])","v":2019}]
["11/05/2019","52","ESTUDANTE",44391,47659.16,376022.55,423681.71,{"$f":"TEXT(SPP[[#This Row],[DATA]],\"mmmm\")","v":"maio"},{"$f":"YEAR(SPP[[#This Row],[DATA]])","v":2019}]
["11/05/2019","59","VT",2930995,262834520.25999999,26555336.66,289389856.92000002,{"$f":"TEXT(SPP[[#This Row],[DATA]],\"mmmm\")","v":"maio"},{"$f":"YEAR(SPP[[#This Row],[DATA]])","v":2019}]
["11/05/2019","68","ESTUDANTE 8VG",1,0,2.7,2.7,{"$f":"TEXT(SPP[[#This Row],[DATA]],\"mmmm\")","v":"maio"},{"$f":"YEAR(SPP[[#This Row],[DATA]])","v":2019}]
["11/05/2019","69","VT 8VG",872,0,22327.43,22327.43,{"$f":"TEXT(SPP[[#This Row],[DATA]],\"mmmm\")","v":"maio"},{"$f":"YEAR(SPP[[#This Row],[DATA]])","v":2019}]
["11/05/2019","71","MÃE PAULISTANA",82113,335547.99,646544.22,982092.21,{"$f":"TEXT(SPP[[#This Row],[DATA]],\"mmmm\")","v":"maio"},{"$f":"YEAR(SPP[[#This Row],[DATA]])","v":2019}]
["11/05/2019","74","PROFESSOR",17754,1113926.1100000001,0,1113926.1100000001,{"$f":"TEXT(SPP[[#This Row],[DATA]],\"mmmm\")","v":"maio"},{"$f":"YEAR(SPP[[#This Row],[DATA]])","v":2019}]
["11/05/2019","75","CARTAO FIDELIDADE",83138,0,6986013.9299999997,6986013.9299999997,{"$f":"TEXT(SPP[[#This Row],[DATA]],\"mmmm\")","v":"maio"},{"$f":"YEAR(SPP[[#This Row],[DATA]])","v":2019}]
["11/05/2019","76","Lazer",241,0,7957.3200000000006,7957.3200000000006,{"$f":"TEXT(SPP[[#This Row],[DATA]],\"mmmm\")","v":"maio"},{"$f":"YEAR(SPP[[#This Row],[DATA]])","v":2019}]
["11/05/2019","86","Estacionamento",8669,0,168914.71,168914.71,{"$f":"TEXT(SPP[[#This Row],[DATA]],\"mmmm\")","v":"maio"},{"$f":"YEAR(SPP[[#This Row],[DATA]])","v":2019}]
["11/05/2019","100","BILHETE UNICO MENSAL - CASCO",3273356,556073579.98000002,51803302.890000001,607876882.87,{"$f":"TEXT(SPP[[#This Row],[DATA]],\"mmmm\")","v":"maio"},{"$f":"YEAR(SPP[[#This Row],[DATA]])","v":2019}]
["11/05/2019","110","BUM - ANÔNIMO - CASCO",1188009,0,12102276.82,12102276.82,{"$f":"TEXT(SPP[[#This Row],[DATA]],\"mmmm\")","v":"maio"},{"$f":"YEAR(SPP[[#This Row],[DATA]])","v":2019}]
["12/05/2019","51","COMUM 4 VIAGENS",5,0,58.71,58.71,{"$f":"TEXT(SPP[[#This Row],[DATA]],\"mmmm\")","v":"maio"},{"$f":"YEAR(SPP[[#This Row],[DATA]])","v":2019}]
["12/05/2019","52","ESTUDANTE",44433,47638.97,368001.65,415640.62,{"$f":"TEXT(SPP[[#This Row],[DATA]],\"mmmm\")","v":"maio"},{"$f":"YEAR(SPP[[#This Row],[DATA]])","v":2019}]
["12/05/2019","59","VT",2932281,262125958.56,26014153.190000001,288140111.75,{"$f":"TEXT(SPP[[#This Row],[DATA]],\"mmmm\")","v":"maio"},{"$f":"YEAR(SPP[[#This Row],[DATA]])","v":2019}]
["12/05/2019","68","ESTUDANTE 8VG",1,0,2.7,2.7,{"$f":"TEXT(SPP[[#This Row],[DATA]],\"mmmm\")","v":"maio"},{"$f":"YEAR(SPP[[#This Row],[DATA]])","v":2019}]
["12/05/2019","69","VT 8VG",870,0,22120.23,22120.23,{"$f":"TEXT(SPP[[#This Row],[DATA]],\"mmmm\")","v":"maio"},{"$f":"YEAR(SPP[[#This Row],[DATA]])","v":2019}]
["12/05/2019","71","MÃE PAULISTANA",82133,332365.91000000003,634872.07000000007,967237.98,{"$f":"TEXT(SPP[[#This Row],[DATA]],\"mmmm\")","v":"maio"},{"$f":"YEAR(SPP[[#This Row],[DATA]])","v":2019}]
["12/05/2019","74","PROFESSOR",17761,1109108.93,0,1109108.93,{"$f":"TEXT(SPP[[#This Row],[DATA]],\"mmmm\")","v":"maio"},{"$f":"YEAR(SPP[[#This Row],[DATA]])","v":2019}]
["12/05/2019","75","CARTAO FIDELIDADE",83067,0,6948187.8799999999,6948187.8799999999,{"$f":"TEXT(SPP[[#This Row],[DATA]],\"mmmm\")","v":"maio"},{"$f":"YEAR(SPP[[#This Row],[DATA]])","v":2019}]
["12/05/2019","76","Lazer",241,0,7994.12,7994.12,{"$f":"TEXT(SPP[[#This Row],[DATA]],\"mmmm\")","v":"maio"},{"$f":"YEAR(SPP[[#This Row],[DATA]])","v":2019}]
["12/05/2019","86","Estacionamento",8682,0,167042.74,167042.74,{"$f":"TEXT(SPP[[#This Row],[DATA]],\"mmmm\")","v":"maio"},{"$f":"YEAR(SPP[[#This Row],[DATA]])","v":2019}]
["12/05/2019","100","BILHETE UNICO MENSAL - CASCO",3275049,553495985.96000004,51088233.82,604584219.77999997,{"$f":"TEXT(SPP[[#This Row],[DATA]],\"mmmm\")","v":"maio"},{"$f":"YEAR(SPP[[#This Row],[DATA]])","v":2019}]
["12/05/2019","110","BUM - ANÔNIMO - CASCO",1188367,0,11840354.9,11840354.9,{"$f":"TEXT(SPP[[#This Row],[DATA]],\"mmmm\")","v":"maio"},{"$f":"YEAR(SPP[[#This Row],[DATA]])","v":2019}]
["13/05/2019","51","COMUM 4 VIAGENS",4,0,57.44,57.44,{"$f":"TEXT(SPP[[#This Row],[DATA]],\"mmmm\")","v":"maio"},{"$f":"YEAR(SPP[[#This Row],[DATA]])","v":2019}]
["13/05/2019","52","ESTUDANTE",44592,47997.520000000004,386158.86,434156.38,{"$f":"TEXT(SPP[[#This Row],[DATA]],\"mmmm\")","v":"maio"},{"$f":"YEAR(SPP[[#This Row],[DATA]])","v":2019}]
["13/05/2019","59","VT",2936875,260994308.61000001,27376634.949999999,288370943.56,{"$f":"TEXT(SPP[[#This Row],[DATA]],\"mmmm\")","v":"maio"},{"$f":"YEAR(SPP[[#This Row],[DATA]])","v":2019}]
["13/05/2019","68","ESTUDANTE 8VG",1,0,2.7,2.7,{"$f":"TEXT(SPP[[#This Row],[DATA]],\"mmmm\")","v":"maio"},{"$f":"YEAR(SPP[[#This Row],[DATA]])","v":2019}]
["13/05/2019","69","VT 8VG",876,0,22967.14,22967.14,{"$f":"TEXT(SPP[[#This Row],[DATA]],\"mmmm\")","v":"maio"},{"$f":"YEAR(SPP[[#This Row],[DATA]])","v":2019}]
["13/05/2019","71","MÃE PAULISTANA",82387,333587.59000000003,659918.63,993506.22,{"$f":"TEXT(SPP[[#This Row],[DATA]],\"mmmm\")","v":"maio"},{"$f":"YEAR(SPP[[#This Row],[DATA]])","v":2019}]
["13/05/2019","74","PROFESSOR",17830,1136821.92,0,1136821.92,{"$f":"TEXT(SPP[[#This Row],[DATA]],\"mmmm\")","v":"maio"},{"$f":"YEAR(SPP[[#This Row],[DATA]])","v":2019}]
["13/05/2019","75","CARTAO FIDELIDADE",83958,0,7214241.2800000003,7214241.2800000003,{"$f":"TEXT(SPP[[#This Row],[DATA]],\"mmmm\")","v":"maio"},{"$f":"YEAR(SPP[[#This Row],[DATA]])","v":2019}]
["13/05/2019","76","Lazer",239,0,7844.12,7844.12,{"$f":"TEXT(SPP[[#This Row],[DATA]],\"mmmm\")","v":"maio"},{"$f":"YEAR(SPP[[#This Row],[DATA]])","v":2019}]
["13/05/2019","86","Estacionamento",8691,0,176636.93,176636.93,{"$f":"TEXT(SPP[[#This Row],[DATA]],\"mmmm\")","v":"maio"},{"$f":"YEAR(SPP[[#This Row],[DATA]])","v":2019}]
["13/05/2019","100","BILHETE UNICO MENSAL - CASCO",3281705,551735432.96000004,53142975.549999997,604878408.50999999,{"$f":"TEXT(SPP[[#This Row],[DATA]],\"mmmm\")","v":"maio"},{"$f":"YEAR(SPP[[#This Row],[DATA]])","v":2019}]
["13/05/2019","110","BUM - ANÔNIMO - CASCO",1190367,0,12510148.210000001,12510148.210000001,{"$f":"TEXT(SPP[[#This Row],[DATA]],\"mmmm\")","v":"maio"},{"$f":"YEAR(SPP[[#This Row],[DATA]])","v":2019}]
["14/05/2019","51","COMUM 4 VIAGENS",4,0,63.01,63.01,{"$f":"TEXT(SPP[[#This Row],[DATA]],\"mmmm\")","v":"maio"},{"$f":"YEAR(SPP[[#This Row],[DATA]])","v":2019}]
["14/05/2019","52","ESTUDANTE",44743,47985.36,387027.04,435012.4,{"$f":"TEXT(SPP[[#This Row],[DATA]],\"mmmm\")","v":"maio"},{"$f":"YEAR(SPP[[#This Row],[DATA]])","v":2019}]
["14/05/2019","59","VT",2939949,259218090.93000001,27274853.030000001,286492943.95999998,{"$f":"TEXT(SPP[[#This Row],[DATA]],\"mmmm\")","v":"maio"},{"$f":"YEAR(SPP[[#This Row],[DATA]])","v":2019}]
["14/05/2019","68","ESTUDANTE 8VG",1,0,2.7,2.7,{"$f":"TEXT(SPP[[#This Row],[DATA]],\"mmmm\")","v":"maio"},{"$f":"YEAR(SPP[[#This Row],[DATA]])","v":2019}]
["14/05/2019","69","VT 8VG",876,0,22666.45,22666.45,{"$f":"TEXT(SPP[[#This Row],[DATA]],\"mmmm\")","v":"maio"},{"$f":"YEAR(SPP[[#This Row],[DATA]])","v":2019}]
["14/05/2019","71","MÃE PAULISTANA",82599,333356.65000000002,655078.69000000006,988435.34,{"$f":"TEXT(SPP[[#This Row],[DATA]],\"mmmm\")","v":"maio"},{"$f":"YEAR(SPP[[#This Row],[DATA]])","v":2019}]
["14/05/2019","74","PROFESSOR",17892,1134187.29,0,1134187.29,{"$f":"TEXT(SPP[[#This Row],[DATA]],\"mmmm\")","v":"maio"},{"$f":"YEAR(SPP[[#This Row],[DATA]])","v":2019}]
["14/05/2019","75","CARTAO FIDELIDADE",84185,0,7201668.8899999997,7201668.8899999997,{"$f":"TEXT(SPP[[#This Row],[DATA]],\"mmmm\")","v":"maio"},{"$f":"YEAR(SPP[[#This Row],[DATA]])","v":2019}]
["14/05/2019","76","Lazer",239,0,7844.12,7844.12,{"$f":"TEXT(SPP[[#This Row],[DATA]],\"mmmm\")","v":"maio"},{"$f":"YEAR(SPP[[#This Row],[DATA]])","v":2019}]
["14/05/2019","86","Estacionamento",8700,0,175452.2,175452.2,{"$f":"TEXT(SPP[[#This Row],[DATA]],\"mmmm\")","v":"maio"},{"$f":"YEAR(SPP[[#This Row],[DATA]])","v":2019}]
["14/05/2019","100","BILHETE UNICO MENSAL - CASCO",3288476,547815892.01999998,52592600.140000001,600408492.15999997,{"$f":"TEXT(SPP[[#This Row],[DATA]],\"mmmm\")","v":"maio"},{"$f":"YEAR(SPP[[#This Row],[DATA]])","v":2019}]
["14/05/2019","110","BUM - ANÔNIMO - CASCO",1191792,0,12430122.289999999,12430122.289999999,{"$f":"TEXT(SPP[[#This Row],[DATA]],\"mmmm\")","v":"maio"},{"$f":"YEAR(SPP[[#This Row],[DATA]])","v":2019}]
["15/05/2019","51","COMUM 4 VIAGENS",5,0,120.85000000000001,120.85000000000001,{"$f":"TEXT(SPP[[#This Row],[DATA]],\"mmmm\")","v":"maio"},{"$f":"YEAR(SPP[[#This Row],[DATA]])","v":2019}]
["15/05/2019","52","ESTUDANTE",44900,48249.69,391592.31,439842,{"$f":"TEXT(SPP[[#This Row],[DATA]],\"mmmm\")","v":"maio"},{"$f":"YEAR(SPP[[#This Row],[DATA]])","v":2019}]
["15/05/2019","59","VT",2943324,257651980.84999999,27610099.149999999,285262080,{"$f":"TEXT(SPP[[#This Row],[DATA]],\"mmmm\")","v":"maio"},{"$f":"YEAR(SPP[[#This Row],[DATA]])","v":2019}]
["15/05/2019","68","ESTUDANTE 8VG",1,0,2.7,2.7,{"$f":"TEXT(SPP[[#This Row],[DATA]],\"mmmm\")","v":"maio"},{"$f":"YEAR(SPP[[#This Row],[DATA]])","v":2019}]
["15/05/2019","69","VT 8VG",876,0,22457.91,22457.91,{"$f":"TEXT(SPP[[#This Row],[DATA]],\"mmmm\")","v":"maio"},{"$f":"YEAR(SPP[[#This Row],[DATA]])","v":2019}]
["15/05/2019","71","MÃE PAULISTANA",82930,335509.16000000003,658754.41,994263.57000000007,{"$f":"TEXT(SPP[[#This Row],[DATA]],\"mmmm\")","v":"maio"},{"$f":"YEAR(SPP[[#This Row],[DATA]])","v":2019}]
["15/05/2019","74","PROFESSOR",17979,1133688.48,0,1133688.48,{"$f":"TEXT(SPP[[#This Row],[DATA]],\"mmmm\")","v":"maio"},{"$f":"YEAR(SPP[[#This Row],[DATA]])","v":2019}]
["15/05/2019","75","CARTAO FIDELIDADE",84376,0,7193291.5499999998,7193291.5499999998,{"$f":"TEXT(SPP[[#This Row],[DATA]],\"mmmm\")","v":"maio"},{"$f":"YEAR(SPP[[#This Row],[DATA]])","v":2019}]
["15/05/2019","76","Lazer",239,0,7844.12,7844.12,{"$f":"TEXT(SPP[[#This Row],[DATA]],\"mmmm\")","v":"maio"},{"$f":"YEAR(SPP[[#This Row],[DATA]])","v":2019}]
["15/05/2019","86","Estacionamento",8718,0,175939.49,175939.49,{"$f":"TEXT(SPP[[#This Row],[DATA]],\"mmmm\")","v":"maio"},{"$f":"YEAR(SPP[[#This Row],[DATA]])","v":2019}]
["15/05/2019","100","BILHETE UNICO MENSAL - CASCO",3295374,544191395.84000003,52958075.759999998,597149471.60000002,{"$f":"TEXT(SPP[[#This Row],[DATA]],\"mmmm\")","v":"maio"},{"$f":"YEAR(SPP[[#This Row],[DATA]])","v":2019}]
["15/05/2019","110","BUM - ANÔNIMO - CASCO",1193401,0,12612708.460000001,12612708.460000001,{"$f":"TEXT(SPP[[#This Row],[DATA]],\"mmmm\")","v":"maio"},{"$f":"YEAR(SPP[[#This Row],[DATA]])","v":2019}]
["16/05/2019","51","COMUM 4 VIAGENS",3,0,79.320000000000007,79.320000000000007,{"$f":"TEXT(SPP[[#This Row],[DATA]],\"mmmm\")","v":"maio"},{"$f":"YEAR(SPP[[#This Row],[DATA]])","v":2019}]
["16/05/2019","52","ESTUDANTE",45011,48666.020000000004,381606.07,430272.09,{"$f":"TEXT(SPP[[#This Row],[DATA]],\"mmmm\")","v":"maio"},{"$f":"YEAR(SPP[[#This Row],[DATA]])","v":2019}]
["16/05/2019","59","VT",2945495,255099502.46000001,26837793.77,281937296.23000002,{"$f":"TEXT(SPP[[#This Row],[DATA]],\"mmmm\")","v":"maio"},{"$f":"YEAR(SPP[[#This Row],[DATA]])","v":2019}]
["16/05/2019","68","ESTUDANTE 8VG",1,0,2.7,2.7,{"$f":"TEXT(SPP[[#This Row],[DATA]],\"mmmm\")","v":"maio"},{"$f":"YEAR(SPP[[#This Row],[DATA]])","v":2019}]
["16/05/2019","69","VT 8VG",877,0,21800.53,21800.53,{"$f":"TEXT(SPP[[#This Row],[DATA]],\"mmmm\")","v":"maio"},{"$f":"YEAR(SPP[[#This Row],[DATA]])","v":2019}]
["16/05/2019","71","MÃE PAULISTANA",83088,333579.12,639357.46,972936.58000000007,{"$f":"TEXT(SPP[[#This Row],[DATA]],\"mmmm\")","v":"maio"},{"$f":"YEAR(SPP[[#This Row],[DATA]])","v":2019}]
["16/05/2019","74","PROFESSOR",18039,1129036.45,0,1129036.45,{"$f":"TEXT(SPP[[#This Row],[DATA]],\"mmmm\")","v":"maio"},{"$f":"YEAR(SPP[[#This Row],[DATA]])","v":2019}]
["16/05/2019","75","CARTAO FIDELIDADE",84478,0,7147765.6900000004,7147765.6900000004,{"$f":"TEXT(SPP[[#This Row],[DATA]],\"mmmm\")","v":"maio"},{"$f":"YEAR(SPP[[#This Row],[DATA]])","v":2019}]
["16/05/2019","76","Lazer",240,0,7887.12,7887.12,{"$f":"TEXT(SPP[[#This Row],[DATA]],\"mmmm\")","v":"maio"},{"$f":"YEAR(SPP[[#This Row],[DATA]])","v":2019}]
["16/05/2019","86","Estacionamento",8733,0,173687.97,173687.97,{"$f":"TEXT(SPP[[#This Row],[DATA]],\"mmmm\")","v":"maio"},{"$f":"YEAR(SPP[[#This Row],[DATA]])","v":2019}]
["16/05/2019","100","BILHETE UNICO MENSAL - CASCO",3300955,537454808.20000005,51318061.090000004,588772869.28999996,{"$f":"TEXT(SPP[[#This Row],[DATA]],\"mmmm\")","v":"maio"},{"$f":"YEAR(SPP[[#This Row],[DATA]])","v":2019}]
["16/05/2019","110","BUM - ANÔNIMO - CASCO",1194658,0,12191295.880000001,12191295.880000001,{"$f":"TEXT(SPP[[#This Row],[DATA]],\"mmmm\")","v":"maio"},{"$f":"YEAR(SPP[[#This Row],[DATA]])","v":2019}]
["17/05/2019","51","COMUM 4 VIAGENS",4,0,75.02,75.02,{"$f":"TEXT(SPP[[#This Row],[DATA]],\"mmmm\")","v":"maio"},{"$f":"YEAR(SPP[[#This Row],[DATA]])","v":2019}]
["17/05/2019","52","ESTUDANTE",45126,48578.840000000004,382732.39,431311.23,{"$f":"TEXT(SPP[[#This Row],[DATA]],\"mmmm\")","v":"maio"},{"$f":"YEAR(SPP[[#This Row],[DATA]])","v":2019}]
["17/05/2019","59","VT",2947683,253025995.40000001,26807478.66,279833474.06,{"$f":"TEXT(SPP[[#This Row],[DATA]],\"mmmm\")","v":"maio"},{"$f":"YEAR(SPP[[#This Row],[DATA]])","v":2019}]
["17/05/2019","68","ESTUDANTE 8VG",1,0,2.7,2.7,{"$f":"TEXT(SPP[[#This Row],[DATA]],\"mmmm\")","v":"maio"},{"$f":"YEAR(SPP[[#This Row],[DATA]])","v":2019}]
["17/05/2019","69","VT 8VG",877,0,21937.63,21937.63,{"$f":"TEXT(SPP[[#This Row],[DATA]],\"mmmm\")","v":"maio"},{"$f":"YEAR(SPP[[#This Row],[DATA]])","v":2019}]
["17/05/2019","71","MÃE PAULISTANA",83390,335021.37,637542.87,972564.24,{"$f":"TEXT(SPP[[#This Row],[DATA]],\"mmmm\")","v":"maio"},{"$f":"YEAR(SPP[[#This Row],[DATA]])","v":2019}]
["17/05/2019","74","PROFESSOR",18069,1118721.69,0,1118721.69,{"$f":"TEXT(SPP[[#This Row],[DATA]],\"mmmm\")","v":"maio"},{"$f":"YEAR(SPP[[#This Row],[DATA]])","v":2019}]
["17/05/2019","75","CARTAO FIDELIDADE",84416,0,7082034.6699999999,7082034.6699999999,{"$f":"TEXT(SPP[[#This Row],[DATA]],\"mmmm\")","v":"maio"},{"$f":"YEAR(SPP[[#This Row],[DATA]])","v":2019}]
["17/05/2019","76","Lazer",240,0,7887.12,7887.12,{"$f":"TEXT(SPP[[#This Row],[DATA]],\"mmmm\")","v":"maio"},{"$f":"YEAR(SPP[[#This Row],[DATA]])","v":2019}]
["17/05/2019","86","Estacionamento",8744,0,170874.48,170874.48,{"$f":"TEXT(SPP[[#This Row],[DATA]],\"mmmm\")","v":"maio"},{"$f":"YEAR(SPP[[#This Row],[DATA]])","v":2019}]
["17/05/2019","100","BILHETE UNICO MENSAL - CASCO",3306958,532879361.14999998,50919202.82,583798563.97000003,{"$f":"TEXT(SPP[[#This Row],[DATA]],\"mmmm\")","v":"maio"},{"$f":"YEAR(SPP[[#This Row],[DATA]])","v":2019}]
["17/05/2019","110","BUM - ANÔNIMO - CASCO",1195896,0,12227372.939999999,12227372.939999999,{"$f":"TEXT(SPP[[#This Row],[DATA]],\"mmmm\")","v":"maio"},{"$f":"YEAR(SPP[[#This Row],[DATA]])","v":2019}]
["18/05/2019","51","COMUM 4 VIAGENS",4,0,75.02,75.02,{"$f":"TEXT(SPP[[#This Row],[DATA]],\"mmmm\")","v":"maio"},{"$f":"YEAR(SPP[[#This Row],[DATA]])","v":2019}]
["18/05/2019","52","ESTUDANTE",45211,48799.9,369710.83,418510.73,{"$f":"TEXT(SPP[[#This Row],[DATA]],\"mmmm\")","v":"maio"},{"$f":"YEAR(SPP[[#This Row],[DATA]])","v":2019}]
["18/05/2019","59","VT",2948958,251133315.34999999,25752929.030000001,276886244.38,{"$f":"TEXT(SPP[[#This Row],[DATA]],\"mmmm\")","v":"maio"},{"$f":"YEAR(SPP[[#This Row],[DATA]])","v":2019}]
["18/05/2019","68","ESTUDANTE 8VG",1,0,2.7,2.7,{"$f":"TEXT(SPP[[#This Row],[DATA]],\"mmmm\")","v":"maio"},{"$f":"YEAR(SPP[[#This Row],[DATA]])","v":2019}]
["18/05/2019","69","VT 8VG",877,0,21314.75,21314.75,{"$f":"TEXT(SPP[[#This Row],[DATA]],\"mmmm\")","v":"maio"},{"$f":"YEAR(SPP[[#This Row],[DATA]])","v":2019}]
["18/05/2019","71","MÃE PAULISTANA",83493,330265.03999999998,613227.97,943493.01,{"$f":"TEXT(SPP[[#This Row],[DATA]],\"mmmm\")","v":"maio"},{"$f":"YEAR(SPP[[#This Row],[DATA]])","v":2019}]
["18/05/2019","74","PROFESSOR",18086,1097679.1399999999,0,1097679.1399999999,{"$f":"TEXT(SPP[[#This Row],[DATA]],\"mmmm\")","v":"maio"},{"$f":"YEAR(SPP[[#This Row],[DATA]])","v":2019}]
["18/05/2019","75","CARTAO FIDELIDADE",83876,0,6875181.2000000002,6875181.2000000002,{"$f":"TEXT(SPP[[#This Row],[DATA]],\"mmmm\")","v":"maio"},{"$f":"YEAR(SPP[[#This Row],[DATA]])","v":2019}]
["18/05/2019","76","Lazer",242,0,7978.22,7978.22,{"$f":"TEXT(SPP[[#This Row],[DATA]],\"mmmm\")","v":"maio"},{"$f":"YEAR(SPP[[#This Row],[DATA]])","v":2019}]
["18/05/2019","86","Estacionamento",8754,0,163521.05000000002,163521.05000000002,{"$f":"TEXT(SPP[[#This Row],[DATA]],\"mmmm\")","v":"maio"},{"$f":"YEAR(SPP[[#This Row],[DATA]])","v":2019}]
["18/05/2019","100","BILHETE UNICO MENSAL - CASCO",3311040,527353503.56999999,48822865.439999998,576176369.00999999,{"$f":"TEXT(SPP[[#This Row],[DATA]],\"mmmm\")","v":"maio"},{"$f":"YEAR(SPP[[#This Row],[DATA]])","v":2019}]
["18/05/2019","110","BUM - ANÔNIMO - CASCO",1196309,0,11676970.800000001,11676970.800000001,{"$f":"TEXT(SPP[[#This Row],[DATA]],\"mmmm\")","v":"maio"},{"$f":"YEAR(SPP[[#This Row],[DATA]])","v":2019}]
["19/05/2019","51","COMUM 4 VIAGENS",4,0,75.02,75.02,{"$f":"TEXT(SPP[[#This Row],[DATA]],\"mmmm\")","v":"maio"},{"$f":"YEAR(SPP[[#This Row],[DATA]])","v":2019}]
["19/05/2019","52","ESTUDANTE",45262,50164.31,365858.88,416023.19,{"$f":"TEXT(SPP[[#This Row],[DATA]],\"mmmm\")","v":"maio"},{"$f":"YEAR(SPP[[#This Row],[DATA]])","v":2019}]
["19/05/2019","59","VT",2950250,250378777.44999999,25366050.489999998,275744827.94,{"$f":"TEXT(SPP[[#This Row],[DATA]],\"mmmm\")","v":"maio"},{"$f":"YEAR(SPP[[#This Row],[DATA]])","v":2019}]
["19/05/2019","68","ESTUDANTE 8VG",1,0,2.7,2.7,{"$f":"TEXT(SPP[[#This Row],[DATA]],\"mmmm\")","v":"maio"},{"$f":"YEAR(SPP[[#This Row],[DATA]])","v":2019}]
["19/05/2019","69","VT 8VG",878,0,21149.46,21149.46,{"$f":"TEXT(SPP[[#This Row],[DATA]],\"mmmm\")","v":"maio"},{"$f":"YEAR(SPP[[#This Row],[DATA]])","v":2019}]
["19/05/2019","71","MÃE PAULISTANA",83514,328090.48,604440.94000000006,932531.42,{"$f":"TEXT(SPP[[#This Row],[DATA]],\"mmmm\")","v":"maio"},{"$f":"YEAR(SPP[[#This Row],[DATA]])","v":2019}]
["19/05/2019","74","PROFESSOR",18101,1092640.48,0,1092640.48,{"$f":"TEXT(SPP[[#This Row],[DATA]],\"mmmm\")","v":"maio"},{"$f":"YEAR(SPP[[#This Row],[DATA]])","v":2019}]
["19/05/2019","75","CARTAO FIDELIDADE",83769,0,6832425.25,6832425.25,{"$f":"TEXT(SPP[[#This Row],[DATA]],\"mmmm\")","v":"maio"},{"$f":"YEAR(SPP[[#This Row],[DATA]])","v":2019}]
["19/05/2019","76","Lazer",247,0,8092.02,8092.02,{"$f":"TEXT(SPP[[#This Row],[DATA]],\"mmmm\")","v":"maio"},{"$f":"YEAR(SPP[[#This Row],[DATA]])","v":2019}]
["19/05/2019","86","Estacionamento",8760,0,162287.4,162287.4,{"$f":"TEXT(SPP[[#This Row],[DATA]],\"mmmm\")","v":"maio"},{"$f":"YEAR(SPP[[#This Row],[DATA]])","v":2019}]
["19/05/2019","100","BILHETE UNICO MENSAL - CASCO",3312596,524792613.63999999,48172887.789999999,572965501.42999995,{"$f":"TEXT(SPP[[#This Row],[DATA]],\"mmmm\")","v":"maio"},{"$f":"YEAR(SPP[[#This Row],[DATA]])","v":2019}]
["19/05/2019","110","BUM - ANÔNIMO - CASCO",1196707,0,11496367.75,11496367.75,{"$f":"TEXT(SPP[[#This Row],[DATA]],\"mmmm\")","v":"maio"},{"$f":"YEAR(SPP[[#This Row],[DATA]])","v":2019}]
["20/05/2019","51","COMUM 4 VIAGENS",5,0,95.28,95.28,{"$f":"TEXT(SPP[[#This Row],[DATA]],\"mmmm\")","v":"maio"},{"$f":"YEAR(SPP[[#This Row],[DATA]])","v":2019}]
["20/05/2019","52","ESTUDANTE",45418,50053.74,384923.08,434976.82,{"$f":"TEXT(SPP[[#This Row],[DATA]],\"mmmm\")","v":"maio"},{"$f":"YEAR(SPP[[#This Row],[DATA]])","v":2019}]
["20/05/2019","59","VT",2954188,248598970.72,26766152.579999998,275365123.30000001,{"$f":"TEXT(SPP[[#This Row],[DATA]],\"mmmm\")","v":"maio"},{"$f":"YEAR(SPP[[#This Row],[DATA]])","v":2019}]
["20/05/2019","68","ESTUDANTE 8VG",1,0,2.7,2.7,{"$f":"TEXT(SPP[[#This Row],[DATA]],\"mmmm\")","v":"maio"},{"$f":"YEAR(SPP[[#This Row],[DATA]])","v":2019}]
["20/05/2019","69","VT 8VG",879,0,21733.69,21733.69,{"$f":"TEXT(SPP[[#This Row],[DATA]],\"mmmm\")","v":"maio"},{"$f":"YEAR(SPP[[#This Row],[DATA]])","v":2019}]
["20/05/2019","71","MÃE PAULISTANA",83879,329460.97000000003,637628.14,967089.11,{"$f":"TEXT(SPP[[#This Row],[DATA]],\"mmmm\")","v":"maio"},{"$f":"YEAR(SPP[[#This Row],[DATA]])","v":2019}]
["20/05/2019","74","PROFESSOR",18153,1107405.57,0,1107405.57,{"$f":"TEXT(SPP[[#This Row],[DATA]],\"mmmm\")","v":"maio"},{"$f":"YEAR(SPP[[#This Row],[DATA]])","v":2019}]
["20/05/2019","75","CARTAO FIDELIDADE",84572,0,7066289.71,7066289.71,{"$f":"TEXT(SPP[[#This Row],[DATA]],\"mmmm\")","v":"maio"},{"$f":"YEAR(SPP[[#This Row],[DATA]])","v":2019}]
["20/05/2019","76","Lazer",248,0,7946.22,7946.22,{"$f":"TEXT(SPP[[#This Row],[DATA]],\"mmmm\")","v":"maio"},{"$f":"YEAR(SPP[[#This Row],[DATA]])","v":2019}]
["20/05/2019","86","Estacionamento",8771,0,171280.5,171280.5,{"$f":"TEXT(SPP[[#This Row],[DATA]],\"mmmm\")","v":"maio"},{"$f":"YEAR(SPP[[#This Row],[DATA]])","v":2019}]
["20/05/2019","100","BILHETE UNICO MENSAL - CASCO",3319745,521777197.45999998,50560548.840000004,572337746.29999995,{"$f":"TEXT(SPP[[#This Row],[DATA]],\"mmmm\")","v":"maio"},{"$f":"YEAR(SPP[[#This Row],[DATA]])","v":2019}]
["20/05/2019","110","BUM - ANÔNIMO - CASCO",1198984,0,12213016.699999999,12213016.699999999,{"$f":"TEXT(SPP[[#This Row],[DATA]],\"mmmm\")","v":"maio"},{"$f":"YEAR(SPP[[#This Row],[DATA]])","v":2019}]
["21/05/2019","51","COMUM 4 VIAGENS",5,0,84.62,84.62,{"$f":"TEXT(SPP[[#This Row],[DATA]],\"mmmm\")","v":"maio"},{"$f":"YEAR(SPP[[#This Row],[DATA]])","v":2019}]
["21/05/2019","52","ESTUDANTE",45561,49691.56,390744.68,440436.24,{"$f":"TEXT(SPP[[#This Row],[DATA]],\"mmmm\")","v":"maio"},{"$f":"YEAR(SPP[[#This Row],[DATA]])","v":2019}]
["21/05/2019","59","VT",2957017,246266877.03999999,27043797,273310674.04000002,{"$f":"TEXT(SPP[[#This Row],[DATA]],\"mmmm\")","v":"maio"},{"$f":"YEAR(SPP[[#This Row],[DATA]])","v":2019}]
["21/05/2019","68","ESTUDANTE 8VG",1,0,2.7,2.7,{"$f":"TEXT(SPP[[#This Row],[DATA]],\"mmmm\")","v":"maio"},{"$f":"YEAR(SPP[[#This Row],[DATA]])","v":2019}]
["21/05/2019","69","VT 8VG",877,0,21597.170000000002,21597.170000000002,{"$f":"TEXT(SPP[[#This Row],[DATA]],\"mmmm\")","v":"maio"},{"$f":"YEAR(SPP[[#This Row],[DATA]])","v":2019}]
["21/05/2019","71","MÃE PAULISTANA",84249,331538.17,645135.72,976673.89,{"$f":"TEXT(SPP[[#This Row],[DATA]],\"mmmm\")","v":"maio"},{"$f":"YEAR(SPP[[#This Row],[DATA]])","v":2019}]
["21/05/2019","74","PROFESSOR",18201,1112395.06,0,1112395.06,{"$f":"TEXT(SPP[[#This Row],[DATA]],\"mmmm\")","v":"maio"},{"$f":"YEAR(SPP[[#This Row],[DATA]])","v":2019}]
["21/05/2019","75","CARTAO FIDELIDADE",85113,0,7234577.8799999999,7234577.8799999999,{"$f":"TEXT(SPP[[#This Row],[DATA]],\"mmmm\")","v":"maio"},{"$f":"YEAR(SPP[[#This Row],[DATA]])","v":2019}]
["21/05/2019","76","Lazer",248,0,7946.22,7946.22,{"$f":"TEXT(SPP[[#This Row],[DATA]],\"mmmm\")","v":"maio"},{"$f":"YEAR(SPP[[#This Row],[DATA]])","v":2019}]
["21/05/2019","86","Estacionamento",8783,0,174399.58000000002,174399.58000000002,{"$f":"TEXT(SPP[[#This Row],[DATA]],\"mmmm\")","v":"maio"},{"$f":"YEAR(SPP[[#This Row],[DATA]])","v":2019}]
["21/05/2019","100","BILHETE UNICO MENSAL - CASCO",3327680,517664489.56,50987258.840000004,568651748.39999998,{"$f":"TEXT(SPP[[#This Row],[DATA]],\"mmmm\")","v":"maio"},{"$f":"YEAR(SPP[[#This Row],[DATA]])","v":2019}]
["21/05/2019","110","BUM - ANÔNIMO - CASCO",1200880,0,12385693.949999999,12385693.949999999,{"$f":"TEXT(SPP[[#This Row],[DATA]],\"mmmm\")","v":"maio"},{"$f":"YEAR(SPP[[#This Row],[DATA]])","v":2019}]
["22/05/2019","51","COMUM 4 VIAGENS",5,0,69.66,69.66,{"$f":"TEXT(SPP[[#This Row],[DATA]],\"mmmm\")","v":"maio"},{"$f":"YEAR(SPP[[#This Row],[DATA]])","v":2019}]
["22/05/2019","52","ESTUDANTE",45689,50109.81,392549.94,442659.75,{"$f":"TEXT(SPP[[#This Row],[DATA]],\"mmmm\")","v":"maio"},{"$f":"YEAR(SPP[[#This Row],[DATA]])","v":2019}]
["22/05/2019","59","VT",2959654,244629830.22999999,27085269.93,271715100.16000003,{"$f":"TEXT(SPP[[#This Row],[DATA]],\"mmmm\")","v":"maio"},{"$f":"YEAR(SPP[[#This Row],[DATA]])","v":2019}]
["22/05/2019","68","ESTUDANTE 8VG",1,0,2.7,2.7,{"$f":"TEXT(SPP[[#This Row],[DATA]],\"mmmm\")","v":"maio"},{"$f":"YEAR(SPP[[#This Row],[DATA]])","v":2019}]
["22/05/2019","69","VT 8VG",880,0,21473.55,21473.55,{"$f":"TEXT(SPP[[#This Row],[DATA]],\"mmmm\")","v":"maio"},{"$f":"YEAR(SPP[[#This Row],[DATA]])","v":2019}]
["22/05/2019","71","MÃE PAULISTANA",84584,333288.05,651839.21,985127.26,{"$f":"TEXT(SPP[[#This Row],[DATA]],\"mmmm\")","v":"maio"},{"$f":"YEAR(SPP[[#This Row],[DATA]])","v":2019}]
["22/05/2019","74","PROFESSOR",18235,1091429.3899999999,0,1091429.3899999999,{"$f":"TEXT(SPP[[#This Row],[DATA]],\"mmmm\")","v":"maio"},{"$f":"YEAR(SPP[[#This Row],[DATA]])","v":2019}]
["22/05/2019","75","CARTAO FIDELIDADE",85032,0,7050382.9500000002,7050382.9500000002,{"$f":"TEXT(SPP[[#This Row],[DATA]],\"mmmm\")","v":"maio"},{"$f":"YEAR(SPP[[#This Row],[DATA]])","v":2019}]
["22/05/2019","76","Lazer",248,0,7946.22,7946.22,{"$f":"TEXT(SPP[[#This Row],[DATA]],\"mmmm\")","v":"maio"},{"$f":"YEAR(SPP[[#This Row],[DATA]])","v":2019}]
["22/05/2019","86","Estacionamento",8804,0,170987.83000000002,170987.83000000002,{"$f":"TEXT(SPP[[#This Row],[DATA]],\"mmmm\")","v":"maio"},{"$f":"YEAR(SPP[[#This Row],[DATA]])","v":2019}]
["22/05/2019","100","BILHETE UNICO MENSAL - CASCO",3335607,514494364.08999997,50984362.880000003,565478726.97000003,{"$f":"TEXT(SPP[[#This Row],[DATA]],\"mmmm\")","v":"maio"},{"$f":"YEAR(SPP[[#This Row],[DATA]])","v":2019}]
["22/05/2019","110","BUM - ANÔNIMO - CASCO",1202307,0,12425929.07,12425929.07,{"$f":"TEXT(SPP[[#This Row],[DATA]],\"mmmm\")","v":"maio"},{"$f":"YEAR(SPP[[#This Row],[DATA]])","v":2019}]
["23/05/2019","51","COMUM 4 VIAGENS",3,0,41.74,41.74,{"$f":"TEXT(SPP[[#This Row],[DATA]],\"mmmm\")","v":"maio"},{"$f":"YEAR(SPP[[#This Row],[DATA]])","v":2019}]
["23/05/2019","52","ESTUDANTE",45827,49501.71,382410.06,431911.77,{"$f":"TEXT(SPP[[#This Row],[DATA]],\"mmmm\")","v":"maio"},{"$f":"YEAR(SPP[[#This Row],[DATA]])","v":2019}]
["23/05/2019","59","VT",2961254,242202011.77000001,26358252.82,268560264.58999997,{"$f":"TEXT(SPP[[#This Row],[DATA]],\"mmmm\")","v":"maio"},{"$f":"YEAR(SPP[[#This Row],[DATA]])","v":2019}]
["23/05/2019","68","ESTUDANTE 8VG",1,0,2.7,2.7,{"$f":"TEXT(SPP[[#This Row],[DATA]],\"mmmm\")","v":"maio"},{"$f":"YEAR(SPP[[#This Row],[DATA]])","v":2019}]
["23/05/2019","69","VT 8VG",880,0,20910.91,20910.91,{"$f":"TEXT(SPP[[#This Row],[DATA]],\"mmmm\")","v":"maio"},{"$f":"YEAR(SPP[[#This Row],[DATA]])","v":2019}]
["23/05/2019","71","MÃE PAULISTANA",84863,331721.09000000003,626997.29,958718.38,{"$f":"TEXT(SPP[[#This Row],[DATA]],\"mmmm\")","v":"maio"},{"$f":"YEAR(SPP[[#This Row],[DATA]])","v":2019}]
["23/05/2019","74","PROFESSOR",18273,1080482.0900000001,0,1080482.0900000001,{"$f":"TEXT(SPP[[#This Row],[DATA]],\"mmmm\")","v":"maio"},{"$f":"YEAR(SPP[[#This Row],[DATA]])","v":2019}]
["23/05/2019","75","CARTAO FIDELIDADE",85209,0,7020465.5999999996,7020465.5999999996,{"$f":"TEXT(SPP[[#This Row],[DATA]],\"mmmm\")","v":"maio"},{"$f":"YEAR(SPP[[#This Row],[DATA]])","v":2019}]
["23/05/2019","76","Lazer",248,0,7946.22,7946.22,{"$f":"TEXT(SPP[[#This Row],[DATA]],\"mmmm\")","v":"maio"},{"$f":"YEAR(SPP[[#This Row],[DATA]])","v":2019}]
["23/05/2019","86","Estacionamento",8826,0,167833.4,167833.4,{"$f":"TEXT(SPP[[#This Row],[DATA]],\"mmmm\")","v":"maio"},{"$f":"YEAR(SPP[[#This Row],[DATA]])","v":2019}]
["23/05/2019","100","BILHETE UNICO MENSAL - CASCO",3343101,509703438.92000002,49236502.450000003,558939941.37,{"$f":"TEXT(SPP[[#This Row],[DATA]],\"mmmm\")","v":"maio"},{"$f":"YEAR(SPP[[#This Row],[DATA]])","v":2019}]
["23/05/2019","110","BUM - ANÔNIMO - CASCO",1203307,0,12025954.060000001,12025954.060000001,{"$f":"TEXT(SPP[[#This Row],[DATA]],\"mmmm\")","v":"maio"},{"$f":"YEAR(SPP[[#This Row],[DATA]])","v":2019}]
["24/05/2019","51","COMUM 4 VIAGENS",4,0,112.01,112.01,{"$f":"TEXT(SPP[[#This Row],[DATA]],\"mmmm\")","v":"maio"},{"$f":"YEAR(SPP[[#This Row],[DATA]])","v":2019}]
["24/05/2019","52","ESTUDANTE",45975,49544.75,385332.98,434877.73,{"$f":"TEXT(SPP[[#This Row],[DATA]],\"mmmm\")","v":"maio"},{"$f":"YEAR(SPP[[#This Row],[DATA]])","v":2019}]
["24/05/2019","59","VT",2962727,240436390.56999999,26418073.460000001,266854464.03,{"$f":"TEXT(SPP[[#This Row],[DATA]],\"mmmm\")","v":"maio"},{"$f":"YEAR(SPP[[#This Row],[DATA]])","v":2019}]
["24/05/2019","68","ESTUDANTE 8VG",1,0,2.7,2.7,{"$f":"TEXT(SPP[[#This Row],[DATA]],\"mmmm\")","v":"maio"},{"$f":"YEAR(SPP[[#This Row],[DATA]])","v":2019}]
["24/05/2019","69","VT 8VG",878,0,20873.57,20873.57,{"$f":"TEXT(SPP[[#This Row],[DATA]],\"mmmm\")","v":"maio"},{"$f":"YEAR(SPP[[#This Row],[DATA]])","v":2019}]
["24/05/2019","71","MÃE PAULISTANA",85106,331845.74,623866.67000000004,955712.41,{"$f":"TEXT(SPP[[#This Row],[DATA]],\"mmmm\")","v":"maio"},{"$f":"YEAR(SPP[[#This Row],[DATA]])","v":2019}]
["24/05/2019","74","PROFESSOR",18302,1065842.44,0,1065842.44,{"$f":"TEXT(SPP[[#This Row],[DATA]],\"mmmm\")","v":"maio"},{"$f":"YEAR(SPP[[#This Row],[DATA]])","v":2019}]
["24/05/2019","75","CARTAO FIDELIDADE",85184,0,6956338.8600000003,6956338.8600000003,{"$f":"TEXT(SPP[[#This Row],[DATA]],\"mmmm\")","v":"maio"},{"$f":"YEAR(SPP[[#This Row],[DATA]])","v":2019}]
["24/05/2019","76","Lazer",248,0,7946.22,7946.22,{"$f":"TEXT(SPP[[#This Row],[DATA]],\"mmmm\")","v":"maio"},{"$f":"YEAR(SPP[[#This Row],[DATA]])","v":2019}]
["24/05/2019","86","Estacionamento",8835,0,166168.24,166168.24,{"$f":"TEXT(SPP[[#This Row],[DATA]],\"mmmm\")","v":"maio"},{"$f":"YEAR(SPP[[#This Row],[DATA]])","v":2019}]
["24/05/2019","100","BILHETE UNICO MENSAL - CASCO",3350126,508183075.14999998,48901301.020000003,557084376.16999996,{"$f":"TEXT(SPP[[#This Row],[DATA]],\"mmmm\")","v":"maio"},{"$f":"YEAR(SPP[[#This Row],[DATA]])","v":2019}]
["24/05/2019","110","BUM - ANÔNIMO - CASCO",1204542,0,12088855.99,12088855.99,{"$f":"TEXT(SPP[[#This Row],[DATA]],\"mmmm\")","v":"maio"},{"$f":"YEAR(SPP[[#This Row],[DATA]])","v":2019}]
["25/05/2019","51","COMUM 4 VIAGENS",3,0,78.98,78.98,{"$f":"TEXT(SPP[[#This Row],[DATA]],\"mmmm\")","v":"maio"},{"$f":"YEAR(SPP[[#This Row],[DATA]])","v":2019}]
["25/05/2019","52","ESTUDANTE",46043,49127.82,376255.55,425383.37,{"$f":"TEXT(SPP[[#This Row],[DATA]],\"mmmm\")","v":"maio"},{"$f":"YEAR(SPP[[#This Row],[DATA]])","v":2019}]
["25/05/2019","59","VT",2964089,238993892.12,25697129.16,264691021.28,{"$f":"TEXT(SPP[[#This Row],[DATA]],\"mmmm\")","v":"maio"},{"$f":"YEAR(SPP[[#This Row],[DATA]])","v":2019}]
["25/05/2019","68","ESTUDANTE 8VG",1,0,2.7,2.7,{"$f":"TEXT(SPP[[#This Row],[DATA]],\"mmmm\")","v":"maio"},{"$f":"YEAR(SPP[[#This Row],[DATA]])","v":2019}]
["25/05/2019","69","VT 8VG",878,0,20591.95,20591.95,{"$f":"TEXT(SPP[[#This Row],[DATA]],\"mmmm\")","v":"maio"},{"$f":"YEAR(SPP[[#This Row],[DATA]])","v":2019}]
["25/05/2019","71","MÃE PAULISTANA",85216,328301.22000000003,606867.36,935168.58000000007,{"$f":"TEXT(SPP[[#This Row],[DATA]],\"mmmm\")","v":"maio"},{"$f":"YEAR(SPP[[#This Row],[DATA]])","v":2019}]
["25/05/2019","74","PROFESSOR",18307,1051318.27,0,1051318.27,{"$f":"TEXT(SPP[[#This Row],[DATA]],\"mmmm\")","v":"maio"},{"$f":"YEAR(SPP[[#This Row],[DATA]])","v":2019}]
["25/05/2019","75","CARTAO FIDELIDADE",84814,0,6791035.9299999997,6791035.9299999997,{"$f":"TEXT(SPP[[#This Row],[DATA]],\"mmmm\")","v":"maio"},{"$f":"YEAR(SPP[[#This Row],[DATA]])","v":2019}]
["25/05/2019","76","Lazer",248,0,7946.22,7946.22,{"$f":"TEXT(SPP[[#This Row],[DATA]],\"mmmm\")","v":"maio"},{"$f":"YEAR(SPP[[#This Row],[DATA]])","v":2019}]
["25/05/2019","86","Estacionamento",8845,0,159921.11000000002,159921.11000000002,{"$f":"TEXT(SPP[[#This Row],[DATA]],\"mmmm\")","v":"maio"},{"$f":"YEAR(SPP[[#This Row],[DATA]])","v":2019}]
["25/05/2019","100","BILHETE UNICO MENSAL - CASCO",3355309,505936215.56999999,47069431.439999998,553005647.00999999,{"$f":"TEXT(SPP[[#This Row],[DATA]],\"mmmm\")","v":"maio"},{"$f":"YEAR(SPP[[#This Row],[DATA]])","v":2019}]
["25/05/2019","110","BUM - ANÔNIMO - CASCO",1204984,0,11747596.529999999,11747596.529999999,{"$f":"TEXT(SPP[[#This Row],[DATA]],\"mmmm\")","v":"maio"},{"$f":"YEAR(SPP[[#This Row],[DATA]])","v":2019}]
["26/05/2019","51","COMUM 4 VIAGENS",4,0,83.03,83.03,{"$f":"TEXT(SPP[[#This Row],[DATA]],\"mmmm\")","v":"maio"},{"$f":"YEAR(SPP[[#This Row],[DATA]])","v":2019}]
["26/05/2019","52","ESTUDANTE",46075,48826.270000000004,372178.77,421005.04000000004,{"$f":"TEXT(SPP[[#This Row],[DATA]],\"mmmm\")","v":"maio"},{"$f":"YEAR(SPP[[#This Row],[DATA]])","v":2019}]
["26/05/2019","59","VT",2964937,236180520.09999999,25551642.620000001,261732162.72,{"$f":"TEXT(SPP[[#This Row],[DATA]],\"mmmm\")","v":"maio"},{"$f":"YEAR(SPP[[#This Row],[DATA]])","v":2019}]
["26/05/2019","68","ESTUDANTE 8VG",1,0,2.7,2.7,{"$f":"TEXT(SPP[[#This Row],[DATA]],\"mmmm\")","v":"maio"},{"$f":"YEAR(SPP[[#This Row],[DATA]])","v":2019}]
["26/05/2019","69","VT 8VG",879,0,20282.78,20282.78,{"$f":"TEXT(SPP[[#This Row],[DATA]],\"mmmm\")","v":"maio"},{"$f":"YEAR(SPP[[#This Row],[DATA]])","v":2019}]
["26/05/2019","71","MÃE PAULISTANA",85270,325979.28000000003,598618,924597.28,{"$f":"TEXT(SPP[[#This Row],[DATA]],\"mmmm\")","v":"maio"},{"$f":"YEAR(SPP[[#This Row],[DATA]])","v":2019}]
["26/05/2019","74","PROFESSOR",18314,1054277.57,0,1054277.57,{"$f":"TEXT(SPP[[#This Row],[DATA]],\"mmmm\")","v":"maio"},{"$f":"YEAR(SPP[[#This Row],[DATA]])","v":2019}]
["26/05/2019","75","CARTAO FIDELIDADE",85003,0,6830702.6299999999,6830702.6299999999,{"$f":"TEXT(SPP[[#This Row],[DATA]],\"mmmm\")","v":"maio"},{"$f":"YEAR(SPP[[#This Row],[DATA]])","v":2019}]
["26/05/2019","76","Lazer",248,0,7989.22,7989.22,{"$f":"TEXT(SPP[[#This Row],[DATA]],\"mmmm\")","v":"maio"},{"$f":"YEAR(SPP[[#This Row],[DATA]])","v":2019}]
["26/05/2019","86","Estacionamento",8850,0,159821.6,159821.6,{"$f":"TEXT(SPP[[#This Row],[DATA]],\"mmmm\")","v":"maio"},{"$f":"YEAR(SPP[[#This Row],[DATA]])","v":2019}]
["26/05/2019","100","BILHETE UNICO MENSAL - CASCO",3357666,499655008.80000001,46726048.420000002,546381057.22000003,{"$f":"TEXT(SPP[[#This Row],[DATA]],\"mmmm\")","v":"maio"},{"$f":"YEAR(SPP[[#This Row],[DATA]])","v":2019}]
["26/05/2019","110","BUM - ANÔNIMO - CASCO",1205542,0,11686573.01,11686573.01,{"$f":"TEXT(SPP[[#This Row],[DATA]],\"mmmm\")","v":"maio"},{"$f":"YEAR(SPP[[#This Row],[DATA]])","v":2019}]
["27/05/2019","51","COMUM 4 VIAGENS",5,0,122.67,122.67,{"$f":"TEXT(SPP[[#This Row],[DATA]],\"mmmm\")","v":"maio"},{"$f":"YEAR(SPP[[#This Row],[DATA]])","v":2019}]
["27/05/2019","52","ESTUDANTE",46244,46885.599999999999,387332.05,434217.65,{"$f":"TEXT(SPP[[#This Row],[DATA]],\"mmmm\")","v":"maio"},{"$f":"YEAR(SPP[[#This Row],[DATA]])","v":2019}]
["27/05/2019","59","VT",2968373,231578125.46000001,26506964.239999998,258085089.69999999,{"$f":"TEXT(SPP[[#This Row],[DATA]],\"mmmm\")","v":"maio"},{"$f":"YEAR(SPP[[#This Row],[DATA]])","v":2019}]
["27/05/2019","68","ESTUDANTE 8VG",1,0,2.7,2.7,{"$f":"TEXT(SPP[[#This Row],[DATA]],\"mmmm\")","v":"maio"},{"$f":"YEAR(SPP[[#This Row],[DATA]])","v":2019}]
["27/05/2019","69","VT 8VG",881,0,20437.52,20437.52,{"$f":"TEXT(SPP[[#This Row],[DATA]],\"mmmm\")","v":"maio"},{"$f":"YEAR(SPP[[#This Row],[DATA]])","v":2019}]
["27/05/2019","71","MÃE PAULISTANA",85676,325026.8,617741.11,942767.91,{"$f":"TEXT(SPP[[#This Row],[DATA]],\"mmmm\")","v":"maio"},{"$f":"YEAR(SPP[[#This Row],[DATA]])","v":2019}]
["27/05/2019","74","PROFESSOR",18360,1056830.93,0,1056830.93,{"$f":"TEXT(SPP[[#This Row],[DATA]],\"mmmm\")","v":"maio"},{"$f":"YEAR(SPP[[#This Row],[DATA]])","v":2019}]
["27/05/2019","75","CARTAO FIDELIDADE",85501,0,6983954.8899999997,6983954.8899999997,{"$f":"TEXT(SPP[[#This Row],[DATA]],\"mmmm\")","v":"maio"},{"$f":"YEAR(SPP[[#This Row],[DATA]])","v":2019}]
["27/05/2019","76","Lazer",250,0,7713.92,7713.92,{"$f":"TEXT(SPP[[#This Row],[DATA]],\"mmmm\")","v":"maio"},{"$f":"YEAR(SPP[[#This Row],[DATA]])","v":2019}]
["27/05/2019","86","Estacionamento",8866,0,167589.66,167589.66,{"$f":"TEXT(SPP[[#This Row],[DATA]],\"mmmm\")","v":"maio"},{"$f":"YEAR(SPP[[#This Row],[DATA]])","v":2019}]
["27/05/2019","100","BILHETE UNICO MENSAL - CASCO",3365986,492781304.10000002,48284815.119999997,541066119.22000003,{"$f":"TEXT(SPP[[#This Row],[DATA]],\"mmmm\")","v":"maio"},{"$f":"YEAR(SPP[[#This Row],[DATA]])","v":2019}]
["27/05/2019","110","BUM - ANÔNIMO - CASCO",1207264,0,12115802.9,12115802.9,{"$f":"TEXT(SPP[[#This Row],[DATA]],\"mmmm\")","v":"maio"},{"$f":"YEAR(SPP[[#This Row],[DATA]])","v":2019}]
["28/05/2019","51","COMUM 4 VIAGENS",5,0,103.41,103.41,{"$f":"TEXT(SPP[[#This Row],[DATA]],\"mmmm\")","v":"maio"},{"$f":"YEAR(SPP[[#This Row],[DATA]])","v":2019}]
["28/05/2019","52","ESTUDANTE",46375,47634.11,374287.32,421921.43,{"$f":"TEXT(SPP[[#This Row],[DATA]],\"mmmm\")","v":"maio"},{"$f":"YEAR(SPP[[#This Row],[DATA]])","v":2019}]
["28/05/2019","59","VT",2970492,222777066.00999999,25513822.66,248290888.66999999,{"$f":"TEXT(SPP[[#This Row],[DATA]],\"mmmm\")","v":"maio"},{"$f":"YEAR(SPP[[#This Row],[DATA]])","v":2019}]
["28/05/2019","68","ESTUDANTE 8VG",1,0,2.7,2.7,{"$f":"TEXT(SPP[[#This Row],[DATA]],\"mmmm\")","v":"maio"},{"$f":"YEAR(SPP[[#This Row],[DATA]])","v":2019}]
["28/05/2019","69","VT 8VG",884,0,19776.990000000002,19776.990000000002,{"$f":"TEXT(SPP[[#This Row],[DATA]],\"mmmm\")","v":"maio"},{"$f":"YEAR(SPP[[#This Row],[DATA]])","v":2019}]
["28/05/2019","71","MÃE PAULISTANA",85935,317257.57,590141.09,907398.66,{"$f":"TEXT(SPP[[#This Row],[DATA]],\"mmmm\")","v":"maio"},{"$f":"YEAR(SPP[[#This Row],[DATA]])","v":2019}]
["28/05/2019","74","PROFESSOR",18394,1043115.1,0,1043115.1,{"$f":"TEXT(SPP[[#This Row],[DATA]],\"mmmm\")","v":"maio"},{"$f":"YEAR(SPP[[#This Row],[DATA]])","v":2019}]
["28/05/2019","75","CARTAO FIDELIDADE",85407,0,6902604.9500000002,6902604.9500000002,{"$f":"TEXT(SPP[[#This Row],[DATA]],\"mmmm\")","v":"maio"},{"$f":"YEAR(SPP[[#This Row],[DATA]])","v":2019}]
["28/05/2019","76","Lazer",250,0,7713.92,7713.92,{"$f":"TEXT(SPP[[#This Row],[DATA]],\"mmmm\")","v":"maio"},{"$f":"YEAR(SPP[[#This Row],[DATA]])","v":2019}]
["28/05/2019","86","Estacionamento",8888,0,162628.98000000001,162628.98000000001,{"$f":"TEXT(SPP[[#This Row],[DATA]],\"mmmm\")","v":"maio"},{"$f":"YEAR(SPP[[#This Row],[DATA]])","v":2019}]
["28/05/2019","100","BILHETE UNICO MENSAL - CASCO",3374506,477852211.00999999,45637400.289999999,523489611.30000001,{"$f":"TEXT(SPP[[#This Row],[DATA]],\"mmmm\")","v":"maio"},{"$f":"YEAR(SPP[[#This Row],[DATA]])","v":2019}]
["28/05/2019","110","BUM - ANÔNIMO - CASCO",1208272,0,11570534.210000001,11570534.210000001,{"$f":"TEXT(SPP[[#This Row],[DATA]],\"mmmm\")","v":"maio"},{"$f":"YEAR(SPP[[#This Row],[DATA]])","v":2019}]
["29/05/2019","51","COMUM 4 VIAGENS",5,0,88.45,88.45,{"$f":"TEXT(SPP[[#This Row],[DATA]],\"mmmm\")","v":"maio"},{"$f":"YEAR(SPP[[#This Row],[DATA]])","v":2019}]
["29/05/2019","52","ESTUDANTE",46488,46669.63,357969.42,404639.05,{"$f":"TEXT(SPP[[#This Row],[DATA]],\"mmmm\")","v":"maio"},{"$f":"YEAR(SPP[[#This Row],[DATA]])","v":2019}]
["29/05/2019","59","VT",2972720,213111692.44,24220666.5,237332358.94,{"$f":"TEXT(SPP[[#This Row],[DATA]],\"mmmm\")","v":"maio"},{"$f":"YEAR(SPP[[#This Row],[DATA]])","v":2019}]
["29/05/2019","68","ESTUDANTE 8VG",1,0,2.7,2.7,{"$f":"TEXT(SPP[[#This Row],[DATA]],\"mmmm\")","v":"maio"},{"$f":"YEAR(SPP[[#This Row],[DATA]])","v":2019}]
["29/05/2019","69","VT 8VG",884,0,18427.330000000002,18427.330000000002,{"$f":"TEXT(SPP[[#This Row],[DATA]],\"mmmm\")","v":"maio"},{"$f":"YEAR(SPP[[#This Row],[DATA]])","v":2019}]
["29/05/2019","71","MÃE PAULISTANA",86220,303568.23,548169.74,851737.97,{"$f":"TEXT(SPP[[#This Row],[DATA]],\"mmmm\")","v":"maio"},{"$f":"YEAR(SPP[[#This Row],[DATA]])","v":2019}]
["29/05/2019","74","PROFESSOR",18416,1036540.95,0,1036540.95,{"$f":"TEXT(SPP[[#This Row],[DATA]],\"mmmm\")","v":"maio"},{"$f":"YEAR(SPP[[#This Row],[DATA]])","v":2019}]
["29/05/2019","75","CARTAO FIDELIDADE",85549,0,6897772.4400000004,6897772.4400000004,{"$f":"TEXT(SPP[[#This Row],[DATA]],\"mmmm\")","v":"maio"},{"$f":"YEAR(SPP[[#This Row],[DATA]])","v":2019}]
["29/05/2019","76","Lazer",250,0,7713.92,7713.92,{"$f":"TEXT(SPP[[#This Row],[DATA]],\"mmmm\")","v":"maio"},{"$f":"YEAR(SPP[[#This Row],[DATA]])","v":2019}]
["29/05/2019","86","Estacionamento",8902,0,159201.4,159201.4,{"$f":"TEXT(SPP[[#This Row],[DATA]],\"mmmm\")","v":"maio"},{"$f":"YEAR(SPP[[#This Row],[DATA]])","v":2019}]
["29/05/2019","100","BILHETE UNICO MENSAL - CASCO",3383897,459305249.63999999,42354979.030000001,501660228.67000002,{"$f":"TEXT(SPP[[#This Row],[DATA]],\"mmmm\")","v":"maio"},{"$f":"YEAR(SPP[[#This Row],[DATA]])","v":2019}]
["29/05/2019","110","BUM - ANÔNIMO - CASCO",1209516,0,10901083.77,10901083.77,{"$f":"TEXT(SPP[[#This Row],[DATA]],\"mmmm\")","v":"maio"},{"$f":"YEAR(SPP[[#This Row],[DATA]])","v":2019}]
["30/05/2019","51","COMUM 4 VIAGENS",5,0,77.790000000000006,77.790000000000006,{"$f":"TEXT(SPP[[#This Row],[DATA]],\"mmmm\")","v":"maio"},{"$f":"YEAR(SPP[[#This Row],[DATA]])","v":2019}]
["30/05/2019","52","ESTUDANTE",46601,46380.11,351914.88,398294.99,{"$f":"TEXT(SPP[[#This Row],[DATA]],\"mmmm\")","v":"maio"},{"$f":"YEAR(SPP[[#This Row],[DATA]])","v":2019}]
["30/05/2019","59","VT",2974869,213651285.52000001,23868831.02,237520116.53999999,{"$f":"TEXT(SPP[[#This Row],[DATA]],\"mmmm\")","v":"maio"},{"$f":"YEAR(SPP[[#This Row],[DATA]])","v":2019}]
["30/05/2019","68","ESTUDANTE 8VG",1,0,2.7,2.7,{"$f":"TEXT(SPP[[#This Row],[DATA]],\"mmmm\")","v":"maio"},{"$f":"YEAR(SPP[[#This Row],[DATA]])","v":2019}]
["30/05/2019","69","VT 8VG",886,0,17720.760000000002,17720.760000000002,{"$f":"TEXT(SPP[[#This Row],[DATA]],\"mmmm\")","v":"maio"},{"$f":"YEAR(SPP[[#This Row],[DATA]])","v":2019}]
["30/05/2019","71","MÃE PAULISTANA",86552,307670.59000000003,539773.94999999995,847444.54,{"$f":"TEXT(SPP[[#This Row],[DATA]],\"mmmm\")","v":"maio"},{"$f":"YEAR(SPP[[#This Row],[DATA]])","v":2019}]
["30/05/2019","74","PROFESSOR",18451,1030232.71,0,1030232.71,{"$f":"TEXT(SPP[[#This Row],[DATA]],\"mmmm\")","v":"maio"},{"$f":"YEAR(SPP[[#This Row],[DATA]])","v":2019}]
["30/05/2019","75","CARTAO FIDELIDADE",85667,0,6883545.0300000003,6883545.0300000003,{"$f":"TEXT(SPP[[#This Row],[DATA]],\"mmmm\")","v":"maio"},{"$f":"YEAR(SPP[[#This Row],[DATA]])","v":2019}]
["30/05/2019","76","Lazer",250,0,7713.92,7713.92,{"$f":"TEXT(SPP[[#This Row],[DATA]],\"mmmm\")","v":"maio"},{"$f":"YEAR(SPP[[#This Row],[DATA]])","v":2019}]
["30/05/2019","86","Estacionamento",8915,0,159376.49,159376.49,{"$f":"TEXT(SPP[[#This Row],[DATA]],\"mmmm\")","v":"maio"},{"$f":"YEAR(SPP[[#This Row],[DATA]])","v":2019}]
["30/05/2019","100","BILHETE UNICO MENSAL - CASCO",3393449,467645903.69,41974645.520000003,509620549.20999998,{"$f":"TEXT(SPP[[#This Row],[DATA]],\"mmmm\")","v":"maio"},{"$f":"YEAR(SPP[[#This Row],[DATA]])","v":2019}]
["30/05/2019","110","BUM - ANÔNIMO - CASCO",1210882,0,10760726.640000001,10760726.640000001,{"$f":"TEXT(SPP[[#This Row],[DATA]],\"mmmm\")","v":"maio"},{"$f":"YEAR(SPP[[#This Row],[DATA]])","v":2019}]
["31/05/2019","51","COMUM 4 VIAGENS",5,0,77.790000000000006,77.790000000000006,{"$f":"TEXT(SPP[[#This Row],[DATA]],\"mmmm\")","v":"maio"},{"$f":"YEAR(SPP[[#This Row],[DATA]])","v":2019}]
["31/05/2019","52","ESTUDANTE",46689,47462.71,345172.47000000003,392635.18,{"$f":"TEXT(SPP[[#This Row],[DATA]],\"mmmm\")","v":"maio"},{"$f":"YEAR(SPP[[#This Row],[DATA]])","v":2019}]
["31/05/2019","59","VT",2976278,217130949.78,23316166.690000001,240447116.47,{"$f":"TEXT(SPP[[#This Row],[DATA]],\"mmmm\")","v":"maio"},{"$f":"YEAR(SPP[[#This Row],[DATA]])","v":2019}]
["31/05/2019","68","ESTUDANTE 8VG",1,0,2.7,2.7,{"$f":"TEXT(SPP[[#This Row],[DATA]],\"mmmm\")","v":"maio"},{"$f":"YEAR(SPP[[#This Row],[DATA]])","v":2019}]
["31/05/2019","69","VT 8VG",887,0,18216.07,18216.07,{"$f":"TEXT(SPP[[#This Row],[DATA]],\"mmmm\")","v":"maio"},{"$f":"YEAR(SPP[[#This Row],[DATA]])","v":2019}]
["31/05/2019","71","MÃE PAULISTANA",86677,306377.7,534761.15,841138.85,{"$f":"TEXT(SPP[[#This Row],[DATA]],\"mmmm\")","v":"maio"},{"$f":"YEAR(SPP[[#This Row],[DATA]])","v":2019}]
["31/05/2019","74","PROFESSOR",18462,1028371.79,0,1028371.79,{"$f":"TEXT(SPP[[#This Row],[DATA]],\"mmmm\")","v":"maio"},{"$f":"YEAR(SPP[[#This Row],[DATA]])","v":2019}]
["31/05/2019","75","CARTAO FIDELIDADE",85469,0,6832543.54,6832543.54,{"$f":"TEXT(SPP[[#This Row],[DATA]],\"mmmm\")","v":"maio"},{"$f":"YEAR(SPP[[#This Row],[DATA]])","v":2019}]
["31/05/2019","76","Lazer",250,0,7713.92,7713.92,{"$f":"TEXT(SPP[[#This Row],[DATA]],\"mmmm\")","v":"maio"},{"$f":"YEAR(SPP[[#This Row],[DATA]])","v":2019}]
["31/05/2019","86","Estacionamento",8927,0,156644.61000000002,156644.61000000002,{"$f":"TEXT(SPP[[#This Row],[DATA]],\"mmmm\")","v":"maio"},{"$f":"YEAR(SPP[[#This Row],[DATA]])","v":2019}]
["31/05/2019","100","BILHETE UNICO MENSAL - CASCO",3400325,481887848.81,42569304.369999997,524457153.18000001,{"$f":"TEXT(SPP[[#This Row],[DATA]],\"mmmm\")","v":"maio"},{"$f":"YEAR(SPP[[#This Row],[DATA]])","v":2019}]
["31/05/2019","110","BUM - ANÔNIMO - CASCO",1211407,0,10499935.529999999,10499935.529999999,{"$f":"TEXT(SPP[[#This Row],[DATA]],\"mmmm\")","v":"maio"},{"$f":"YEAR(SPP[[#This Row],[DATA]])","v":2019}]
["01/06/2019","51","COMUM 4 VIAGENS",5,0,52.620000000000005,52.620000000000005,{"$f":"TEXT(SPP[[#This Row],[DATA]],\"mmmm\")","v":"junho"},{"$f":"YEAR(SPP[[#This Row],[DATA]])","v":2019}]
["01/06/2019","52","ESTUDANTE",46808,46807.58,337133.35000000003,383940.93,{"$f":"TEXT(SPP[[#This Row],[DATA]],\"mmmm\")","v":"junho"},{"$f":"YEAR(SPP[[#This Row],[DATA]])","v":2019}]
["01/06/2019","59","VT",2977637,219810565.24000001,22619254.050000001,242429819.28999999,{"$f":"TEXT(SPP[[#This Row],[DATA]],\"mmmm\")","v":"junho"},{"$f":"YEAR(SPP[[#This Row],[DATA]])","v":2019}]
["01/06/2019","68","ESTUDANTE 8VG",1,0,2.7,2.7,{"$f":"TEXT(SPP[[#This Row],[DATA]],\"mmmm\")","v":"junho"},{"$f":"YEAR(SPP[[#This Row],[DATA]])","v":2019}]
["01/06/2019","69","VT 8VG",888,0,18047.420000000002,18047.420000000002,{"$f":"TEXT(SPP[[#This Row],[DATA]],\"mmmm\")","v":"junho"},{"$f":"YEAR(SPP[[#This Row],[DATA]])","v":2019}]
["01/06/2019","71","MÃE PAULISTANA",86838,303872.71000000002,528071.06000000006,831943.77,{"$f":"TEXT(SPP[[#This Row],[DATA]],\"mmmm\")","v":"junho"},{"$f":"YEAR(SPP[[#This Row],[DATA]])","v":2019}]
["01/06/2019","74","PROFESSOR",18491,1026002.19,0,1026002.19,{"$f":"TEXT(SPP[[#This Row],[DATA]],\"mmmm\")","v":"junho"},{"$f":"YEAR(SPP[[#This Row],[DATA]])","v":2019}]
["01/06/2019","75","CARTAO FIDELIDADE",84735,0,6654495.7699999996,6654495.7699999996,{"$f":"TEXT(SPP[[#This Row],[DATA]],\"mmmm\")","v":"junho"},{"$f":"YEAR(SPP[[#This Row],[DATA]])","v":2019}]
["01/06/2019","76","Lazer",251,0,7756.92,7756.92,{"$f":"TEXT(SPP[[#This Row],[DATA]],\"mmmm\")","v":"junho"},{"$f":"YEAR(SPP[[#This Row],[DATA]])","v":2019}]
["01/06/2019","86","Estacionamento",8939,0,150859.73000000001,150859.73000000001,{"$f":"TEXT(SPP[[#This Row],[DATA]],\"mmmm\")","v":"junho"},{"$f":"YEAR(SPP[[#This Row],[DATA]])","v":2019}]
["01/06/2019","100","BILHETE UNICO MENSAL - CASCO",3406463,492751824.01999998,42244846.509999998,534996670.52999997,{"$f":"TEXT(SPP[[#This Row],[DATA]],\"mmmm\")","v":"junho"},{"$f":"YEAR(SPP[[#This Row],[DATA]])","v":2019}]
["01/06/2019","110","BUM - ANÔNIMO - CASCO",1211992,0,10167084.26,10167084.26,{"$f":"TEXT(SPP[[#This Row],[DATA]],\"mmmm\")","v":"junho"},{"$f":"YEAR(SPP[[#This Row],[DATA]])","v":2019}]
["02/06/2019","51","COMUM 4 VIAGENS",5,0,44.02,44.02,{"$f":"TEXT(SPP[[#This Row],[DATA]],\"mmmm\")","v":"junho"},{"$f":"YEAR(SPP[[#This Row],[DATA]])","v":2019}]
["02/06/2019","52","ESTUDANTE",46838,47327.44,328304.02,375631.46,{"$f":"TEXT(SPP[[#This Row],[DATA]],\"mmmm\")","v":"junho"},{"$f":"YEAR(SPP[[#This Row],[DATA]])","v":2019}]
["02/06/2019","59","VT",2978199,219157292.49000001,22036843.280000001,241194135.77000001,{"$f":"TEXT(SPP[[#This Row],[DATA]],\"mmmm\")","v":"junho"},{"$f":"YEAR(SPP[[#This Row],[DATA]])","v":2019}]
["02/06/2019","68","ESTUDANTE 8VG",1,0,2.7,2.7,{"$f":"TEXT(SPP[[#This Row],[DATA]],\"mmmm\")","v":"junho"},{"$f":"YEAR(SPP[[#This Row],[DATA]])","v":2019}]
["02/06/2019","69","VT 8VG",889,0,17521.96,17521.96,{"$f":"TEXT(SPP[[#This Row],[DATA]],\"mmmm\")","v":"junho"},{"$f":"YEAR(SPP[[#This Row],[DATA]])","v":2019}]
["02/06/2019","71","MÃE PAULISTANA",86865,303103.92,519827.41000000003,822931.33000000007,{"$f":"TEXT(SPP[[#This Row],[DATA]],\"mmmm\")","v":"junho"},{"$f":"YEAR(SPP[[#This Row],[DATA]])","v":2019}]
["02/06/2019","74","PROFESSOR",18493,1025925.83,0,1025925.83,{"$f":"TEXT(SPP[[#This Row],[DATA]],\"mmmm\")","v":"junho"},{"$f":"YEAR(SPP[[#This Row],[DATA]])","v":2019}]
["02/06/2019","75","CARTAO FIDELIDADE",84656,0,6632692.4800000004,6632692.4800000004,{"$f":"TEXT(SPP[[#This Row],[DATA]],\"mmmm\")","v":"junho"},{"$f":"YEAR(SPP[[#This Row],[DATA]])","v":2019}]
["02/06/2019","76","Lazer",252,0,7867.52,7867.52,{"$f":"TEXT(SPP[[#This Row],[DATA]],\"mmmm\")","v":"junho"},{"$f":"YEAR(SPP[[#This Row],[DATA]])","v":2019}]
["02/06/2019","86","Estacionamento",8943,0,149002.81,149002.81,{"$f":"TEXT(SPP[[#This Row],[DATA]],\"mmmm\")","v":"junho"},{"$f":"YEAR(SPP[[#This Row],[DATA]])","v":2019}]
["02/06/2019","100","BILHETE UNICO MENSAL - CASCO",3409328,492673951.51999998,41727794.350000001,534401745.87,{"$f":"TEXT(SPP[[#This Row],[DATA]],\"mmmm\")","v":"junho"},{"$f":"YEAR(SPP[[#This Row],[DATA]])","v":2019}]
["02/06/2019","110","BUM - ANÔNIMO - CASCO",1212298,0,9870510.0700000003,9870510.0700000003,{"$f":"TEXT(SPP[[#This Row],[DATA]],\"mmmm\")","v":"junho"},{"$f":"YEAR(SPP[[#This Row],[DATA]])","v":2019}]
["03/06/2019","51","COMUM 4 VIAGENS",4,0,30.240000000000002,30.240000000000002,{"$f":"TEXT(SPP[[#This Row],[DATA]],\"mmmm\")","v":"junho"},{"$f":"YEAR(SPP[[#This Row],[DATA]])","v":2019}]
["03/06/2019","52","ESTUDANTE",46987,47681.51,347283.99,394965.5,{"$f":"TEXT(SPP[[#This Row],[DATA]],\"mmmm\")","v":"junho"},{"$f":"YEAR(SPP[[#This Row],[DATA]])","v":2019}]
["03/06/2019","59","VT",2982084,218405386.66,23497751.809999999,241903138.47,{"$f":"TEXT(SPP[[#This Row],[DATA]],\"mmmm\")","v":"junho"},{"$f":"YEAR(SPP[[#This Row],[DATA]])","v":2019}]
["03/06/2019","68","ESTUDANTE 8VG",1,0,2.7,2.7,{"$f":"TEXT(SPP[[#This Row],[DATA]],\"mmmm\")","v":"junho"},{"$f":"YEAR(SPP[[#This Row],[DATA]])","v":2019}]
["03/06/2019","69","VT 8VG",890,0,19008.740000000002,19008.740000000002,{"$f":"TEXT(SPP[[#This Row],[DATA]],\"mmmm\")","v":"junho"},{"$f":"YEAR(SPP[[#This Row],[DATA]])","v":2019}]
["03/06/2019","71","MÃE PAULISTANA",87193,302224.31,562879.86,865104.17,{"$f":"TEXT(SPP[[#This Row],[DATA]],\"mmmm\")","v":"junho"},{"$f":"YEAR(SPP[[#This Row],[DATA]])","v":2019}]
["03/06/2019","74","PROFESSOR",18555,1085583.72,0,1085583.72,{"$f":"TEXT(SPP[[#This Row],[DATA]],\"mmmm\")","v":"junho"},{"$f":"YEAR(SPP[[#This Row],[DATA]])","v":2019}]
["03/06/2019","75","CARTAO FIDELIDADE",85837,0,6987796.25,6987796.25,{"$f":"TEXT(SPP[[#This Row],[DATA]],\"mmmm\")","v":"junho"},{"$f":"YEAR(SPP[[#This Row],[DATA]])","v":2019}]
["03/06/2019","76","Lazer",247,0,7712.02,7712.02,{"$f":"TEXT(SPP[[#This Row],[DATA]],\"mmmm\")","v":"junho"},{"$f":"YEAR(SPP[[#This Row],[DATA]])","v":2019}]
["03/06/2019","86","Estacionamento",8956,0,160037.76000000001,160037.76000000001,{"$f":"TEXT(SPP[[#This Row],[DATA]],\"mmmm\")","v":"junho"},{"$f":"YEAR(SPP[[#This Row],[DATA]])","v":2019}]
["03/06/2019","100","BILHETE UNICO MENSAL - CASCO",3419603,495039096.98000002,45939272,540978368.98000002,{"$f":"TEXT(SPP[[#This Row],[DATA]],\"mmmm\")","v":"junho"},{"$f":"YEAR(SPP[[#This Row],[DATA]])","v":2019}]
["03/06/2019","110","BUM - ANÔNIMO - CASCO",1214311,0,10605416.91,10605416.91,{"$f":"TEXT(SPP[[#This Row],[DATA]],\"mmmm\")","v":"junho"},{"$f":"YEAR(SPP[[#This Row],[DATA]])","v":2019}]
["04/06/2019","51","COMUM 4 VIAGENS",5,0,79.06,79.06,{"$f":"TEXT(SPP[[#This Row],[DATA]],\"mmmm\")","v":"junho"},{"$f":"YEAR(SPP[[#This Row],[DATA]])","v":2019}]
["04/06/2019","52","ESTUDANTE",47116,47923.450000000004,349709.15,397632.60000000003,{"$f":"TEXT(SPP[[#This Row],[DATA]],\"mmmm\")","v":"junho"},{"$f":"YEAR(SPP[[#This Row],[DATA]])","v":2019}]
["04/06/2019","59","VT",2984673,219690633.16999999,23544006.379999999,243234639.55000001,{"$f":"TEXT(SPP[[#This Row],[DATA]],\"mmmm\")","v":"junho"},{"$f":"YEAR(SPP[[#This Row],[DATA]])","v":2019}]
["04/06/2019","68","ESTUDANTE 8VG",1,0,2.7,2.7,{"$f":"TEXT(SPP[[#This Row],[DATA]],\"mmmm\")","v":"junho"},{"$f":"YEAR(SPP[[#This Row],[DATA]])","v":2019}]
["04/06/2019","69","VT 8VG",892,0,18751.09,18751.09,{"$f":"TEXT(SPP[[#This Row],[DATA]],\"mmmm\")","v":"junho"},{"$f":"YEAR(SPP[[#This Row],[DATA]])","v":2019}]
["04/06/2019","71","MÃE PAULISTANA",87494,300627.99,570578.70000000007,871206.69000000006,{"$f":"TEXT(SPP[[#This Row],[DATA]],\"mmmm\")","v":"junho"},{"$f":"YEAR(SPP[[#This Row],[DATA]])","v":2019}]
["04/06/2019","74","PROFESSOR",18593,1105239.78,0,1105239.78,{"$f":"TEXT(SPP[[#This Row],[DATA]],\"mmmm\")","v":"junho"},{"$f":"YEAR(SPP[[#This Row],[DATA]])","v":2019}]
["04/06/2019","75","CARTAO FIDELIDADE",86152,0,7077986.9199999999,7077986.9199999999,{"$f":"TEXT(SPP[[#This Row],[DATA]],\"mmmm\")","v":"junho"},{"$f":"YEAR(SPP[[#This Row],[DATA]])","v":2019}]
["04/06/2019","76","Lazer",247,0,7712.02,7712.02,{"$f":"TEXT(SPP[[#This Row],[DATA]],\"mmmm\")","v":"junho"},{"$f":"YEAR(SPP[[#This Row],[DATA]])","v":2019}]
["04/06/2019","86","Estacionamento",8969,0,163876.88,163876.88,{"$f":"TEXT(SPP[[#This Row],[DATA]],\"mmmm\")","v":"junho"},{"$f":"YEAR(SPP[[#This Row],[DATA]])","v":2019}]
["04/06/2019","100","BILHETE UNICO MENSAL - CASCO",3428504,503072444.51999998,47123368.649999999,550195813.16999996,{"$f":"TEXT(SPP[[#This Row],[DATA]],\"mmmm\")","v":"junho"},{"$f":"YEAR(SPP[[#This Row],[DATA]])","v":2019}]
["04/06/2019","110","BUM - ANÔNIMO - CASCO",1215911,0,10640491.939999999,10640491.939999999,{"$f":"TEXT(SPP[[#This Row],[DATA]],\"mmmm\")","v":"junho"},{"$f":"YEAR(SPP[[#This Row],[DATA]])","v":2019}]
["05/06/2019","51","COMUM 4 VIAGENS",4,0,60.410000000000004,60.410000000000004,{"$f":"TEXT(SPP[[#This Row],[DATA]],\"mmmm\")","v":"junho"},{"$f":"YEAR(SPP[[#This Row],[DATA]])","v":2019}]
["05/06/2019","52","ESTUDANTE",47217,47879.44,348831.08,396710.52,{"$f":"TEXT(SPP[[#This Row],[DATA]],\"mmmm\")","v":"junho"},{"$f":"YEAR(SPP[[#This Row],[DATA]])","v":2019}]
["05/06/2019","59","VT",2987212,220485510.55000001,23490468.469999999,243975979.02000001,{"$f":"TEXT(SPP[[#This Row],[DATA]],\"mmmm\")","v":"junho"},{"$f":"YEAR(SPP[[#This Row],[DATA]])","v":2019}]
["05/06/2019","68","ESTUDANTE 8VG",1,0,2.7,2.7,{"$f":"TEXT(SPP[[#This Row],[DATA]],\"mmmm\")","v":"junho"},{"$f":"YEAR(SPP[[#This Row],[DATA]])","v":2019}]
["05/06/2019","69","VT 8VG",893,0,18807.350000000002,18807.350000000002,{"$f":"TEXT(SPP[[#This Row],[DATA]],\"mmmm\")","v":"junho"},{"$f":"YEAR(SPP[[#This Row],[DATA]])","v":2019}]
["05/06/2019","71","MÃE PAULISTANA",87772,304336.48,573799.82000000007,878136.3,{"$f":"TEXT(SPP[[#This Row],[DATA]],\"mmmm\")","v":"junho"},{"$f":"YEAR(SPP[[#This Row],[DATA]])","v":2019}]
["05/06/2019","74","PROFESSOR",18647,1114750.45,0,1114750.45,{"$f":"TEXT(SPP[[#This Row],[DATA]],\"mmmm\")","v":"junho"},{"$f":"YEAR(SPP[[#This Row],[DATA]])","v":2019}]
["05/06/2019","75","CARTAO FIDELIDADE",86511,0,7150510.5999999996,7150510.5999999996,{"$f":"TEXT(SPP[[#This Row],[DATA]],\"mmmm\")","v":"junho"},{"$f":"YEAR(SPP[[#This Row],[DATA]])","v":2019}]
["05/06/2019","76","Lazer",247,0,7712.02,7712.02,{"$f":"TEXT(SPP[[#This Row],[DATA]],\"mmmm\")","v":"junho"},{"$f":"YEAR(SPP[[#This Row],[DATA]])","v":2019}]
["05/06/2019","86","Estacionamento",8989,0,165582.51,165582.51,{"$f":"TEXT(SPP[[#This Row],[DATA]],\"mmmm\")","v":"junho"},{"$f":"YEAR(SPP[[#This Row],[DATA]])","v":2019}]
["05/06/2019","100","BILHETE UNICO MENSAL - CASCO",3436390,507818898.88999999,48115430,555934328.88999999,{"$f":"TEXT(SPP[[#This Row],[DATA]],\"mmmm\")","v":"junho"},{"$f":"YEAR(SPP[[#This Row],[DATA]])","v":2019}]
["05/06/2019","110","BUM - ANÔNIMO - CASCO",1217364,0,10609502.51,10609502.51,{"$f":"TEXT(SPP[[#This Row],[DATA]],\"mmmm\")","v":"junho"},{"$f":"YEAR(SPP[[#This Row],[DATA]])","v":2019}]
["06/06/2019","51","COMUM 4 VIAGENS",5,0,69.17,69.17,{"$f":"TEXT(SPP[[#This Row],[DATA]],\"mmmm\")","v":"junho"},{"$f":"YEAR(SPP[[#This Row],[DATA]])","v":2019}]
["06/06/2019","52","ESTUDANTE",47315,47883.17,349327.57,397210.74,{"$f":"TEXT(SPP[[#This Row],[DATA]],\"mmmm\")","v":"junho"},{"$f":"YEAR(SPP[[#This Row],[DATA]])","v":2019}]
["06/06/2019","59","VT",2989866,226289069.5,23587281.640000001,249876351.13999999,{"$f":"TEXT(SPP[[#This Row],[DATA]],\"mmmm\")","v":"junho"},{"$f":"YEAR(SPP[[#This Row],[DATA]])","v":2019}]
["06/06/2019","68","ESTUDANTE 8VG",1,0,2.7,2.7,{"$f":"TEXT(SPP[[#This Row],[DATA]],\"mmmm\")","v":"junho"},{"$f":"YEAR(SPP[[#This Row],[DATA]])","v":2019}]
["06/06/2019","69","VT 8VG",893,0,18864.439999999999,18864.439999999999,{"$f":"TEXT(SPP[[#This Row],[DATA]],\"mmmm\")","v":"junho"},{"$f":"YEAR(SPP[[#This Row],[DATA]])","v":2019}]
["06/06/2019","71","MÃE PAULISTANA",88103,317522.06,590336.93000000005,907858.99,{"$f":"TEXT(SPP[[#This Row],[DATA]],\"mmmm\")","v":"junho"},{"$f":"YEAR(SPP[[#This Row],[DATA]])","v":2019}]
["06/06/2019","74","PROFESSOR",18674,1124240.05,0,1124240.05,{"$f":"TEXT(SPP[[#This Row],[DATA]],\"mmmm\")","v":"junho"},{"$f":"YEAR(SPP[[#This Row],[DATA]])","v":2019}]
["06/06/2019","75","CARTAO FIDELIDADE",86792,0,7183058.3099999996,7183058.3099999996,{"$f":"TEXT(SPP[[#This Row],[DATA]],\"mmmm\")","v":"junho"},{"$f":"YEAR(SPP[[#This Row],[DATA]])","v":2019}]
["06/06/2019","76","Lazer",250,0,7841.02,7841.02,{"$f":"TEXT(SPP[[#This Row],[DATA]],\"mmmm\")","v":"junho"},{"$f":"YEAR(SPP[[#This Row],[DATA]])","v":2019}]
["06/06/2019","86","Estacionamento",9001,0,166944.33000000002,166944.33000000002,{"$f":"TEXT(SPP[[#This Row],[DATA]],\"mmmm\")","v":"junho"},{"$f":"YEAR(SPP[[#This Row],[DATA]])","v":2019}]
["06/06/2019","100","BILHETE UNICO MENSAL - CASCO",3444061,524590851.51999998,49929386,574520237.51999998,{"$f":"TEXT(SPP[[#This Row],[DATA]],\"mmmm\")","v":"junho"},{"$f":"YEAR(SPP[[#This Row],[DATA]])","v":2019}]
["06/06/2019","110","BUM - ANÔNIMO - CASCO",1218771,0,10691585.199999999,10691585.199999999,{"$f":"TEXT(SPP[[#This Row],[DATA]],\"mmmm\")","v":"junho"},{"$f":"YEAR(SPP[[#This Row],[DATA]])","v":2019}]
["07/06/2019","51","COMUM 4 VIAGENS",4,0,45.45,45.45,{"$f":"TEXT(SPP[[#This Row],[DATA]],\"mmmm\")","v":"junho"},{"$f":"YEAR(SPP[[#This Row],[DATA]])","v":2019}]
["07/06/2019","52","ESTUDANTE",47455,48040.71,359319.2,407359.91000000003,{"$f":"TEXT(SPP[[#This Row],[DATA]],\"mmmm\")","v":"junho"},{"$f":"YEAR(SPP[[#This Row],[DATA]])","v":2019}]
["07/06/2019","59","VT",2993035,232171971.63999999,24260671.07,256432642.71000001,{"$f":"TEXT(SPP[[#This Row],[DATA]],\"mmmm\")","v":"junho"},{"$f":"YEAR(SPP[[#This Row],[DATA]])","v":2019}]
["07/06/2019","68","ESTUDANTE 8VG",1,0,2.7,2.7,{"$f":"TEXT(SPP[[#This Row],[DATA]],\"mmmm\")","v":"junho"},{"$f":"YEAR(SPP[[#This Row],[DATA]])","v":2019}]
["07/06/2019","69","VT 8VG",893,0,18998.59,18998.59,{"$f":"TEXT(SPP[[#This Row],[DATA]],\"mmmm\")","v":"junho"},{"$f":"YEAR(SPP[[#This Row],[DATA]])","v":2019}]
["07/06/2019","71","MÃE PAULISTANA",88408,325832.23,621670.95000000007,947503.18,{"$f":"TEXT(SPP[[#This Row],[DATA]],\"mmmm\")","v":"junho"},{"$f":"YEAR(SPP[[#This Row],[DATA]])","v":2019}]
["07/06/2019","74","PROFESSOR",18709,1137566.2,0,1137566.2,{"$f":"TEXT(SPP[[#This Row],[DATA]],\"mmmm\")","v":"junho"},{"$f":"YEAR(SPP[[#This Row],[DATA]])","v":2019}]
["07/06/2019","75","CARTAO FIDELIDADE",86882,0,7209923.9500000002,7209923.9500000002,{"$f":"TEXT(SPP[[#This Row],[DATA]],\"mmmm\")","v":"junho"},{"$f":"YEAR(SPP[[#This Row],[DATA]])","v":2019}]
["07/06/2019","76","Lazer",251,0,7884.02,7884.02,{"$f":"TEXT(SPP[[#This Row],[DATA]],\"mmmm\")","v":"junho"},{"$f":"YEAR(SPP[[#This Row],[DATA]])","v":2019}]
["07/06/2019","86","Estacionamento",9011,0,168000.58000000002,168000.58000000002,{"$f":"TEXT(SPP[[#This Row],[DATA]],\"mmmm\")","v":"junho"},{"$f":"YEAR(SPP[[#This Row],[DATA]])","v":2019}]
["07/06/2019","100","BILHETE UNICO MENSAL - CASCO",3451522,542281514.69000006,52875986.289999999,595157500.98000002,{"$f":"TEXT(SPP[[#This Row],[DATA]],\"mmmm\")","v":"junho"},{"$f":"YEAR(SPP[[#This Row],[DATA]])","v":2019}]
["07/06/2019","110","BUM - ANÔNIMO - CASCO",1220323,0,11104786.279999999,11104786.279999999,{"$f":"TEXT(SPP[[#This Row],[DATA]],\"mmmm\")","v":"junho"},{"$f":"YEAR(SPP[[#This Row],[DATA]])","v":2019}]
["08/06/2019","51","COMUM 4 VIAGENS",4,0,45.45,45.45,{"$f":"TEXT(SPP[[#This Row],[DATA]],\"mmmm\")","v":"junho"},{"$f":"YEAR(SPP[[#This Row],[DATA]])","v":2019}]
["08/06/2019","52","ESTUDANTE",47536,48830.200000000004,354319.46,403149.66000000003,{"$f":"TEXT(SPP[[#This Row],[DATA]],\"mmmm\")","v":"junho"},{"$f":"YEAR(SPP[[#This Row],[DATA]])","v":2019}]
["08/06/2019","59","VT",2994809,235394444.77000001,23680157.899999999,259074602.66999999,{"$f":"TEXT(SPP[[#This Row],[DATA]],\"mmmm\")","v":"junho"},{"$f":"YEAR(SPP[[#This Row],[DATA]])","v":2019}]
["08/06/2019","68","ESTUDANTE 8VG",1,0,2.7,2.7,{"$f":"TEXT(SPP[[#This Row],[DATA]],\"mmmm\")","v":"junho"},{"$f":"YEAR(SPP[[#This Row],[DATA]])","v":2019}]
["08/06/2019","69","VT 8VG",896,0,19153.96,19153.96,{"$f":"TEXT(SPP[[#This Row],[DATA]],\"mmmm\")","v":"junho"},{"$f":"YEAR(SPP[[#This Row],[DATA]])","v":2019}]
["08/06/2019","71","MÃE PAULISTANA",88528,329452.87,615962.14,945415.01,{"$f":"TEXT(SPP[[#This Row],[DATA]],\"mmmm\")","v":"junho"},{"$f":"YEAR(SPP[[#This Row],[DATA]])","v":2019}]
["08/06/2019","74","PROFESSOR",18724,1129291.29,0,1129291.29,{"$f":"TEXT(SPP[[#This Row],[DATA]],\"mmmm\")","v":"junho"},{"$f":"YEAR(SPP[[#This Row],[DATA]])","v":2019}]
["08/06/2019","75","CARTAO FIDELIDADE",86379,0,7015605.1100000003,7015605.1100000003,{"$f":"TEXT(SPP[[#This Row],[DATA]],\"mmmm\")","v":"junho"},{"$f":"YEAR(SPP[[#This Row],[DATA]])","v":2019}]
["08/06/2019","76","Lazer",253,0,8090.42,8090.42,{"$f":"TEXT(SPP[[#This Row],[DATA]],\"mmmm\")","v":"junho"},{"$f":"YEAR(SPP[[#This Row],[DATA]])","v":2019}]
["08/06/2019","86","Estacionamento",9023,0,163117.4,163117.4,{"$f":"TEXT(SPP[[#This Row],[DATA]],\"mmmm\")","v":"junho"},{"$f":"YEAR(SPP[[#This Row],[DATA]])","v":2019}]
["08/06/2019","100","BILHETE UNICO MENSAL - CASCO",3456716,549040308.82000005,52607107.740000002,601647416.55999994,{"$f":"TEXT(SPP[[#This Row],[DATA]],\"mmmm\")","v":"junho"},{"$f":"YEAR(SPP[[#This Row],[DATA]])","v":2019}]
["08/06/2019","110","BUM - ANÔNIMO - CASCO",1221027,0,10845112.26,10845112.26,{"$f":"TEXT(SPP[[#This Row],[DATA]],\"mmmm\")","v":"junho"},{"$f":"YEAR(SPP[[#This Row],[DATA]])","v":2019}]
["09/06/2019","51","COMUM 4 VIAGENS",4,0,45.45,45.45,{"$f":"TEXT(SPP[[#This Row],[DATA]],\"mmmm\")","v":"junho"},{"$f":"YEAR(SPP[[#This Row],[DATA]])","v":2019}]
["09/06/2019","52","ESTUDANTE",47573,48912.92,348108.07,397020.99,{"$f":"TEXT(SPP[[#This Row],[DATA]],\"mmmm\")","v":"junho"},{"$f":"YEAR(SPP[[#This Row],[DATA]])","v":2019}]
["09/06/2019","59","VT",2995708,235516040.59,23259703.57,258775744.16,{"$f":"TEXT(SPP[[#This Row],[DATA]],\"mmmm\")","v":"junho"},{"$f":"YEAR(SPP[[#This Row],[DATA]])","v":2019}]
["09/06/2019","68","ESTUDANTE 8VG",1,0,2.7,2.7,{"$f":"TEXT(SPP[[#This Row],[DATA]],\"mmmm\")","v":"junho"},{"$f":"YEAR(SPP[[#This Row],[DATA]])","v":2019}]
["09/06/2019","69","VT 8VG",894,0,18910,18910,{"$f":"TEXT(SPP[[#This Row],[DATA]],\"mmmm\")","v":"junho"},{"$f":"YEAR(SPP[[#This Row],[DATA]])","v":2019}]
["09/06/2019","71","MÃE PAULISTANA",88539,325432.27,607848.63,933280.9,{"$f":"TEXT(SPP[[#This Row],[DATA]],\"mmmm\")","v":"junho"},{"$f":"YEAR(SPP[[#This Row],[DATA]])","v":2019}]
["09/06/2019","74","PROFESSOR",18736,1123392.0900000001,0,1123392.0900000001,{"$f":"TEXT(SPP[[#This Row],[DATA]],\"mmmm\")","v":"junho"},{"$f":"YEAR(SPP[[#This Row],[DATA]])","v":2019}]
["09/06/2019","75","CARTAO FIDELIDADE",86315,0,6992462.3899999997,6992462.3899999997,{"$f":"TEXT(SPP[[#This Row],[DATA]],\"mmmm\")","v":"junho"},{"$f":"YEAR(SPP[[#This Row],[DATA]])","v":2019}]
["09/06/2019","76","Lazer",250,0,8030.8200000000006,8030.8200000000006,{"$f":"TEXT(SPP[[#This Row],[DATA]],\"mmmm\")","v":"junho"},{"$f":"YEAR(SPP[[#This Row],[DATA]])","v":2019}]
["09/06/2019","86","Estacionamento",9024,0,161391.34,161391.34,{"$f":"TEXT(SPP[[#This Row],[DATA]],\"mmmm\")","v":"junho"},{"$f":"YEAR(SPP[[#This Row],[DATA]])","v":2019}]
["09/06/2019","100","BILHETE UNICO MENSAL - CASCO",3458853,548812501.92999995,52309369.520000003,601121871.45000005,{"$f":"TEXT(SPP[[#This Row],[DATA]],\"mmmm\")","v":"junho"},{"$f":"YEAR(SPP[[#This Row],[DATA]])","v":2019}]
["09/06/2019","110","BUM - ANÔNIMO - CASCO",1221362,0,10645447.189999999,10645447.189999999,{"$f":"TEXT(SPP[[#This Row],[DATA]],\"mmmm\")","v":"junho"},{"$f":"YEAR(SPP[[#This Row],[DATA]])","v":2019}]
["10/06/2019","51","COMUM 4 VIAGENS",4,0,45.45,45.45,{"$f":"TEXT(SPP[[#This Row],[DATA]],\"mmmm\")","v":"junho"},{"$f":"YEAR(SPP[[#This Row],[DATA]])","v":2019}]
["10/06/2019","52","ESTUDANTE",47716,49146.41,373328.84,422475.25,{"$f":"TEXT(SPP[[#This Row],[DATA]],\"mmmm\")","v":"junho"},{"$f":"YEAR(SPP[[#This Row],[DATA]])","v":2019}]
["10/06/2019","59","VT",3000055,235670003.96000001,25135884.359999999,260805888.31999999,{"$f":"TEXT(SPP[[#This Row],[DATA]],\"mmmm\")","v":"junho"},{"$f":"YEAR(SPP[[#This Row],[DATA]])","v":2019}]
["10/06/2019","68","ESTUDANTE 8VG",1,0,2.7,2.7,{"$f":"TEXT(SPP[[#This Row],[DATA]],\"mmmm\")","v":"junho"},{"$f":"YEAR(SPP[[#This Row],[DATA]])","v":2019}]
["10/06/2019","69","VT 8VG",895,0,20062.010000000002,20062.010000000002,{"$f":"TEXT(SPP[[#This Row],[DATA]],\"mmmm\")","v":"junho"},{"$f":"YEAR(SPP[[#This Row],[DATA]])","v":2019}]
["10/06/2019","71","MÃE PAULISTANA",88883,328298.05,662390.25,990688.3,{"$f":"TEXT(SPP[[#This Row],[DATA]],\"mmmm\")","v":"junho"},{"$f":"YEAR(SPP[[#This Row],[DATA]])","v":2019}]
["10/06/2019","74","PROFESSOR",18782,1160416.6499999999,0,1160416.6499999999,{"$f":"TEXT(SPP[[#This Row],[DATA]],\"mmmm\")","v":"junho"},{"$f":"YEAR(SPP[[#This Row],[DATA]])","v":2019}]
["10/06/2019","75","CARTAO FIDELIDADE",87338,0,7309376.3799999999,7309376.3799999999,{"$f":"TEXT(SPP[[#This Row],[DATA]],\"mmmm\")","v":"junho"},{"$f":"YEAR(SPP[[#This Row],[DATA]])","v":2019}]
["10/06/2019","76","Lazer",252,0,7876.37,7876.37,{"$f":"TEXT(SPP[[#This Row],[DATA]],\"mmmm\")","v":"junho"},{"$f":"YEAR(SPP[[#This Row],[DATA]])","v":2019}]
["10/06/2019","86","Estacionamento",9044,0,172255.72,172255.72,{"$f":"TEXT(SPP[[#This Row],[DATA]],\"mmmm\")","v":"junho"},{"$f":"YEAR(SPP[[#This Row],[DATA]])","v":2019}]
["10/06/2019","100","BILHETE UNICO MENSAL - CASCO",3466235,550106481.55999994,56429276.520000003,606535758.08000004,{"$f":"TEXT(SPP[[#This Row],[DATA]],\"mmmm\")","v":"junho"},{"$f":"YEAR(SPP[[#This Row],[DATA]])","v":2019}]
["10/06/2019","110","BUM - ANÔNIMO - CASCO",1223470,0,11632698.15,11632698.15,{"$f":"TEXT(SPP[[#This Row],[DATA]],\"mmmm\")","v":"junho"},{"$f":"YEAR(SPP[[#This Row],[DATA]])","v":2019}]
["11/06/2019","51","COMUM 4 VIAGENS",4,0,64.31,64.31,{"$f":"TEXT(SPP[[#This Row],[DATA]],\"mmmm\")","v":"junho"},{"$f":"YEAR(SPP[[#This Row],[DATA]])","v":2019}]
["11/06/2019","52","ESTUDANTE",47843,49473.770000000004,378073.96,427547.73,{"$f":"TEXT(SPP[[#This Row],[DATA]],\"mmmm\")","v":"junho"},{"$f":"YEAR(SPP[[#This Row],[DATA]])","v":2019}]
["11/06/2019","59","VT",3002994,237093552.43000001,25277381.190000001,262370933.62,{"$f":"TEXT(SPP[[#This Row],[DATA]],\"mmmm\")","v":"junho"},{"$f":"YEAR(SPP[[#This Row],[DATA]])","v":2019}]
["11/06/2019","68","ESTUDANTE 8VG",1,0,2.7,2.7,{"$f":"TEXT(SPP[[#This Row],[DATA]],\"mmmm\")","v":"junho"},{"$f":"YEAR(SPP[[#This Row],[DATA]])","v":2019}]
["11/06/2019","69","VT 8VG",897,0,20040.150000000001,20040.150000000001,{"$f":"TEXT(SPP[[#This Row],[DATA]],\"mmmm\")","v":"junho"},{"$f":"YEAR(SPP[[#This Row],[DATA]])","v":2019}]
["11/06/2019","71","MÃE PAULISTANA",89113,334855.47000000003,667203.22,1002058.69,{"$f":"TEXT(SPP[[#This Row],[DATA]],\"mmmm\")","v":"junho"},{"$f":"YEAR(SPP[[#This Row],[DATA]])","v":2019}]
["11/06/2019","74","PROFESSOR",18826,1167519.92,0,1167519.92,{"$f":"TEXT(SPP[[#This Row],[DATA]],\"mmmm\")","v":"junho"},{"$f":"YEAR(SPP[[#This Row],[DATA]])","v":2019}]
["11/06/2019","75","CARTAO FIDELIDADE",87656,0,7336913.5199999996,7336913.5199999996,{"$f":"TEXT(SPP[[#This Row],[DATA]],\"mmmm\")","v":"junho"},{"$f":"YEAR(SPP[[#This Row],[DATA]])","v":2019}]
["11/06/2019","76","Lazer",252,0,7872.37,7872.37,{"$f":"TEXT(SPP[[#This Row],[DATA]],\"mmmm\")","v":"junho"},{"$f":"YEAR(SPP[[#This Row],[DATA]])","v":2019}]
["11/06/2019","86","Estacionamento",9058,0,174417.46,174417.46,{"$f":"TEXT(SPP[[#This Row],[DATA]],\"mmmm\")","v":"junho"},{"$f":"YEAR(SPP[[#This Row],[DATA]])","v":2019}]
["11/06/2019","100","BILHETE UNICO MENSAL - CASCO",3473753,553968105.55999994,56895247.200000003,610863352.75999999,{"$f":"TEXT(SPP[[#This Row],[DATA]],\"mmmm\")","v":"junho"},{"$f":"YEAR(SPP[[#This Row],[DATA]])","v":2019}]
["11/06/2019","110","BUM - ANÔNIMO - CASCO",1224758,0,11691516.33,11691516.33,{"$f":"TEXT(SPP[[#This Row],[DATA]],\"mmmm\")","v":"junho"},{"$f":"YEAR(SPP[[#This Row],[DATA]])","v":2019}]
["12/06/2019","51","COMUM 4 VIAGENS",5,0,109.65,109.65,{"$f":"TEXT(SPP[[#This Row],[DATA]],\"mmmm\")","v":"junho"},{"$f":"YEAR(SPP[[#This Row],[DATA]])","v":2019}]
["12/06/2019","52","ESTUDANTE",47952,49402.66,376432.72000000003,425835.38,{"$f":"TEXT(SPP[[#This Row],[DATA]],\"mmmm\")","v":"junho"},{"$f":"YEAR(SPP[[#This Row],[DATA]])","v":2019}]
["12/06/2019","59","VT",3004620,238340915.41999999,25187877.73,263528793.15000001,{"$f":"TEXT(SPP[[#This Row],[DATA]],\"mmmm\")","v":"junho"},{"$f":"YEAR(SPP[[#This Row],[DATA]])","v":2019}]
["12/06/2019","68","ESTUDANTE 8VG",1,0,2.7,2.7,{"$f":"TEXT(SPP[[#This Row],[DATA]],\"mmmm\")","v":"junho"},{"$f":"YEAR(SPP[[#This Row],[DATA]])","v":2019}]
["12/06/2019","69","VT 8VG",896,0,19801.990000000002,19801.990000000002,{"$f":"TEXT(SPP[[#This Row],[DATA]],\"mmmm\")","v":"junho"},{"$f":"YEAR(SPP[[#This Row],[DATA]])","v":2019}]
["12/06/2019","71","MÃE PAULISTANA",89284,336001.48,668453.63,1004455.11,{"$f":"TEXT(SPP[[#This Row],[DATA]],\"mmmm\")","v":"junho"},{"$f":"YEAR(SPP[[#This Row],[DATA]])","v":2019}]
["12/06/2019","74","PROFESSOR",18872,1164841.24,0,1164841.24,{"$f":"TEXT(SPP[[#This Row],[DATA]],\"mmmm\")","v":"junho"},{"$f":"YEAR(SPP[[#This Row],[DATA]])","v":2019}]
["12/06/2019","75","CARTAO FIDELIDADE",87767,0,7312057.1200000001,7312057.1200000001,{"$f":"TEXT(SPP[[#This Row],[DATA]],\"mmmm\")","v":"junho"},{"$f":"YEAR(SPP[[#This Row],[DATA]])","v":2019}]
["12/06/2019","76","Lazer",252,0,7872.37,7872.37,{"$f":"TEXT(SPP[[#This Row],[DATA]],\"mmmm\")","v":"junho"},{"$f":"YEAR(SPP[[#This Row],[DATA]])","v":2019}]
["12/06/2019","86","Estacionamento",9068,0,172921.79,172921.79,{"$f":"TEXT(SPP[[#This Row],[DATA]],\"mmmm\")","v":"junho"},{"$f":"YEAR(SPP[[#This Row],[DATA]])","v":2019}]
["12/06/2019","100","BILHETE UNICO MENSAL - CASCO",3479745,556934672.45000005,56636626.32,613571298.76999998,{"$f":"TEXT(SPP[[#This Row],[DATA]],\"mmmm\")","v":"junho"},{"$f":"YEAR(SPP[[#This Row],[DATA]])","v":2019}]
["12/06/2019","110","BUM - ANÔNIMO - CASCO",1225219,0,11633674.689999999,11633674.689999999,{"$f":"TEXT(SPP[[#This Row],[DATA]],\"mmmm\")","v":"junho"},{"$f":"YEAR(SPP[[#This Row],[DATA]])","v":2019}]
["13/06/2019","51","COMUM 4 VIAGENS",5,0,94.69,94.69,{"$f":"TEXT(SPP[[#This Row],[DATA]],\"mmmm\")","v":"junho"},{"$f":"YEAR(SPP[[#This Row],[DATA]])","v":2019}]
["13/06/2019","52","ESTUDANTE",48037,49552.81,368290.08,417842.89,{"$f":"TEXT(SPP[[#This Row],[DATA]],\"mmmm\")","v":"junho"},{"$f":"YEAR(SPP[[#This Row],[DATA]])","v":2019}]
["13/06/2019","59","VT",3006163,237332787.99000001,24574484.940000001,261907272.93000001,{"$f":"TEXT(SPP[[#This Row],[DATA]],\"mmmm\")","v":"junho"},{"$f":"YEAR(SPP[[#This Row],[DATA]])","v":2019}]
["13/06/2019","68","ESTUDANTE 8VG",1,0,2.7,2.7,{"$f":"TEXT(SPP[[#This Row],[DATA]],\"mmmm\")","v":"junho"},{"$f":"YEAR(SPP[[#This Row],[DATA]])","v":2019}]
["13/06/2019","69","VT 8VG",898,0,19126.920000000002,19126.920000000002,{"$f":"TEXT(SPP[[#This Row],[DATA]],\"mmmm\")","v":"junho"},{"$f":"YEAR(SPP[[#This Row],[DATA]])","v":2019}]
["13/06/2019","71","MÃE PAULISTANA",89466,337159.36,646458.93000000005,983618.29,{"$f":"TEXT(SPP[[#This Row],[DATA]],\"mmmm\")","v":"junho"},{"$f":"YEAR(SPP[[#This Row],[DATA]])","v":2019}]
["13/06/2019","74","PROFESSOR",18917,1160181.24,0,1160181.24,{"$f":"TEXT(SPP[[#This Row],[DATA]],\"mmmm\")","v":"junho"},{"$f":"YEAR(SPP[[#This Row],[DATA]])","v":2019}]
["13/06/2019","75","CARTAO FIDELIDADE",87816,0,7244709.0199999996,7244709.0199999996,{"$f":"TEXT(SPP[[#This Row],[DATA]],\"mmmm\")","v":"junho"},{"$f":"YEAR(SPP[[#This Row],[DATA]])","v":2019}]
["13/06/2019","76","Lazer",252,0,7872.37,7872.37,{"$f":"TEXT(SPP[[#This Row],[DATA]],\"mmmm\")","v":"junho"},{"$f":"YEAR(SPP[[#This Row],[DATA]])","v":2019}]
["13/06/2019","86","Estacionamento",9075,0,169703.73,169703.73,{"$f":"TEXT(SPP[[#This Row],[DATA]],\"mmmm\")","v":"junho"},{"$f":"YEAR(SPP[[#This Row],[DATA]])","v":2019}]
["13/06/2019","100","BILHETE UNICO MENSAL - CASCO",3484819,553658586.22000003,54812299.009999998,608470885.23000002,{"$f":"TEXT(SPP[[#This Row],[DATA]],\"mmmm\")","v":"junho"},{"$f":"YEAR(SPP[[#This Row],[DATA]])","v":2019}]
["13/06/2019","110","BUM - ANÔNIMO - CASCO",1225887,0,11297220.970000001,11297220.970000001,{"$f":"TEXT(SPP[[#This Row],[DATA]],\"mmmm\")","v":"junho"},{"$f":"YEAR(SPP[[#This Row],[DATA]])","v":2019}]
["14/06/2019","51","COMUM 4 VIAGENS",5,0,79.73,79.73,{"$f":"TEXT(SPP[[#This Row],[DATA]],\"mmmm\")","v":"junho"},{"$f":"YEAR(SPP[[#This Row],[DATA]])","v":2019}]
["14/06/2019","52","ESTUDANTE",48107,49062.11,358002.44,407064.55,{"$f":"TEXT(SPP[[#This Row],[DATA]],\"mmmm\")","v":"junho"},{"$f":"YEAR(SPP[[#This Row],[DATA]])","v":2019}]
["14/06/2019","59","VT",3006965,236175228.97,23920641.530000001,260095870.5,{"$f":"TEXT(SPP[[#This Row],[DATA]],\"mmmm\")","v":"junho"},{"$f":"YEAR(SPP[[#This Row],[DATA]])","v":2019}]
["14/06/2019","68","ESTUDANTE 8VG",1,0,2.7,2.7,{"$f":"TEXT(SPP[[#This Row],[DATA]],\"mmmm\")","v":"junho"},{"$f":"YEAR(SPP[[#This Row],[DATA]])","v":2019}]
["14/06/2019","69","VT 8VG",900,0,18617.170000000002,18617.170000000002,{"$f":"TEXT(SPP[[#This Row],[DATA]],\"mmmm\")","v":"junho"},{"$f":"YEAR(SPP[[#This Row],[DATA]])","v":2019}]
["14/06/2019","71","MÃE PAULISTANA",89589,335460.33,628098.13,963558.46,{"$f":"TEXT(SPP[[#This Row],[DATA]],\"mmmm\")","v":"junho"},{"$f":"YEAR(SPP[[#This Row],[DATA]])","v":2019}]
["14/06/2019","74","PROFESSOR",18932,1144381.92,0,1144381.92,{"$f":"TEXT(SPP[[#This Row],[DATA]],\"mmmm\")","v":"junho"},{"$f":"YEAR(SPP[[#This Row],[DATA]])","v":2019}]
["14/06/2019","75","CARTAO FIDELIDADE",87432,0,7080437.1200000001,7080437.1200000001,{"$f":"TEXT(SPP[[#This Row],[DATA]],\"mmmm\")","v":"junho"},{"$f":"YEAR(SPP[[#This Row],[DATA]])","v":2019}]
["14/06/2019","76","Lazer",252,0,7872.37,7872.37,{"$f":"TEXT(SPP[[#This Row],[DATA]],\"mmmm\")","v":"junho"},{"$f":"YEAR(SPP[[#This Row],[DATA]])","v":2019}]
["14/06/2019","86","Estacionamento",9081,0,163834.44,163834.44,{"$f":"TEXT(SPP[[#This Row],[DATA]],\"mmmm\")","v":"junho"},{"$f":"YEAR(SPP[[#This Row],[DATA]])","v":2019}]
["14/06/2019","100","BILHETE UNICO MENSAL - CASCO",3488459,549880734.61000001,53002562.659999996,602883297.26999998,{"$f":"TEXT(SPP[[#This Row],[DATA]],\"mmmm\")","v":"junho"},{"$f":"YEAR(SPP[[#This Row],[DATA]])","v":2019}]
["14/06/2019","110","BUM - ANÔNIMO - CASCO",1226356,0,10965123.460000001,10965123.460000001,{"$f":"TEXT(SPP[[#This Row],[DATA]],\"mmmm\")","v":"junho"},{"$f":"YEAR(SPP[[#This Row],[DATA]])","v":2019}]
["15/06/2019","51","COMUM 4 VIAGENS",5,0,79.73,79.73,{"$f":"TEXT(SPP[[#This Row],[DATA]],\"mmmm\")","v":"junho"},{"$f":"YEAR(SPP[[#This Row],[DATA]])","v":2019}]
["15/06/2019","52","ESTUDANTE",48194,49093.760000000002,359476.76,408570.52,{"$f":"TEXT(SPP[[#This Row],[DATA]],\"mmmm\")","v":"junho"},{"$f":"YEAR(SPP[[#This Row],[DATA]])","v":2019}]
["15/06/2019","59","VT",3008522,235265345.11000001,23965549.260000002,259230894.37,{"$f":"TEXT(SPP[[#This Row],[DATA]],\"mmmm\")","v":"junho"},{"$f":"YEAR(SPP[[#This Row],[DATA]])","v":2019}]
["15/06/2019","68","ESTUDANTE 8VG",1,0,2.7,2.7,{"$f":"TEXT(SPP[[#This Row],[DATA]],\"mmmm\")","v":"junho"},{"$f":"YEAR(SPP[[#This Row],[DATA]])","v":2019}]
["15/06/2019","69","VT 8VG",903,0,18810.64,18810.64,{"$f":"TEXT(SPP[[#This Row],[DATA]],\"mmmm\")","v":"junho"},{"$f":"YEAR(SPP[[#This Row],[DATA]])","v":2019}]
["15/06/2019","71","MÃE PAULISTANA",89707,335328.5,623926.71,959255.21,{"$f":"TEXT(SPP[[#This Row],[DATA]],\"mmmm\")","v":"junho"},{"$f":"YEAR(SPP[[#This Row],[DATA]])","v":2019}]
["15/06/2019","74","PROFESSOR",18955,1141911.04,0,1141911.04,{"$f":"TEXT(SPP[[#This Row],[DATA]],\"mmmm\")","v":"junho"},{"$f":"YEAR(SPP[[#This Row],[DATA]])","v":2019}]
["15/06/2019","75","CARTAO FIDELIDADE",87331,0,7023009.4800000004,7023009.4800000004,{"$f":"TEXT(SPP[[#This Row],[DATA]],\"mmmm\")","v":"junho"},{"$f":"YEAR(SPP[[#This Row],[DATA]])","v":2019}]
["15/06/2019","76","Lazer",253,0,7915.37,7915.37,{"$f":"TEXT(SPP[[#This Row],[DATA]],\"mmmm\")","v":"junho"},{"$f":"YEAR(SPP[[#This Row],[DATA]])","v":2019}]
["15/06/2019","86","Estacionamento",9091,0,162309.32,162309.32,{"$f":"TEXT(SPP[[#This Row],[DATA]],\"mmmm\")","v":"junho"},{"$f":"YEAR(SPP[[#This Row],[DATA]])","v":2019}]
["15/06/2019","100","BILHETE UNICO MENSAL - CASCO",3492452,547279229.28999996,52561621.460000001,599840850.75,{"$f":"TEXT(SPP[[#This Row],[DATA]],\"mmmm\")","v":"junho"},{"$f":"YEAR(SPP[[#This Row],[DATA]])","v":2019}]
["15/06/2019","110","BUM - ANÔNIMO - CASCO",1226808,0,11007633.869999999,11007633.869999999,{"$f":"TEXT(SPP[[#This Row],[DATA]],\"mmmm\")","v":"junho"},{"$f":"YEAR(SPP[[#This Row],[DATA]])","v":2019}]
["16/06/2019","51","COMUM 4 VIAGENS",5,0,71.13,71.13,{"$f":"TEXT(SPP[[#This Row],[DATA]],\"mmmm\")","v":"junho"},{"$f":"YEAR(SPP[[#This Row],[DATA]])","v":2019}]
["16/06/2019","52","ESTUDANTE",48223,48393.73,353488.14,401881.87,{"$f":"TEXT(SPP[[#This Row],[DATA]],\"mmmm\")","v":"junho"},{"$f":"YEAR(SPP[[#This Row],[DATA]])","v":2019}]
["16/06/2019","59","VT",3008678,234751134.63999999,23452896.620000001,258204031.25999999,{"$f":"TEXT(SPP[[#This Row],[DATA]],\"mmmm\")","v":"junho"},{"$f":"YEAR(SPP[[#This Row],[DATA]])","v":2019}]
["16/06/2019","68","ESTUDANTE 8VG",1,0,2.7,2.7,{"$f":"TEXT(SPP[[#This Row],[DATA]],\"mmmm\")","v":"junho"},{"$f":"YEAR(SPP[[#This Row],[DATA]])","v":2019}]
["16/06/2019","69","VT 8VG",904,0,18571.830000000002,18571.830000000002,{"$f":"TEXT(SPP[[#This Row],[DATA]],\"mmmm\")","v":"junho"},{"$f":"YEAR(SPP[[#This Row],[DATA]])","v":2019}]
["16/06/2019","71","MÃE PAULISTANA",89671,331551.76,610240.24,941792,{"$f":"TEXT(SPP[[#This Row],[DATA]],\"mmmm\")","v":"junho"},{"$f":"YEAR(SPP[[#This Row],[DATA]])","v":2019}]
["16/06/2019","74","PROFESSOR",18968,1131649.21,0,1131649.21,{"$f":"TEXT(SPP[[#This Row],[DATA]],\"mmmm\")","v":"junho"},{"$f":"YEAR(SPP[[#This Row],[DATA]])","v":2019}]
["16/06/2019","75","CARTAO FIDELIDADE",87080,0,6974679.0700000003,6974679.0700000003,{"$f":"TEXT(SPP[[#This Row],[DATA]],\"mmmm\")","v":"junho"},{"$f":"YEAR(SPP[[#This Row],[DATA]])","v":2019}]
["16/06/2019","76","Lazer",257,0,8079.72,8079.72,{"$f":"TEXT(SPP[[#This Row],[DATA]],\"mmmm\")","v":"junho"},{"$f":"YEAR(SPP[[#This Row],[DATA]])","v":2019}]
["16/06/2019","86","Estacionamento",9098,0,159635.68,159635.68,{"$f":"TEXT(SPP[[#This Row],[DATA]],\"mmmm\")","v":"junho"},{"$f":"YEAR(SPP[[#This Row],[DATA]])","v":2019}]
["16/06/2019","100","BILHETE UNICO MENSAL - CASCO",3494075,545144571.87,51659302.32,596803874.19000006,{"$f":"TEXT(SPP[[#This Row],[DATA]],\"mmmm\")","v":"junho"},{"$f":"YEAR(SPP[[#This Row],[DATA]])","v":2019}]
["16/06/2019","110","BUM - ANÔNIMO - CASCO",1226764,0,10760182.23,10760182.23,{"$f":"TEXT(SPP[[#This Row],[DATA]],\"mmmm\")","v":"junho"},{"$f":"YEAR(SPP[[#This Row],[DATA]])","v":2019}]
["17/06/2019","51","COMUM 4 VIAGENS",5,0,66.83,66.83,{"$f":"TEXT(SPP[[#This Row],[DATA]],\"mmmm\")","v":"junho"},{"$f":"YEAR(SPP[[#This Row],[DATA]])","v":2019}]
["17/06/2019","52","ESTUDANTE",48364,48064.72,370627.26,418691.98,{"$f":"TEXT(SPP[[#This Row],[DATA]],\"mmmm\")","v":"junho"},{"$f":"YEAR(SPP[[#This Row],[DATA]])","v":2019}]
["17/06/2019","59","VT",3011641,234048426.09999999,24679403.129999999,258727829.22999999,{"$f":"TEXT(SPP[[#This Row],[DATA]],\"mmmm\")","v":"junho"},{"$f":"YEAR(SPP[[#This Row],[DATA]])","v":2019}]
["17/06/2019","68","ESTUDANTE 8VG",1,0,2.7,2.7,{"$f":"TEXT(SPP[[#This Row],[DATA]],\"mmmm\")","v":"junho"},{"$f":"YEAR(SPP[[#This Row],[DATA]])","v":2019}]
["17/06/2019","69","VT 8VG",904,0,19226.25,19226.25,{"$f":"TEXT(SPP[[#This Row],[DATA]],\"mmmm\")","v":"junho"},{"$f":"YEAR(SPP[[#This Row],[DATA]])","v":2019}]
["17/06/2019","71","MÃE PAULISTANA",89978,334017.45,638364.28,972381.73,{"$f":"TEXT(SPP[[#This Row],[DATA]],\"mmmm\")","v":"junho"},{"$f":"YEAR(SPP[[#This Row],[DATA]])","v":2019}]
["17/06/2019","74","PROFESSOR",19014,1155137.76,0,1155137.76,{"$f":"TEXT(SPP[[#This Row],[DATA]],\"mmmm\")","v":"junho"},{"$f":"YEAR(SPP[[#This Row],[DATA]])","v":2019}]
["17/06/2019","75","CARTAO FIDELIDADE",87834,0,7228210.29,7228210.29,{"$f":"TEXT(SPP[[#This Row],[DATA]],\"mmmm\")","v":"junho"},{"$f":"YEAR(SPP[[#This Row],[DATA]])","v":2019}]
["17/06/2019","76","Lazer",254,0,8020.72,8020.72,{"$f":"TEXT(SPP[[#This Row],[DATA]],\"mmmm\")","v":"junho"},{"$f":"YEAR(SPP[[#This Row],[DATA]])","v":2019}]
["17/06/2019","86","Estacionamento",9109,0,167678.22,167678.22,{"$f":"TEXT(SPP[[#This Row],[DATA]],\"mmmm\")","v":"junho"},{"$f":"YEAR(SPP[[#This Row],[DATA]])","v":2019}]
["17/06/2019","100","BILHETE UNICO MENSAL - CASCO",3500276,543614717.30999994,53744351.420000002,597359068.73000002,{"$f":"TEXT(SPP[[#This Row],[DATA]],\"mmmm\")","v":"junho"},{"$f":"YEAR(SPP[[#This Row],[DATA]])","v":2019}]
["17/06/2019","110","BUM - ANÔNIMO - CASCO",1228175,0,11373952.050000001,11373952.050000001,{"$f":"TEXT(SPP[[#This Row],[DATA]],\"mmmm\")","v":"junho"},{"$f":"YEAR(SPP[[#This Row],[DATA]])","v":2019}]
["18/06/2019","51","COMUM 4 VIAGENS",4,0,42.81,42.81,{"$f":"TEXT(SPP[[#This Row],[DATA]],\"mmmm\")","v":"junho"},{"$f":"YEAR(SPP[[#This Row],[DATA]])","v":2019}]
["18/06/2019","52","ESTUDANTE",48497,47836.14,372763.18,420599.32,{"$f":"TEXT(SPP[[#This Row],[DATA]],\"mmmm\")","v":"junho"},{"$f":"YEAR(SPP[[#This Row],[DATA]])","v":2019}]
["18/06/2019","59","VT",3013683,232859756.25999999,24656385.710000001,257516141.97,{"$f":"TEXT(SPP[[#This Row],[DATA]],\"mmmm\")","v":"junho"},{"$f":"YEAR(SPP[[#This Row],[DATA]])","v":2019}]
["18/06/2019","68","ESTUDANTE 8VG",1,0,2.7,2.7,{"$f":"TEXT(SPP[[#This Row],[DATA]],\"mmmm\")","v":"junho"},{"$f":"YEAR(SPP[[#This Row],[DATA]])","v":2019}]
["18/06/2019","69","VT 8VG",906,0,19459.38,19459.38,{"$f":"TEXT(SPP[[#This Row],[DATA]],\"mmmm\")","v":"junho"},{"$f":"YEAR(SPP[[#This Row],[DATA]])","v":2019}]
["18/06/2019","71","MÃE PAULISTANA",90252,335848.60000000003,637119.85,972968.45000000007,{"$f":"TEXT(SPP[[#This Row],[DATA]],\"mmmm\")","v":"junho"},{"$f":"YEAR(SPP[[#This Row],[DATA]])","v":2019}]
["18/06/2019","74","PROFESSOR",19051,1148467.74,0,1148467.74,{"$f":"TEXT(SPP[[#This Row],[DATA]],\"mmmm\")","v":"junho"},{"$f":"YEAR(SPP[[#This Row],[DATA]])","v":2019}]
["18/06/2019","75","CARTAO FIDELIDADE",87863,0,7186683.5300000003,7186683.5300000003,{"$f":"TEXT(SPP[[#This Row],[DATA]],\"mmmm\")","v":"junho"},{"$f":"YEAR(SPP[[#This Row],[DATA]])","v":2019}]
["18/06/2019","76","Lazer",255,0,8059.72,8059.72,{"$f":"TEXT(SPP[[#This Row],[DATA]],\"mmmm\")","v":"junho"},{"$f":"YEAR(SPP[[#This Row],[DATA]])","v":2019}]
["18/06/2019","86","Estacionamento",9129,0,166481.96,166481.96,{"$f":"TEXT(SPP[[#This Row],[DATA]],\"mmmm\")","v":"junho"},{"$f":"YEAR(SPP[[#This Row],[DATA]])","v":2019}]
["18/06/2019","100","BILHETE UNICO MENSAL - CASCO",3506277,540313011.24000001,53198952.479999997,593511963.72000003,{"$f":"TEXT(SPP[[#This Row],[DATA]],\"mmmm\")","v":"junho"},{"$f":"YEAR(SPP[[#This Row],[DATA]])","v":2019}]
["18/06/2019","110","BUM - ANÔNIMO - CASCO",1229282,0,11385741.050000001,11385741.050000001,{"$f":"TEXT(SPP[[#This Row],[DATA]],\"mmmm\")","v":"junho"},{"$f":"YEAR(SPP[[#This Row],[DATA]])","v":2019}]
["19/06/2019","51","COMUM 4 VIAGENS",4,0,64.09,64.09,{"$f":"TEXT(SPP[[#This Row],[DATA]],\"mmmm\")","v":"junho"},{"$f":"YEAR(SPP[[#This Row],[DATA]])","v":2019}]
["19/06/2019","52","ESTUDANTE",48608,47738.79,366962.32,414701.11,{"$f":"TEXT(SPP[[#This Row],[DATA]],\"mmmm\")","v":"junho"},{"$f":"YEAR(SPP[[#This Row],[DATA]])","v":2019}]
["19/06/2019","59","VT",3015429,231337184.13999999,24244692.629999999,255581876.77000001,{"$f":"TEXT(SPP[[#This Row],[DATA]],\"mmmm\")","v":"junho"},{"$f":"YEAR(SPP[[#This Row],[DATA]])","v":2019}]
["19/06/2019","68","ESTUDANTE 8VG",1,0,2.7,2.7,{"$f":"TEXT(SPP[[#This Row],[DATA]],\"mmmm\")","v":"junho"},{"$f":"YEAR(SPP[[#This Row],[DATA]])","v":2019}]
["19/06/2019","69","VT 8VG",904,0,19946.2,19946.2,{"$f":"TEXT(SPP[[#This Row],[DATA]],\"mmmm\")","v":"junho"},{"$f":"YEAR(SPP[[#This Row],[DATA]])","v":2019}]
["19/06/2019","71","MÃE PAULISTANA",90416,334112.98,621676.64,955789.62,{"$f":"TEXT(SPP[[#This Row],[DATA]],\"mmmm\")","v":"junho"},{"$f":"YEAR(SPP[[#This Row],[DATA]])","v":2019}]
["19/06/2019","74","PROFESSOR",19095,1138536.18,0,1138536.18,{"$f":"TEXT(SPP[[#This Row],[DATA]],\"mmmm\")","v":"junho"},{"$f":"YEAR(SPP[[#This Row],[DATA]])","v":2019}]
["19/06/2019","75","CARTAO FIDELIDADE",87916,0,7122739.6299999999,7122739.6299999999,{"$f":"TEXT(SPP[[#This Row],[DATA]],\"mmmm\")","v":"junho"},{"$f":"YEAR(SPP[[#This Row],[DATA]])","v":2019}]
["20/06/2019","71","MÃE PAULISTANA",90411,331218.92,592850.29,924069.21,{"$f":"TEXT(SPP[[#This Row],[DATA]],\"mmmm\")","v":"junho"},{"$f":"YEAR(SPP[[#This Row],[DATA]])","v":2019}]
["21/06/2019","74","PROFESSOR",19128,1118349.0900000001,0,1118349.0900000001,{"$f":"TEXT(SPP[[#This Row],[DATA]],\"mmmm\")","v":"junho"},{"$f":"YEAR(SPP[[#This Row],[DATA]])","v":2019}]
["22/06/2019","68","ESTUDANTE 8VG",1,0,2.7,2.7,{"$f":"TEXT(SPP[[#This Row],[DATA]],\"mmmm\")","v":"junho"},{"$f":"YEAR(SPP[[#This Row],[DATA]])","v":2019}]
["23/06/2019","69","VT 8VG",904,0,18971.78,18971.78,{"$f":"TEXT(SPP[[#This Row],[DATA]],\"mmmm\")","v":"junho"},{"$f":"YEAR(SPP[[#This Row],[DATA]])","v":2019}]
["24/06/2019","59","VT",3023206,227853249.24000001,24359124.690000001,252212373.93000001,{"$f":"TEXT(SPP[[#This Row],[DATA]],\"mmmm\")","v":"junho"},{"$f":"YEAR(SPP[[#This Row],[DATA]])","v":2019}]
["24/06/2019","110","BUM - ANÔNIMO - CASCO",1233313,0,11222133.220000001,11222133.220000001,{"$f":"TEXT(SPP[[#This Row],[DATA]],\"mmmm\")","v":"junho"},{"$f":"YEAR(SPP[[#This Row],[DATA]])","v":2019}]
["26/06/2019","51","COMUM 4 VIAGENS",5,0,56.57,56.57,{"$f":"TEXT(SPP[[#This Row],[DATA]],\"mmmm\")","v":"junho"},{"$f":"YEAR(SPP[[#This Row],[DATA]])","v":2019}]
["27/06/2019","68","ESTUDANTE 8VG",1,0,2.7,2.7,{"$f":"TEXT(SPP[[#This Row],[DATA]],\"mmmm\")","v":"junho"},{"$f":"YEAR(SPP[[#This Row],[DATA]])","v":2019}]
["27/06/2019","110","BUM - ANÔNIMO - CASCO",1236584,0,10973045.18,10973045.18,{"$f":"TEXT(SPP[[#This Row],[DATA]],\"mmmm\")","v":"junho"},{"$f":"YEAR(SPP[[#This Row],[DATA]])","v":2019}]
["29/06/2019","76","Lazer",262,0,8336.52,8336.52,{"$f":"TEXT(SPP[[#This Row],[DATA]],\"mmmm\")","v":"junho"},{"$f":"YEAR(SPP[[#This Row],[DATA]])","v":2019}]
["30/06/2019","71","MÃE PAULISTANA",92089,353355.85000000003,586220.67000000004,939576.52,{"$f":"TEXT(SPP[[#This Row],[DATA]],\"mmmm\")","v":"junho"},{"$f":"YEAR(SPP[[#This Row],[DATA]])","v":2019}]
["30/06/2019","100","BILHETE UNICO MENSAL - CASCO",3559312,574246471.85000002,48433997.219999999,622680469.07000005,{"$f":"TEXT(SPP[[#This Row],[DATA]],\"mmmm\")","v":"junho"},{"$f":"YEAR(SPP[[#This Row],[DATA]])","v":2019}]
["02/07/2019","69","VT 8VG",899,0,19587.830000000002,19587.830000000002,{"$f":"TEXT(SPP[[#This Row],[DATA]],\"mmmm\")","v":"julho"},{"$f":"YEAR(SPP[[#This Row],[DATA]])","v":2019}]
["03/07/2019","52","ESTUDANTE",49833,48718,368363.38,417081.38,{"$f":"TEXT(SPP[[#This Row],[DATA]],\"mmmm\")","v":"julho"},{"$f":"YEAR(SPP[[#This Row],[DATA]])","v":2019}]
["04/07/2019","59","VT",3043956,238658409.43000001,23486686.91,262145096.34,{"$f":"TEXT(SPP[[#This Row],[DATA]],\"mmmm\")","v":"julho"},{"$f":"YEAR(SPP[[#This Row],[DATA]])","v":2019}]
["05/07/2019","100","BILHETE UNICO MENSAL - CASCO",3591120,606786333.51999998,56182389.609999999,662968723.13,{"$f":"TEXT(SPP[[#This Row],[DATA]],\"mmmm\")","v":"julho"},{"$f":"YEAR(SPP[[#This Row],[DATA]])","v":2019}]
["06/07/2019","52","ESTUDANTE",50065,48280.24,362849.31,411129.55,{"$f":"TEXT(SPP[[#This Row],[DATA]],\"mmmm\")","v":"julho"},{"$f":"YEAR(SPP[[#This Row],[DATA]])","v":2019}]
["07/07/2019","100","BILHETE UNICO MENSAL - CASCO",3598562,606626741.04999995,55018734.240000002,661645475.28999996,{"$f":"TEXT(SPP[[#This Row],[DATA]],\"mmmm\")","v":"julho"},{"$f":"YEAR(SPP[[#This Row],[DATA]])","v":2019}]
["08/07/2019","75","CARTAO FIDELIDADE",89302,0,7125185.9199999999,7125185.9199999999,{"$f":"TEXT(SPP[[#This Row],[DATA]],\"mmmm\")","v":"julho"},{"$f":"YEAR(SPP[[#This Row],[DATA]])","v":2019}]
["09/07/2019","71","MÃE PAULISTANA",93446,361366.78,662183.71,1023550.49,{"$f":"TEXT(SPP[[#This Row],[DATA]],\"mmmm\")","v":"julho"},{"$f":"YEAR(SPP[[#This Row],[DATA]])","v":2019}]
["10/07/2019","74","PROFESSOR",19467,1109283.82,0,1109283.82,{"$f":"TEXT(SPP[[#This Row],[DATA]],\"mmmm\")","v":"julho"},{"$f":"YEAR(SPP[[#This Row],[DATA]])","v":2019}]
["11/07/2019","75","CARTAO FIDELIDADE",90159,0,7334508.1900000004,7334508.1900000004,{"$f":"TEXT(SPP[[#This Row],[DATA]],\"mmmm\")","v":"julho"},{"$f":"YEAR(SPP[[#This Row],[DATA]])","v":2019}]
["12/07/2019","69","VT 8VG",906,0,20501.830000000002,20501.830000000002,{"$f":"TEXT(SPP[[#This Row],[DATA]],\"mmmm\")","v":"julho"},{"$f":"YEAR(SPP[[#This Row],[DATA]])","v":2019}]
["13/07/2019","69","VT 8VG",909,0,20003.3,20003.3,{"$f":"TEXT(SPP[[#This Row],[DATA]],\"mmmm\")","v":"julho"},{"$f":"YEAR(SPP[[#This Row],[DATA]])","v":2019}]
["14/07/2019","68","ESTUDANTE 8VG",1,0,2.7,2.7,{"$f":"TEXT(SPP[[#This Row],[DATA]],\"mmmm\")","v":"julho"},{"$f":"YEAR(SPP[[#This Row],[DATA]])","v":2019}]
["16/07/2019","51","COMUM 4 VIAGENS",4,0,19.11,19.11,{"$f":"TEXT(SPP[[#This Row],[DATA]],\"mmmm\")","v":"julho"},{"$f":"YEAR(SPP[[#This Row],[DATA]])","v":2019}]
["16/07/2019","86","Estacionamento",9364,0,161448.32000000001,161448.32000000001,{"$f":"TEXT(SPP[[#This Row],[DATA]],\"mmmm\")","v":"julho"},{"$f":"YEAR(SPP[[#This Row],[DATA]])","v":2019}]
["18/07/2019","51","COMUM 4 VIAGENS",5,0,66.790000000000006,66.790000000000006,{"$f":"TEXT(SPP[[#This Row],[DATA]],\"mmmm\")","v":"julho"},{"$f":"YEAR(SPP[[#This Row],[DATA]])","v":2019}]
["18/07/2019","76","Lazer",289,0,8702.77,8702.77,{"$f":"TEXT(SPP[[#This Row],[DATA]],\"mmmm\")","v":"julho"},{"$f":"YEAR(SPP[[#This Row],[DATA]])","v":2019}]
["19/07/2019","86","Estacionamento",9390,0,157827.6,157827.6,{"$f":"TEXT(SPP[[#This Row],[DATA]],\"mmmm\")","v":"julho"},{"$f":"YEAR(SPP[[#This Row],[DATA]])","v":2019}]
["20/07/2019","74","PROFESSOR",19562,1065745.68,0,1065745.68,{"$f":"TEXT(SPP[[#This Row],[DATA]],\"mmmm\")","v":"julho"},{"$f":"YEAR(SPP[[#This Row],[DATA]])","v":2019}]
["21/07/2019","110","BUM - ANÔNIMO - CASCO",1259531,0,10688600.15,10688600.15,{"$f":"TEXT(SPP[[#This Row],[DATA]],\"mmmm\")","v":"julho"},{"$f":"YEAR(SPP[[#This Row],[DATA]])","v":2019}]
["22/07/2019","71","MÃE PAULISTANA",95862,350592.51,668019.81000000006,1018612.32,{"$f":"TEXT(SPP[[#This Row],[DATA]],\"mmmm\")","v":"julho"},{"$f":"YEAR(SPP[[#This Row],[DATA]])","v":2019}]
["24/07/2019","59","VT",3084369,222098082.46000001,24175807.550000001,246273890.00999999,{"$f":"TEXT(SPP[[#This Row],[DATA]],\"mmmm\")","v":"julho"},{"$f":"YEAR(SPP[[#This Row],[DATA]])","v":2019}]
["24/07/2019","110","BUM - ANÔNIMO - CASCO",1263701,0,11385991.83,11385991.83,{"$f":"TEXT(SPP[[#This Row],[DATA]],\"mmmm\")","v":"julho"},{"$f":"YEAR(SPP[[#This Row],[DATA]])","v":2019}]
["25/07/2019","74","PROFESSOR",19648,1047445.06,0,1047445.06,{"$f":"TEXT(SPP[[#This Row],[DATA]],\"mmmm\")","v":"julho"},{"$f":"YEAR(SPP[[#This Row],[DATA]])","v":2019}]
["26/07/2019","100","BILHETE UNICO MENSAL - CASCO",3701127,567945639.69000006,53065246.509999998,621010886.20000005,{"$f":"TEXT(SPP[[#This Row],[DATA]],\"mmmm\")","v":"julho"},{"$f":"YEAR(SPP[[#This Row],[DATA]])","v":2019}]
["27/07/2019","110","BUM - ANÔNIMO - CASCO",1265970,0,10884073.84,10884073.84,{"$f":"TEXT(SPP[[#This Row],[DATA]],\"mmmm\")","v":"julho"},{"$f":"YEAR(SPP[[#This Row],[DATA]])","v":2019}]
["28/07/2019","76","Lazer",308,0,9417.27,9417.27,{"$f":"TEXT(SPP[[#This Row],[DATA]],\"mmmm\")","v":"julho"},{"$f":"YEAR(SPP[[#This Row],[DATA]])","v":2019}]
["29/07/2019","71","MÃE PAULISTANA",97259,371927.26,639438.38,1011365.64,{"$f":"TEXT(SPP[[#This Row],[DATA]],\"mmmm\")","v":"julho"},{"$f":"YEAR(SPP[[#This Row],[DATA]])","v":2019}]
["30/07/2019","75","CARTAO FIDELIDADE",92526,0,7504203.1399999997,7504203.1399999997,{"$f":"TEXT(SPP[[#This Row],[DATA]],\"mmmm\")","v":"julho"},{"$f":"YEAR(SPP[[#This Row],[DATA]])","v":2019}]
["01/08/2019","69","VT 8VG",920,0,18127.310000000001,18127.310000000001,{"$f":"TEXT(SPP[[#This Row],[DATA]],\"mmmm\")","v":"agosto"},{"$f":"YEAR(SPP[[#This Row],[DATA]])","v":2019}]
["02/08/2019","71","MÃE PAULISTANA",98203,391390.53,684637.53,1076028.06,{"$f":"TEXT(SPP[[#This Row],[DATA]],\"mmmm\")","v":"agosto"},{"$f":"YEAR(SPP[[#This Row],[DATA]])","v":2019}]
["03/08/2019","52","ESTUDANTE",52558,43452.55,385463.64,428916.19,{"$f":"TEXT(SPP[[#This Row],[DATA]],\"mmmm\")","v":"agosto"},{"$f":"YEAR(SPP[[#This Row],[DATA]])","v":2019}]
["04/08/2019","51","COMUM 4 VIAGENS",6,1.03,99.29,100.32000000000001,{"$f":"TEXT(SPP[[#This Row],[DATA]],\"mmmm\")","v":"agosto"},{"$f":"YEAR(SPP[[#This Row],[DATA]])","v":2019}]
["05/08/2019","52","ESTUDANTE",52682,43486.61,388210.18,431696.79000000004,{"$f":"TEXT(SPP[[#This Row],[DATA]],\"mmmm\")","v":"agosto"},{"$f":"YEAR(SPP[[#This Row],[DATA]])","v":2019}]
["05/08/2019","100","BILHETE UNICO MENSAL - CASCO",3752379,641432447.13,60893357.189999998,702325804.32000005,{"$f":"TEXT(SPP[[#This Row],[DATA]],\"mmmm\")","v":"agosto"},{"$f":"YEAR(SPP[[#This Row],[DATA]])","v":2019}]
["07/08/2019","51","COMUM 4 VIAGENS",7,1.03,86.65,87.68,{"$f":"TEXT(SPP[[#This Row],[DATA]],\"mmmm\")","v":"agosto"},{"$f":"YEAR(SPP[[#This Row],[DATA]])","v":2019}]
["07/08/2019","86","Estacionamento",9548,0,165718.24,165718.24,{"$f":"TEXT(SPP[[#This Row],[DATA]],\"mmmm\")","v":"agosto"},{"$f":"YEAR(SPP[[#This Row],[DATA]])","v":2019}]
["09/08/2019","74","PROFESSOR",20134,1203463.8999999999,0,1203463.8999999999,{"$f":"TEXT(SPP[[#This Row],[DATA]],\"mmmm\")","v":"agosto"},{"$f":"YEAR(SPP[[#This Row],[DATA]])","v":2019}]
["10/08/2019","75","CARTAO FIDELIDADE",92918,0,7287086.8300000001,7287086.8300000001,{"$f":"TEXT(SPP[[#This Row],[DATA]],\"mmmm\")","v":"agosto"},{"$f":"YEAR(SPP[[#This Row],[DATA]])","v":2019}]
["11/08/2019","76","Lazer",319,0,9453.92,9453.92,{"$f":"TEXT(SPP[[#This Row],[DATA]],\"mmmm\")","v":"agosto"},{"$f":"YEAR(SPP[[#This Row],[DATA]])","v":2019}]
["12/08/2019","59","VT",3114466,225151580.52000001,23892634.280000001,249044214.80000001,{"$f":"TEXT(SPP[[#This Row],[DATA]],\"mmmm\")","v":"agosto"},{"$f":"YEAR(SPP[[#This Row],[DATA]])","v":2019}]
["13/08/2019","68","ESTUDANTE 8VG",1,0,2.7,2.7,{"$f":"TEXT(SPP[[#This Row],[DATA]],\"mmmm\")","v":"agosto"},{"$f":"YEAR(SPP[[#This Row],[DATA]])","v":2019}]
["14/08/2019","51","COMUM 4 VIAGENS",6,1.03,76.91,77.94,{"$f":"TEXT(SPP[[#This Row],[DATA]],\"mmmm\")","v":"agosto"},{"$f":"YEAR(SPP[[#This Row],[DATA]])","v":2019}]
["15/08/2019","68","ESTUDANTE 8VG",1,0,2.7,2.7,{"$f":"TEXT(SPP[[#This Row],[DATA]],\"mmmm\")","v":"agosto"},{"$f":"YEAR(SPP[[#This Row],[DATA]])","v":2019}]
["15/08/2019","110","BUM - ANÔNIMO - CASCO",1281397,0,11336189.369999999,11336189.369999999,{"$f":"TEXT(SPP[[#This Row],[DATA]],\"mmmm\")","v":"agosto"},{"$f":"YEAR(SPP[[#This Row],[DATA]])","v":2019}]
["17/08/2019","76","Lazer",315,0,9190.92,9190.92,{"$f":"TEXT(SPP[[#This Row],[DATA]],\"mmmm\")","v":"agosto"},{"$f":"YEAR(SPP[[#This Row],[DATA]])","v":2019}]
["18/08/2019","86","Estacionamento",9656,0,153090.35,153090.35,{"$f":"TEXT(SPP[[#This Row],[DATA]],\"mmmm\")","v":"agosto"},{"$f":"YEAR(SPP[[#This Row],[DATA]])","v":2019}]
["19/08/2019","59","VT",3123278,216116731.68000001,23581281.649999999,239698013.33000001,{"$f":"TEXT(SPP[[#This Row],[DATA]],\"mmmm\")","v":"agosto"},{"$f":"YEAR(SPP[[#This Row],[DATA]])","v":2019}]
["20/08/2019","69","VT 8VG",929,0,17897.64,17897.64,{"$f":"TEXT(SPP[[#This Row],[DATA]],\"mmmm\")","v":"agosto"},{"$f":"YEAR(SPP[[#This Row],[DATA]])","v":2019}]
["21/08/2019","71","MÃE PAULISTANA",101448,371724.91000000003,710118.45000000007,1081843.3600000001,{"$f":"TEXT(SPP[[#This Row],[DATA]],\"mmmm\")","v":"agosto"},{"$f":"YEAR(SPP[[#This Row],[DATA]])","v":2019}]
["22/08/2019","59","VT",3127219,211244486.40000001,24093042.199999999,235337528.59999999,{"$f":"TEXT(SPP[[#This Row],[DATA]],\"mmmm\")","v":"agosto"},{"$f":"YEAR(SPP[[#This Row],[DATA]])","v":2019}]
["23/08/2019","100","BILHETE UNICO MENSAL - CASCO",3849342,592454064.97000003,60420500.189999998,652874565.15999997,{"$f":"TEXT(SPP[[#This Row],[DATA]],\"mmmm\")","v":"agosto"},{"$f":"YEAR(SPP[[#This Row],[DATA]])","v":2019}]
["24/08/2019","52","ESTUDANTE",54159,41931.090000000004,391085.05,433016.14,{"$f":"TEXT(SPP[[#This Row],[DATA]],\"mmmm\")","v":"agosto"},{"$f":"YEAR(SPP[[#This Row],[DATA]])","v":2019}]
["25/08/2019","100","BILHETE UNICO MENSAL - CASCO",3855343,586870491.52999997,58196384.859999999,645066876.38999999,{"$f":"TEXT(SPP[[#This Row],[DATA]],\"mmmm\")","v":"agosto"},{"$f":"YEAR(SPP[[#This Row],[DATA]])","v":2019}]
["26/08/2019","110","BUM - ANÔNIMO - CASCO",1289519,0,12168352.880000001,12168352.880000001,{"$f":"TEXT(SPP[[#This Row],[DATA]],\"mmmm\")","v":"agosto"},{"$f":"YEAR(SPP[[#This Row],[DATA]])","v":2019}]
["27/08/2019","86","Estacionamento",9722,0,165085.87,165085.87,{"$f":"TEXT(SPP[[#This Row],[DATA]],\"mmmm\")","v":"agosto"},{"$f":"YEAR(SPP[[#This Row],[DATA]])","v":2019}]
["28/08/2019","74","PROFESSOR",20681,1136784.8,0,1136784.8,{"$f":"TEXT(SPP[[#This Row],[DATA]],\"mmmm\")","v":"agosto"},{"$f":"YEAR(SPP[[#This Row],[DATA]])","v":2019}]
["29/08/2019","75","CARTAO FIDELIDADE",96371,0,7833951.9100000001,7833951.9100000001,{"$f":"TEXT(SPP[[#This Row],[DATA]],\"mmmm\")","v":"agosto"},{"$f":"YEAR(SPP[[#This Row],[DATA]])","v":2019}]
["30/08/2019","69","VT 8VG",939,0,20154.650000000001,20154.650000000001,{"$f":"TEXT(SPP[[#This Row],[DATA]],\"mmmm\")","v":"agosto"},{"$f":"YEAR(SPP[[#This Row],[DATA]])","v":2019}]
["31/08/2019","69","VT 8VG",939,0,19791.57,19791.57,{"$f":"TEXT(SPP[[#This Row],[DATA]],\"mmmm\")","v":"agosto"},{"$f":"YEAR(SPP[[#This Row],[DATA]])","v":2019}]
["01/09/2019","68","ESTUDANTE 8VG",1,0,2.7,2.7,{"$f":"TEXT(SPP[[#This Row],[DATA]],\"mmmm\")","v":"setembro"},{"$f":"YEAR(SPP[[#This Row],[DATA]])","v":2019}]
["04/09/2019","51","COMUM 4 VIAGENS",7,1.03,75.91,76.94,{"$f":"TEXT(SPP[[#This Row],[DATA]],\"mmmm\")","v":"setembro"},{"$f":"YEAR(SPP[[#This Row],[DATA]])","v":2019}]
["05/09/2019","52","ESTUDANTE",54938,41432.6,379308.51,420741.11,{"$f":"TEXT(SPP[[#This Row],[DATA]],\"mmmm\")","v":"setembro"},{"$f":"YEAR(SPP[[#This Row],[DATA]])","v":2019}]
["05/09/2019","68","ESTUDANTE 8VG",1,0,2.7,2.7,{"$f":"TEXT(SPP[[#This Row],[DATA]],\"mmmm\")","v":"setembro"},{"$f":"YEAR(SPP[[#This Row],[DATA]])","v":2019}]
["07/09/2019","51","COMUM 4 VIAGENS",7,1.03,72.31,73.34,{"$f":"TEXT(SPP[[#This Row],[DATA]],\"mmmm\")","v":"setembro"},{"$f":"YEAR(SPP[[#This Row],[DATA]])","v":2019}]
["07/09/2019","86","Estacionamento",9803,0,152128.30000000002,152128.30000000002,{"$f":"TEXT(SPP[[#This Row],[DATA]],\"mmmm\")","v":"setembro"},{"$f":"YEAR(SPP[[#This Row],[DATA]])","v":2019}]
["08/09/2019","74","PROFESSOR",20989,1197202.1200000001,0,1197202.1200000001,{"$f":"TEXT(SPP[[#This Row],[DATA]],\"mmmm\")","v":"setembro"},{"$f":"YEAR(SPP[[#This Row],[DATA]])","v":2019}]
["09/09/2019","110","BUM - ANÔNIMO - CASCO",1296662,0,10977504.789999999,10977504.789999999,{"$f":"TEXT(SPP[[#This Row],[DATA]],\"mmmm\")","v":"setembro"},{"$f":"YEAR(SPP[[#This Row],[DATA]])","v":2019}]
["10/09/2019","71","MÃE PAULISTANA",104603,394786.38,768893.48,1163679.8600000001,{"$f":"TEXT(SPP[[#This Row],[DATA]],\"mmmm\")","v":"setembro"},{"$f":"YEAR(SPP[[#This Row],[DATA]])","v":2019}]
["12/09/2019","59","VT",3146330,203083574.87,22915538.489999998,225999113.36000001,{"$f":"TEXT(SPP[[#This Row],[DATA]],\"mmmm\")","v":"setembro"},{"$f":"YEAR(SPP[[#This Row],[DATA]])","v":2019}]
["13/09/2019","68","ESTUDANTE 8VG",1,0,2.7,2.7,{"$f":"TEXT(SPP[[#This Row],[DATA]],\"mmmm\")","v":"setembro"},{"$f":"YEAR(SPP[[#This Row],[DATA]])","v":2019}]
["13/09/2019","100","BILHETE UNICO MENSAL - CASCO",3979194,633412013.76999998,65512649.439999998,698924663.21000004,{"$f":"TEXT(SPP[[#This Row],[DATA]],\"mmmm\")","v":"setembro"},{"$f":"YEAR(SPP[[#This Row],[DATA]])","v":2019}]
["15/09/2019","59","VT",3146898,198522573.19999999,21481721.969999999,220004295.16999999,{"$f":"TEXT(SPP[[#This Row],[DATA]],\"mmmm\")","v":"setembro"},{"$f":"YEAR(SPP[[#This Row],[DATA]])","v":2019}]
["15/09/2019","110","BUM - ANÔNIMO - CASCO",1299490,0,10185825.390000001,10185825.390000001,{"$f":"TEXT(SPP[[#This Row],[DATA]],\"mmmm\")","v":"setembro"},{"$f":"YEAR(SPP[[#This Row],[DATA]])","v":2019}]
["16/09/2019","76","Lazer",341,0,10198.84,10198.84,{"$f":"TEXT(SPP[[#This Row],[DATA]],\"mmmm\")","v":"setembro"},{"$f":"YEAR(SPP[[#This Row],[DATA]])","v":2019}]
["17/09/2019","71","MÃE PAULISTANA",105832,390403,753187.39,1143590.3899999999,{"$f":"TEXT(SPP[[#This Row],[DATA]],\"mmmm\")","v":"setembro"},{"$f":"YEAR(SPP[[#This Row],[DATA]])","v":2019}]
["18/09/2019","75","CARTAO FIDELIDADE",98066,0,7627248.9800000004,7627248.9800000004,{"$f":"TEXT(SPP[[#This Row],[DATA]],\"mmmm\")","v":"setembro"},{"$f":"YEAR(SPP[[#This Row],[DATA]])","v":2019}]
["20/09/2019","69","VT 8VG",940,0,16246.66,16246.66,{"$f":"TEXT(SPP[[#This Row],[DATA]],\"mmmm\")","v":"setembro"},{"$f":"YEAR(SPP[[#This Row],[DATA]])","v":2019}]
["21/09/2019","71","MÃE PAULISTANA",106454,381625.55,710032.26,1091657.81,{"$f":"TEXT(SPP[[#This Row],[DATA]],\"mmmm\")","v":"setembro"},{"$f":"YEAR(SPP[[#This Row],[DATA]])","v":2019}]
["22/09/2019","71","MÃE PAULISTANA",106406,376974.13,687213.37,1064187.5,{"$f":"TEXT(SPP[[#This Row],[DATA]],\"mmmm\")","v":"setembro"},{"$f":"YEAR(SPP[[#This Row],[DATA]])","v":2019}]
["23/09/2019","69","VT 8VG",938,0,16393.48,16393.48,{"$f":"TEXT(SPP[[#This Row],[DATA]],\"mmmm\")","v":"setembro"},{"$f":"YEAR(SPP[[#This Row],[DATA]])","v":2019}]
["24/09/2019","52","ESTUDANTE",56127,41233,384158.23,425391.23,{"$f":"TEXT(SPP[[#This Row],[DATA]],\"mmmm\")","v":"setembro"},{"$f":"YEAR(SPP[[#This Row],[DATA]])","v":2019}]
["24/09/2019","100","BILHETE UNICO MENSAL - CASCO",4047232,594857329.00999999,63106580.640000001,657963909.64999998,{"$f":"TEXT(SPP[[#This Row],[DATA]],\"mmmm\")","v":"setembro"},{"$f":"YEAR(SPP[[#This Row],[DATA]])","v":2019}]
["26/09/2019","51","COMUM 4 VIAGENS",7,1.03,126.33,127.36,{"$f":"TEXT(SPP[[#This Row],[DATA]],\"mmmm\")","v":"setembro"},{"$f":"YEAR(SPP[[#This Row],[DATA]])","v":2019}]
["26/09/2019","86","Estacionamento",9930,0,155823.66,155823.66,{"$f":"TEXT(SPP[[#This Row],[DATA]],\"mmmm\")","v":"setembro"},{"$f":"YEAR(SPP[[#This Row],[DATA]])","v":2019}]
["27/09/2019","100","BILHETE UNICO MENSAL - CASCO",4077734,614738171.54999995,61941850.509999998,676680022.05999994,{"$f":"TEXT(SPP[[#This Row],[DATA]],\"mmmm\")","v":"setembro"},{"$f":"YEAR(SPP[[#This Row],[DATA]])","v":2019}]
["29/09/2019","75","CARTAO FIDELIDADE",99308,0,7646512.1399999997,7646512.1399999997,{"$f":"TEXT(SPP[[#This Row],[DATA]],\"mmmm\")","v":"setembro"},{"$f":"YEAR(SPP[[#This Row],[DATA]])","v":2019}]
["29/09/2019","110","BUM - ANÔNIMO - CASCO",1306675,0,10455166.99,10455166.99,{"$f":"TEXT(SPP[[#This Row],[DATA]],\"mmmm\")","v":"setembro"},{"$f":"YEAR(SPP[[#This Row],[DATA]])","v":2019}]
["01/10/2019","74","PROFESSOR",21433,1222896.77,0,1222896.77,{"$f":"TEXT(SPP[[#This Row],[DATA]],\"mmmm\")","v":"outubro"},{"$f":"YEAR(SPP[[#This Row],[DATA]])","v":2019}]
["02/10/2019","68","ESTUDANTE 8VG",1,0,2.7,2.7,{"$f":"TEXT(SPP[[#This Row],[DATA]],\"mmmm\")","v":"outubro"},{"$f":"YEAR(SPP[[#This Row],[DATA]])","v":2019}]
["03/10/2019","51","COMUM 4 VIAGENS",8,1.03,136.35,137.38,{"$f":"TEXT(SPP[[#This Row],[DATA]],\"mmmm\")","v":"outubro"},{"$f":"YEAR(SPP[[#This Row],[DATA]])","v":2019}]
["04/10/2019","75","CARTAO FIDELIDADE",99579,0,7660771.9900000002,7660771.9900000002,{"$f":"TEXT(SPP[[#This Row],[DATA]],\"mmmm\")","v":"outubro"},{"$f":"YEAR(SPP[[#This Row],[DATA]])","v":2019}]
["04/10/2019","110","BUM - ANÔNIMO - CASCO",1304274,0,9239749.5500000007,9239749.5500000007,{"$f":"TEXT(SPP[[#This Row],[DATA]],\"mmmm\")","v":"outubro"},{"$f":"YEAR(SPP[[#This Row],[DATA]])","v":2019}]
["06/10/2019","51","COMUM 4 VIAGENS",7,1.03,91.850000000000009,92.88,{"$f":"TEXT(SPP[[#This Row],[DATA]],\"mmmm\")","v":"outubro"},{"$f":"YEAR(SPP[[#This Row],[DATA]])","v":2019}]
["07/10/2019","86","Estacionamento",9741,0,128134.92,128134.92,{"$f":"TEXT(SPP[[#This Row],[DATA]],\"mmmm\")","v":"outubro"},{"$f":"YEAR(SPP[[#This Row],[DATA]])","v":2019}]
["08/10/2019","74","PROFESSOR",21619,1266226.3500000001,0,1266226.3500000001,{"$f":"TEXT(SPP[[#This Row],[DATA]],\"mmmm\")","v":"outubro"},{"$f":"YEAR(SPP[[#This Row],[DATA]])","v":2019}]
["09/10/2019","76","Lazer",351,0,10584.54,10584.54,{"$f":"TEXT(SPP[[#This Row],[DATA]],\"mmmm\")","v":"outubro"},{"$f":"YEAR(SPP[[#This Row],[DATA]])","v":2019}]
["10/10/2019","71","MÃE PAULISTANA",109902,410122.78,758042.81,1168165.5900000001,{"$f":"TEXT(SPP[[#This Row],[DATA]],\"mmmm\")","v":"outubro"},{"$f":"YEAR(SPP[[#This Row],[DATA]])","v":2019}]
["11/10/2019","74","PROFESSOR",21719,1277472.1399999999,0,1277472.1399999999,{"$f":"TEXT(SPP[[#This Row],[DATA]],\"mmmm\")","v":"outubro"},{"$f":"YEAR(SPP[[#This Row],[DATA]])","v":2019}]
["12/10/2019","52","ESTUDANTE",57154,42993.020000000004,348599.09,391592.11,{"$f":"TEXT(SPP[[#This Row],[DATA]],\"mmmm\")","v":"outubro"},{"$f":"YEAR(SPP[[#This Row],[DATA]])","v":2019}]
["13/10/2019","52","ESTUDANTE",57170,43286.04,345076.96,388363,{"$f":"TEXT(SPP[[#This Row],[DATA]],\"mmmm\")","v":"outubro"},{"$f":"YEAR(SPP[[#This Row],[DATA]])","v":2019}]
["14/10/2019","59","VT",3147100,182598789.56999999,19072267.809999999,201671057.38,{"$f":"TEXT(SPP[[#This Row],[DATA]],\"mmmm\")","v":"outubro"},{"$f":"YEAR(SPP[[#This Row],[DATA]])","v":2019}]
["15/10/2019","110","BUM - ANÔNIMO - CASCO",1306781,0,9323044.0500000007,9323044.0500000007,{"$f":"TEXT(SPP[[#This Row],[DATA]],\"mmmm\")","v":"outubro"},{"$f":"YEAR(SPP[[#This Row],[DATA]])","v":2019}]
["16/10/2019","51","COMUM 4 VIAGENS",8,1.03,167.97,169,{"$f":"TEXT(SPP[[#This Row],[DATA]],\"mmmm\")","v":"outubro"},{"$f":"YEAR(SPP[[#This Row],[DATA]])","v":2019}]
["17/10/2019","100","BILHETE UNICO MENSAL - CASCO",4275158,642762580.32000005,69050385.609999999,711812965.92999995,{"$f":"TEXT(SPP[[#This Row],[DATA]],\"mmmm\")","v":"outubro"},{"$f":"YEAR(SPP[[#This Row],[DATA]])","v":2019}]
["18/10/2019","75","CARTAO FIDELIDADE",101544,0,7720917.4500000002,7720917.4500000002,{"$f":"TEXT(SPP[[#This Row],[DATA]],\"mmmm\")","v":"outubro"},{"$f":"YEAR(SPP[[#This Row],[DATA]])","v":2019}]
["19/10/2019","76","Lazer",366,0,10839.74,10839.74,{"$f":"TEXT(SPP[[#This Row],[DATA]],\"mmmm\")","v":"outubro"},{"$f":"YEAR(SPP[[#This Row],[DATA]])","v":2019}]
["20/10/2019","76","Lazer",365,0,10798.54,10798.54,{"$f":"TEXT(SPP[[#This Row],[DATA]],\"mmmm\")","v":"outubro"},{"$f":"YEAR(SPP[[#This Row],[DATA]])","v":2019}]
["21/10/2019","68","ESTUDANTE 8VG",1,0,2.7,2.7,{"$f":"TEXT(SPP[[#This Row],[DATA]],\"mmmm\")","v":"outubro"},{"$f":"YEAR(SPP[[#This Row],[DATA]])","v":2019}]
["22/10/2019","69","VT 8VG",940,0,15516.26,15516.26,{"$f":"TEXT(SPP[[#This Row],[DATA]],\"mmmm\")","v":"outubro"},{"$f":"YEAR(SPP[[#This Row],[DATA]])","v":2019}]
["24/10/2019","52","ESTUDANTE",57828,44064.65,357652.06,401716.71,{"$f":"TEXT(SPP[[#This Row],[DATA]],\"mmmm\")","v":"outubro"},{"$f":"YEAR(SPP[[#This Row],[DATA]])","v":2019}]
["24/10/2019","75","CARTAO FIDELIDADE",102123,0,7620397.3499999996,7620397.3499999996,{"$f":"TEXT(SPP[[#This Row],[DATA]],\"mmmm\")","v":"outubro"},{"$f":"YEAR(SPP[[#This Row],[DATA]])","v":2019}]
["26/10/2019","51","COMUM 4 VIAGENS",8,1.03,137.34,138.37,{"$f":"TEXT(SPP[[#This Row],[DATA]],\"mmmm\")","v":"outubro"},{"$f":"YEAR(SPP[[#This Row],[DATA]])","v":2019}]
["26/10/2019","86","Estacionamento",9478,0,112888.36,112888.36,{"$f":"TEXT(SPP[[#This Row],[DATA]],\"mmmm\")","v":"outubro"},{"$f":"YEAR(SPP[[#This Row],[DATA]])","v":2019}]
["27/10/2019","76","Lazer",368,0,10955.34,10955.34,{"$f":"TEXT(SPP[[#This Row],[DATA]],\"mmmm\")","v":"outubro"},{"$f":"YEAR(SPP[[#This Row],[DATA]])","v":2019}]
["28/10/2019","76","Lazer",367,0,10717.24,10717.24,{"$f":"TEXT(SPP[[#This Row],[DATA]],\"mmmm\")","v":"outubro"},{"$f":"YEAR(SPP[[#This Row],[DATA]])","v":2019}]
["29/10/2019","71","MÃE PAULISTANA",112862,410472.79000000004,706721.5,1117194.29,{"$f":"TEXT(SPP[[#This Row],[DATA]],\"mmmm\")","v":"outubro"},{"$f":"YEAR(SPP[[#This Row],[DATA]])","v":2019}]
["30/10/2019","74","PROFESSOR",22037,1179288.06,0,1179288.06,{"$f":"TEXT(SPP[[#This Row],[DATA]],\"mmmm\")","v":"outubro"},{"$f":"YEAR(SPP[[#This Row],[DATA]])","v":2019}]
["31/10/2019","75","CARTAO FIDELIDADE",102302,0,7566991.6900000004,7566991.6900000004,{"$f":"TEXT(SPP[[#This Row],[DATA]],\"mmmm\")","v":"outubro"},{"$f":"YEAR(SPP[[#This Row],[DATA]])","v":2019}]
["01/11/2019","71","MÃE PAULISTANA",113377,427167.95,708162.66,1135330.6100000001,{"$f":"TEXT(SPP[[#This Row],[DATA]],\"mmmm\")","v":"novembro"},{"$f":"YEAR(SPP[[#This Row],[DATA]])","v":2019}]
["03/11/2019","59","VT",3159143,177368241.90000001,18077561.370000001,195445803.27000001,{"$f":"TEXT(SPP[[#This Row],[DATA]],\"mmmm\")","v":"novembro"},{"$f":"YEAR(SPP[[#This Row],[DATA]])","v":2019}]
["03/11/2019","110","BUM - ANÔNIMO - CASCO",1312862,0,8781697.6600000001,8781697.6600000001,{"$f":"TEXT(SPP[[#This Row],[DATA]],\"mmmm\")","v":"novembro"},{"$f":"YEAR(SPP[[#This Row],[DATA]])","v":2019}]
["05/11/2019","68","ESTUDANTE 8VG",1,0,2.7,2.7,{"$f":"TEXT(SPP[[#This Row],[DATA]],\"mmmm\")","v":"novembro"},{"$f":"YEAR(SPP[[#This Row],[DATA]])","v":2019}]
["05/11/2019","100","BILHETE UNICO MENSAL - CASCO",4372254,676256141.5,70572913.180000007,746829054.67999995,{"$f":"TEXT(SPP[[#This Row],[DATA]],\"mmmm\")","v":"novembro"},{"$f":"YEAR(SPP[[#This Row],[DATA]])","v":2019}]
["06/11/2019","75","CARTAO FIDELIDADE",102527,0,7781022.1900000004,7781022.1900000004,{"$f":"TEXT(SPP[[#This Row],[DATA]],\"mmmm\")","v":"novembro"},{"$f":"YEAR(SPP[[#This Row],[DATA]])","v":2019}]
["07/11/2019","76","Lazer",372,0,10919.800000000001,10919.800000000001,{"$f":"TEXT(SPP[[#This Row],[DATA]],\"mmmm\")","v":"novembro"},{"$f":"YEAR(SPP[[#This Row],[DATA]])","v":2019}]
["09/11/2019","59","VT",3163616,176205499.59,18633455.879999999,194838955.47,{"$f":"TEXT(SPP[[#This Row],[DATA]],\"mmmm\")","v":"novembro"},{"$f":"YEAR(SPP[[#This Row],[DATA]])","v":2019}]
["09/11/2019","75","CARTAO FIDELIDADE",102338,0,7623592.5700000003,7623592.5700000003,{"$f":"TEXT(SPP[[#This Row],[DATA]],\"mmmm\")","v":"novembro"},{"$f":"YEAR(SPP[[#This Row],[DATA]])","v":2019}]
["11/11/2019","69","VT 8VG",943,0,16363.79,16363.79,{"$f":"TEXT(SPP[[#This Row],[DATA]],\"mmmm\")","v":"novembro"},{"$f":"YEAR(SPP[[#This Row],[DATA]])","v":2019}]
["12/11/2019","52","ESTUDANTE",58715,45902.01,365869.97000000003,411771.98,{"$f":"TEXT(SPP[[#This Row],[DATA]],\"mmmm\")","v":"novembro"},{"$f":"YEAR(SPP[[#This Row],[DATA]])","v":2019}]
["12/11/2019","86","Estacionamento",9348,0,109875.78,109875.78,{"$f":"TEXT(SPP[[#This Row],[DATA]],\"mmmm\")","v":"novembro"},{"$f":"YEAR(SPP[[#This Row],[DATA]])","v":2019}]
["14/11/2019","51","COMUM 4 VIAGENS",7,1.03,114.12,115.15,{"$f":"TEXT(SPP[[#This Row],[DATA]],\"mmmm\")","v":"novembro"},{"$f":"YEAR(SPP[[#This Row],[DATA]])","v":2019}]
["15/11/2019","52","ESTUDANTE",58843,45970.26,348217.01,394187.27,{"$f":"TEXT(SPP[[#This Row],[DATA]],\"mmmm\")","v":"novembro"},{"$f":"YEAR(SPP[[#This Row],[DATA]])","v":2019}]
["15/11/2019","100","BILHETE UNICO MENSAL - CASCO",4417338,641514684.42999995,68526245.430000007,710040929.86000001,{"$f":"TEXT(SPP[[#This Row],[DATA]],\"mmmm\")","v":"novembro"},{"$f":"YEAR(SPP[[#This Row],[DATA]])","v":2019}]
["16/11/2019","76","Lazer",373,0,10824.6,10824.6,{"$f":"TEXT(SPP[[#This Row],[DATA]],\"mmmm\")","v":"novembro"},{"$f":"YEAR(SPP[[#This Row],[DATA]])","v":2019}]
["17/11/2019","86","Estacionamento",9342,0,106911.55,106911.55,{"$f":"TEXT(SPP[[#This Row],[DATA]],\"mmmm\")","v":"novembro"},{"$f":"YEAR(SPP[[#This Row],[DATA]])","v":2019}]
["19/11/2019","74","PROFESSOR",22407,1306308.26,0,1306308.26,{"$f":"TEXT(SPP[[#This Row],[DATA]],\"mmmm\")","v":"novembro"},{"$f":"YEAR(SPP[[#This Row],[DATA]])","v":2019}]
["20/11/2019","68","ESTUDANTE 8VG",1,0,2.7,2.7,{"$f":"TEXT(SPP[[#This Row],[DATA]],\"mmmm\")","v":"novembro"},{"$f":"YEAR(SPP[[#This Row],[DATA]])","v":2019}]
["21/11/2019","69","VT 8VG",938,0,15126.52,15126.52,{"$f":"TEXT(SPP[[#This Row],[DATA]],\"mmmm\")","v":"novembro"},{"$f":"YEAR(SPP[[#This Row],[DATA]])","v":2019}]
["22/11/2019","59","VT",3175032,166862303.46000001,19025174.510000002,185887477.97,{"$f":"TEXT(SPP[[#This Row],[DATA]],\"mmmm\")","v":"novembro"},{"$f":"YEAR(SPP[[#This Row],[DATA]])","v":2019}]
["23/11/2019","68","ESTUDANTE 8VG",1,0,2.7,2.7,{"$f":"TEXT(SPP[[#This Row],[DATA]],\"mmmm\")","v":"novembro"},{"$f":"YEAR(SPP[[#This Row],[DATA]])","v":2019}]
["24/11/2019","51","COMUM 4 VIAGENS",7,1.03,119.06,120.09,{"$f":"TEXT(SPP[[#This Row],[DATA]],\"mmmm\")","v":"novembro"},{"$f":"YEAR(SPP[[#This Row],[DATA]])","v":2019}]
["25/11/2019","68","ESTUDANTE 8VG",1,0,2.7,2.7,{"$f":"TEXT(SPP[[#This Row],[DATA]],\"mmmm\")","v":"novembro"},{"$f":"YEAR(SPP[[#This Row],[DATA]])","v":2019}]
["25/11/2019","110","BUM - ANÔNIMO - CASCO",1321551,292,9451536.0700000003,9451828.0700000003,{"$f":"TEXT(SPP[[#This Row],[DATA]],\"mmmm\")","v":"novembro"},{"$f":"YEAR(SPP[[#This Row],[DATA]])","v":2019}]
["27/11/2019","76","Lazer",379,0,10768.6,10768.6,{"$f":"TEXT(SPP[[#This Row],[DATA]],\"mmmm\")","v":"novembro"},{"$f":"YEAR(SPP[[#This Row],[DATA]])","v":2019}]
["28/11/2019","71","MÃE PAULISTANA",117380,440832.89,722547.53,1163380.42,{"$f":"TEXT(SPP[[#This Row],[DATA]],\"mmmm\")","v":"novembro"},{"$f":"YEAR(SPP[[#This Row],[DATA]])","v":2019}]
["29/11/2019","110","BUM - ANÔNIMO - CASCO",1322945,292,9322754.0500000007,9323046.0500000007,{"$f":"TEXT(SPP[[#This Row],[DATA]],\"mmmm\")","v":"novembro"},{"$f":"YEAR(SPP[[#This Row],[DATA]])","v":2019}]
["30/11/2019","69","VT 8VG",949,0,14465.43,14465.43,{"$f":"TEXT(SPP[[#This Row],[DATA]],\"mmmm\")","v":"novembro"},{"$f":"YEAR(SPP[[#This Row],[DATA]])","v":2019}]
["01/12/2019","71","MÃE PAULISTANA",117616,445466.31,708505.16,1153971.47,{"$f":"TEXT(SPP[[#This Row],[DATA]],\"mmmm\")","v":"dezembro"},{"$f":"YEAR(SPP[[#This Row],[DATA]])","v":2019}]
["02/12/2019","59","VT",3184629,169838669.56,19304853.969999999,189143523.53,{"$f":"TEXT(SPP[[#This Row],[DATA]],\"mmmm\")","v":"dezembro"},{"$f":"YEAR(SPP[[#This Row],[DATA]])","v":2019}]
["03/12/2019","100","BILHETE UNICO MENSAL - CASCO",4484635,671277143.72000003,74804817.609999999,746081961.33000004,{"$f":"TEXT(SPP[[#This Row],[DATA]],\"mmmm\")","v":"dezembro"},{"$f":"YEAR(SPP[[#This Row],[DATA]])","v":2019}]
["04/12/2019","52","ESTUDANTE",59754,46765.06,364091.54,410856.60000000003,{"$f":"TEXT(SPP[[#This Row],[DATA]],\"mmmm\")","v":"dezembro"},{"$f":"YEAR(SPP[[#This Row],[DATA]])","v":2019}]
["05/12/2019","100","BILHETE UNICO MENSAL - CASCO",4493519,679443903.87,72059173.540000007,751503077.40999997,{"$f":"TEXT(SPP[[#This Row],[DATA]],\"mmmm\")","v":"dezembro"},{"$f":"YEAR(SPP[[#This Row],[DATA]])","v":2019}]
["06/12/2019","110","BUM - ANÔNIMO - CASCO",1325236,292,9494027,9494319,{"$f":"TEXT(SPP[[#This Row],[DATA]],\"mmmm\")","v":"dezembro"},{"$f":"YEAR(SPP[[#This Row],[DATA]])","v":2019}]
["07/12/2019","71","MÃE PAULISTANA",118811,450172.16000000003,790381.74,1240553.8999999999,{"$f":"TEXT(SPP[[#This Row],[DATA]],\"mmmm\")","v":"dezembro"},{"$f":"YEAR(SPP[[#This Row],[DATA]])","v":2019}]
["08/12/2019","74","PROFESSOR",22482,1267462.33,0,1267462.33,{"$f":"TEXT(SPP[[#This Row],[DATA]],\"mmmm\")","v":"dezembro"},{"$f":"YEAR(SPP[[#This Row],[DATA]])","v":2019}]
["09/12/2019","75","CARTAO FIDELIDADE",105869,0,7933426.3099999996,7933426.3099999996,{"$f":"TEXT(SPP[[#This Row],[DATA]],\"mmmm\")","v":"dezembro"},{"$f":"YEAR(SPP[[#This Row],[DATA]])","v":2019}]
["10/12/2019","69","VT 8VG",946,0,15840.5,15840.5,{"$f":"TEXT(SPP[[#This Row],[DATA]],\"mmmm\")","v":"dezembro"},{"$f":"YEAR(SPP[[#This Row],[DATA]])","v":2019}]
["11/12/2019","69","VT 8VG",943,0,15946.57,15946.57,{"$f":"TEXT(SPP[[#This Row],[DATA]],\"mmmm\")","v":"dezembro"},{"$f":"YEAR(SPP[[#This Row],[DATA]])","v":2019}]
["12/12/2019","68","ESTUDANTE 8VG",1,0,2.7,2.7,{"$f":"TEXT(SPP[[#This Row],[DATA]],\"mmmm\")","v":"dezembro"},{"$f":"YEAR(SPP[[#This Row],[DATA]])","v":2019}]
["14/12/2019","51","COMUM 4 VIAGENS",8,1.03,155.41,156.44,{"$f":"TEXT(SPP[[#This Row],[DATA]],\"mmmm\")","v":"dezembro"},{"$f":"YEAR(SPP[[#This Row],[DATA]])","v":2019}]
["15/12/2019","52","ESTUDANTE",60347,52907.82,358178.88,411086.7,{"$f":"TEXT(SPP[[#This Row],[DATA]],\"mmmm\")","v":"dezembro"},{"$f":"YEAR(SPP[[#This Row],[DATA]])","v":2019}]
["16/12/2019","51","COMUM 4 VIAGENS",8,1.03,167.8,168.83,{"$f":"TEXT(SPP[[#This Row],[DATA]],\"mmmm\")","v":"dezembro"},{"$f":"YEAR(SPP[[#This Row],[DATA]])","v":2019}]
["16/12/2019","76","Lazer",387,0,11273.460000000001,11273.460000000001,{"$f":"TEXT(SPP[[#This Row],[DATA]],\"mmmm\")","v":"dezembro"},{"$f":"YEAR(SPP[[#This Row],[DATA]])","v":2019}]
["17/12/2019","86","Estacionamento",9317,0,107214.7,107214.7,{"$f":"TEXT(SPP[[#This Row],[DATA]],\"mmmm\")","v":"dezembro"},{"$f":"YEAR(SPP[[#This Row],[DATA]])","v":2019}]
["18/12/2019","74","PROFESSOR",22472,1214668.32,0,1214668.32,{"$f":"TEXT(SPP[[#This Row],[DATA]],\"mmmm\")","v":"dezembro"},{"$f":"YEAR(SPP[[#This Row],[DATA]])","v":2019}]
["19/12/2019","110","BUM - ANÔNIMO - CASCO",1330602,587.95000000000005,9461504.1400000006,9462092.0899999999,{"$f":"TEXT(SPP[[#This Row],[DATA]],\"mmmm\")","v":"dezembro"},{"$f":"YEAR(SPP[[#This Row],[DATA]])","v":2019}]
["20/12/2019","71","MÃE PAULISTANA",121185,418433.62,760932.28,1179365.8999999999,{"$f":"TEXT(SPP[[#This Row],[DATA]],\"mmmm\")","v":"dezembro"},{"$f":"YEAR(SPP[[#This Row],[DATA]])","v":2019}]
["22/12/2019","59","VT",3208389,160802466.56999999,18479341.399999999,179281807.97,{"$f":"TEXT(SPP[[#This Row],[DATA]],\"mmmm\")","v":"dezembro"},{"$f":"YEAR(SPP[[#This Row],[DATA]])","v":2019}]
["23/12/2019","68","ESTUDANTE 8VG",1,0,2.7,2.7,{"$f":"TEXT(SPP[[#This Row],[DATA]],\"mmmm\")","v":"dezembro"},{"$f":"YEAR(SPP[[#This Row],[DATA]])","v":2019}]
["23/12/2019","74","PROFESSOR",22410,1177433.6499999999,0,1177433.6499999999,{"$f":"TEXT(SPP[[#This Row],[DATA]],\"mmmm\")","v":"dezembro"},{"$f":"YEAR(SPP[[#This Row],[DATA]])","v":2019}]
["24/12/2019","100","BILHETE UNICO MENSAL - CASCO",4565454,617682045.38999999,64748626.880000003,682430672.26999998,{"$f":"TEXT(SPP[[#This Row],[DATA]],\"mmmm\")","v":"dezembro"},{"$f":"YEAR(SPP[[#This Row],[DATA]])","v":2019}]
["25/12/2019","110","BUM - ANÔNIMO - CASCO",1332121,587.95000000000005,8805368.1099999994,8805956.0600000005,{"$f":"TEXT(SPP[[#This Row],[DATA]],\"mmmm\")","v":"dezembro"},{"$f":"YEAR(SPP[[#This Row],[DATA]])","v":2019}]
["26/12/2019","76","Lazer",393,0,11341.36,11341.36,{"$f":"TEXT(SPP[[#This Row],[DATA]],\"mmmm\")","v":"dezembro"},{"$f":"YEAR(SPP[[#This Row],[DATA]])","v":2019}]
["28/12/2019","59","VT",3214890,162173877.08000001,18481921.210000001,180655798.28999999,{"$f":"TEXT(SPP[[#This Row],[DATA]],\"mmmm\")","v":"dezembro"},{"$f":"YEAR(SPP[[#This Row],[DATA]])","v":2019}]
["28/12/2019","75","CARTAO FIDELIDADE",105572,0,7658600.8099999996,7658600.8099999996,{"$f":"TEXT(SPP[[#This Row],[DATA]],\"mmmm\")","v":"dezembro"},{"$f":"YEAR(SPP[[#This Row],[DATA]])","v":2019}]
["30/12/2019","69","VT 8VG",950,0,15207.23,15207.23,{"$f":"TEXT(SPP[[#This Row],[DATA]],\"mmmm\")","v":"dezembro"},{"$f":"YEAR(SPP[[#This Row],[DATA]])","v":2019}]
["31/12/2019","71","MÃE PAULISTANA",122279,414256.34,719853.84,1134110.18,{"$f":"TEXT(SPP[[#This Row],[DATA]],\"mmmm\")","v":"dezembro"},{"$f":"YEAR(SPP[[#This Row],[DATA]])","v":2019}]
["01/01/2020","52","ESTUDANTE",61226,55094.33,353560.47000000003,408654.8,{"$f":"TEXT(SPP[[#This Row],[DATA]],\"mmmm\")","v":"janeiro"},{"$f":"YEAR(SPP[[#This Row],[DATA]])","v":2020}]
["02/01/2020","51","COMUM 4 VIAGENS",9,1.03,124.4,125.43,{"$f":"TEXT(SPP[[#This Row],[DATA]],\"mmmm\")","v":"janeiro"},{"$f":"YEAR(SPP[[#This Row],[DATA]])","v":2020}]
["03/01/2020","52","ESTUDANTE",61322,55384.01,363303.29,418687.3,{"$f":"TEXT(SPP[[#This Row],[DATA]],\"mmmm\")","v":"janeiro"},{"$f":"YEAR(SPP[[#This Row],[DATA]])","v":2020}]
["03/01/2020","100","BILHETE UNICO MENSAL - CASCO",4592590,674553997.52999997,71069384.769999996,745623382.29999995,{"$f":"TEXT(SPP[[#This Row],[DATA]],\"mmmm\")","v":"janeiro"},{"$f":"YEAR(SPP[[#This Row],[DATA]])","v":2020}]
["04/01/2020","76","Lazer",396,0,11482.460000000001,11482.460000000001,{"$f":"TEXT(SPP[[#This Row],[DATA]],\"mmmm\")","v":"janeiro"},{"$f":"YEAR(SPP[[#This Row],[DATA]])","v":2020}]
["05/01/2020","86","Estacionamento",9298,0,103821.23,103821.23,{"$f":"TEXT(SPP[[#This Row],[DATA]],\"mmmm\")","v":"janeiro"},{"$f":"YEAR(SPP[[#This Row],[DATA]])","v":2020}]
["07/01/2020","74","PROFESSOR",22349,1143123.3700000001,0,1143123.3700000001,{"$f":"TEXT(SPP[[#This Row],[DATA]],\"mmmm\")","v":"janeiro"},{"$f":"YEAR(SPP[[#This Row],[DATA]])","v":2020}]
["08/01/2020","75","CARTAO FIDELIDADE",107872,0,8413978.0700000003,8413978.0700000003,{"$f":"TEXT(SPP[[#This Row],[DATA]],\"mmmm\")","v":"janeiro"},{"$f":"YEAR(SPP[[#This Row],[DATA]])","v":2020}]
["09/01/2020","76","Lazer",393,0,11504.26,11504.26,{"$f":"TEXT(SPP[[#This Row],[DATA]],\"mmmm\")","v":"janeiro"},{"$f":"YEAR(SPP[[#This Row],[DATA]])","v":2020}]
["10/01/2020","74","PROFESSOR",22330,1119855.58,0,1119855.58,{"$f":"TEXT(SPP[[#This Row],[DATA]],\"mmmm\")","v":"janeiro"},{"$f":"YEAR(SPP[[#This Row],[DATA]])","v":2020}]
["11/01/2020","68","ESTUDANTE 8VG",1,0,2.7,2.7,{"$f":"TEXT(SPP[[#This Row],[DATA]],\"mmmm\")","v":"janeiro"},{"$f":"YEAR(SPP[[#This Row],[DATA]])","v":2020}]
["12/01/2020","51","COMUM 4 VIAGENS",9,1.03,181.8,182.83,{"$f":"TEXT(SPP[[#This Row],[DATA]],\"mmmm\")","v":"janeiro"},{"$f":"YEAR(SPP[[#This Row],[DATA]])","v":2020}]
["13/01/2020","68","ESTUDANTE 8VG",1,0,2.7,2.7,{"$f":"TEXT(SPP[[#This Row],[DATA]],\"mmmm\")","v":"janeiro"},{"$f":"YEAR(SPP[[#This Row],[DATA]])","v":2020}]
["13/01/2020","110","BUM - ANÔNIMO - CASCO",1338571,587.95000000000005,9516837.4199999999,9517425.3699999992,{"$f":"TEXT(SPP[[#This Row],[DATA]],\"mmmm\")","v":"janeiro"},{"$f":"YEAR(SPP[[#This Row],[DATA]])","v":2020}]
["15/01/2020","76","Lazer",393,0,11309.26,11309.26,{"$f":"TEXT(SPP[[#This Row],[DATA]],\"mmmm\")","v":"janeiro"},{"$f":"YEAR(SPP[[#This Row],[DATA]])","v":2020}]
["16/01/2020","86","Estacionamento",9300,0,105436.14,105436.14,{"$f":"TEXT(SPP[[#This Row],[DATA]],\"mmmm\")","v":"janeiro"},{"$f":"YEAR(SPP[[#This Row],[DATA]])","v":2020}]
["17/01/2020","59","VT",3231661,163105530.69999999,19280237.629999999,182385768.33000001,{"$f":"TEXT(SPP[[#This Row],[DATA]],\"mmmm\")","v":"janeiro"},{"$f":"YEAR(SPP[[#This Row],[DATA]])","v":2020}]
["18/01/2020","76","Lazer",397,0,11576.56,11576.56,{"$f":"TEXT(SPP[[#This Row],[DATA]],\"mmmm\")","v":"janeiro"},{"$f":"YEAR(SPP[[#This Row],[DATA]])","v":2020}]
["19/01/2020","71","MÃE PAULISTANA",124554,376057.44,798238.25,1174295.69,{"$f":"TEXT(SPP[[#This Row],[DATA]],\"mmmm\")","v":"janeiro"},{"$f":"YEAR(SPP[[#This Row],[DATA]])","v":2020}]
["20/01/2020","59","VT",3234714,161686690.81,19813283.02,181499973.83000001,{"$f":"TEXT(SPP[[#This Row],[DATA]],\"mmmm\")","v":"janeiro"},{"$f":"YEAR(SPP[[#This Row],[DATA]])","v":2020}]
["21/01/2020","100","BILHETE UNICO MENSAL - CASCO",4675952,650289533.5,82028899.109999999,732318432.61000001,{"$f":"TEXT(SPP[[#This Row],[DATA]],\"mmmm\")","v":"janeiro"},{"$f":"YEAR(SPP[[#This Row],[DATA]])","v":2020}]
["22/01/2020","52","ESTUDANTE",62372,56311.450000000004,394063.68,450375.13,{"$f":"TEXT(SPP[[#This Row],[DATA]],\"mmmm\")","v":"janeiro"},{"$f":"YEAR(SPP[[#This Row],[DATA]])","v":2020}]
["23/01/2020","100","BILHETE UNICO MENSAL - CASCO",4684165,642177928.57000005,78532370.670000002,720710299.24000001,{"$f":"TEXT(SPP[[#This Row],[DATA]],\"mmmm\")","v":"janeiro"},{"$f":"YEAR(SPP[[#This Row],[DATA]])","v":2020}]
["24/01/2020","110","BUM - ANÔNIMO - CASCO",1342399,587.95000000000005,9511349.1400000006,9511937.0899999999,{"$f":"TEXT(SPP[[#This Row],[DATA]],\"mmmm\")","v":"janeiro"},{"$f":"YEAR(SPP[[#This Row],[DATA]])","v":2020}]
["25/01/2020","86","Estacionamento",9264,0,103712.62,103712.62,{"$f":"TEXT(SPP[[#This Row],[DATA]],\"mmmm\")","v":"janeiro"},{"$f":"YEAR(SPP[[#This Row],[DATA]])","v":2020}]
["26/01/2020","100","BILHETE UNICO MENSAL - CASCO",4691329,637666230.54999995,72950530.439999998,710616760.99000001,{"$f":"TEXT(SPP[[#This Row],[DATA]],\"mmmm\")","v":"janeiro"},{"$f":"YEAR(SPP[[#This Row],[DATA]])","v":2020}]
["27/01/2020","75","CARTAO FIDELIDADE",110144,0,8240727.46,8240727.46,{"$f":"TEXT(SPP[[#This Row],[DATA]],\"mmmm\")","v":"janeiro"},{"$f":"YEAR(SPP[[#This Row],[DATA]])","v":2020}]
["28/01/2020","69","VT 8VG",955,0,15399.54,15399.54,{"$f":"TEXT(SPP[[#This Row],[DATA]],\"mmmm\")","v":"janeiro"},{"$f":"YEAR(SPP[[#This Row],[DATA]])","v":2020}]
["29/01/2020","69","VT 8VG",958,0,15185.42,15185.42,{"$f":"TEXT(SPP[[#This Row],[DATA]],\"mmmm\")","v":"janeiro"},{"$f":"YEAR(SPP[[#This Row],[DATA]])","v":2020}]
["30/01/2020","68","ESTUDANTE 8VG",1,0,2.7,2.7,{"$f":"TEXT(SPP[[#This Row],[DATA]],\"mmmm\")","v":"janeiro"},{"$f":"YEAR(SPP[[#This Row],[DATA]])","v":2020}]
["31/01/2020","69","VT 8VG",963,0,15294.56,15294.56,{"$f":"TEXT(SPP[[#This Row],[DATA]],\"mmmm\")","v":"janeiro"},{"$f":"YEAR(SPP[[#This Row],[DATA]])","v":2020}]
["02/02/2020","52","ESTUDANTE",62846,60702.78,371775.92,432478.7,{"$f":"TEXT(SPP[[#This Row],[DATA]],\"mmmm\")","v":"fevereiro"},{"$f":"YEAR(SPP[[#This Row],[DATA]])","v":2020}]
["02/02/2020","68","ESTUDANTE 8VG",1,0,2.7,2.7,{"$f":"TEXT(SPP[[#This Row],[DATA]],\"mmmm\")","v":"fevereiro"},{"$f":"YEAR(SPP[[#This Row],[DATA]])","v":2020}]
["04/02/2020","51","COMUM 4 VIAGENS",8,0,144.93,144.93,{"$f":"TEXT(SPP[[#This Row],[DATA]],\"mmmm\")","v":"fevereiro"},{"$f":"YEAR(SPP[[#This Row],[DATA]])","v":2020}]
["04/02/2020","86","Estacionamento",9251,0,104144.29000000001,104144.29000000001,{"$f":"TEXT(SPP[[#This Row],[DATA]],\"mmmm\")","v":"fevereiro"},{"$f":"YEAR(SPP[[#This Row],[DATA]])","v":2020}]
["05/02/2020","74","PROFESSOR",22227,1019993.65,0,1019993.65,{"$f":"TEXT(SPP[[#This Row],[DATA]],\"mmmm\")","v":"fevereiro"},{"$f":"YEAR(SPP[[#This Row],[DATA]])","v":2020}]
["06/02/2020","110","BUM - ANÔNIMO - CASCO",1346593,587.95000000000005,9467785.5299999993,9468373.4800000004,{"$f":"TEXT(SPP[[#This Row],[DATA]],\"mmmm\")","v":"fevereiro"},{"$f":"YEAR(SPP[[#This Row],[DATA]])","v":2020}]
["07/02/2020","71","MÃE PAULISTANA",127291,386037.04,904938.98,1290976.02,{"$f":"TEXT(SPP[[#This Row],[DATA]],\"mmmm\")","v":"fevereiro"},{"$f":"YEAR(SPP[[#This Row],[DATA]])","v":2020}]
["08/02/2020","74","PROFESSOR",22284,1050391.05,0,1050391.05,{"$f":"TEXT(SPP[[#This Row],[DATA]],\"mmmm\")","v":"fevereiro"},{"$f":"YEAR(SPP[[#This Row],[DATA]])","v":2020}]
["10/02/2020","68","ESTUDANTE 8VG",1,0,2.7,2.7,{"$f":"TEXT(SPP[[#This Row],[DATA]],\"mmmm\")","v":"fevereiro"},{"$f":"YEAR(SPP[[#This Row],[DATA]])","v":2020}]
["10/02/2020","100","BILHETE UNICO MENSAL - CASCO",4745448,699860789.40999997,84407995.980000004,784268785.38999999,{"$f":"TEXT(SPP[[#This Row],[DATA]],\"mmmm\")","v":"fevereiro"},{"$f":"YEAR(SPP[[#This Row],[DATA]])","v":2020}]
["12/02/2020","59","VT",3257556,161907502.94,20035458.550000001,181942961.49000001,{"$f":"TEXT(SPP[[#This Row],[DATA]],\"mmmm\")","v":"fevereiro"},{"$f":"YEAR(SPP[[#This Row],[DATA]])","v":2020}]
["12/02/2020","110","BUM - ANÔNIMO - CASCO",1348326,587.95000000000005,9756201.5500000007,9756789.5,{"$f":"TEXT(SPP[[#This Row],[DATA]],\"mmmm\")","v":"fevereiro"},{"$f":"YEAR(SPP[[#This Row],[DATA]])","v":2020}]
["13/02/2020","76","Lazer",400,0,11241.460000000001,11241.460000000001,{"$f":"TEXT(SPP[[#This Row],[DATA]],\"mmmm\")","v":"fevereiro"},{"$f":"YEAR(SPP[[#This Row],[DATA]])","v":2020}]
["15/02/2020","74","PROFESSOR",22384,1084738.6399999999,0,1084738.6399999999,{"$f":"TEXT(SPP[[#This Row],[DATA]],\"mmmm\")","v":"fevereiro"},{"$f":"YEAR(SPP[[#This Row],[DATA]])","v":2020}]
["15/02/2020","75","CARTAO FIDELIDADE",112504,0,8273229.3499999996,8273229.3499999996,{"$f":"TEXT(SPP[[#This Row],[DATA]],\"mmmm\")","v":"fevereiro"},{"$f":"YEAR(SPP[[#This Row],[DATA]])","v":2020}]
["16/02/2020","76","Lazer",405,0,11376.960000000001,11376.960000000001,{"$f":"TEXT(SPP[[#This Row],[DATA]],\"mmmm\")","v":"fevereiro"},{"$f":"YEAR(SPP[[#This Row],[DATA]])","v":2020}]
["18/02/2020","71","MÃE PAULISTANA",128935,363608.21,959582.51,1323190.72,{"$f":"TEXT(SPP[[#This Row],[DATA]],\"mmmm\")","v":"fevereiro"},{"$f":"YEAR(SPP[[#This Row],[DATA]])","v":2020}]
["19/02/2020","71","MÃE PAULISTANA",129170,362259.48,963904.59,1326164.07,{"$f":"TEXT(SPP[[#This Row],[DATA]],\"mmmm\")","v":"fevereiro"},{"$f":"YEAR(SPP[[#This Row],[DATA]])","v":2020}]
["20/02/2020","69","VT 8VG",964,0,16664.41,16664.41,{"$f":"TEXT(SPP[[#This Row],[DATA]],\"mmmm\")","v":"fevereiro"},{"$f":"YEAR(SPP[[#This Row],[DATA]])","v":2020}]
["21/02/2020","52","ESTUDANTE",63735,64353.15,402430.44,466783.59,{"$f":"TEXT(SPP[[#This Row],[DATA]],\"mmmm\")","v":"fevereiro"},{"$f":"YEAR(SPP[[#This Row],[DATA]])","v":2020}]
["22/02/2020","59","VT",3267190,155619443.43000001,20402638.960000001,176022082.38999999,{"$f":"TEXT(SPP[[#This Row],[DATA]],\"mmmm\")","v":"fevereiro"},{"$f":"YEAR(SPP[[#This Row],[DATA]])","v":2020}]
["23/02/2020","51","COMUM 4 VIAGENS",7,0,165.06,165.06,{"$f":"TEXT(SPP[[#This Row],[DATA]],\"mmmm\")","v":"fevereiro"},{"$f":"YEAR(SPP[[#This Row],[DATA]])","v":2020}]
["23/02/2020","86","Estacionamento",9249,0,104346.81,104346.81,{"$f":"TEXT(SPP[[#This Row],[DATA]],\"mmmm\")","v":"fevereiro"},{"$f":"YEAR(SPP[[#This Row],[DATA]])","v":2020}]
["24/02/2020","100","BILHETE UNICO MENSAL - CASCO",4793167,653020682.99000001,77078866.170000002,730099549.15999997,{"$f":"TEXT(SPP[[#This Row],[DATA]],\"mmmm\")","v":"fevereiro"},{"$f":"YEAR(SPP[[#This Row],[DATA]])","v":2020}]
["26/02/2020","75","CARTAO FIDELIDADE",114601,0,8537152.3599999994,8537152.3599999994,{"$f":"TEXT(SPP[[#This Row],[DATA]],\"mmmm\")","v":"fevereiro"},{"$f":"YEAR(SPP[[#This Row],[DATA]])","v":2020}]
["26/02/2020","110","BUM - ANÔNIMO - CASCO",1352632,587.95000000000005,10359644.460000001,10360232.41,{"$f":"TEXT(SPP[[#This Row],[DATA]],\"mmmm\")","v":"fevereiro"},{"$f":"YEAR(SPP[[#This Row],[DATA]])","v":2020}]
["28/02/2020","74","PROFESSOR",22545,1135057.6299999999,0,1135057.6299999999,{"$f":"TEXT(SPP[[#This Row],[DATA]],\"mmmm\")","v":"fevereiro"},{"$f":"YEAR(SPP[[#This Row],[DATA]])","v":2020}]
["29/02/2020","68","ESTUDANTE 8VG",1,0,2.7,2.7,{"$f":"TEXT(SPP[[#This Row],[DATA]],\"mmmm\")","v":"fevereiro"},{"$f":"YEAR(SPP[[#This Row],[DATA]])","v":2020}]
["01/03/2020","51","COMUM 4 VIAGENS",7,0,165.06,165.06,{"$f":"TEXT(SPP[[#This Row],[DATA]],\"mmmm\")","v":"março"},{"$f":"YEAR(SPP[[#This Row],[DATA]])","v":2020}]
["02/03/2020","59","VT",3274000,159320636.83000001,21919713.239999998,181240350.06999999,{"$f":"TEXT(SPP[[#This Row],[DATA]],\"mmmm\")","v":"março"},{"$f":"YEAR(SPP[[#This Row],[DATA]])","v":2020}]
["02/03/2020","110","BUM - ANÔNIMO - CASCO",1354991,587.95000000000005,10738554.640000001,10739142.59,{"$f":"TEXT(SPP[[#This Row],[DATA]],\"mmmm\")","v":"março"},{"$f":"YEAR(SPP[[#This Row],[DATA]])","v":2020}]
["04/03/2020","51","COMUM 4 VIAGENS",8,1.03,243.06,244.09,{"$f":"TEXT(SPP[[#This Row],[DATA]],\"mmmm\")","v":"março"},{"$f":"YEAR(SPP[[#This Row],[DATA]])","v":2020}]
["04/03/2020","110","BUM - ANÔNIMO - CASCO",1355218,587.95000000000005,10859114.859999999,10859702.810000001,{"$f":"TEXT(SPP[[#This Row],[DATA]],\"mmmm\")","v":"março"},{"$f":"YEAR(SPP[[#This Row],[DATA]])","v":2020}]
["06/03/2020","110","BUM - ANÔNIMO - CASCO",1355758,587.95000000000005,10444933.449999999,10445521.4,{"$f":"TEXT(SPP[[#This Row],[DATA]],\"mmmm\")","v":"março"},{"$f":"YEAR(SPP[[#This Row],[DATA]])","v":2020}]
["07/03/2020","76","Lazer",410,0,11287.61,11287.61,{"$f":"TEXT(SPP[[#This Row],[DATA]],\"mmmm\")","v":"março"},{"$f":"YEAR(SPP[[#This Row],[DATA]])","v":2020}]
["08/03/2020","71","MÃE PAULISTANA",131455,375644.32,994358.9,1370003.22,{"$f":"TEXT(SPP[[#This Row],[DATA]],\"mmmm\")","v":"março"},{"$f":"YEAR(SPP[[#This Row],[DATA]])","v":2020}]
["09/03/2020","75","CARTAO FIDELIDADE",116129,0,8850016.5099999998,8850016.5099999998,{"$f":"TEXT(SPP[[#This Row],[DATA]],\"mmmm\")","v":"março"},{"$f":"YEAR(SPP[[#This Row],[DATA]])","v":2020}]
["10/03/2020","69","VT 8VG",969,0,15527.58,15527.58,{"$f":"TEXT(SPP[[#This Row],[DATA]],\"mmmm\")","v":"março"},{"$f":"YEAR(SPP[[#This Row],[DATA]])","v":2020}]
["11/03/2020","52","ESTUDANTE",64388,67751.75,400532.32,468284.07,{"$f":"TEXT(SPP[[#This Row],[DATA]],\"mmmm\")","v":"março"},{"$f":"YEAR(SPP[[#This Row],[DATA]])","v":2020}]
["12/03/2020","59","VT",3279303,158777168.38,19865823.82,178642992.19999999,{"$f":"TEXT(SPP[[#This Row],[DATA]],\"mmmm\")","v":"março"},{"$f":"YEAR(SPP[[#This Row],[DATA]])","v":2020}]
["13/03/2020","74","PROFESSOR",23519,1221297.6000000001,0,1221297.6000000001,{"$f":"TEXT(SPP[[#This Row],[DATA]],\"mmmm\")","v":"março"},{"$f":"YEAR(SPP[[#This Row],[DATA]])","v":2020}]
["15/03/2020","52","ESTUDANTE",64458,66796.67,376459.65,443256.32000000001,{"$f":"TEXT(SPP[[#This Row],[DATA]],\"mmmm\")","v":"março"},{"$f":"YEAR(SPP[[#This Row],[DATA]])","v":2020}]
["15/03/2020","100","BILHETE UNICO MENSAL - CASCO",4876836,700455406.63999999,79722132.579999998,780177539.22000003,{"$f":"TEXT(SPP[[#This Row],[DATA]],\"mmmm\")","v":"março"},{"$f":"YEAR(SPP[[#This Row],[DATA]])","v":2020}]
["16/03/2020","75","CARTAO FIDELIDADE",116479,0,8693214.1699999999,8693214.1699999999,{"$f":"TEXT(SPP[[#This Row],[DATA]],\"mmmm\")","v":"março"},{"$f":"YEAR(SPP[[#This Row],[DATA]])","v":2020}]
["18/03/2020","59","VT",3280450,154653516.94,19227929.620000001,173881446.56,{"$f":"TEXT(SPP[[#This Row],[DATA]],\"mmmm\")","v":"março"},{"$f":"YEAR(SPP[[#This Row],[DATA]])","v":2020}]
["18/03/2020","74","PROFESSOR",23807,1212511.3999999999,0,1212511.3999999999,{"$f":"TEXT(SPP[[#This Row],[DATA]],\"mmmm\")","v":"março"},{"$f":"YEAR(SPP[[#This Row],[DATA]])","v":2020}]
["19/03/2020","68","ESTUDANTE 8VG",1,0,2.7,2.7,{"$f":"TEXT(SPP[[#This Row],[DATA]],\"mmmm\")","v":"março"},{"$f":"YEAR(SPP[[#This Row],[DATA]])","v":2020}]
["20/03/2020","69","VT 8VG",967,0,14120.44,14120.44,{"$f":"TEXT(SPP[[#This Row],[DATA]],\"mmmm\")","v":"março"},{"$f":"YEAR(SPP[[#This Row],[DATA]])","v":2020}]
["22/03/2020","52","ESTUDANTE",64515,65929.680000000008,366044.58,431974.26,{"$f":"TEXT(SPP[[#This Row],[DATA]],\"mmmm\")","v":"março"},{"$f":"YEAR(SPP[[#This Row],[DATA]])","v":2020}]
["23/03/2020","68","ESTUDANTE 8VG",1,0,2.7,2.7,{"$f":"TEXT(SPP[[#This Row],[DATA]],\"mmmm\")","v":"março"},{"$f":"YEAR(SPP[[#This Row],[DATA]])","v":2020}]
["24/03/2020","51","COMUM 4 VIAGENS",10,1.03,211.61,212.64000000000001,{"$f":"TEXT(SPP[[#This Row],[DATA]],\"mmmm\")","v":"março"},{"$f":"YEAR(SPP[[#This Row],[DATA]])","v":2020}]
["24/03/2020","86","Estacionamento",9216,0,99976.97,99976.97,{"$f":"TEXT(SPP[[#This Row],[DATA]],\"mmmm\")","v":"março"},{"$f":"YEAR(SPP[[#This Row],[DATA]])","v":2020}]
["25/03/2020","76","Lazer",414,0,11236.81,11236.81,{"$f":"TEXT(SPP[[#This Row],[DATA]],\"mmmm\")","v":"março"},{"$f":"YEAR(SPP[[#This Row],[DATA]])","v":2020}]
["26/03/2020","76","Lazer",414,0,11236.81,11236.81,{"$f":"TEXT(SPP[[#This Row],[DATA]],\"mmmm\")","v":"março"},{"$f":"YEAR(SPP[[#This Row],[DATA]])","v":2020}]
["27/03/2020","86","Estacionamento",9218,0,100058.89,100058.89,{"$f":"TEXT(SPP[[#This Row],[DATA]],\"mmmm\")","v":"março"},{"$f":"YEAR(SPP[[#This Row],[DATA]])","v":2020}]
["28/03/2020","74","PROFESSOR",23833,1196330.22,0,1196330.22,{"$f":"TEXT(SPP[[#This Row],[DATA]],\"mmmm\")","v":"março"},{"$f":"YEAR(SPP[[#This Row],[DATA]])","v":2020}]
["29/03/2020","75","CARTAO FIDELIDADE",115412,0,8291306.6299999999,8291306.6299999999,{"$f":"TEXT(SPP[[#This Row],[DATA]],\"mmmm\")","v":"março"},{"$f":"YEAR(SPP[[#This Row],[DATA]])","v":2020}]
["31/03/2020","71","MÃE PAULISTANA",133089,369715.15,852650.74,1222365.8899999999,{"$f":"TEXT(SPP[[#This Row],[DATA]],\"mmmm\")","v":"março"},{"$f":"YEAR(SPP[[#This Row],[DATA]])","v":2020}]
["01/04/2020","59","VT",3280042,154570029.16999999,18335143.460000001,172905172.63,{"$f":"TEXT(SPP[[#This Row],[DATA]],\"mmmm\")","v":"abril"},{"$f":"YEAR(SPP[[#This Row],[DATA]])","v":2020}]
["01/04/2020","110","BUM - ANÔNIMO - CASCO",1355996,809.35,8752124.3800000008,8752933.7300000004,{"$f":"TEXT(SPP[[#This Row],[DATA]],\"mmmm\")","v":"abril"},{"$f":"YEAR(SPP[[#This Row],[DATA]])","v":2020}]
["03/04/2020","68","ESTUDANTE 8VG",1,0,2.7,2.7,{"$f":"TEXT(SPP[[#This Row],[DATA]],\"mmmm\")","v":"abril"},{"$f":"YEAR(SPP[[#This Row],[DATA]])","v":2020}]
["03/04/2020","100","BILHETE UNICO MENSAL - CASCO",4886361,702184831.89999998,73306474.920000002,775491306.82000005,{"$f":"TEXT(SPP[[#This Row],[DATA]],\"mmmm\")","v":"abril"},{"$f":"YEAR(SPP[[#This Row],[DATA]])","v":2020}]
["04/04/2020","110","BUM - ANÔNIMO - CASCO",1356034,809.35,8657008.6199999992,8657817.9700000007,{"$f":"TEXT(SPP[[#This Row],[DATA]],\"mmmm\")","v":"abril"},{"$f":"YEAR(SPP[[#This Row],[DATA]])","v":2020}]
["05/04/2020","76","Lazer",415,0,11307.41,11307.41,{"$f":"TEXT(SPP[[#This Row],[DATA]],\"mmmm\")","v":"abril"},{"$f":"YEAR(SPP[[#This Row],[DATA]])","v":2020}]
["07/04/2020","59","VT",3280046,155702768.88999999,18305440.809999999,174008209.69999999,{"$f":"TEXT(SPP[[#This Row],[DATA]],\"mmmm\")","v":"abril"},{"$f":"YEAR(SPP[[#This Row],[DATA]])","v":2020}]
["08/04/2020","75","CARTAO FIDELIDADE",115505,0,8335868.9500000002,8335868.9500000002,{"$f":"TEXT(SPP[[#This Row],[DATA]],\"mmmm\")","v":"abril"},{"$f":"YEAR(SPP[[#This Row],[DATA]])","v":2020}]
["09/04/2020","69","VT 8VG",964,0,14144.32,14144.32,{"$f":"TEXT(SPP[[#This Row],[DATA]],\"mmmm\")","v":"abril"},{"$f":"YEAR(SPP[[#This Row],[DATA]])","v":2020}]
["10/04/2020","71","MÃE PAULISTANA",133635,368221.10000000003,860958.84,1229179.94,{"$f":"TEXT(SPP[[#This Row],[DATA]],\"mmmm\")","v":"abril"},{"$f":"YEAR(SPP[[#This Row],[DATA]])","v":2020}]
["10/04/2020","86","Estacionamento",9214,0,99997.83,99997.83,{"$f":"TEXT(SPP[[#This Row],[DATA]],\"mmmm\")","v":"abril"},{"$f":"YEAR(SPP[[#This Row],[DATA]])","v":2020}]
["12/04/2020","51","COMUM 4 VIAGENS",10,1.03,207.61,208.64000000000001,{"$f":"TEXT(SPP[[#This Row],[DATA]],\"mmmm\")","v":"abril"},{"$f":"YEAR(SPP[[#This Row],[DATA]])","v":2020}]
["13/04/2020","52","ESTUDANTE",64599,67970.14,365689.41000000003,433659.55,{"$f":"TEXT(SPP[[#This Row],[DATA]],\"mmmm\")","v":"abril"},{"$f":"YEAR(SPP[[#This Row],[DATA]])","v":2020}]
["13/04/2020","100","BILHETE UNICO MENSAL - CASCO",4893457,706847218.92999995,75797728.900000006,782644947.83000004,{"$f":"TEXT(SPP[[#This Row],[DATA]],\"mmmm\")","v":"abril"},{"$f":"YEAR(SPP[[#This Row],[DATA]])","v":2020}]
["15/04/2020","86","Estacionamento",9216,0,100044.26000000001,100044.26000000001,{"$f":"TEXT(SPP[[#This Row],[DATA]],\"mmmm\")","v":"abril"},{"$f":"YEAR(SPP[[#This Row],[DATA]])","v":2020}]
["16/04/2020","86","Estacionamento",9217,0,99984.23,99984.23,{"$f":"TEXT(SPP[[#This Row],[DATA]],\"mmmm\")","v":"abril"},{"$f":"YEAR(SPP[[#This Row],[DATA]])","v":2020}]
["17/04/2020","74","PROFESSOR",23820,1183798.57,0,1183798.57,{"$f":"TEXT(SPP[[#This Row],[DATA]],\"mmmm\")","v":"abril"},{"$f":"YEAR(SPP[[#This Row],[DATA]])","v":2020}]
["18/04/2020","75","CARTAO FIDELIDADE",115428,0,8292075.6200000001,8292075.6200000001,{"$f":"TEXT(SPP[[#This Row],[DATA]],\"mmmm\")","v":"abril"},{"$f":"YEAR(SPP[[#This Row],[DATA]])","v":2020}]
["19/04/2020","69","VT 8VG",963,0,13682.85,13682.85,{"$f":"TEXT(SPP[[#This Row],[DATA]],\"mmmm\")","v":"abril"},{"$f":"YEAR(SPP[[#This Row],[DATA]])","v":2020}]
["20/04/2020","59","VT",3278818,153254263.41999999,18245211.079999998,171499474.5,{"$f":"TEXT(SPP[[#This Row],[DATA]],\"mmmm\")","v":"abril"},{"$f":"YEAR(SPP[[#This Row],[DATA]])","v":2020}]
["21/04/2020","68","ESTUDANTE 8VG",1,0,2.7,2.7,{"$f":"TEXT(SPP[[#This Row],[DATA]],\"mmmm\")","v":"abril"},{"$f":"YEAR(SPP[[#This Row],[DATA]])","v":2020}]
["22/04/2020","51","COMUM 4 VIAGENS",10,1.03,198.81,199.84,{"$f":"TEXT(SPP[[#This Row],[DATA]],\"mmmm\")","v":"abril"},{"$f":"YEAR(SPP[[#This Row],[DATA]])","v":2020}]
["23/04/2020","68","ESTUDANTE 8VG",1,0,2.7,2.7,{"$f":"TEXT(SPP[[#This Row],[DATA]],\"mmmm\")","v":"abril"},{"$f":"YEAR(SPP[[#This Row],[DATA]])","v":2020}]
["24/04/2020","110","BUM - ANÔNIMO - CASCO",1357070,1164.8500000000001,8657711.3000000007,8658876.1500000004,{"$f":"TEXT(SPP[[#This Row],[DATA]],\"mmmm\")","v":"abril"},{"$f":"YEAR(SPP[[#This Row],[DATA]])","v":2020}]
["25/04/2020","76","Lazer",415,0,11225.11,11225.11,{"$f":"TEXT(SPP[[#This Row],[DATA]],\"mmmm\")","v":"abril"},{"$f":"YEAR(SPP[[#This Row],[DATA]])","v":2020}]
["26/04/2020","86","Estacionamento",9218,0,100133.41,100133.41,{"$f":"TEXT(SPP[[#This Row],[DATA]],\"mmmm\")","v":"abril"},{"$f":"YEAR(SPP[[#This Row],[DATA]])","v":2020}]
["27/04/2020","110","BUM - ANÔNIMO - CASCO",1357214,1151.95,8707534.5899999999,8708686.5399999991,{"$f":"TEXT(SPP[[#This Row],[DATA]],\"mmmm\")","v":"abril"},{"$f":"YEAR(SPP[[#This Row],[DATA]])","v":2020}]
["28/04/2020","69","VT 8VG",965,0,14064.52,14064.52,{"$f":"TEXT(SPP[[#This Row],[DATA]],\"mmmm\")","v":"abril"},{"$f":"YEAR(SPP[[#This Row],[DATA]])","v":2020}]
["29/04/2020","71","MÃE PAULISTANA",134774,366055.91000000003,859983.64,1226039.55,{"$f":"TEXT(SPP[[#This Row],[DATA]],\"mmmm\")","v":"abril"},{"$f":"YEAR(SPP[[#This Row],[DATA]])","v":2020}]
["30/04/2020","59","VT",3278895,153434119.24000001,18173590.059999999,171607709.30000001,{"$f":"TEXT(SPP[[#This Row],[DATA]],\"mmmm\")","v":"abril"},{"$f":"YEAR(SPP[[#This Row],[DATA]])","v":2020}]
["01/05/2020","74","PROFESSOR",23811,1173931.75,0,1173931.75,{"$f":"TEXT(SPP[[#This Row],[DATA]],\"mmmm\")","v":"maio"},{"$f":"YEAR(SPP[[#This Row],[DATA]])","v":2020}]
["03/05/2020","52","ESTUDANTE",64662,69451.25,362134.2,431585.45,{"$f":"TEXT(SPP[[#This Row],[DATA]],\"mmmm\")","v":"maio"},{"$f":"YEAR(SPP[[#This Row],[DATA]])","v":2020}]
["03/05/2020","100","BILHETE UNICO MENSAL - CASCO",4908721,721188794.48000002,71372360.280000001,792561154.75999999,{"$f":"TEXT(SPP[[#This Row],[DATA]],\"mmmm\")","v":"maio"},{"$f":"YEAR(SPP[[#This Row],[DATA]])","v":2020}]
["04/05/2020","110","BUM - ANÔNIMO - CASCO",1357697,1113.25,8681270.5399999991,8682383.7899999991,{"$f":"TEXT(SPP[[#This Row],[DATA]],\"mmmm\")","v":"maio"},{"$f":"YEAR(SPP[[#This Row],[DATA]])","v":2020}]
["05/05/2020","71","MÃE PAULISTANA",135079,369962.97000000003,874555.46,1244518.43,{"$f":"TEXT(SPP[[#This Row],[DATA]],\"mmmm\")","v":"maio"},{"$f":"YEAR(SPP[[#This Row],[DATA]])","v":2020}]
["06/05/2020","74","PROFESSOR",23809,1171329.06,0,1171329.06,{"$f":"TEXT(SPP[[#This Row],[DATA]],\"mmmm\")","v":"maio"},{"$f":"YEAR(SPP[[#This Row],[DATA]])","v":2020}]
["07/05/2020","75","CARTAO FIDELIDADE",115366,0,8279056.6399999997,8279056.6399999997,{"$f":"TEXT(SPP[[#This Row],[DATA]],\"mmmm\")","v":"maio"},{"$f":"YEAR(SPP[[#This Row],[DATA]])","v":2020}]
["08/05/2020","69","VT 8VG",965,0,13830.57,13830.57,{"$f":"TEXT(SPP[[#This Row],[DATA]],\"mmmm\")","v":"maio"},{"$f":"YEAR(SPP[[#This Row],[DATA]])","v":2020}]
["10/05/2020","52","ESTUDANTE",64732,72120.19,364047.9,436168.09,{"$f":"TEXT(SPP[[#This Row],[DATA]],\"mmmm\")","v":"maio"},{"$f":"YEAR(SPP[[#This Row],[DATA]])","v":2020}]
["11/05/2020","68","ESTUDANTE 8VG",1,0,2.7,2.7,{"$f":"TEXT(SPP[[#This Row],[DATA]],\"mmmm\")","v":"maio"},{"$f":"YEAR(SPP[[#This Row],[DATA]])","v":2020}]
["12/05/2020","51","COMUM 4 VIAGENS",10,1.03,175.01,176.04,{"$f":"TEXT(SPP[[#This Row],[DATA]],\"mmmm\")","v":"maio"},{"$f":"YEAR(SPP[[#This Row],[DATA]])","v":2020}]
["13/05/2020","52","ESTUDANTE",64780,72981.08,369105.81,442086.89,{"$f":"TEXT(SPP[[#This Row],[DATA]],\"mmmm\")","v":"maio"},{"$f":"YEAR(SPP[[#This Row],[DATA]])","v":2020}]
["14/05/2020","51","COMUM 4 VIAGENS",10,1.03,175.01,176.04,{"$f":"TEXT(SPP[[#This Row],[DATA]],\"mmmm\")","v":"maio"},{"$f":"YEAR(SPP[[#This Row],[DATA]])","v":2020}]
["14/05/2020","76","Lazer",416,0,11260.710000000001,11260.710000000001,{"$f":"TEXT(SPP[[#This Row],[DATA]],\"mmmm\")","v":"maio"},{"$f":"YEAR(SPP[[#This Row],[DATA]])","v":2020}]
["15/05/2020","86","Estacionamento",9228,0,100498.99,100498.99,{"$f":"TEXT(SPP[[#This Row],[DATA]],\"mmmm\")","v":"maio"},{"$f":"YEAR(SPP[[#This Row],[DATA]])","v":2020}]
["16/05/2020","74","PROFESSOR",23803,1163852.28,0,1163852.28,{"$f":"TEXT(SPP[[#This Row],[DATA]],\"mmmm\")","v":"maio"},{"$f":"YEAR(SPP[[#This Row],[DATA]])","v":2020}]
["17/05/2020","75","CARTAO FIDELIDADE",115345,0,8259213.4800000004,8259213.4800000004,{"$f":"TEXT(SPP[[#This Row],[DATA]],\"mmmm\")","v":"maio"},{"$f":"YEAR(SPP[[#This Row],[DATA]])","v":2020}]
["19/05/2020","71","MÃE PAULISTANA",135694,365477.75,883863.71,1249341.46,{"$f":"TEXT(SPP[[#This Row],[DATA]],\"mmmm\")","v":"maio"},{"$f":"YEAR(SPP[[#This Row],[DATA]])","v":2020}]
["20/05/2020","59","VT",3280823,153188888.16,18382321.399999999,171571209.56,{"$f":"TEXT(SPP[[#This Row],[DATA]],\"mmmm\")","v":"maio"},{"$f":"YEAR(SPP[[#This Row],[DATA]])","v":2020}]
["21/05/2020","68","ESTUDANTE 8VG",1,0,2.7,2.7,{"$f":"TEXT(SPP[[#This Row],[DATA]],\"mmmm\")","v":"maio"},{"$f":"YEAR(SPP[[#This Row],[DATA]])","v":2020}]
["21/05/2020","74","PROFESSOR",23795,1161121.75,0,1161121.75,{"$f":"TEXT(SPP[[#This Row],[DATA]],\"mmmm\")","v":"maio"},{"$f":"YEAR(SPP[[#This Row],[DATA]])","v":2020}]
["23/05/2020","59","VT",3281032,152714355.72999999,18281937.879999999,170996293.61000001,{"$f":"TEXT(SPP[[#This Row],[DATA]],\"mmmm\")","v":"maio"},{"$f":"YEAR(SPP[[#This Row],[DATA]])","v":2020}]
["23/05/2020","110","BUM - ANÔNIMO - CASCO",1358770,1031.55,8641069.9399999995,8642101.4900000002,{"$f":"TEXT(SPP[[#This Row],[DATA]],\"mmmm\")","v":"maio"},{"$f":"YEAR(SPP[[#This Row],[DATA]])","v":2020}]
["24/05/2020","76","Lazer",416,0,11291.51,11291.51,{"$f":"TEXT(SPP[[#This Row],[DATA]],\"mmmm\")","v":"maio"},{"$f":"YEAR(SPP[[#This Row],[DATA]])","v":2020}]
["26/05/2020","59","VT",3281328,152587206.66999999,18417316.68,171004523.34999999,{"$f":"TEXT(SPP[[#This Row],[DATA]],\"mmmm\")","v":"maio"},{"$f":"YEAR(SPP[[#This Row],[DATA]])","v":2020}]
["27/05/2020","75","CARTAO FIDELIDADE",115401,0,8238452.9800000004,8238452.9800000004,{"$f":"TEXT(SPP[[#This Row],[DATA]],\"mmmm\")","v":"maio"},{"$f":"YEAR(SPP[[#This Row],[DATA]])","v":2020}]
["28/05/2020","69","VT 8VG",963,0,13589.78,13589.78,{"$f":"TEXT(SPP[[#This Row],[DATA]],\"mmmm\")","v":"maio"},{"$f":"YEAR(SPP[[#This Row],[DATA]])","v":2020}]
["29/05/2020","71","MÃE PAULISTANA",136193,371027.65,866663.13,1237690.78,{"$f":"TEXT(SPP[[#This Row],[DATA]],\"mmmm\")","v":"maio"},{"$f":"YEAR(SPP[[#This Row],[DATA]])","v":2020}]
["30/05/2020","52","ESTUDANTE",64887,75639.98,366986.4,442626.38,{"$f":"TEXT(SPP[[#This Row],[DATA]],\"mmmm\")","v":"maio"},{"$f":"YEAR(SPP[[#This Row],[DATA]])","v":2020}]
["31/05/2020","69","VT 8VG",963,0,13436.54,13436.54,{"$f":"TEXT(SPP[[#This Row],[DATA]],\"mmmm\")","v":"maio"},{"$f":"YEAR(SPP[[#This Row],[DATA]])","v":2020}]
["01/06/2020","52","ESTUDANTE",64894,76075.98,368736.35000000003,444812.33,{"$f":"TEXT(SPP[[#This Row],[DATA]],\"mmmm\")","v":"junho"},{"$f":"YEAR(SPP[[#This Row],[DATA]])","v":2020}]
["01/06/2020","100","BILHETE UNICO MENSAL - CASCO",4935003,736133354.63,73775982.439999998,809909337.07000005,{"$f":"TEXT(SPP[[#This Row],[DATA]],\"mmmm\")","v":"junho"},{"$f":"YEAR(SPP[[#This Row],[DATA]])","v":2020}]
["03/06/2020","86","Estacionamento",9234,0,101241.14,101241.14,{"$f":"TEXT(SPP[[#This Row],[DATA]],\"mmmm\")","v":"junho"},{"$f":"YEAR(SPP[[#This Row],[DATA]])","v":2020}]
["04/06/2020","86","Estacionamento",9234,0,101054.09,101054.09,{"$f":"TEXT(SPP[[#This Row],[DATA]],\"mmmm\")","v":"junho"},{"$f":"YEAR(SPP[[#This Row],[DATA]])","v":2020}]
["04/06/2020","100","BILHETE UNICO MENSAL - CASCO",4938245,747136777.91999996,74452272.75,821589050.66999996,{"$f":"TEXT(SPP[[#This Row],[DATA]],\"mmmm\")","v":"junho"},{"$f":"YEAR(SPP[[#This Row],[DATA]])","v":2020}]
["06/06/2020","75","CARTAO FIDELIDADE",115295,0,8232487.0199999996,8232487.0199999996,{"$f":"TEXT(SPP[[#This Row],[DATA]],\"mmmm\")","v":"junho"},{"$f":"YEAR(SPP[[#This Row],[DATA]])","v":2020}]
["07/06/2020","76","Lazer",418,0,11353.41,11353.41,{"$f":"TEXT(SPP[[#This Row],[DATA]],\"mmmm\")","v":"junho"},{"$f":"YEAR(SPP[[#This Row],[DATA]])","v":2020}]
["08/06/2020","74","PROFESSOR",23785,1151749.6200000001,0,1151749.6200000001,{"$f":"TEXT(SPP[[#This Row],[DATA]],\"mmmm\")","v":"junho"},{"$f":"YEAR(SPP[[#This Row],[DATA]])","v":2020}]
["09/06/2020","68","ESTUDANTE 8VG",1,0,2.7,2.7,{"$f":"TEXT(SPP[[#This Row],[DATA]],\"mmmm\")","v":"junho"},{"$f":"YEAR(SPP[[#This Row],[DATA]])","v":2020}]
["10/06/2020","51","COMUM 4 VIAGENS",13,8.02,210.3,218.32,{"$f":"TEXT(SPP[[#This Row],[DATA]],\"mmmm\")","v":"junho"},{"$f":"YEAR(SPP[[#This Row],[DATA]])","v":2020}]
["11/06/2020","68","ESTUDANTE 8VG",1,0,2.7,2.7,{"$f":"TEXT(SPP[[#This Row],[DATA]],\"mmmm\")","v":"junho"},{"$f":"YEAR(SPP[[#This Row],[DATA]])","v":2020}]
["12/06/2020","110","BUM - ANÔNIMO - CASCO",1360494,992.85,8789186.7300000004,8790179.5800000001,{"$f":"TEXT(SPP[[#This Row],[DATA]],\"mmmm\")","v":"junho"},{"$f":"YEAR(SPP[[#This Row],[DATA]])","v":2020}]
["13/06/2020","51","COMUM 4 VIAGENS",67,22.7,1324.75,1347.45,{"$f":"TEXT(SPP[[#This Row],[DATA]],\"mmmm\")","v":"junho"},{"$f":"YEAR(SPP[[#This Row],[DATA]])","v":2020}]
["14/06/2020","76","Lazer",417,0,11309.91,11309.91,{"$f":"TEXT(SPP[[#This Row],[DATA]],\"mmmm\")","v":"junho"},{"$f":"YEAR(SPP[[#This Row],[DATA]])","v":2020}]
["15/06/2020","51","COMUM 4 VIAGENS",96,47.65,1625.3600000000001,1673.01,{"$f":"TEXT(SPP[[#This Row],[DATA]],\"mmmm\")","v":"junho"},{"$f":"YEAR(SPP[[#This Row],[DATA]])","v":2020}]
["16/06/2020","74","PROFESSOR",23774,1145584.6499999999,0,1145584.6499999999,{"$f":"TEXT(SPP[[#This Row],[DATA]],\"mmmm\")","v":"junho"},{"$f":"YEAR(SPP[[#This Row],[DATA]])","v":2020}]
["17/06/2020","68","ESTUDANTE 8VG",1,0,2.7,2.7,{"$f":"TEXT(SPP[[#This Row],[DATA]],\"mmmm\")","v":"junho"},{"$f":"YEAR(SPP[[#This Row],[DATA]])","v":2020}]
["18/06/2020","51","COMUM 4 VIAGENS",147,89.45,3294.37,3383.82,{"$f":"TEXT(SPP[[#This Row],[DATA]],\"mmmm\")","v":"junho"},{"$f":"YEAR(SPP[[#This Row],[DATA]])","v":2020}]
["19/06/2020","75","CARTAO FIDELIDADE",115378,0,8217908.8700000001,8217908.8700000001,{"$f":"TEXT(SPP[[#This Row],[DATA]],\"mmmm\")","v":"junho"},{"$f":"YEAR(SPP[[#This Row],[DATA]])","v":2020}]
["20/06/2020","80","COMUM 8 VIAGENS",2,0,21.86,21.86,{"$f":"TEXT(SPP[[#This Row],[DATA]],\"mmmm\")","v":"junho"},{"$f":"YEAR(SPP[[#This Row],[DATA]])","v":2020}]
["20/06/2020","86","Estacionamento",9226,0,100713.77,100713.77,{"$f":"TEXT(SPP[[#This Row],[DATA]],\"mmmm\")","v":"junho"},{"$f":"YEAR(SPP[[#This Row],[DATA]])","v":2020}]
["22/06/2020","71","MÃE PAULISTANA",137470,366775.16000000003,909365.66,1276140.82,{"$f":"TEXT(SPP[[#This Row],[DATA]],\"mmmm\")","v":"junho"},{"$f":"YEAR(SPP[[#This Row],[DATA]])","v":2020}]
["23/06/2020","59","VT",3284075,152238519.63,18702790,170941309.63,{"$f":"TEXT(SPP[[#This Row],[DATA]],\"mmmm\")","v":"junho"},{"$f":"YEAR(SPP[[#This Row],[DATA]])","v":2020}]
["24/06/2020","59","VT",3284171,151981356.33000001,18699802.109999999,170681158.44,{"$f":"TEXT(SPP[[#This Row],[DATA]],\"mmmm\")","v":"junho"},{"$f":"YEAR(SPP[[#This Row],[DATA]])","v":2020}]
["24/06/2020","100","BILHETE UNICO MENSAL - CASCO",4959858,735254695.88,74796169.319999993,810050865.20000005,{"$f":"TEXT(SPP[[#This Row],[DATA]],\"mmmm\")","v":"junho"},{"$f":"YEAR(SPP[[#This Row],[DATA]])","v":2020}]
["25/06/2020","100","BILHETE UNICO MENSAL - CASCO",4961283,735164204.09000003,74350149.090000004,809514353.17999995,{"$f":"TEXT(SPP[[#This Row],[DATA]],\"mmmm\")","v":"junho"},{"$f":"YEAR(SPP[[#This Row],[DATA]])","v":2020}]
["26/06/2020","74","PROFESSOR",23765,1137472.4099999999,0,1137472.4099999999,{"$f":"TEXT(SPP[[#This Row],[DATA]],\"mmmm\")","v":"junho"},{"$f":"YEAR(SPP[[#This Row],[DATA]])","v":2020}]
["28/06/2020","68","ESTUDANTE 8VG",1,0,2.7,2.7,{"$f":"TEXT(SPP[[#This Row],[DATA]],\"mmmm\")","v":"junho"},{"$f":"YEAR(SPP[[#This Row],[DATA]])","v":2020}]
["28/06/2020","69","VT 8VG",957,0,13680.36,13680.36,{"$f":"TEXT(SPP[[#This Row],[DATA]],\"mmmm\")","v":"junho"},{"$f":"YEAR(SPP[[#This Row],[DATA]])","v":2020}]
["29/06/2020","110","BUM - ANÔNIMO - CASCO",1361512,992.85,8814239.4399999995,8815232.2899999991,{"$f":"TEXT(SPP[[#This Row],[DATA]],\"mmmm\")","v":"junho"},{"$f":"YEAR(SPP[[#This Row],[DATA]])","v":2020}]
["01/07/2020","52","ESTUDANTE",65208,77410.89,376867.72000000003,454278.61,{"$f":"TEXT(SPP[[#This Row],[DATA]],\"mmmm\")","v":"julho"},{"$f":"YEAR(SPP[[#This Row],[DATA]])","v":2020}]
["01/07/2020","80","COMUM 8 VIAGENS",10,0,130.38,130.38,{"$f":"TEXT(SPP[[#This Row],[DATA]],\"mmmm\")","v":"julho"},{"$f":"YEAR(SPP[[#This Row],[DATA]])","v":2020}]
["02/07/2020","71","MÃE PAULISTANA",137700,375008.28,922713,1297721.28,{"$f":"TEXT(SPP[[#This Row],[DATA]],\"mmmm\")","v":"julho"},{"$f":"YEAR(SPP[[#This Row],[DATA]])","v":2020}]
["03/07/2020","71","MÃE PAULISTANA",137768,377719.62,922374.20000000007,1300093.82,{"$f":"TEXT(SPP[[#This Row],[DATA]],\"mmmm\")","v":"julho"},{"$f":"YEAR(SPP[[#This Row],[DATA]])","v":2020}]
["04/07/2020","71","MÃE PAULISTANA",137784,377980.83,919073.39,1297054.22,{"$f":"TEXT(SPP[[#This Row],[DATA]],\"mmmm\")","v":"julho"},{"$f":"YEAR(SPP[[#This Row],[DATA]])","v":2020}]
["05/07/2020","86","Estacionamento",9222,0,101025.37,101025.37,{"$f":"TEXT(SPP[[#This Row],[DATA]],\"mmmm\")","v":"julho"},{"$f":"YEAR(SPP[[#This Row],[DATA]])","v":2020}]
["05/07/2020","100","BILHETE UNICO MENSAL - CASCO",4972488,768796395.88999999,75912956.980000004,844709352.87,{"$f":"TEXT(SPP[[#This Row],[DATA]],\"mmmm\")","v":"julho"},{"$f":"YEAR(SPP[[#This Row],[DATA]])","v":2020}]
["07/07/2020","75","CARTAO FIDELIDADE",115489,0,8241499.1699999999,8241499.1699999999,{"$f":"TEXT(SPP[[#This Row],[DATA]],\"mmmm\")","v":"julho"},{"$f":"YEAR(SPP[[#This Row],[DATA]])","v":2020}]
["08/07/2020","75","CARTAO FIDELIDADE",115518,0,8248911.3200000003,8248911.3200000003,{"$f":"TEXT(SPP[[#This Row],[DATA]],\"mmmm\")","v":"julho"},{"$f":"YEAR(SPP[[#This Row],[DATA]])","v":2020}]
["09/07/2020","68","ESTUDANTE 8VG",1,0,2.7,2.7,{"$f":"TEXT(SPP[[#This Row],[DATA]],\"mmmm\")","v":"julho"},{"$f":"YEAR(SPP[[#This Row],[DATA]])","v":2020}]
["09/07/2020","110","BUM - ANÔNIMO - CASCO",1362882,992.85,8978756.8200000003,8979749.6699999999,{"$f":"TEXT(SPP[[#This Row],[DATA]],\"mmmm\")","v":"julho"},{"$f":"YEAR(SPP[[#This Row],[DATA]])","v":2020}]
["10/07/2020","100","BILHETE UNICO MENSAL - CASCO",4981143,771128946.11000001,80886683.969999999,852015630.08000004,{"$f":"TEXT(SPP[[#This Row],[DATA]],\"mmmm\")","v":"julho"},{"$f":"YEAR(SPP[[#This Row],[DATA]])","v":2020}]
["11/07/2020","80","COMUM 8 VIAGENS",14,0,357.79,357.79,{"$f":"TEXT(SPP[[#This Row],[DATA]],\"mmmm\")","v":"julho"},{"$f":"YEAR(SPP[[#This Row],[DATA]])","v":2020}]
["13/07/2020","69","VT 8VG",944,0,13059.11,13059.11,{"$f":"TEXT(SPP[[#This Row],[DATA]],\"mmmm\")","v":"julho"},{"$f":"YEAR(SPP[[#This Row],[DATA]])","v":2020}]
["13/07/2020","71","MÃE PAULISTANA",138020,374576.76,944823.26,1319400.02,{"$f":"TEXT(SPP[[#This Row],[DATA]],\"mmmm\")","v":"julho"},{"$f":"YEAR(SPP[[#This Row],[DATA]])","v":2020}]
["14/07/2020","74","PROFESSOR",23761,1121876.95,0,1121876.95,{"$f":"TEXT(SPP[[#This Row],[DATA]],\"mmmm\")","v":"julho"},{"$f":"YEAR(SPP[[#This Row],[DATA]])","v":2020}]
["16/07/2020","52","ESTUDANTE",65350,80734.19,381973.27,462707.46,{"$f":"TEXT(SPP[[#This Row],[DATA]],\"mmmm\")","v":"julho"},{"$f":"YEAR(SPP[[#This Row],[DATA]])","v":2020}]
["16/07/2020","86","Estacionamento",9220,0,101737.73,101737.73,{"$f":"TEXT(SPP[[#This Row],[DATA]],\"mmmm\")","v":"julho"},{"$f":"YEAR(SPP[[#This Row],[DATA]])","v":2020}]
["17/07/2020","74","PROFESSOR",23760,1118447.73,0,1118447.73,{"$f":"TEXT(SPP[[#This Row],[DATA]],\"mmmm\")","v":"julho"},{"$f":"YEAR(SPP[[#This Row],[DATA]])","v":2020}]
["18/07/2020","86","Estacionamento",9223,0,101723.75,101723.75,{"$f":"TEXT(SPP[[#This Row],[DATA]],\"mmmm\")","v":"julho"},{"$f":"YEAR(SPP[[#This Row],[DATA]])","v":2020}]
["19/07/2020","68","ESTUDANTE 8VG",1,0,2.7,2.7,{"$f":"TEXT(SPP[[#This Row],[DATA]],\"mmmm\")","v":"julho"},{"$f":"YEAR(SPP[[#This Row],[DATA]])","v":2020}]
["20/07/2020","100","BILHETE UNICO MENSAL - CASCO",4992594,754636985.15999997,79462109.650000006,834099094.80999994,{"$f":"TEXT(SPP[[#This Row],[DATA]],\"mmmm\")","v":"julho"},{"$f":"YEAR(SPP[[#This Row],[DATA]])","v":2020}]
["20/07/2020","110","BUM - ANÔNIMO - CASCO",1363953,992.85,9092693.0800000001,9093685.9299999997,{"$f":"TEXT(SPP[[#This Row],[DATA]],\"mmmm\")","v":"julho"},{"$f":"YEAR(SPP[[#This Row],[DATA]])","v":2020}]
["22/07/2020","71","MÃE PAULISTANA",138674,365056.94,942089.86,1307146.8,{"$f":"TEXT(SPP[[#This Row],[DATA]],\"mmmm\")","v":"julho"},{"$f":"YEAR(SPP[[#This Row],[DATA]])","v":2020}]
["23/07/2020","76","Lazer",417,0,11288.710000000001,11288.710000000001,{"$f":"TEXT(SPP[[#This Row],[DATA]],\"mmmm\")","v":"julho"},{"$f":"YEAR(SPP[[#This Row],[DATA]])","v":2020}]
["24/07/2020","69","VT 8VG",950,0,12892.86,12892.86,{"$f":"TEXT(SPP[[#This Row],[DATA]],\"mmmm\")","v":"julho"},{"$f":"YEAR(SPP[[#This Row],[DATA]])","v":2020}]
["25/07/2020","51","COMUM 4 VIAGENS",1382,551.07000000000005,15496.550000000001,16047.62,{"$f":"TEXT(SPP[[#This Row],[DATA]],\"mmmm\")","v":"julho"},{"$f":"YEAR(SPP[[#This Row],[DATA]])","v":2020}]
["25/07/2020","80","COMUM 8 VIAGENS",10,0,203.94,203.94,{"$f":"TEXT(SPP[[#This Row],[DATA]],\"mmmm\")","v":"julho"},{"$f":"YEAR(SPP[[#This Row],[DATA]])","v":2020}]
["26/07/2020","86","Estacionamento",9233,0,101729.24,101729.24,{"$f":"TEXT(SPP[[#This Row],[DATA]],\"mmmm\")","v":"julho"},{"$f":"YEAR(SPP[[#This Row],[DATA]])","v":2020}]
["27/07/2020","86","Estacionamento",9235,0,102222.85,102222.85,{"$f":"TEXT(SPP[[#This Row],[DATA]],\"mmmm\")","v":"julho"},{"$f":"YEAR(SPP[[#This Row],[DATA]])","v":2020}]
["28/07/2020","74","PROFESSOR",23752,1107493.8,0,1107493.8,{"$f":"TEXT(SPP[[#This Row],[DATA]],\"mmmm\")","v":"julho"},{"$f":"YEAR(SPP[[#This Row],[DATA]])","v":2020}]
["30/07/2020","69","VT 8VG",953,0,13082.15,13082.15,{"$f":"TEXT(SPP[[#This Row],[DATA]],\"mmmm\")","v":"julho"},{"$f":"YEAR(SPP[[#This Row],[DATA]])","v":2020}]
["31/07/2020","59","VT",3292298,151160751.27000001,19096451.539999999,170257202.81,{"$f":"TEXT(SPP[[#This Row],[DATA]],\"mmmm\")","v":"julho"},{"$f":"YEAR(SPP[[#This Row],[DATA]])","v":2020}]
["31/07/2020","100","BILHETE UNICO MENSAL - CASCO",5007109,758839626.58000004,74248775.060000002,833088401.63999999,{"$f":"TEXT(SPP[[#This Row],[DATA]],\"mmmm\")","v":"julho"},{"$f":"YEAR(SPP[[#This Row],[DATA]])","v":2020}]
["01/08/2020","75","CARTAO FIDELIDADE",115620,0,8092289.0700000003,8092289.0700000003,{"$f":"TEXT(SPP[[#This Row],[DATA]],\"mmmm\")","v":"agosto"},{"$f":"YEAR(SPP[[#This Row],[DATA]])","v":2020}]
["02/08/2020","76","Lazer",418,0,11256.31,11256.31,{"$f":"TEXT(SPP[[#This Row],[DATA]],\"mmmm\")","v":"agosto"},{"$f":"YEAR(SPP[[#This Row],[DATA]])","v":2020}]
["03/08/2020","69","VT 8VG",945,0,12926.15,12926.15,{"$f":"TEXT(SPP[[#This Row],[DATA]],\"mmmm\")","v":"agosto"},{"$f":"YEAR(SPP[[#This Row],[DATA]])","v":2020}]
["04/08/2020","69","VT 8VG",946,0,13297.050000000001,13297.050000000001,{"$f":"TEXT(SPP[[#This Row],[DATA]],\"mmmm\")","v":"agosto"},{"$f":"YEAR(SPP[[#This Row],[DATA]])","v":2020}]
["05/08/2020","51","COMUM 4 VIAGENS",1606,621.25,17946.21,18567.46,{"$f":"TEXT(SPP[[#This Row],[DATA]],\"mmmm\")","v":"agosto"},{"$f":"YEAR(SPP[[#This Row],[DATA]])","v":2020}]
["06/08/2020","68","ESTUDANTE 8VG",1,0,2.7,2.7,{"$f":"TEXT(SPP[[#This Row],[DATA]],\"mmmm\")","v":"agosto"},{"$f":"YEAR(SPP[[#This Row],[DATA]])","v":2020}]
["07/08/2020","80","COMUM 8 VIAGENS",20,0,393,393,{"$f":"TEXT(SPP[[#This Row],[DATA]],\"mmmm\")","v":"agosto"},{"$f":"YEAR(SPP[[#This Row],[DATA]])","v":2020}]
["08/08/2020","71","MÃE PAULISTANA",139907,375957.5,969785.3,1345742.8,{"$f":"TEXT(SPP[[#This Row],[DATA]],\"mmmm\")","v":"agosto"},{"$f":"YEAR(SPP[[#This Row],[DATA]])","v":2020}]
["09/08/2020","52","ESTUDANTE",65645,78929.19,383141.24,462070.43,{"$f":"TEXT(SPP[[#This Row],[DATA]],\"mmmm\")","v":"agosto"},{"$f":"YEAR(SPP[[#This Row],[DATA]])","v":2020}]
["10/08/2020","75","CARTAO FIDELIDADE",115923,0,8211464.8099999996,8211464.8099999996,{"$f":"TEXT(SPP[[#This Row],[DATA]],\"mmmm\")","v":"agosto"},{"$f":"YEAR(SPP[[#This Row],[DATA]])","v":2020}]
["10/08/2020","100","BILHETE UNICO MENSAL - CASCO",5022292,775392598.63,82943092.299999997,858335690.92999995,{"$f":"TEXT(SPP[[#This Row],[DATA]],\"mmmm\")","v":"agosto"},{"$f":"YEAR(SPP[[#This Row],[DATA]])","v":2020}]
["11/08/2020","100","BILHETE UNICO MENSAL - CASCO",5024135,774302408.59000003,83263721.489999995,857566130.08000004,{"$f":"TEXT(SPP[[#This Row],[DATA]],\"mmmm\")","v":"agosto"},{"$f":"YEAR(SPP[[#This Row],[DATA]])","v":2020}]
["12/08/2020","75","CARTAO FIDELIDADE",116075,0,8227322.2300000004,8227322.2300000004,{"$f":"TEXT(SPP[[#This Row],[DATA]],\"mmmm\")","v":"agosto"},{"$f":"YEAR(SPP[[#This Row],[DATA]])","v":2020}]
["14/08/2020","59","VT",3295997,150946810.12,19175677.789999999,170122487.91,{"$f":"TEXT(SPP[[#This Row],[DATA]],\"mmmm\")","v":"agosto"},{"$f":"YEAR(SPP[[#This Row],[DATA]])","v":2020}]
["15/08/2020","68","ESTUDANTE 8VG",1,0,2.7,2.7,{"$f":"TEXT(SPP[[#This Row],[DATA]],\"mmmm\")","v":"agosto"},{"$f":"YEAR(SPP[[#This Row],[DATA]])","v":2020}]
["15/08/2020","110","BUM - ANÔNIMO - CASCO",1366560,1182.8500000000001,8947477.3200000003,8948660.1699999999,{"$f":"TEXT(SPP[[#This Row],[DATA]],\"mmmm\")","v":"agosto"},{"$f":"YEAR(SPP[[#This Row],[DATA]])","v":2020}]
["16/08/2020","110","BUM - ANÔNIMO - CASCO",1366423,1182.8500000000001,8839612.4900000002,8840795.3399999999,{"$f":"TEXT(SPP[[#This Row],[DATA]],\"mmmm\")","v":"agosto"},{"$f":"YEAR(SPP[[#This Row],[DATA]])","v":2020}]
["17/08/2020","74","PROFESSOR",23736,1084601.98,0,1084601.98,{"$f":"TEXT(SPP[[#This Row],[DATA]],\"mmmm\")","v":"agosto"},{"$f":"YEAR(SPP[[#This Row],[DATA]])","v":2020}]
["18/08/2020","71","MÃE PAULISTANA",140674,365413.73,968959.14,1334372.8700000001,{"$f":"TEXT(SPP[[#This Row],[DATA]],\"mmmm\")","v":"agosto"},{"$f":"YEAR(SPP[[#This Row],[DATA]])","v":2020}]
["19/08/2020","71","MÃE PAULISTANA",140763,364499.86,965288.12,1329787.98,{"$f":"TEXT(SPP[[#This Row],[DATA]],\"mmmm\")","v":"agosto"},{"$f":"YEAR(SPP[[#This Row],[DATA]])","v":2020}]
["20/08/2020","52","ESTUDANTE",65813,79988.28,389225.36,469213.64,{"$f":"TEXT(SPP[[#This Row],[DATA]],\"mmmm\")","v":"agosto"},{"$f":"YEAR(SPP[[#This Row],[DATA]])","v":2020}]
["21/08/2020","52","ESTUDANTE",65817,80002.19,387554.78,467556.97000000003,{"$f":"TEXT(SPP[[#This Row],[DATA]],\"mmmm\")","v":"agosto"},{"$f":"YEAR(SPP[[#This Row],[DATA]])","v":2020}]
["22/08/2020","86","Estacionamento",9249,0,102474.47,102474.47,{"$f":"TEXT(SPP[[#This Row],[DATA]],\"mmmm\")","v":"agosto"},{"$f":"YEAR(SPP[[#This Row],[DATA]])","v":2020}]
["23/08/2020","74","PROFESSOR",23729,1078339.29,0,1078339.29,{"$f":"TEXT(SPP[[#This Row],[DATA]],\"mmmm\")","v":"agosto"},{"$f":"YEAR(SPP[[#This Row],[DATA]])","v":2020}]
["24/08/2020","74","PROFESSOR",23728,1078191.5900000001,0,1078191.5900000001,{"$f":"TEXT(SPP[[#This Row],[DATA]],\"mmmm\")","v":"agosto"},{"$f":"YEAR(SPP[[#This Row],[DATA]])","v":2020}]
["25/08/2020","71","MÃE PAULISTANA",141333,363632.27,967933.42,1331565.69,{"$f":"TEXT(SPP[[#This Row],[DATA]],\"mmmm\")","v":"agosto"},{"$f":"YEAR(SPP[[#This Row],[DATA]])","v":2020}]
["25/08/2020","110","BUM - ANÔNIMO - CASCO",1367653,1182.8500000000001,9102673.3699999992,9103856.2200000007,{"$f":"TEXT(SPP[[#This Row],[DATA]],\"mmmm\")","v":"agosto"},{"$f":"YEAR(SPP[[#This Row],[DATA]])","v":2020}]
["26/08/2020","110","BUM - ANÔNIMO - CASCO",1367808,1182.8500000000001,9078318.1099999994,9079500.9600000009,{"$f":"TEXT(SPP[[#This Row],[DATA]],\"mmmm\")","v":"agosto"},{"$f":"YEAR(SPP[[#This Row],[DATA]])","v":2020}]
["27/08/2020","76","Lazer",418,0,11241.11,11241.11,{"$f":"TEXT(SPP[[#This Row],[DATA]],\"mmmm\")","v":"agosto"},{"$f":"YEAR(SPP[[#This Row],[DATA]])","v":2020}]
["28/08/2020","80","COMUM 8 VIAGENS",20,0,302.78000000000003,302.78000000000003,{"$f":"TEXT(SPP[[#This Row],[DATA]],\"mmmm\")","v":"agosto"},{"$f":"YEAR(SPP[[#This Row],[DATA]])","v":2020}]
["30/08/2020","69","VT 8VG",942,0,12251.51,12251.51,{"$f":"TEXT(SPP[[#This Row],[DATA]],\"mmmm\")","v":"agosto"},{"$f":"YEAR(SPP[[#This Row],[DATA]])","v":2020}]
["31/08/2020","51","COMUM 4 VIAGENS",2546,959.68000000000006,27653.87,28613.55,{"$f":"TEXT(SPP[[#This Row],[DATA]],\"mmmm\")","v":"agosto"},{"$f":"YEAR(SPP[[#This Row],[DATA]])","v":2020}]
["01/09/2020","51","COMUM 4 VIAGENS",2573,1023.5,28556.79,29580.29,{"$f":"TEXT(SPP[[#This Row],[DATA]],\"mmmm\")","v":"setembro"},{"$f":"YEAR(SPP[[#This Row],[DATA]])","v":2020}]
["01/09/2020","69","VT 8VG",938,0,12402.41,12402.41,{"$f":"TEXT(SPP[[#This Row],[DATA]],\"mmmm\")","v":"setembro"},{"$f":"YEAR(SPP[[#This Row],[DATA]])","v":2020}]
["02/09/2020","74","PROFESSOR",23724,1067837.33,0,1067837.33,{"$f":"TEXT(SPP[[#This Row],[DATA]],\"mmmm\")","v":"setembro"},{"$f":"YEAR(SPP[[#This Row],[DATA]])","v":2020}]
["03/09/2020","74","PROFESSOR",23723,1066550.33,0,1066550.33,{"$f":"TEXT(SPP[[#This Row],[DATA]],\"mmmm\")","v":"setembro"},{"$f":"YEAR(SPP[[#This Row],[DATA]])","v":2020}]
["04/09/2020","59","VT",3301847,149798782.34999999,19366264.649999999,169165047,{"$f":"TEXT(SPP[[#This Row],[DATA]],\"mmmm\")","v":"setembro"},{"$f":"YEAR(SPP[[#This Row],[DATA]])","v":2020}]
["05/09/2020","76","Lazer",420,0,11293.11,11293.11,{"$f":"TEXT(SPP[[#This Row],[DATA]],\"mmmm\")","v":"setembro"},{"$f":"YEAR(SPP[[#This Row],[DATA]])","v":2020}]
["06/09/2020","100","BILHETE UNICO MENSAL - CASCO",5058332,778893133.09000003,79671239.989999995,858564373.08000004,{"$f":"TEXT(SPP[[#This Row],[DATA]],\"mmmm\")","v":"setembro"},{"$f":"YEAR(SPP[[#This Row],[DATA]])","v":2020}]
["07/09/2020","75","CARTAO FIDELIDADE",115994,0,8083996.1799999997,8083996.1799999997,{"$f":"TEXT(SPP[[#This Row],[DATA]],\"mmmm\")","v":"setembro"},{"$f":"YEAR(SPP[[#This Row],[DATA]])","v":2020}]
["08/09/2020","75","CARTAO FIDELIDADE",116230,0,8162084.6200000001,8162084.6200000001,{"$f":"TEXT(SPP[[#This Row],[DATA]],\"mmmm\")","v":"setembro"},{"$f":"YEAR(SPP[[#This Row],[DATA]])","v":2020}]
["09/09/2020","68","ESTUDANTE 8VG",1,0,2.7,2.7,{"$f":"TEXT(SPP[[#This Row],[DATA]],\"mmmm\")","v":"setembro"},{"$f":"YEAR(SPP[[#This Row],[DATA]])","v":2020}]
["10/09/2020","51","COMUM 4 VIAGENS",2714,1076.3,28489.77,29566.07,{"$f":"TEXT(SPP[[#This Row],[DATA]],\"mmmm\")","v":"setembro"},{"$f":"YEAR(SPP[[#This Row],[DATA]])","v":2020}]
["11/09/2020","51","COMUM 4 VIAGENS",2630,1064.72,26177.25,27241.97,{"$f":"TEXT(SPP[[#This Row],[DATA]],\"mmmm\")","v":"setembro"},{"$f":"YEAR(SPP[[#This Row],[DATA]])","v":2020}]
["11/09/2020","80","COMUM 8 VIAGENS",19,0,452.96000000000004,452.96000000000004,{"$f":"TEXT(SPP[[#This Row],[DATA]],\"mmmm\")","v":"setembro"},{"$f":"YEAR(SPP[[#This Row],[DATA]])","v":2020}]
["13/09/2020","75","CARTAO FIDELIDADE",116069,0,8090166.4800000004,8090166.4800000004,{"$f":"TEXT(SPP[[#This Row],[DATA]],\"mmmm\")","v":"setembro"},{"$f":"YEAR(SPP[[#This Row],[DATA]])","v":2020}]
["14/09/2020","71","MÃE PAULISTANA",142204,373380.23,989969.62,1363349.85,{"$f":"TEXT(SPP[[#This Row],[DATA]],\"mmmm\")","v":"setembro"},{"$f":"YEAR(SPP[[#This Row],[DATA]])","v":2020}]
["15/09/2020","52","ESTUDANTE",66191,86358.52,397124.56,483483.08,{"$f":"TEXT(SPP[[#This Row],[DATA]],\"mmmm\")","v":"setembro"},{"$f":"YEAR(SPP[[#This Row],[DATA]])","v":2020}]
["16/09/2020","52","ESTUDANTE",66219,86097.99,398362.55,484460.54000000004,{"$f":"TEXT(SPP[[#This Row],[DATA]],\"mmmm\")","v":"setembro"},{"$f":"YEAR(SPP[[#This Row],[DATA]])","v":2020}]
["17/09/2020","59","VT",3304048,146146272.25,19437072.469999999,165583344.72,{"$f":"TEXT(SPP[[#This Row],[DATA]],\"mmmm\")","v":"setembro"},{"$f":"YEAR(SPP[[#This Row],[DATA]])","v":2020}]
["17/09/2020","100","BILHETE UNICO MENSAL - CASCO",5077508,759093080.10000002,81234802.099999994,840327882.20000005,{"$f":"TEXT(SPP[[#This Row],[DATA]],\"mmmm\")","v":"setembro"},{"$f":"YEAR(SPP[[#This Row],[DATA]])","v":2020}]
["18/09/2020","75","CARTAO FIDELIDADE",116349,0,8112265.9500000002,8112265.9500000002,{"$f":"TEXT(SPP[[#This Row],[DATA]],\"mmmm\")","v":"setembro"},{"$f":"YEAR(SPP[[#This Row],[DATA]])","v":2020}]
["19/09/2020","68","ESTUDANTE 8VG",1,0,2.7,2.7,{"$f":"TEXT(SPP[[#This Row],[DATA]],\"mmmm\")","v":"setembro"},{"$f":"YEAR(SPP[[#This Row],[DATA]])","v":2020}]
["20/09/2020","74","PROFESSOR",23704,1047601.92,0,1047601.92,{"$f":"TEXT(SPP[[#This Row],[DATA]],\"mmmm\")","v":"setembro"},{"$f":"YEAR(SPP[[#This Row],[DATA]])","v":2020}]
["21/09/2020","110","BUM - ANÔNIMO - CASCO",1370249,1186.8500000000001,9026837.0399999991,9028023.8900000006,{"$f":"TEXT(SPP[[#This Row],[DATA]],\"mmmm\")","v":"setembro"},{"$f":"YEAR(SPP[[#This Row],[DATA]])","v":2020}]
["22/09/2020","76","Lazer",421,0,11143.51,11143.51,{"$f":"TEXT(SPP[[#This Row],[DATA]],\"mmmm\")","v":"setembro"},{"$f":"YEAR(SPP[[#This Row],[DATA]])","v":2020}]
["23/09/2020","76","Lazer",422,0,11187.51,11187.51,{"$f":"TEXT(SPP[[#This Row],[DATA]],\"mmmm\")","v":"setembro"},{"$f":"YEAR(SPP[[#This Row],[DATA]])","v":2020}]
["24/09/2020","52","ESTUDANTE",66340,86067.83,398721.21,484789.04000000004,{"$f":"TEXT(SPP[[#This Row],[DATA]],\"mmmm\")","v":"setembro"},{"$f":"YEAR(SPP[[#This Row],[DATA]])","v":2020}]
["25/09/2020","71","MÃE PAULISTANA",143372,376359.91000000003,968597.55,1344957.46,{"$f":"TEXT(SPP[[#This Row],[DATA]],\"mmmm\")","v":"setembro"},{"$f":"YEAR(SPP[[#This Row],[DATA]])","v":2020}]
["26/09/2020","52","ESTUDANTE",66392,85227.98,396491.3,481719.28,{"$f":"TEXT(SPP[[#This Row],[DATA]],\"mmmm\")","v":"setembro"},{"$f":"YEAR(SPP[[#This Row],[DATA]])","v":2020}]
["26/09/2020","86","Estacionamento",9244,271.39999999999998,103050.83,103322.23,{"$f":"TEXT(SPP[[#This Row],[DATA]],\"mmmm\")","v":"setembro"},{"$f":"YEAR(SPP[[#This Row],[DATA]])","v":2020}]
["28/09/2020","71","MÃE PAULISTANA",143421,380974.56,961479.93,1342454.49,{"$f":"TEXT(SPP[[#This Row],[DATA]],\"mmmm\")","v":"setembro"},{"$f":"YEAR(SPP[[#This Row],[DATA]])","v":2020}]
["29/09/2020","74","PROFESSOR",23698,1039231.57,0,1039231.57,{"$f":"TEXT(SPP[[#This Row],[DATA]],\"mmmm\")","v":"setembro"},{"$f":"YEAR(SPP[[#This Row],[DATA]])","v":2020}]
["30/09/2020","59","VT",3305908,145763096.05000001,19401154.829999998,165164250.88,{"$f":"TEXT(SPP[[#This Row],[DATA]],\"mmmm\")","v":"setembro"},{"$f":"YEAR(SPP[[#This Row],[DATA]])","v":2020}]
["01/10/2020","59","VT",3306018,146676021.84,19398973.199999999,166074995.03999999,{"$f":"TEXT(SPP[[#This Row],[DATA]],\"mmmm\")","v":"outubro"},{"$f":"YEAR(SPP[[#This Row],[DATA]])","v":2020}]
["02/10/2020","51","COMUM 4 VIAGENS",3783,1520.59,37393.200000000004,38913.79,{"$f":"TEXT(SPP[[#This Row],[DATA]],\"mmmm\")","v":"outubro"},{"$f":"YEAR(SPP[[#This Row],[DATA]])","v":2020}]
["02/10/2020","110","BUM - ANÔNIMO - CASCO",1371371,1439.64,8939194.3100000005,8940633.9499999993,{"$f":"TEXT(SPP[[#This Row],[DATA]],\"mmmm\")","v":"outubro"},{"$f":"YEAR(SPP[[#This Row],[DATA]])","v":2020}]
["03/10/2020","76","Lazer",422,0,11211.01,11211.01,{"$f":"TEXT(SPP[[#This Row],[DATA]],\"mmmm\")","v":"outubro"},{"$f":"YEAR(SPP[[#This Row],[DATA]])","v":2020}]
["04/10/2020","69","VT 8VG",930,0,12458.99,12458.99,{"$f":"TEXT(SPP[[#This Row],[DATA]],\"mmmm\")","v":"outubro"},{"$f":"YEAR(SPP[[#This Row],[DATA]])","v":2020}]
["05/10/2020","69","VT 8VG",920,0,12758.52,12758.52,{"$f":"TEXT(SPP[[#This Row],[DATA]],\"mmmm\")","v":"outubro"},{"$f":"YEAR(SPP[[#This Row],[DATA]])","v":2020}]
["07/10/2020","51","COMUM 4 VIAGENS",3939,1571.39,39994.43,41565.82,{"$f":"TEXT(SPP[[#This Row],[DATA]],\"mmmm\")","v":"outubro"},{"$f":"YEAR(SPP[[#This Row],[DATA]])","v":2020}]
["08/10/2020","51","COMUM 4 VIAGENS",4059,1641.39,44031.01,45672.4,{"$f":"TEXT(SPP[[#This Row],[DATA]],\"mmmm\")","v":"outubro"},{"$f":"YEAR(SPP[[#This Row],[DATA]])","v":2020}]
["08/10/2020","80","COMUM 8 VIAGENS",36,0,580.03,580.03,{"$f":"TEXT(SPP[[#This Row],[DATA]],\"mmmm\")","v":"outubro"},{"$f":"YEAR(SPP[[#This Row],[DATA]])","v":2020}]
["09/10/2020","110","BUM - ANÔNIMO - CASCO",1371772,2794.8,8983066.8300000001,8985861.6300000008,{"$f":"TEXT(SPP[[#This Row],[DATA]],\"mmmm\")","v":"outubro"},{"$f":"YEAR(SPP[[#This Row],[DATA]])","v":2020}]
["10/10/2020","74","PROFESSOR",23687,1024354.36,0,1024354.36,{"$f":"TEXT(SPP[[#This Row],[DATA]],\"mmmm\")","v":"outubro"},{"$f":"YEAR(SPP[[#This Row],[DATA]])","v":2020}]
["11/10/2020","59","VT",3307870,147926391.53,19228764.140000001,167155155.66999999,{"$f":"TEXT(SPP[[#This Row],[DATA]],\"mmmm\")","v":"outubro"},{"$f":"YEAR(SPP[[#This Row],[DATA]])","v":2020}]
["11/10/2020","100","BILHETE UNICO MENSAL - CASCO",5119229,799884283.5,82650937.019999996,882535220.51999998,{"$f":"TEXT(SPP[[#This Row],[DATA]],\"mmmm\")","v":"outubro"},{"$f":"YEAR(SPP[[#This Row],[DATA]])","v":2020}]
["13/10/2020","68","ESTUDANTE 8VG",1,0,2.7,2.7,{"$f":"TEXT(SPP[[#This Row],[DATA]],\"mmmm\")","v":"outubro"},{"$f":"YEAR(SPP[[#This Row],[DATA]])","v":2020}]
["14/10/2020","75","CARTAO FIDELIDADE",116819,0,8119339.0499999998,8119339.0499999998,{"$f":"TEXT(SPP[[#This Row],[DATA]],\"mmmm\")","v":"outubro"},{"$f":"YEAR(SPP[[#This Row],[DATA]])","v":2020}]
["15/10/2020","75","CARTAO FIDELIDADE",116818,0,8107223.5999999996,8107223.5999999996,{"$f":"TEXT(SPP[[#This Row],[DATA]],\"mmmm\")","v":"outubro"},{"$f":"YEAR(SPP[[#This Row],[DATA]])","v":2020}]
["16/10/2020","68","ESTUDANTE 8VG",1,0,2.7,2.7,{"$f":"TEXT(SPP[[#This Row],[DATA]],\"mmmm\")","v":"outubro"},{"$f":"YEAR(SPP[[#This Row],[DATA]])","v":2020}]
["16/10/2020","100","BILHETE UNICO MENSAL - CASCO",5128115,789648185.04999995,82805219.129999995,872453404.17999995,{"$f":"TEXT(SPP[[#This Row],[DATA]],\"mmmm\")","v":"outubro"},{"$f":"YEAR(SPP[[#This Row],[DATA]])","v":2020}]
["18/10/2020","51","COMUM 4 VIAGENS",4238,1735.65,39620.57,41356.22,{"$f":"TEXT(SPP[[#This Row],[DATA]],\"mmmm\")","v":"outubro"},{"$f":"YEAR(SPP[[#This Row],[DATA]])","v":2020}]
["18/10/2020","80","COMUM 8 VIAGENS",31,0,443.99,443.99,{"$f":"TEXT(SPP[[#This Row],[DATA]],\"mmmm\")","v":"outubro"},{"$f":"YEAR(SPP[[#This Row],[DATA]])","v":2020}]
["19/10/2020","80","COMUM 8 VIAGENS",34,0,480.29,480.29,{"$f":"TEXT(SPP[[#This Row],[DATA]],\"mmmm\")","v":"outubro"},{"$f":"YEAR(SPP[[#This Row],[DATA]])","v":2020}]
["21/10/2020","59","VT",3310413,145177919.24000001,19644929.09,164822848.33000001,{"$f":"TEXT(SPP[[#This Row],[DATA]],\"mmmm\")","v":"outubro"},{"$f":"YEAR(SPP[[#This Row],[DATA]])","v":2020}]
["22/10/2020","52","ESTUDANTE",66820,89123.01,406134.46,495257.47000000003,{"$f":"TEXT(SPP[[#This Row],[DATA]],\"mmmm\")","v":"outubro"},{"$f":"YEAR(SPP[[#This Row],[DATA]])","v":2020}]
["23/10/2020","52","ESTUDANTE",66832,88854.930000000008,404954.11,493809.04000000004,{"$f":"TEXT(SPP[[#This Row],[DATA]],\"mmmm\")","v":"outubro"},{"$f":"YEAR(SPP[[#This Row],[DATA]])","v":2020}]
["23/10/2020","86","Estacionamento",9242,117.4,104020.13,104137.53,{"$f":"TEXT(SPP[[#This Row],[DATA]],\"mmmm\")","v":"outubro"},{"$f":"YEAR(SPP[[#This Row],[DATA]])","v":2020}]
["24/10/2020","86","Estacionamento",9244,108.60000000000001,103924.02,104032.62,{"$f":"TEXT(SPP[[#This Row],[DATA]],\"mmmm\")","v":"outubro"},{"$f":"YEAR(SPP[[#This Row],[DATA]])","v":2020}]
["25/10/2020","75","CARTAO FIDELIDADE",116598,0,7957633.4400000004,7957633.4400000004,{"$f":"TEXT(SPP[[#This Row],[DATA]],\"mmmm\")","v":"outubro"},{"$f":"YEAR(SPP[[#This Row],[DATA]])","v":2020}]
["26/10/2020","68","ESTUDANTE 8VG",1,0,2.7,2.7,{"$f":"TEXT(SPP[[#This Row],[DATA]],\"mmmm\")","v":"outubro"},{"$f":"YEAR(SPP[[#This Row],[DATA]])","v":2020}]
["27/10/2020","68","ESTUDANTE 8VG",1,0,2.7,2.7,{"$f":"TEXT(SPP[[#This Row],[DATA]],\"mmmm\")","v":"outubro"},{"$f":"YEAR(SPP[[#This Row],[DATA]])","v":2020}]
["28/10/2020","52","ESTUDANTE",66894,88895.64,406887.16000000003,495782.8,{"$f":"TEXT(SPP[[#This Row],[DATA]],\"mmmm\")","v":"outubro"},{"$f":"YEAR(SPP[[#This Row],[DATA]])","v":2020}]
["29/10/2020","76","Lazer",429,0,11515.11,11515.11,{"$f":"TEXT(SPP[[#This Row],[DATA]],\"mmmm\")","v":"outubro"},{"$f":"YEAR(SPP[[#This Row],[DATA]])","v":2020}]
["30/10/2020","76","Lazer",429,0,11515.11,11515.11,{"$f":"TEXT(SPP[[#This Row],[DATA]],\"mmmm\")","v":"outubro"},{"$f":"YEAR(SPP[[#This Row],[DATA]])","v":2020}]
["31/10/2020","68","ESTUDANTE 8VG",1,0,2.7,2.7,{"$f":"TEXT(SPP[[#This Row],[DATA]],\"mmmm\")","v":"outubro"},{"$f":"YEAR(SPP[[#This Row],[DATA]])","v":2020}]
["01/11/2020","52","ESTUDANTE",66969,89582.74,400029.97000000003,489612.71,{"$f":"TEXT(SPP[[#This Row],[DATA]],\"mmmm\")","v":"novembro"},{"$f":"YEAR(SPP[[#This Row],[DATA]])","v":2020}]
["02/11/2020","52","ESTUDANTE",66981,89813.35,401441.73,491255.08,{"$f":"TEXT(SPP[[#This Row],[DATA]],\"mmmm\")","v":"novembro"},{"$f":"YEAR(SPP[[#This Row],[DATA]])","v":2020}]
["02/11/2020","86","Estacionamento",9243,73.400000000000006,103506.08,103579.48,{"$f":"TEXT(SPP[[#This Row],[DATA]],\"mmmm\")","v":"novembro"},{"$f":"YEAR(SPP[[#This Row],[DATA]])","v":2020}]
["03/11/2020","75","CARTAO FIDELIDADE",116891,0,8000637.9299999997,8000637.9299999997,{"$f":"TEXT(SPP[[#This Row],[DATA]],\"mmmm\")","v":"novembro"},{"$f":"YEAR(SPP[[#This Row],[DATA]])","v":2020}]
["04/11/2020","75","CARTAO FIDELIDADE",116945,0,8019759.1299999999,8019759.1299999999,{"$f":"TEXT(SPP[[#This Row],[DATA]],\"mmmm\")","v":"novembro"},{"$f":"YEAR(SPP[[#This Row],[DATA]])","v":2020}]
["06/11/2020","59","VT",3313256,147425916.81999999,19619377.789999999,167045294.61000001,{"$f":"TEXT(SPP[[#This Row],[DATA]],\"mmmm\")","v":"novembro"},{"$f":"YEAR(SPP[[#This Row],[DATA]])","v":2020}]
["07/11/2020","59","VT",3313557,147410644.56,19562757.98,166973402.53999999,{"$f":"TEXT(SPP[[#This Row],[DATA]],\"mmmm\")","v":"novembro"},{"$f":"YEAR(SPP[[#This Row],[DATA]])","v":2020}]
["08/11/2020","59","VT",3313434,147343953.22,19367971.579999998,166711924.80000001,{"$f":"TEXT(SPP[[#This Row],[DATA]],\"mmmm\")","v":"novembro"},{"$f":"YEAR(SPP[[#This Row],[DATA]])","v":2020}]
["08/11/2020","110","BUM - ANÔNIMO - CASCO",1373247,3429.34,8881241.7100000009,8884671.0500000007,{"$f":"TEXT(SPP[[#This Row],[DATA]],\"mmmm\")","v":"novembro"},{"$f":"YEAR(SPP[[#This Row],[DATA]])","v":2020}]
["09/11/2020","76","Lazer",429,0,11444.710000000001,11444.710000000001,{"$f":"TEXT(SPP[[#This Row],[DATA]],\"mmmm\")","v":"novembro"},{"$f":"YEAR(SPP[[#This Row],[DATA]])","v":2020}]
["10/11/2020","69","VT 8VG",928,0,13186.16,13186.16,{"$f":"TEXT(SPP[[#This Row],[DATA]],\"mmmm\")","v":"novembro"},{"$f":"YEAR(SPP[[#This Row],[DATA]])","v":2020}]
["11/11/2020","74","PROFESSOR",23652,989961.14,0,989961.14,{"$f":"TEXT(SPP[[#This Row],[DATA]],\"mmmm\")","v":"novembro"},{"$f":"YEAR(SPP[[#This Row],[DATA]])","v":2020}]
["12/11/2020","52","ESTUDANTE",67138,92358.57,411427.27,503785.84,{"$f":"TEXT(SPP[[#This Row],[DATA]],\"mmmm\")","v":"novembro"},{"$f":"YEAR(SPP[[#This Row],[DATA]])","v":2020}]
["13/11/2020","80","COMUM 8 VIAGENS",36,0,634.70000000000005,634.70000000000005,{"$f":"TEXT(SPP[[#This Row],[DATA]],\"mmmm\")","v":"novembro"},{"$f":"YEAR(SPP[[#This Row],[DATA]])","v":2020}]
["14/11/2020","80","COMUM 8 VIAGENS",35,0,495.34000000000003,495.34000000000003,{"$f":"TEXT(SPP[[#This Row],[DATA]],\"mmmm\")","v":"novembro"},{"$f":"YEAR(SPP[[#This Row],[DATA]])","v":2020}]
["15/11/2020","52","ESTUDANTE",67165,93382.25,408136.57,501518.82,{"$f":"TEXT(SPP[[#This Row],[DATA]],\"mmmm\")","v":"novembro"},{"$f":"YEAR(SPP[[#This Row],[DATA]])","v":2020}]
["16/11/2020","74","PROFESSOR",23647,984224.18,0,984224.18,{"$f":"TEXT(SPP[[#This Row],[DATA]],\"mmmm\")","v":"novembro"},{"$f":"YEAR(SPP[[#This Row],[DATA]])","v":2020}]
["17/11/2020","59","VT",3315899,144741391.56,19854173.370000001,164595564.93000001,{"$f":"TEXT(SPP[[#This Row],[DATA]],\"mmmm\")","v":"novembro"},{"$f":"YEAR(SPP[[#This Row],[DATA]])","v":2020}]
["17/11/2020","100","BILHETE UNICO MENSAL - CASCO",5181518,795410353.29999995,84758141.079999998,880168494.38,{"$f":"TEXT(SPP[[#This Row],[DATA]],\"mmmm\")","v":"novembro"},{"$f":"YEAR(SPP[[#This Row],[DATA]])","v":2020}]
["19/11/2020","71","MÃE PAULISTANA",147353,411259.8,1036356.12,1447615.92,{"$f":"TEXT(SPP[[#This Row],[DATA]],\"mmmm\")","v":"novembro"},{"$f":"YEAR(SPP[[#This Row],[DATA]])","v":2020}]
["19/11/2020","76","Lazer",432,0,11625.1,11625.1,{"$f":"TEXT(SPP[[#This Row],[DATA]],\"mmmm\")","v":"novembro"},{"$f":"YEAR(SPP[[#This Row],[DATA]])","v":2020}]
["20/11/2020","76","Lazer",432,0,11625.1,11625.1,{"$f":"TEXT(SPP[[#This Row],[DATA]],\"mmmm\")","v":"novembro"},{"$f":"YEAR(SPP[[#This Row],[DATA]])","v":2020}]
["22/11/2020","68","ESTUDANTE 8VG",1,0,2.7,2.7,{"$f":"TEXT(SPP[[#This Row],[DATA]],\"mmmm\")","v":"novembro"},{"$f":"YEAR(SPP[[#This Row],[DATA]])","v":2020}]
["23/11/2020","51","COMUM 4 VIAGENS",4848,1983.0800000000002,45862.96,47846.04,{"$f":"TEXT(SPP[[#This Row],[DATA]],\"mmmm\")","v":"novembro"},{"$f":"YEAR(SPP[[#This Row],[DATA]])","v":2020}]
["24/11/2020","51","COMUM 4 VIAGENS",4961,2033.38,45911.76,47945.14,{"$f":"TEXT(SPP[[#This Row],[DATA]],\"mmmm\")","v":"novembro"},{"$f":"YEAR(SPP[[#This Row],[DATA]])","v":2020}]
["24/11/2020","80","COMUM 8 VIAGENS",35,0,483.75,483.75,{"$f":"TEXT(SPP[[#This Row],[DATA]],\"mmmm\")","v":"novembro"},{"$f":"YEAR(SPP[[#This Row],[DATA]])","v":2020}]
["25/11/2020","71","MÃE PAULISTANA",147886,413289.77,1042229.48,1455519.25,{"$f":"TEXT(SPP[[#This Row],[DATA]],\"mmmm\")","v":"novembro"},{"$f":"YEAR(SPP[[#This Row],[DATA]])","v":2020}]
["26/11/2020","69","VT 8VG",922,0,12097.69,12097.69,{"$f":"TEXT(SPP[[#This Row],[DATA]],\"mmmm\")","v":"novembro"},{"$f":"YEAR(SPP[[#This Row],[DATA]])","v":2020}]
["27/11/2020","59","VT",3317551,142482654.25,19757188.66,162239842.91,{"$f":"TEXT(SPP[[#This Row],[DATA]],\"mmmm\")","v":"novembro"},{"$f":"YEAR(SPP[[#This Row],[DATA]])","v":2020}]
["28/11/2020","59","VT",3317807,142872206.37,19660473.66,162532680.03,{"$f":"TEXT(SPP[[#This Row],[DATA]],\"mmmm\")","v":"novembro"},{"$f":"YEAR(SPP[[#This Row],[DATA]])","v":2020}]
["29/11/2020","86","Estacionamento",9240,369.35,104528.31,104897.66,{"$f":"TEXT(SPP[[#This Row],[DATA]],\"mmmm\")","v":"novembro"},{"$f":"YEAR(SPP[[#This Row],[DATA]])","v":2020}]
["29/11/2020","110","BUM - ANÔNIMO - CASCO",1374749,4149.91,8891671.4100000001,8895821.3200000003,{"$f":"TEXT(SPP[[#This Row],[DATA]],\"mmmm\")","v":"novembro"},{"$f":"YEAR(SPP[[#This Row],[DATA]])","v":2020}]
["01/12/2020","75","CARTAO FIDELIDADE",117469,0,7956403.3899999997,7956403.3899999997,{"$f":"TEXT(SPP[[#This Row],[DATA]],\"mmmm\")","v":"dezembro"},{"$f":"YEAR(SPP[[#This Row],[DATA]])","v":2020}]
["02/12/2020","68","ESTUDANTE 8VG",1,0,2.7,2.7,{"$f":"TEXT(SPP[[#This Row],[DATA]],\"mmmm\")","v":"dezembro"},{"$f":"YEAR(SPP[[#This Row],[DATA]])","v":2020}]
["02/12/2020","110","BUM - ANÔNIMO - CASCO",1375225,4043.12,9121704.4800000004,9125747.5999999996,{"$f":"TEXT(SPP[[#This Row],[DATA]],\"mmmm\")","v":"dezembro"},{"$f":"YEAR(SPP[[#This Row],[DATA]])","v":2020}]
["04/12/2020","68","ESTUDANTE 8VG",1,0,2.7,2.7,{"$f":"TEXT(SPP[[#This Row],[DATA]],\"mmmm\")","v":"dezembro"},{"$f":"YEAR(SPP[[#This Row],[DATA]])","v":2020}]
["04/12/2020","80","COMUM 8 VIAGENS",26,0,577.27,577.27,{"$f":"TEXT(SPP[[#This Row],[DATA]],\"mmmm\")","v":"dezembro"},{"$f":"YEAR(SPP[[#This Row],[DATA]])","v":2020}]
["05/12/2020","80","COMUM 8 VIAGENS",26,0,433.77,433.77,{"$f":"TEXT(SPP[[#This Row],[DATA]],\"mmmm\")","v":"dezembro"},{"$f":"YEAR(SPP[[#This Row],[DATA]])","v":2020}]
["07/12/2020","69","VT 8VG",924,0,12439.78,12439.78,{"$f":"TEXT(SPP[[#This Row],[DATA]],\"mmmm\")","v":"dezembro"},{"$f":"YEAR(SPP[[#This Row],[DATA]])","v":2020}]
["07/12/2020","100","BILHETE UNICO MENSAL - CASCO",5213259,826371640.90999997,86192389.689999998,912564030.60000002,{"$f":"TEXT(SPP[[#This Row],[DATA]],\"mmmm\")","v":"dezembro"},{"$f":"YEAR(SPP[[#This Row],[DATA]])","v":2020}]
["09/12/2020","52","ESTUDANTE",67563,92649.64,421653.38,514303.02,{"$f":"TEXT(SPP[[#This Row],[DATA]],\"mmmm\")","v":"dezembro"},{"$f":"YEAR(SPP[[#This Row],[DATA]])","v":2020}]
["09/12/2020","86","Estacionamento",9234,369.35,105200.65000000001,105570,{"$f":"TEXT(SPP[[#This Row],[DATA]],\"mmmm\")","v":"dezembro"},{"$f":"YEAR(SPP[[#This Row],[DATA]])","v":2020}]
["10/12/2020","86","Estacionamento",9237,369.35,105491.40000000001,105860.75,{"$f":"TEXT(SPP[[#This Row],[DATA]],\"mmmm\")","v":"dezembro"},{"$f":"YEAR(SPP[[#This Row],[DATA]])","v":2020}]
["11/12/2020","59","VT",3320166,143954506.61000001,19828740.09,163783246.69999999,{"$f":"TEXT(SPP[[#This Row],[DATA]],\"mmmm\")","v":"dezembro"},{"$f":"YEAR(SPP[[#This Row],[DATA]])","v":2020}]
["12/12/2020","68","ESTUDANTE 8VG",1,0,2.7,2.7,{"$f":"TEXT(SPP[[#This Row],[DATA]],\"mmmm\")","v":"dezembro"},{"$f":"YEAR(SPP[[#This Row],[DATA]])","v":2020}]
["13/12/2020","68","ESTUDANTE 8VG",1,0,2.7,2.7,{"$f":"TEXT(SPP[[#This Row],[DATA]],\"mmmm\")","v":"dezembro"},{"$f":"YEAR(SPP[[#This Row],[DATA]])","v":2020}]
["14/12/2020","100","BILHETE UNICO MENSAL - CASCO",5224009,810522284.58000004,83935985.319999993,894458269.89999998,{"$f":"TEXT(SPP[[#This Row],[DATA]],\"mmmm\")","v":"dezembro"},{"$f":"YEAR(SPP[[#This Row],[DATA]])","v":2020}]
["15/12/2020","86","Estacionamento",9228,369.35,104666.48,105035.83,{"$f":"TEXT(SPP[[#This Row],[DATA]],\"mmmm\")","v":"dezembro"},{"$f":"YEAR(SPP[[#This Row],[DATA]])","v":2020}]
["16/12/2020","76","Lazer",435,0,11422.7,11422.7,{"$f":"TEXT(SPP[[#This Row],[DATA]],\"mmmm\")","v":"dezembro"},{"$f":"YEAR(SPP[[#This Row],[DATA]])","v":2020}]
["17/12/2020","69","VT 8VG",921,0,12045.84,12045.84,{"$f":"TEXT(SPP[[#This Row],[DATA]],\"mmmm\")","v":"dezembro"},{"$f":"YEAR(SPP[[#This Row],[DATA]])","v":2020}]
["18/12/2020","69","VT 8VG",919,0,12086.92,12086.92,{"$f":"TEXT(SPP[[#This Row],[DATA]],\"mmmm\")","v":"dezembro"},{"$f":"YEAR(SPP[[#This Row],[DATA]])","v":2020}]
["19/12/2020","52","ESTUDANTE",67761,91179.95,418541.53,509721.48000000004,{"$f":"TEXT(SPP[[#This Row],[DATA]],\"mmmm\")","v":"dezembro"},{"$f":"YEAR(SPP[[#This Row],[DATA]])","v":2020}]
["19/12/2020","86","Estacionamento",9227,369.35,104558.76000000001,104928.11,{"$f":"TEXT(SPP[[#This Row],[DATA]],\"mmmm\")","v":"dezembro"},{"$f":"YEAR(SPP[[#This Row],[DATA]])","v":2020}]
["20/12/2020","86","Estacionamento",9225,369.35,104336.3,104705.65000000001,{"$f":"TEXT(SPP[[#This Row],[DATA]],\"mmmm\")","v":"dezembro"},{"$f":"YEAR(SPP[[#This Row],[DATA]])","v":2020}]
["22/12/2020","71","MÃE PAULISTANA",150456,412773.02,1048493.41,1461266.43,{"$f":"TEXT(SPP[[#This Row],[DATA]],\"mmmm\")","v":"dezembro"},{"$f":"YEAR(SPP[[#This Row],[DATA]])","v":2020}]
["22/12/2020","80","COMUM 8 VIAGENS",37,0,797.06000000000006,797.06000000000006,{"$f":"TEXT(SPP[[#This Row],[DATA]],\"mmmm\")","v":"dezembro"},{"$f":"YEAR(SPP[[#This Row],[DATA]])","v":2020}]
["24/12/2020","59","VT",3318433,139503346.27000001,19473495.710000001,158976841.97999999,{"$f":"TEXT(SPP[[#This Row],[DATA]],\"mmmm\")","v":"dezembro"},{"$f":"YEAR(SPP[[#This Row],[DATA]])","v":2020}]
["24/12/2020","100","BILHETE UNICO MENSAL - CASCO",5230570,783181449.07000005,74638614.299999997,857820063.37,{"$f":"TEXT(SPP[[#This Row],[DATA]],\"mmmm\")","v":"dezembro"},{"$f":"YEAR(SPP[[#This Row],[DATA]])","v":2020}]
["25/12/2020","100","BILHETE UNICO MENSAL - CASCO",5230224,783136120.36000001,73304568.870000005,856440689.23000002,{"$f":"TEXT(SPP[[#This Row],[DATA]],\"mmmm\")","v":"dezembro"},{"$f":"YEAR(SPP[[#This Row],[DATA]])","v":2020}]
["27/12/2020","51","COMUM 4 VIAGENS",5627,2281.27,46398.879999999997,48680.15,{"$f":"TEXT(SPP[[#This Row],[DATA]],\"mmmm\")","v":"dezembro"},{"$f":"YEAR(SPP[[#This Row],[DATA]])","v":2020}]
["27/12/2020","69","VT 8VG",917,0,11681.27,11681.27,{"$f":"TEXT(SPP[[#This Row],[DATA]],\"mmmm\")","v":"dezembro"},{"$f":"YEAR(SPP[[#This Row],[DATA]])","v":2020}]
["28/12/2020","69","VT 8VG",920,0,12220.56,12220.56,{"$f":"TEXT(SPP[[#This Row],[DATA]],\"mmmm\")","v":"dezembro"},{"$f":"YEAR(SPP[[#This Row],[DATA]])","v":2020}]
["29/12/2020","110","BUM - ANÔNIMO - CASCO",1377792,3720.65,8927200.0500000007,8930920.6999999993,{"$f":"TEXT(SPP[[#This Row],[DATA]],\"mmmm\")","v":"dezembro"},{"$f":"YEAR(SPP[[#This Row],[DATA]])","v":2020}]
["30/12/2020","69","VT 8VG",923,0,12164.64,12164.64,{"$f":"TEXT(SPP[[#This Row],[DATA]],\"mmmm\")","v":"dezembro"},{"$f":"YEAR(SPP[[#This Row],[DATA]])","v":2020}]
["31/12/2020","80","COMUM 8 VIAGENS",37,0,501.49,501.49,{"$f":"TEXT(SPP[[#This Row],[DATA]],\"mmmm\")","v":"dezembro"},{"$f":"YEAR(SPP[[#This Row],[DATA]])","v":2020}]
["01/01/2021","71","MÃE PAULISTANA",150186,422550,965776.88,1388326.8800000001,{"$f":"TEXT(SPP[[#This Row],[DATA]],\"mmmm\")","v":"janeiro"},{"$f":"YEAR(SPP[[#This Row],[DATA]])","v":2021}]
["02/01/2021","71","MÃE PAULISTANA",150337,423512.76,977769.51,1401282.27,{"$f":"TEXT(SPP[[#This Row],[DATA]],\"mmmm\")","v":"janeiro"},{"$f":"YEAR(SPP[[#This Row],[DATA]])","v":2021}]
["02/01/2021","110","BUM - ANÔNIMO - CASCO",1377934,3650.7000000000003,8790585.2200000007,8794235.9199999999,{"$f":"TEXT(SPP[[#This Row],[DATA]],\"mmmm\")","v":"janeiro"},{"$f":"YEAR(SPP[[#This Row],[DATA]])","v":2021}]
["03/01/2021","100","BILHETE UNICO MENSAL - CASCO",5237667,813035776.84000003,74602960.189999998,887638737.02999997,{"$f":"TEXT(SPP[[#This Row],[DATA]],\"mmmm\")","v":"janeiro"},{"$f":"YEAR(SPP[[#This Row],[DATA]])","v":2021}]
["04/01/2021","100","BILHETE UNICO MENSAL - CASCO",5240213,819607969.14999998,79496144.170000002,899104113.32000005,{"$f":"TEXT(SPP[[#This Row],[DATA]],\"mmmm\")","v":"janeiro"},{"$f":"YEAR(SPP[[#This Row],[DATA]])","v":2021}]
["06/01/2021","74","PROFESSOR",23594,931851.54,0,931851.54,{"$f":"TEXT(SPP[[#This Row],[DATA]],\"mmmm\")","v":"janeiro"},{"$f":"YEAR(SPP[[#This Row],[DATA]])","v":2021}]
["07/01/2021","68","ESTUDANTE 8VG",1,0,2.7,2.7,{"$f":"TEXT(SPP[[#This Row],[DATA]],\"mmmm\")","v":"janeiro"},{"$f":"YEAR(SPP[[#This Row],[DATA]])","v":2021}]
["08/01/2021","68","ESTUDANTE 8VG",1,0,2.7,2.7,{"$f":"TEXT(SPP[[#This Row],[DATA]],\"mmmm\")","v":"janeiro"},{"$f":"YEAR(SPP[[#This Row],[DATA]])","v":2021}]
["08/01/2021","110","BUM - ANÔNIMO - CASCO",1378373,3718.9700000000003,9032264.1600000001,9035983.1300000008,{"$f":"TEXT(SPP[[#This Row],[DATA]],\"mmmm\")","v":"janeiro"},{"$f":"YEAR(SPP[[#This Row],[DATA]])","v":2021}]
["09/01/2021","110","BUM - ANÔNIMO - CASCO",1378410,3905.34,9008030.4399999995,9011935.7799999993,{"$f":"TEXT(SPP[[#This Row],[DATA]],\"mmmm\")","v":"janeiro"},{"$f":"YEAR(SPP[[#This Row],[DATA]])","v":2021}]
["10/01/2021","100","BILHETE UNICO MENSAL - CASCO",5249830,832646475.35000002,85001668.849999994,917648144.20000005,{"$f":"TEXT(SPP[[#This Row],[DATA]],\"mmmm\")","v":"janeiro"},{"$f":"YEAR(SPP[[#This Row],[DATA]])","v":2021}]
["11/01/2021","80","COMUM 8 VIAGENS",41,0,807.2,807.2,{"$f":"TEXT(SPP[[#This Row],[DATA]],\"mmmm\")","v":"janeiro"},{"$f":"YEAR(SPP[[#This Row],[DATA]])","v":2021}]
["12/01/2021","71","MÃE PAULISTANA",151185,426466.21,1097169.3999999999,1523635.61,{"$f":"TEXT(SPP[[#This Row],[DATA]],\"mmmm\")","v":"janeiro"},{"$f":"YEAR(SPP[[#This Row],[DATA]])","v":2021}]
["14/01/2021","51","COMUM 4 VIAGENS",5595,2178.69,49033.57,51212.26,{"$f":"TEXT(SPP[[#This Row],[DATA]],\"mmmm\")","v":"janeiro"},{"$f":"YEAR(SPP[[#This Row],[DATA]])","v":2021}]
["14/01/2021","59","VT",3313455,141490928.40000001,19922870.420000002,161413798.81999999,{"$f":"TEXT(SPP[[#This Row],[DATA]],\"mmmm\")","v":"janeiro"},{"$f":"YEAR(SPP[[#This Row],[DATA]])","v":2021}]
["15/01/2021","86","Estacionamento",9223,369.35,104800.29000000001,105169.64,{"$f":"TEXT(SPP[[#This Row],[DATA]],\"mmmm\")","v":"janeiro"},{"$f":"YEAR(SPP[[#This Row],[DATA]])","v":2021}]
["16/01/2021","74","PROFESSOR",23582,921952.19000000006,0,921952.19000000006,{"$f":"TEXT(SPP[[#This Row],[DATA]],\"mmmm\")","v":"janeiro"},{"$f":"YEAR(SPP[[#This Row],[DATA]])","v":2021}]
["17/01/2021","74","PROFESSOR",23581,921395.87,0,921395.87,{"$f":"TEXT(SPP[[#This Row],[DATA]],\"mmmm\")","v":"janeiro"},{"$f":"YEAR(SPP[[#This Row],[DATA]])","v":2021}]
["18/01/2021","86","Estacionamento",9228,369.35,105184.26000000001,105553.61,{"$f":"TEXT(SPP[[#This Row],[DATA]],\"mmmm\")","v":"janeiro"},{"$f":"YEAR(SPP[[#This Row],[DATA]])","v":2021}]
["19/01/2021","68","ESTUDANTE 8VG",1,0,2.7,2.7,{"$f":"TEXT(SPP[[#This Row],[DATA]],\"mmmm\")","v":"janeiro"},{"$f":"YEAR(SPP[[#This Row],[DATA]])","v":2021}]
["19/01/2021","110","BUM - ANÔNIMO - CASCO",1378904,4344,9136872.1099999994,9141216.1099999994,{"$f":"TEXT(SPP[[#This Row],[DATA]],\"mmmm\")","v":"janeiro"},{"$f":"YEAR(SPP[[#This Row],[DATA]])","v":2021}]
["21/01/2021","75","CARTAO FIDELIDADE",118333,0,8006255.0800000001,8006255.0800000001,{"$f":"TEXT(SPP[[#This Row],[DATA]],\"mmmm\")","v":"janeiro"},{"$f":"YEAR(SPP[[#This Row],[DATA]])","v":2021}]
["22/01/2021","52","ESTUDANTE",68267,97287.07,427899.79000000004,525186.86,{"$f":"TEXT(SPP[[#This Row],[DATA]],\"mmmm\")","v":"janeiro"},{"$f":"YEAR(SPP[[#This Row],[DATA]])","v":2021}]
["23/01/2021","69","VT 8VG",922,0,12996.93,12996.93,{"$f":"TEXT(SPP[[#This Row],[DATA]],\"mmmm\")","v":"janeiro"},{"$f":"YEAR(SPP[[#This Row],[DATA]])","v":2021}]
["24/01/2021","51","COMUM 4 VIAGENS",5715,2651.78,47117.279999999999,49769.06,{"$f":"TEXT(SPP[[#This Row],[DATA]],\"mmmm\")","v":"janeiro"},{"$f":"YEAR(SPP[[#This Row],[DATA]])","v":2021}]
["25/01/2021","51","COMUM 4 VIAGENS",5764,2302.7400000000002,49028.98,51331.72,{"$f":"TEXT(SPP[[#This Row],[DATA]],\"mmmm\")","v":"janeiro"},{"$f":"YEAR(SPP[[#This Row],[DATA]])","v":2021}]
["25/01/2021","80","COMUM 8 VIAGENS",44,0,749.13,749.13,{"$f":"TEXT(SPP[[#This Row],[DATA]],\"mmmm\")","v":"janeiro"},{"$f":"YEAR(SPP[[#This Row],[DATA]])","v":2021}]
["26/01/2021","86","Estacionamento",9244,369.35,106182.38,106551.73,{"$f":"TEXT(SPP[[#This Row],[DATA]],\"mmmm\")","v":"janeiro"},{"$f":"YEAR(SPP[[#This Row],[DATA]])","v":2021}]
["27/01/2021","74","PROFESSOR",23573,912203.20000000007,0,912203.20000000007,{"$f":"TEXT(SPP[[#This Row],[DATA]],\"mmmm\")","v":"janeiro"},{"$f":"YEAR(SPP[[#This Row],[DATA]])","v":2021}]
["29/01/2021","52","ESTUDANTE",68350,98936.45,427033.53,525969.98,{"$f":"TEXT(SPP[[#This Row],[DATA]],\"mmmm\")","v":"janeiro"},{"$f":"YEAR(SPP[[#This Row],[DATA]])","v":2021}]
["30/01/2021","51","COMUM 4 VIAGENS",5694,2231.7400000000002,42974.68,45206.42,{"$f":"TEXT(SPP[[#This Row],[DATA]],\"mmmm\")","v":"janeiro"},{"$f":"YEAR(SPP[[#This Row],[DATA]])","v":2021}]
["30/01/2021","100","BILHETE UNICO MENSAL - CASCO",5284446,824835303.04999995,78723993.879999995,903559296.92999995,{"$f":"TEXT(SPP[[#This Row],[DATA]],\"mmmm\")","v":"janeiro"},{"$f":"YEAR(SPP[[#This Row],[DATA]])","v":2021}]
["31/01/2021","100","BILHETE UNICO MENSAL - CASCO",5285543,827509120.32000005,78627591.590000004,906136711.90999997,{"$f":"TEXT(SPP[[#This Row],[DATA]],\"mmmm\")","v":"janeiro"},{"$f":"YEAR(SPP[[#This Row],[DATA]])","v":2021}]
["01/02/2021","75","CARTAO FIDELIDADE",118339,0,7972095.5899999999,7972095.5899999999,{"$f":"TEXT(SPP[[#This Row],[DATA]],\"mmmm\")","v":"fevereiro"},{"$f":"YEAR(SPP[[#This Row],[DATA]])","v":2021}]
["02/02/2021","76","Lazer",435,0,11577.4,11577.4,{"$f":"TEXT(SPP[[#This Row],[DATA]],\"mmmm\")","v":"fevereiro"},{"$f":"YEAR(SPP[[#This Row],[DATA]])","v":2021}]
["03/02/2021","69","VT 8VG",932,0,14594.03,14594.03,{"$f":"TEXT(SPP[[#This Row],[DATA]],\"mmmm\")","v":"fevereiro"},{"$f":"YEAR(SPP[[#This Row],[DATA]])","v":2021}]
["04/02/2021","51","COMUM 4 VIAGENS",5698,2281.63,46207.14,48488.770000000004,{"$f":"TEXT(SPP[[#This Row],[DATA]],\"mmmm\")","v":"fevereiro"},{"$f":"YEAR(SPP[[#This Row],[DATA]])","v":2021}]
["05/02/2021","76","Lazer",436,0,11621.4,11621.4,{"$f":"TEXT(SPP[[#This Row],[DATA]],\"mmmm\")","v":"fevereiro"},{"$f":"YEAR(SPP[[#This Row],[DATA]])","v":2021}]
["05/02/2021","110","BUM - ANÔNIMO - CASCO",1379885,12893.380000000001,9130254.9399999995,9143148.3200000003,{"$f":"TEXT(SPP[[#This Row],[DATA]],\"mmmm\")","v":"fevereiro"},{"$f":"YEAR(SPP[[#This Row],[DATA]])","v":2021}]
["07/02/2021","71","MÃE PAULISTANA",152521,435236.36,1074344.8799999999,1509581.24,{"$f":"TEXT(SPP[[#This Row],[DATA]],\"mmmm\")","v":"fevereiro"},{"$f":"YEAR(SPP[[#This Row],[DATA]])","v":2021}]
["08/02/2021","71","MÃE PAULISTANA",152818,435276.37,1122824.18,1558100.55,{"$f":"TEXT(SPP[[#This Row],[DATA]],\"mmmm\")","v":"fevereiro"},{"$f":"YEAR(SPP[[#This Row],[DATA]])","v":2021}]
["09/02/2021","52","ESTUDANTE",68609,99066.32,439779.82,538846.14,{"$f":"TEXT(SPP[[#This Row],[DATA]],\"mmmm\")","v":"fevereiro"},{"$f":"YEAR(SPP[[#This Row],[DATA]])","v":2021}]
["09/02/2021","75","CARTAO FIDELIDADE",118961,0,8074865.5899999999,8074865.5899999999,{"$f":"TEXT(SPP[[#This Row],[DATA]],\"mmmm\")","v":"fevereiro"},{"$f":"YEAR(SPP[[#This Row],[DATA]])","v":2021}]
["10/02/2021","100","BILHETE UNICO MENSAL - CASCO",5325882,840480606.66999996,92545489.030000001,933026095.70000005,{"$f":"TEXT(SPP[[#This Row],[DATA]],\"mmmm\")","v":"fevereiro"},{"$f":"YEAR(SPP[[#This Row],[DATA]])","v":2021}]
["11/02/2021","75","CARTAO FIDELIDADE",119051,0,8053607.7800000003,8053607.7800000003,{"$f":"TEXT(SPP[[#This Row],[DATA]],\"mmmm\")","v":"fevereiro"},{"$f":"YEAR(SPP[[#This Row],[DATA]])","v":2021}]
["13/02/2021","59","VT",3256223,139245197.96000001,19840605.09,159085803.05000001,{"$f":"TEXT(SPP[[#This Row],[DATA]],\"mmmm\")","v":"fevereiro"},{"$f":"YEAR(SPP[[#This Row],[DATA]])","v":2021}]
["13/02/2021","100","BILHETE UNICO MENSAL - CASCO",5334080,829939168.44000006,88400780.019999996,918339948.46000004,{"$f":"TEXT(SPP[[#This Row],[DATA]],\"mmmm\")","v":"fevereiro"},{"$f":"YEAR(SPP[[#This Row],[DATA]])","v":2021}]
["14/02/2021","110","BUM - ANÔNIMO - CASCO",1377849,21953.8,9036566.6500000004,9058520.4499999993,{"$f":"TEXT(SPP[[#This Row],[DATA]],\"mmmm\")","v":"fevereiro"},{"$f":"YEAR(SPP[[#This Row],[DATA]])","v":2021}]
["15/02/2021","110","BUM - ANÔNIMO - CASCO",1378093,22161.24,9189734.6600000001,9211895.9000000004,{"$f":"TEXT(SPP[[#This Row],[DATA]],\"mmmm\")","v":"fevereiro"},{"$f":"YEAR(SPP[[#This Row],[DATA]])","v":2021}]
["16/02/2021","76","Lazer",440,0,11653.4,11653.4,{"$f":"TEXT(SPP[[#This Row],[DATA]],\"mmmm\")","v":"fevereiro"},{"$f":"YEAR(SPP[[#This Row],[DATA]])","v":2021}]
["17/02/2021","74","PROFESSOR",23652,920197.8,0,920197.8,{"$f":"TEXT(SPP[[#This Row],[DATA]],\"mmmm\")","v":"fevereiro"},{"$f":"YEAR(SPP[[#This Row],[DATA]])","v":2021}]
["18/02/2021","71","MÃE PAULISTANA",153282,432725.86,1077958.69,1510684.55,{"$f":"TEXT(SPP[[#This Row],[DATA]],\"mmmm\")","v":"fevereiro"},{"$f":"YEAR(SPP[[#This Row],[DATA]])","v":2021}]
["19/02/2021","52","ESTUDANTE",68787,100899.68000000001,436302.87,537202.55000000005,{"$f":"TEXT(SPP[[#This Row],[DATA]],\"mmmm\")","v":"fevereiro"},{"$f":"YEAR(SPP[[#This Row],[DATA]])","v":2021}]
["20/02/2021","52","ESTUDANTE",68781,100620.6,434513.36,535133.96,{"$f":"TEXT(SPP[[#This Row],[DATA]],\"mmmm\")","v":"fevereiro"},{"$f":"YEAR(SPP[[#This Row],[DATA]])","v":2021}]
["20/02/2021","86","Estacionamento",9227,511.45,106355.08,106866.53,{"$f":"TEXT(SPP[[#This Row],[DATA]],\"mmmm\")","v":"fevereiro"},{"$f":"YEAR(SPP[[#This Row],[DATA]])","v":2021}]
["22/02/2021","74","PROFESSOR",23689,917466.38,0,917466.38,{"$f":"TEXT(SPP[[#This Row],[DATA]],\"mmmm\")","v":"fevereiro"},{"$f":"YEAR(SPP[[#This Row],[DATA]])","v":2021}]
["23/02/2021","74","PROFESSOR",23682,914946.59,0,914946.59,{"$f":"TEXT(SPP[[#This Row],[DATA]],\"mmmm\")","v":"fevereiro"},{"$f":"YEAR(SPP[[#This Row],[DATA]])","v":2021}]
["24/02/2021","59","VT",3256591,136296380.09999999,20040307.850000001,156336687.94999999,{"$f":"TEXT(SPP[[#This Row],[DATA]],\"mmmm\")","v":"fevereiro"},{"$f":"YEAR(SPP[[#This Row],[DATA]])","v":2021}]
["25/02/2021","71","MÃE PAULISTANA",153445,433283.99,1042133.95,1475417.94,{"$f":"TEXT(SPP[[#This Row],[DATA]],\"mmmm\")","v":"fevereiro"},{"$f":"YEAR(SPP[[#This Row],[DATA]])","v":2021}]
["25/02/2021","110","BUM - ANÔNIMO - CASCO",1377503,53586.12,9102837.5,9156423.6199999992,{"$f":"TEXT(SPP[[#This Row],[DATA]],\"mmmm\")","v":"fevereiro"},{"$f":"YEAR(SPP[[#This Row],[DATA]])","v":2021}]
["26/02/2021","76","Lazer",438,0,11596.2,11596.2,{"$f":"TEXT(SPP[[#This Row],[DATA]],\"mmmm\")","v":"fevereiro"},{"$f":"YEAR(SPP[[#This Row],[DATA]])","v":2021}]
["28/02/2021","68","ESTUDANTE 8VG",1,0,2.7,2.7,{"$f":"TEXT(SPP[[#This Row],[DATA]],\"mmmm\")","v":"fevereiro"},{"$f":"YEAR(SPP[[#This Row],[DATA]])","v":2021}]
["28/02/2021","71","MÃE PAULISTANA",153533,442712.01,1029956.95,1472668.96,{"$f":"TEXT(SPP[[#This Row],[DATA]],\"mmmm\")","v":"fevereiro"},{"$f":"YEAR(SPP[[#This Row],[DATA]])","v":2021}]
["02/03/2021","51","COMUM 4 VIAGENS",5954,2464.44,43711.5,46175.94,{"$f":"TEXT(SPP[[#This Row],[DATA]],\"mmmm\")","v":"março"},{"$f":"YEAR(SPP[[#This Row],[DATA]])","v":2021}]
["03/03/2021","51","COMUM 4 VIAGENS",5951,2463.87,46055.18,48519.05,{"$f":"TEXT(SPP[[#This Row],[DATA]],\"mmmm\")","v":"março"},{"$f":"YEAR(SPP[[#This Row],[DATA]])","v":2021}]
["03/03/2021","100","BILHETE UNICO MENSAL - CASCO",5375624,862569061.90999997,90420169.920000002,952989231.83000004,{"$f":"TEXT(SPP[[#This Row],[DATA]],\"mmmm\")","v":"março"},{"$f":"YEAR(SPP[[#This Row],[DATA]])","v":2021}]
["04/03/2021","86","Estacionamento",9221,511.45,106663.19,107174.64,{"$f":"TEXT(SPP[[#This Row],[DATA]],\"mmmm\")","v":"março"},{"$f":"YEAR(SPP[[#This Row],[DATA]])","v":2021}]
["05/03/2021","74","PROFESSOR",23773,961284.75,0,961284.75,{"$f":"TEXT(SPP[[#This Row],[DATA]],\"mmmm\")","v":"março"},{"$f":"YEAR(SPP[[#This Row],[DATA]])","v":2021}]
["06/03/2021","59","VT",3257348,140131824.25,19693014.41,159824838.66,{"$f":"TEXT(SPP[[#This Row],[DATA]],\"mmmm\")","v":"março"},{"$f":"YEAR(SPP[[#This Row],[DATA]])","v":2021}]
["07/03/2021","59","VT",3257339,140145930.61000001,19646081.510000002,159792012.12,{"$f":"TEXT(SPP[[#This Row],[DATA]],\"mmmm\")","v":"março"},{"$f":"YEAR(SPP[[#This Row],[DATA]])","v":2021}]
["07/03/2021","110","BUM - ANÔNIMO - CASCO",1377600,91010.34,8928769.75,9019780.0899999999,{"$f":"TEXT(SPP[[#This Row],[DATA]],\"mmmm\")","v":"março"},{"$f":"YEAR(SPP[[#This Row],[DATA]])","v":2021}]
["09/03/2021","75","CARTAO FIDELIDADE",119357,0,7992456.7300000004,7992456.7300000004,{"$f":"TEXT(SPP[[#This Row],[DATA]],\"mmmm\")","v":"março"},{"$f":"YEAR(SPP[[#This Row],[DATA]])","v":2021}]
["10/03/2021","75","CARTAO FIDELIDADE",119407,0,7991473.7800000003,7991473.7800000003,{"$f":"TEXT(SPP[[#This Row],[DATA]],\"mmmm\")","v":"março"},{"$f":"YEAR(SPP[[#This Row],[DATA]])","v":2021}]
["10/03/2021","86","Estacionamento",9217,511.45,106382.99,106894.44,{"$f":"TEXT(SPP[[#This Row],[DATA]],\"mmmm\")","v":"março"},{"$f":"YEAR(SPP[[#This Row],[DATA]])","v":2021}]
["12/03/2021","69","VT 8VG",933,0,14528.86,14528.86,{"$f":"TEXT(SPP[[#This Row],[DATA]],\"mmmm\")","v":"março"},{"$f":"YEAR(SPP[[#This Row],[DATA]])","v":2021}]
["13/03/2021","51","COMUM 4 VIAGENS",6363,2569.1,51729.86,54298.96,{"$f":"TEXT(SPP[[#This Row],[DATA]],\"mmmm\")","v":"março"},{"$f":"YEAR(SPP[[#This Row],[DATA]])","v":2021}]
["13/03/2021","80","COMUM 8 VIAGENS",35,0,738.17,738.17,{"$f":"TEXT(SPP[[#This Row],[DATA]],\"mmmm\")","v":"março"},{"$f":"YEAR(SPP[[#This Row],[DATA]])","v":2021}]
["15/03/2021","52","ESTUDANTE",68981,103671.86,435867.63,539539.49,{"$f":"TEXT(SPP[[#This Row],[DATA]],\"mmmm\")","v":"março"},{"$f":"YEAR(SPP[[#This Row],[DATA]])","v":2021}]
["15/03/2021","74","PROFESSOR",23833,981294.61,0,981294.61,{"$f":"TEXT(SPP[[#This Row],[DATA]],\"mmmm\")","v":"março"},{"$f":"YEAR(SPP[[#This Row],[DATA]])","v":2021}]
["17/03/2021","52","ESTUDANTE",68995,102767.31,434364.51,537131.82000000007,{"$f":"TEXT(SPP[[#This Row],[DATA]],\"mmmm\")","v":"março"},{"$f":"YEAR(SPP[[#This Row],[DATA]])","v":2021}]
["18/03/2021","52","ESTUDANTE",68987,101562.36,432830.4,534392.76,{"$f":"TEXT(SPP[[#This Row],[DATA]],\"mmmm\")","v":"março"},{"$f":"YEAR(SPP[[#This Row],[DATA]])","v":2021}]
["18/03/2021","80","COMUM 8 VIAGENS",37,0,636,636,{"$f":"TEXT(SPP[[#This Row],[DATA]],\"mmmm\")","v":"março"},{"$f":"YEAR(SPP[[#This Row],[DATA]])","v":2021}]
["19/03/2021","100","BILHETE UNICO MENSAL - CASCO",5397298,842354488.98000002,86487770.859999999,928842259.84000003,{"$f":"TEXT(SPP[[#This Row],[DATA]],\"mmmm\")","v":"março"},{"$f":"YEAR(SPP[[#This Row],[DATA]])","v":2021}]
["20/03/2021","75","CARTAO FIDELIDADE",119096,0,7875002.8300000001,7875002.8300000001,{"$f":"TEXT(SPP[[#This Row],[DATA]],\"mmmm\")","v":"março"},{"$f":"YEAR(SPP[[#This Row],[DATA]])","v":2021}]
["21/03/2021","68","ESTUDANTE 8VG",1,0,2.7,2.7,{"$f":"TEXT(SPP[[#This Row],[DATA]],\"mmmm\")","v":"março"},{"$f":"YEAR(SPP[[#This Row],[DATA]])","v":2021}]
["22/03/2021","51","COMUM 4 VIAGENS",6405,2639.64,50836.05,53475.69,{"$f":"TEXT(SPP[[#This Row],[DATA]],\"mmmm\")","v":"março"},{"$f":"YEAR(SPP[[#This Row],[DATA]])","v":2021}]
["23/03/2021","51","COMUM 4 VIAGENS",6399,2628.04,50949.87,53577.91,{"$f":"TEXT(SPP[[#This Row],[DATA]],\"mmmm\")","v":"março"},{"$f":"YEAR(SPP[[#This Row],[DATA]])","v":2021}]
["24/03/2021","51","COMUM 4 VIAGENS",6437,2672.56,50209.11,52881.67,{"$f":"TEXT(SPP[[#This Row],[DATA]],\"mmmm\")","v":"março"},{"$f":"YEAR(SPP[[#This Row],[DATA]])","v":2021}]
["25/03/2021","76","Lazer",444,0,11879.7,11879.7,{"$f":"TEXT(SPP[[#This Row],[DATA]],\"mmmm\")","v":"março"},{"$f":"YEAR(SPP[[#This Row],[DATA]])","v":2021}]
["26/03/2021","76","Lazer",444,0,11879.7,11879.7,{"$f":"TEXT(SPP[[#This Row],[DATA]],\"mmmm\")","v":"março"},{"$f":"YEAR(SPP[[#This Row],[DATA]])","v":2021}]
["27/03/2021","71","MÃE PAULISTANA",154881,445505.53,1023669.46,1469174.99,{"$f":"TEXT(SPP[[#This Row],[DATA]],\"mmmm\")","v":"março"},{"$f":"YEAR(SPP[[#This Row],[DATA]])","v":2021}]
["28/03/2021","52","ESTUDANTE",69052,102468.76000000001,427031.46,529500.22,{"$f":"TEXT(SPP[[#This Row],[DATA]],\"mmmm\")","v":"março"},{"$f":"YEAR(SPP[[#This Row],[DATA]])","v":2021}]
["28/03/2021","86","Estacionamento",9217,511.45,106050.31,106561.76000000001,{"$f":"TEXT(SPP[[#This Row],[DATA]],\"mmmm\")","v":"março"},{"$f":"YEAR(SPP[[#This Row],[DATA]])","v":2021}]
["29/03/2021","110","BUM - ANÔNIMO - CASCO",1377476,140189.15,8810448.0800000001,8950637.2300000004,{"$f":"TEXT(SPP[[#This Row],[DATA]],\"mmmm\")","v":"março"},{"$f":"YEAR(SPP[[#This Row],[DATA]])","v":2021}]
["30/03/2021","75","CARTAO FIDELIDADE",118937,0,7822621.3200000003,7822621.3200000003,{"$f":"TEXT(SPP[[#This Row],[DATA]],\"mmmm\")","v":"março"},{"$f":"YEAR(SPP[[#This Row],[DATA]])","v":2021}]
["31/03/2021","75","CARTAO FIDELIDADE",118919,0,7823239.2199999997,7823239.2199999997,{"$f":"TEXT(SPP[[#This Row],[DATA]],\"mmmm\")","v":"março"},{"$f":"YEAR(SPP[[#This Row],[DATA]])","v":2021}]
["02/04/2021","59","VT",3257655,137936188.31999999,19300414.899999999,157236603.22,{"$f":"TEXT(SPP[[#This Row],[DATA]],\"mmmm\")","v":"abril"},{"$f":"YEAR(SPP[[#This Row],[DATA]])","v":2021}]
["02/04/2021","75","CARTAO FIDELIDADE",118818,0,7803609.4199999999,7803609.4199999999,{"$f":"TEXT(SPP[[#This Row],[DATA]],\"mmmm\")","v":"abril"},{"$f":"YEAR(SPP[[#This Row],[DATA]])","v":2021}]
["03/04/2021","110","BUM - ANÔNIMO - CASCO",1377593,152724.26,8757486.3100000005,8910210.5700000003,{"$f":"TEXT(SPP[[#This Row],[DATA]],\"mmmm\")","v":"abril"},{"$f":"YEAR(SPP[[#This Row],[DATA]])","v":2021}]
["04/04/2021","76","Lazer",443,0,11844.5,11844.5,{"$f":"TEXT(SPP[[#This Row],[DATA]],\"mmmm\")","v":"abril"},{"$f":"YEAR(SPP[[#This Row],[DATA]])","v":2021}]
["05/04/2021","76","Lazer",443,0,11813.7,11813.7,{"$f":"TEXT(SPP[[#This Row],[DATA]],\"mmmm\")","v":"abril"},{"$f":"YEAR(SPP[[#This Row],[DATA]])","v":2021}]
["06/04/2021","100","BILHETE UNICO MENSAL - CASCO",5412445,873799067.75999999,86291295.659999996,960090363.41999996,{"$f":"TEXT(SPP[[#This Row],[DATA]],\"mmmm\")","v":"abril"},{"$f":"YEAR(SPP[[#This Row],[DATA]])","v":2021}]
["07/04/2021","52","ESTUDANTE",69128,102651.8,432779.89,535431.69000000006,{"$f":"TEXT(SPP[[#This Row],[DATA]],\"mmmm\")","v":"abril"},{"$f":"YEAR(SPP[[#This Row],[DATA]])","v":2021}]
["08/04/2021","52","ESTUDANTE",69133,103386.74,432947.03,536333.77,{"$f":"TEXT(SPP[[#This Row],[DATA]],\"mmmm\")","v":"abril"},{"$f":"YEAR(SPP[[#This Row],[DATA]])","v":2021}]
["09/04/2021","80","COMUM 8 VIAGENS",38,0,697.84,697.84,{"$f":"TEXT(SPP[[#This Row],[DATA]],\"mmmm\")","v":"abril"},{"$f":"YEAR(SPP[[#This Row],[DATA]])","v":2021}]
["10/04/2021","74","PROFESSOR",23861,991228.47,0,991228.47,{"$f":"TEXT(SPP[[#This Row],[DATA]],\"mmmm\")","v":"abril"},{"$f":"YEAR(SPP[[#This Row],[DATA]])","v":2021}]
["11/04/2021","74","PROFESSOR",23861,991335.47,0,991335.47,{"$f":"TEXT(SPP[[#This Row],[DATA]],\"mmmm\")","v":"abril"},{"$f":"YEAR(SPP[[#This Row],[DATA]])","v":2021}]
["12/04/2021","59","VT",3258740,138287999.72999999,19779253.93,158067253.66,{"$f":"TEXT(SPP[[#This Row],[DATA]],\"mmmm\")","v":"abril"},{"$f":"YEAR(SPP[[#This Row],[DATA]])","v":2021}]
["13/04/2021","59","VT",3258865,138091130.87,19786287.75,157877418.62,{"$f":"TEXT(SPP[[#This Row],[DATA]],\"mmmm\")","v":"abril"},{"$f":"YEAR(SPP[[#This Row],[DATA]])","v":2021}]
["13/04/2021","86","Estacionamento",9221,511.45,106602.28,107113.73,{"$f":"TEXT(SPP[[#This Row],[DATA]],\"mmmm\")","v":"abril"},{"$f":"YEAR(SPP[[#This Row],[DATA]])","v":2021}]
["14/04/2021","76","Lazer",444,0,11826.9,11826.9,{"$f":"TEXT(SPP[[#This Row],[DATA]],\"mmmm\")","v":"abril"},{"$f":"YEAR(SPP[[#This Row],[DATA]])","v":2021}]
["15/04/2021","76","Lazer",444,0,11826.9,11826.9,{"$f":"TEXT(SPP[[#This Row],[DATA]],\"mmmm\")","v":"abril"},{"$f":"YEAR(SPP[[#This Row],[DATA]])","v":2021}]
["17/04/2021","68","ESTUDANTE 8VG",1,0,2.7,2.7,{"$f":"TEXT(SPP[[#This Row],[DATA]],\"mmmm\")","v":"abril"},{"$f":"YEAR(SPP[[#This Row],[DATA]])","v":2021}]
["17/04/2021","71","MÃE PAULISTANA",156566,455441.14,1078038.6299999999,1533479.77,{"$f":"TEXT(SPP[[#This Row],[DATA]],\"mmmm\")","v":"abril"},{"$f":"YEAR(SPP[[#This Row],[DATA]])","v":2021}]
["19/04/2021","51","COMUM 4 VIAGENS",6389,2558.5500000000002,49405.520000000004,51964.07,{"$f":"TEXT(SPP[[#This Row],[DATA]],\"mmmm\")","v":"abril"},{"$f":"YEAR(SPP[[#This Row],[DATA]])","v":2021}]
["19/04/2021","80","COMUM 8 VIAGENS",38,0,602.87,602.87,{"$f":"TEXT(SPP[[#This Row],[DATA]],\"mmmm\")","v":"abril"},{"$f":"YEAR(SPP[[#This Row],[DATA]])","v":2021}]
["20/04/2021","80","COMUM 8 VIAGENS",35,0,476.66,476.66,{"$f":"TEXT(SPP[[#This Row],[DATA]],\"mmmm\")","v":"abril"},{"$f":"YEAR(SPP[[#This Row],[DATA]])","v":2021}]
["21/04/2021","80","COMUM 8 VIAGENS",37,0,464.86,464.86,{"$f":"TEXT(SPP[[#This Row],[DATA]],\"mmmm\")","v":"abril"},{"$f":"YEAR(SPP[[#This Row],[DATA]])","v":2021}]
["22/04/2021","59","VT",3259697,135835930.77000001,19804153.760000002,155640084.53,{"$f":"TEXT(SPP[[#This Row],[DATA]],\"mmmm\")","v":"abril"},{"$f":"YEAR(SPP[[#This Row],[DATA]])","v":2021}]
["23/04/2021","59","VT",3259824,135540042.47999999,19744191.219999999,155284233.69999999,{"$f":"TEXT(SPP[[#This Row],[DATA]],\"mmmm\")","v":"abril"},{"$f":"YEAR(SPP[[#This Row],[DATA]])","v":2021}]
["24/04/2021","86","Estacionamento",9220,653.55000000000007,106239.39,106892.94,{"$f":"TEXT(SPP[[#This Row],[DATA]],\"mmmm\")","v":"abril"},{"$f":"YEAR(SPP[[#This Row],[DATA]])","v":2021}]
["25/04/2021","51","COMUM 4 VIAGENS",6531,2556.71,50981.07,53537.78,{"$f":"TEXT(SPP[[#This Row],[DATA]],\"mmmm\")","v":"abril"},{"$f":"YEAR(SPP[[#This Row],[DATA]])","v":2021}]
["26/04/2021","75","CARTAO FIDELIDADE",119243,0,7866903.71,7866903.71,{"$f":"TEXT(SPP[[#This Row],[DATA]],\"mmmm\")","v":"abril"},{"$f":"YEAR(SPP[[#This Row],[DATA]])","v":2021}]
["27/04/2021","68","ESTUDANTE 8VG",1,0,2.7,2.7,{"$f":"TEXT(SPP[[#This Row],[DATA]],\"mmmm\")","v":"abril"},{"$f":"YEAR(SPP[[#This Row],[DATA]])","v":2021}]
["28/04/2021","68","ESTUDANTE 8VG",1,0,2.7,2.7,{"$f":"TEXT(SPP[[#This Row],[DATA]],\"mmmm\")","v":"abril"},{"$f":"YEAR(SPP[[#This Row],[DATA]])","v":2021}]
["29/04/2021","76","Lazer",444,0,11730.1,11730.1,{"$f":"TEXT(SPP[[#This Row],[DATA]],\"mmmm\")","v":"abril"},{"$f":"YEAR(SPP[[#This Row],[DATA]])","v":2021}]
["29/04/2021","80","COMUM 8 VIAGENS",41,0,591.43000000000006,591.43000000000006,{"$f":"TEXT(SPP[[#This Row],[DATA]],\"mmmm\")","v":"abril"},{"$f":"YEAR(SPP[[#This Row],[DATA]])","v":2021}]
["30/04/2021","80","COMUM 8 VIAGENS",39,0,504.24,504.24,{"$f":"TEXT(SPP[[#This Row],[DATA]],\"mmmm\")","v":"abril"},{"$f":"YEAR(SPP[[#This Row],[DATA]])","v":2021}]
["02/05/2021","69","VT 8VG",936,0,13035.36,13035.36,{"$f":"TEXT(SPP[[#This Row],[DATA]],\"mmmm\")","v":"maio"},{"$f":"YEAR(SPP[[#This Row],[DATA]])","v":2021}]
["02/05/2021","110","BUM - ANÔNIMO - CASCO",1378593,235263.59,8792126.7799999993,9027390.3699999992,{"$f":"TEXT(SPP[[#This Row],[DATA]],\"mmmm\")","v":"maio"},{"$f":"YEAR(SPP[[#This Row],[DATA]])","v":2021}]
["04/05/2021","52","ESTUDANTE",69466,106928.75,438633.63,545562.38,{"$f":"TEXT(SPP[[#This Row],[DATA]],\"mmmm\")","v":"maio"},{"$f":"YEAR(SPP[[#This Row],[DATA]])","v":2021}]
["04/05/2021","86","Estacionamento",9227,809.7,106760.17,107569.87,{"$f":"TEXT(SPP[[#This Row],[DATA]],\"mmmm\")","v":"maio"},{"$f":"YEAR(SPP[[#This Row],[DATA]])","v":2021}]
["05/05/2021","86","Estacionamento",9227,809.7,106683.25,107492.95,{"$f":"TEXT(SPP[[#This Row],[DATA]],\"mmmm\")","v":"maio"},{"$f":"YEAR(SPP[[#This Row],[DATA]])","v":2021}]
["06/05/2021","75","CARTAO FIDELIDADE",119331,0,7881669.6399999997,7881669.6399999997,{"$f":"TEXT(SPP[[#This Row],[DATA]],\"mmmm\")","v":"maio"},{"$f":"YEAR(SPP[[#This Row],[DATA]])","v":2021}]
["07/05/2021","68","ESTUDANTE 8VG",1,0,2.7,2.7,{"$f":"TEXT(SPP[[#This Row],[DATA]],\"mmmm\")","v":"maio"},{"$f":"YEAR(SPP[[#This Row],[DATA]])","v":2021}]
["08/05/2021","68","ESTUDANTE 8VG",1,0,2.7,2.7,{"$f":"TEXT(SPP[[#This Row],[DATA]],\"mmmm\")","v":"maio"},{"$f":"YEAR(SPP[[#This Row],[DATA]])","v":2021}]
["09/05/2021","100","BILHETE UNICO MENSAL - CASCO",5453775,888444131.04999995,89596904.859999999,978041035.90999997,{"$f":"TEXT(SPP[[#This Row],[DATA]],\"mmmm\")","v":"maio"},{"$f":"YEAR(SPP[[#This Row],[DATA]])","v":2021}]
["10/05/2021","100","BILHETE UNICO MENSAL - CASCO",5456233,887374352.91999996,93317473.430000007,980691826.35000002,{"$f":"TEXT(SPP[[#This Row],[DATA]],\"mmmm\")","v":"maio"},{"$f":"YEAR(SPP[[#This Row],[DATA]])","v":2021}]
["11/05/2021","76","Lazer",446,0,11727.7,11727.7,{"$f":"TEXT(SPP[[#This Row],[DATA]],\"mmmm\")","v":"maio"},{"$f":"YEAR(SPP[[#This Row],[DATA]])","v":2021}]
["12/05/2021","69","VT 8VG",933,0,14264.76,14264.76,{"$f":"TEXT(SPP[[#This Row],[DATA]],\"mmmm\")","v":"maio"},{"$f":"YEAR(SPP[[#This Row],[DATA]])","v":2021}]
["13/05/2021","69","VT 8VG",935,0,14088.800000000001,14088.800000000001,{"$f":"TEXT(SPP[[#This Row],[DATA]],\"mmmm\")","v":"maio"},{"$f":"YEAR(SPP[[#This Row],[DATA]])","v":2021}]
["14/05/2021","74","PROFESSOR",24052,1038850.77,0,1038850.77,{"$f":"TEXT(SPP[[#This Row],[DATA]],\"mmmm\")","v":"maio"},{"$f":"YEAR(SPP[[#This Row],[DATA]])","v":2021}]
["15/05/2021","52","ESTUDANTE",69609,105800.24,438705.19,544505.43000000005,{"$f":"TEXT(SPP[[#This Row],[DATA]],\"mmmm\")","v":"maio"},{"$f":"YEAR(SPP[[#This Row],[DATA]])","v":2021}]
["15/05/2021","86","Estacionamento",9229,1100,107062.56,108162.56,{"$f":"TEXT(SPP[[#This Row],[DATA]],\"mmmm\")","v":"maio"},{"$f":"YEAR(SPP[[#This Row],[DATA]])","v":2021}]
["17/05/2021","71","MÃE PAULISTANA",158045,461809.79000000004,1109468.49,1571278.28,{"$f":"TEXT(SPP[[#This Row],[DATA]],\"mmmm\")","v":"maio"},{"$f":"YEAR(SPP[[#This Row],[DATA]])","v":2021}]
["17/05/2021","86","Estacionamento",9232,1091.2,107031.63,108122.83,{"$f":"TEXT(SPP[[#This Row],[DATA]],\"mmmm\")","v":"maio"},{"$f":"YEAR(SPP[[#This Row],[DATA]])","v":2021}]
["19/05/2021","59","VT",3262868,134689814.08000001,19885610.539999999,154575424.62,{"$f":"TEXT(SPP[[#This Row],[DATA]],\"mmmm\")","v":"maio"},{"$f":"YEAR(SPP[[#This Row],[DATA]])","v":2021}]
["19/05/2021","100","BILHETE UNICO MENSAL - CASCO",5468339,858866428.10000002,88723645.599999994,947590073.70000005,{"$f":"TEXT(SPP[[#This Row],[DATA]],\"mmmm\")","v":"maio"},{"$f":"YEAR(SPP[[#This Row],[DATA]])","v":2021}]
["20/05/2021","100","BILHETE UNICO MENSAL - CASCO",5470096,855097527.51999998,88069116.620000005,943166644.13999999,{"$f":"TEXT(SPP[[#This Row],[DATA]],\"mmmm\")","v":"maio"},{"$f":"YEAR(SPP[[#This Row],[DATA]])","v":2021}]
["21/05/2021","71","MÃE PAULISTANA",158574,452231.93,1088540.3,1540772.23,{"$f":"TEXT(SPP[[#This Row],[DATA]],\"mmmm\")","v":"maio"},{"$f":"YEAR(SPP[[#This Row],[DATA]])","v":2021}]
["22/05/2021","76","Lazer",445,0,11669.6,11669.6,{"$f":"TEXT(SPP[[#This Row],[DATA]],\"mmmm\")","v":"maio"},{"$f":"YEAR(SPP[[#This Row],[DATA]])","v":2021}]
["23/05/2021","69","VT 8VG",933,0,13427.44,13427.44,{"$f":"TEXT(SPP[[#This Row],[DATA]],\"mmmm\")","v":"maio"},{"$f":"YEAR(SPP[[#This Row],[DATA]])","v":2021}]
["24/05/2021","110","BUM - ANÔNIMO - CASCO",1380018,336470.21,9059283.5800000001,9395753.7899999991,{"$f":"TEXT(SPP[[#This Row],[DATA]],\"mmmm\")","v":"maio"},{"$f":"YEAR(SPP[[#This Row],[DATA]])","v":2021}]
["25/05/2021","80","COMUM 8 VIAGENS",42,0,570.30000000000007,570.30000000000007,{"$f":"TEXT(SPP[[#This Row],[DATA]],\"mmmm\")","v":"maio"},{"$f":"YEAR(SPP[[#This Row],[DATA]])","v":2021}]
["26/05/2021","80","COMUM 8 VIAGENS",46,0,829.79,829.79,{"$f":"TEXT(SPP[[#This Row],[DATA]],\"mmmm\")","v":"maio"},{"$f":"YEAR(SPP[[#This Row],[DATA]])","v":2021}]
["27/05/2021","80","COMUM 8 VIAGENS",47,0,734.22,734.22,{"$f":"TEXT(SPP[[#This Row],[DATA]],\"mmmm\")","v":"maio"},{"$f":"YEAR(SPP[[#This Row],[DATA]])","v":2021}]
["28/05/2021","71","MÃE PAULISTANA",158838,466475.97000000003,1052799.6499999999,1519275.62,{"$f":"TEXT(SPP[[#This Row],[DATA]],\"mmmm\")","v":"maio"},{"$f":"YEAR(SPP[[#This Row],[DATA]])","v":2021}]
["29/05/2021","69","VT 8VG",942,0,12785.130000000001,12785.130000000001,{"$f":"TEXT(SPP[[#This Row],[DATA]],\"mmmm\")","v":"maio"},{"$f":"YEAR(SPP[[#This Row],[DATA]])","v":2021}]
["30/05/2021","59","VT",3264110,134026686.65000001,19602550.530000001,153629237.18000001,{"$f":"TEXT(SPP[[#This Row],[DATA]],\"mmmm\")","v":"maio"},{"$f":"YEAR(SPP[[#This Row],[DATA]])","v":2021}]
["30/05/2021","100","BILHETE UNICO MENSAL - CASCO",5482938,867173580.37,79672323.75,946845904.12,{"$f":"TEXT(SPP[[#This Row],[DATA]],\"mmmm\")","v":"maio"},{"$f":"YEAR(SPP[[#This Row],[DATA]])","v":2021}]
["01/06/2021","74","PROFESSOR",24160,1040407.05,0,1040407.05,{"$f":"TEXT(SPP[[#This Row],[DATA]],\"mmmm\")","v":"junho"},{"$f":"YEAR(SPP[[#This Row],[DATA]])","v":2021}]
["01/06/2021","76","Lazer",443,0,11740.1,11740.1,{"$f":"TEXT(SPP[[#This Row],[DATA]],\"mmmm\")","v":"junho"},{"$f":"YEAR(SPP[[#This Row],[DATA]])","v":2021}]
["03/06/2021","68","ESTUDANTE 8VG",1,0,2.7,2.7,{"$f":"TEXT(SPP[[#This Row],[DATA]],\"mmmm\")","v":"junho"},{"$f":"YEAR(SPP[[#This Row],[DATA]])","v":2021}]
["04/06/2021","68","ESTUDANTE 8VG",1,0,2.7,2.7,{"$f":"TEXT(SPP[[#This Row],[DATA]],\"mmmm\")","v":"junho"},{"$f":"YEAR(SPP[[#This Row],[DATA]])","v":2021}]
["04/06/2021","110","BUM - ANÔNIMO - CASCO",1380407,399163.99,8960007.1600000001,9359171.1500000004,{"$f":"TEXT(SPP[[#This Row],[DATA]],\"mmmm\")","v":"junho"},{"$f":"YEAR(SPP[[#This Row],[DATA]])","v":2021}]
["06/06/2021","68","ESTUDANTE 8VG",1,0,2.7,2.7,{"$f":"TEXT(SPP[[#This Row],[DATA]],\"mmmm\")","v":"junho"},{"$f":"YEAR(SPP[[#This Row],[DATA]])","v":2021}]
["06/06/2021","80","COMUM 8 VIAGENS",45,0,584.89,584.89,{"$f":"TEXT(SPP[[#This Row],[DATA]],\"mmmm\")","v":"junho"},{"$f":"YEAR(SPP[[#This Row],[DATA]])","v":2021}]
["07/06/2021","71","MÃE PAULISTANA",159237,477985.77,1135267.3500000001,1613253.12,{"$f":"TEXT(SPP[[#This Row],[DATA]],\"mmmm\")","v":"junho"},{"$f":"YEAR(SPP[[#This Row],[DATA]])","v":2021}]
["09/06/2021","51","COMUM 4 VIAGENS",6710,2558.2800000000002,55782.130000000005,58340.41,{"$f":"TEXT(SPP[[#This Row],[DATA]],\"mmmm\")","v":"junho"},{"$f":"YEAR(SPP[[#This Row],[DATA]])","v":2021}]
["09/06/2021","75","CARTAO FIDELIDADE",120267,0,7942387.3399999999,7942387.3399999999,{"$f":"TEXT(SPP[[#This Row],[DATA]],\"mmmm\")","v":"junho"},{"$f":"YEAR(SPP[[#This Row],[DATA]])","v":2021}]
["10/06/2021","86","Estacionamento",9237,1172.8,107245.49,108418.29000000001,{"$f":"TEXT(SPP[[#This Row],[DATA]],\"mmmm\")","v":"junho"},{"$f":"YEAR(SPP[[#This Row],[DATA]])","v":2021}]
["11/06/2021","86","Estacionamento",9238,1164,107230.44,108394.44,{"$f":"TEXT(SPP[[#This Row],[DATA]],\"mmmm\")","v":"junho"},{"$f":"YEAR(SPP[[#This Row],[DATA]])","v":2021}]
["12/06/2021","74","PROFESSOR",24223,1056230.46,0,1056230.46,{"$f":"TEXT(SPP[[#This Row],[DATA]],\"mmmm\")","v":"junho"},{"$f":"YEAR(SPP[[#This Row],[DATA]])","v":2021}]
["13/06/2021","59","VT",3265922,134165871.39,19762869.199999999,153928740.59,{"$f":"TEXT(SPP[[#This Row],[DATA]],\"mmmm\")","v":"junho"},{"$f":"YEAR(SPP[[#This Row],[DATA]])","v":2021}]
["14/06/2021","68","ESTUDANTE 8VG",1,0,2.7,2.7,{"$f":"TEXT(SPP[[#This Row],[DATA]],\"mmmm\")","v":"junho"},{"$f":"YEAR(SPP[[#This Row],[DATA]])","v":2021}]
["14/06/2021","110","BUM - ANÔNIMO - CASCO",1380844,429514.63,9076686.2400000002,9506200.8699999992,{"$f":"TEXT(SPP[[#This Row],[DATA]],\"mmmm\")","v":"junho"},{"$f":"YEAR(SPP[[#This Row],[DATA]])","v":2021}]
["15/06/2021","110","BUM - ANÔNIMO - CASCO",1380858,442215.23,9076079.6999999993,9518294.9299999997,{"$f":"TEXT(SPP[[#This Row],[DATA]],\"mmmm\")","v":"junho"},{"$f":"YEAR(SPP[[#This Row],[DATA]])","v":2021}]
["17/06/2021","74","PROFESSOR",24257,1058627.95,0,1058627.95,{"$f":"TEXT(SPP[[#This Row],[DATA]],\"mmmm\")","v":"junho"},{"$f":"YEAR(SPP[[#This Row],[DATA]])","v":2021}]
["18/06/2021","69","VT 8VG",943,0,13959.87,13959.87,{"$f":"TEXT(SPP[[#This Row],[DATA]],\"mmmm\")","v":"junho"},{"$f":"YEAR(SPP[[#This Row],[DATA]])","v":2021}]
["19/06/2021","69","VT 8VG",936,0,13487.08,13487.08,{"$f":"TEXT(SPP[[#This Row],[DATA]],\"mmmm\")","v":"junho"},{"$f":"YEAR(SPP[[#This Row],[DATA]])","v":2021}]
["20/06/2021","51","COMUM 4 VIAGENS",6658,2523.35,50300.06,52823.41,{"$f":"TEXT(SPP[[#This Row],[DATA]],\"mmmm\")","v":"junho"},{"$f":"YEAR(SPP[[#This Row],[DATA]])","v":2021}]
["21/06/2021","52","ESTUDANTE",70086,113349.53,447620.38,560969.91,{"$f":"TEXT(SPP[[#This Row],[DATA]],\"mmmm\")","v":"junho"},{"$f":"YEAR(SPP[[#This Row],[DATA]])","v":2021}]
["21/06/2021","86","Estacionamento",9230,1071.5999999999999,106918.88,107990.48,{"$f":"TEXT(SPP[[#This Row],[DATA]],\"mmmm\")","v":"junho"},{"$f":"YEAR(SPP[[#This Row],[DATA]])","v":2021}]
["22/06/2021","74","PROFESSOR",24286,1055846.28,0,1055846.28,{"$f":"TEXT(SPP[[#This Row],[DATA]],\"mmmm\")","v":"junho"},{"$f":"YEAR(SPP[[#This Row],[DATA]])","v":2021}]
["23/06/2021","110","BUM - ANÔNIMO - CASCO",1380430,477161.36,8993215.5,9470376.8599999994,{"$f":"TEXT(SPP[[#This Row],[DATA]],\"mmmm\")","v":"junho"},{"$f":"YEAR(SPP[[#This Row],[DATA]])","v":2021}]
["25/06/2021","59","VT",3264681,129781669.09999999,19837802.579999998,149619471.68000001,{"$f":"TEXT(SPP[[#This Row],[DATA]],\"mmmm\")","v":"junho"},{"$f":"YEAR(SPP[[#This Row],[DATA]])","v":2021}]
["25/06/2021","100","BILHETE UNICO MENSAL - CASCO",5531859,845873742.51999998,84813815.219999999,930687557.74000001,{"$f":"TEXT(SPP[[#This Row],[DATA]],\"mmmm\")","v":"junho"},{"$f":"YEAR(SPP[[#This Row],[DATA]])","v":2021}]
["26/06/2021","100","BILHETE UNICO MENSAL - CASCO",5533385,847041336.94000006,83176954.920000002,930218291.86000001,{"$f":"TEXT(SPP[[#This Row],[DATA]],\"mmmm\")","v":"junho"},{"$f":"YEAR(SPP[[#This Row],[DATA]])","v":2021}]
["27/06/2021","75","CARTAO FIDELIDADE",120093,0,7695951.3399999999,7695951.3399999999,{"$f":"TEXT(SPP[[#This Row],[DATA]],\"mmmm\")","v":"junho"},{"$f":"YEAR(SPP[[#This Row],[DATA]])","v":2021}]
["28/06/2021","76","Lazer",443,0,11753.4,11753.4,{"$f":"TEXT(SPP[[#This Row],[DATA]],\"mmmm\")","v":"junho"},{"$f":"YEAR(SPP[[#This Row],[DATA]])","v":2021}]
["29/06/2021","69","VT 8VG",927,0,13013.57,13013.57,{"$f":"TEXT(SPP[[#This Row],[DATA]],\"mmmm\")","v":"junho"},{"$f":"YEAR(SPP[[#This Row],[DATA]])","v":2021}]
["30/06/2021","51","COMUM 4 VIAGENS",6885,2681.53,51130.47,53812,{"$f":"TEXT(SPP[[#This Row],[DATA]],\"mmmm\")","v":"junho"},{"$f":"YEAR(SPP[[#This Row],[DATA]])","v":2021}]
["30/06/2021","100","BILHETE UNICO MENSAL - CASCO",5541926,872086934.66999996,84677629.700000003,956764564.37,{"$f":"TEXT(SPP[[#This Row],[DATA]],\"mmmm\")","v":"junho"},{"$f":"YEAR(SPP[[#This Row],[DATA]])","v":2021}]
["02/07/2021","80","COMUM 8 VIAGENS",53,0,915.34,915.34,{"$f":"TEXT(SPP[[#This Row],[DATA]],\"mmmm\")","v":"julho"},{"$f":"YEAR(SPP[[#This Row],[DATA]])","v":2021}]
["03/07/2021","71","MÃE PAULISTANA",160486,490848.62,1103671.76,1594520.3800000001,{"$f":"TEXT(SPP[[#This Row],[DATA]],\"mmmm\")","v":"julho"},{"$f":"YEAR(SPP[[#This Row],[DATA]])","v":2021}]
["04/07/2021","71","MÃE PAULISTANA",160287,492262.40000000002,1090503.1299999999,1582765.53,{"$f":"TEXT(SPP[[#This Row],[DATA]],\"mmmm\")","v":"julho"},{"$f":"YEAR(SPP[[#This Row],[DATA]])","v":2021}]
["05/07/2021","74","PROFESSOR",24350,1051653.45,0,1051653.45,{"$f":"TEXT(SPP[[#This Row],[DATA]],\"mmmm\")","v":"julho"},{"$f":"YEAR(SPP[[#This Row],[DATA]])","v":2021}]
["06/07/2021","59","VT",3263327,131835705.38,19910068.260000002,151745773.63999999,{"$f":"TEXT(SPP[[#This Row],[DATA]],\"mmmm\")","v":"julho"},{"$f":"YEAR(SPP[[#This Row],[DATA]])","v":2021}]
["06/07/2021","100","BILHETE UNICO MENSAL - CASCO",5556951,899863827.25,93931432.599999994,993795259.85000002,{"$f":"TEXT(SPP[[#This Row],[DATA]],\"mmmm\")","v":"julho"},{"$f":"YEAR(SPP[[#This Row],[DATA]])","v":2021}]
["07/07/2021","75","CARTAO FIDELIDADE",120593,0,7882803.5999999996,7882803.5999999996,{"$f":"TEXT(SPP[[#This Row],[DATA]],\"mmmm\")","v":"julho"},{"$f":"YEAR(SPP[[#This Row],[DATA]])","v":2021}]
["08/07/2021","86","Estacionamento",9225,1051.3,106765.03,107816.33,{"$f":"TEXT(SPP[[#This Row],[DATA]],\"mmmm\")","v":"julho"},{"$f":"YEAR(SPP[[#This Row],[DATA]])","v":2021}]
["10/07/2021","68","ESTUDANTE 8VG",1,0,2.7,2.7,{"$f":"TEXT(SPP[[#This Row],[DATA]],\"mmmm\")","v":"julho"},{"$f":"YEAR(SPP[[#This Row],[DATA]])","v":2021}]
["10/07/2021","110","BUM - ANÔNIMO - CASCO",1379770,535368.79,8838900.1099999994,9374268.9000000004,{"$f":"TEXT(SPP[[#This Row],[DATA]],\"mmmm\")","v":"julho"},{"$f":"YEAR(SPP[[#This Row],[DATA]])","v":2021}]
["11/07/2021","110","BUM - ANÔNIMO - CASCO",1379658,528963.53,8761315.5600000005,9290279.0899999999,{"$f":"TEXT(SPP[[#This Row],[DATA]],\"mmmm\")","v":"julho"},{"$f":"YEAR(SPP[[#This Row],[DATA]])","v":2021}]
["12/07/2021","71","MÃE PAULISTANA",161252,490607.35999999999,1176241.55,1666848.91,{"$f":"TEXT(SPP[[#This Row],[DATA]],\"mmmm\")","v":"julho"},{"$f":"YEAR(SPP[[#This Row],[DATA]])","v":2021}]
["13/07/2021","80","COMUM 8 VIAGENS",54,0,814.49,814.49,{"$f":"TEXT(SPP[[#This Row],[DATA]],\"mmmm\")","v":"julho"},{"$f":"YEAR(SPP[[#This Row],[DATA]])","v":2021}]
["14/07/2021","71","MÃE PAULISTANA",161491,488986.85000000003,1160003.7,1648990.55,{"$f":"TEXT(SPP[[#This Row],[DATA]],\"mmmm\")","v":"julho"},{"$f":"YEAR(SPP[[#This Row],[DATA]])","v":2021}]
["15/07/2021","52","ESTUDANTE",70253,116689.44,447079.23,563768.67000000004,{"$f":"TEXT(SPP[[#This Row],[DATA]],\"mmmm\")","v":"julho"},{"$f":"YEAR(SPP[[#This Row],[DATA]])","v":2021}]
["16/07/2021","80","COMUM 8 VIAGENS",47,0,769.45,769.45,{"$f":"TEXT(SPP[[#This Row],[DATA]],\"mmmm\")","v":"julho"},{"$f":"YEAR(SPP[[#This Row],[DATA]])","v":2021}]
["17/07/2021","86","Estacionamento",9214,1525,106286.6,107811.6,{"$f":"TEXT(SPP[[#This Row],[DATA]],\"mmmm\")","v":"julho"},{"$f":"YEAR(SPP[[#This Row],[DATA]])","v":2021}]
["17/07/2021","100","BILHETE UNICO MENSAL - CASCO",5594278,874532182.50999999,92335866.579999998,966868049.09000003,{"$f":"TEXT(SPP[[#This Row],[DATA]],\"mmmm\")","v":"julho"},{"$f":"YEAR(SPP[[#This Row],[DATA]])","v":2021}]
["19/07/2021","74","PROFESSOR",24426,1039507.19,0,1039507.19,{"$f":"TEXT(SPP[[#This Row],[DATA]],\"mmmm\")","v":"julho"},{"$f":"YEAR(SPP[[#This Row],[DATA]])","v":2021}]
["20/07/2021","69","VT 8VG",931,0,13883.77,13883.77,{"$f":"TEXT(SPP[[#This Row],[DATA]],\"mmmm\")","v":"julho"},{"$f":"YEAR(SPP[[#This Row],[DATA]])","v":2021}]
["21/07/2021","68","ESTUDANTE 8VG",1,0,2.7,2.7,{"$f":"TEXT(SPP[[#This Row],[DATA]],\"mmmm\")","v":"julho"},{"$f":"YEAR(SPP[[#This Row],[DATA]])","v":2021}]
["21/07/2021","110","BUM - ANÔNIMO - CASCO",1373071,568040.87,7780918.9199999999,8348959.79,{"$f":"TEXT(SPP[[#This Row],[DATA]],\"mmmm\")","v":"julho"},{"$f":"YEAR(SPP[[#This Row],[DATA]])","v":2021}]
["22/07/2021","76","Lazer",448,0,11812.65,11812.65,{"$f":"TEXT(SPP[[#This Row],[DATA]],\"mmmm\")","v":"julho"},{"$f":"YEAR(SPP[[#This Row],[DATA]])","v":2021}]
["23/07/2021","76","Lazer",448,0,11812.65,11812.65,{"$f":"TEXT(SPP[[#This Row],[DATA]],\"mmmm\")","v":"julho"},{"$f":"YEAR(SPP[[#This Row],[DATA]])","v":2021}]
["25/07/2021","69","VT 8VG",926,0,12500.39,12500.39,{"$f":"TEXT(SPP[[#This Row],[DATA]],\"mmmm\")","v":"julho"},{"$f":"YEAR(SPP[[#This Row],[DATA]])","v":2021}]
["25/07/2021","71","MÃE PAULISTANA",160798,473355.92,889887.61,1363243.53,{"$f":"TEXT(SPP[[#This Row],[DATA]],\"mmmm\")","v":"julho"},{"$f":"YEAR(SPP[[#This Row],[DATA]])","v":2021}]
["27/07/2021","51","COMUM 4 VIAGENS",7465,2774.91,44244.89,47019.8,{"$f":"TEXT(SPP[[#This Row],[DATA]],\"mmmm\")","v":"julho"},{"$f":"YEAR(SPP[[#This Row],[DATA]])","v":2021}]
["27/07/2021","68","ESTUDANTE 8VG",1,0,2.7,2.7,{"$f":"TEXT(SPP[[#This Row],[DATA]],\"mmmm\")","v":"julho"},{"$f":"YEAR(SPP[[#This Row],[DATA]])","v":2021}]
["28/07/2021","86","Estacionamento",9210,1325.3,105881.01000000001,107206.31,{"$f":"TEXT(SPP[[#This Row],[DATA]],\"mmmm\")","v":"julho"},{"$f":"YEAR(SPP[[#This Row],[DATA]])","v":2021}]
["29/07/2021","74","PROFESSOR",24464,1020925.24,0,1020925.24,{"$f":"TEXT(SPP[[#This Row],[DATA]],\"mmmm\")","v":"julho"},{"$f":"YEAR(SPP[[#This Row],[DATA]])","v":2021}]
["30/07/2021","59","VT",3238172,124698820.87,17331244.699999999,142030065.56999999,{"$f":"TEXT(SPP[[#This Row],[DATA]],\"mmmm\")","v":"julho"},{"$f":"YEAR(SPP[[#This Row],[DATA]])","v":2021}]
["31/07/2021","75","CARTAO FIDELIDADE",120958,0,7721443.7400000002,7721443.7400000002,{"$f":"TEXT(SPP[[#This Row],[DATA]],\"mmmm\")","v":"julho"},{"$f":"YEAR(SPP[[#This Row],[DATA]])","v":2021}]
["01/08/2021","100","BILHETE UNICO MENSAL - CASCO",5707966,889888442.16999996,87859307.150000006,977747749.32000005,{"$f":"TEXT(SPP[[#This Row],[DATA]],\"mmmm\")","v":"agosto"},{"$f":"YEAR(SPP[[#This Row],[DATA]])","v":2021}]
["01/08/2021","110","BUM - ANÔNIMO - CASCO",1366990,601689.72,7348422.04,7950111.7599999998,{"$f":"TEXT(SPP[[#This Row],[DATA]],\"mmmm\")","v":"agosto"},{"$f":"YEAR(SPP[[#This Row],[DATA]])","v":2021}]
["03/08/2021","75","CARTAO FIDELIDADE",121581,0,7910503.6600000001,7910503.6600000001,{"$f":"TEXT(SPP[[#This Row],[DATA]],\"mmmm\")","v":"agosto"},{"$f":"YEAR(SPP[[#This Row],[DATA]])","v":2021}]
["04/08/2021","59","VT",3233743,125720370.37,17112203.07,142832573.44,{"$f":"TEXT(SPP[[#This Row],[DATA]],\"mmmm\")","v":"agosto"},{"$f":"YEAR(SPP[[#This Row],[DATA]])","v":2021}]
["05/08/2021","69","VT 8VG",925,0,13759.050000000001,13759.050000000001,{"$f":"TEXT(SPP[[#This Row],[DATA]],\"mmmm\")","v":"agosto"},{"$f":"YEAR(SPP[[#This Row],[DATA]])","v":2021}]
["06/08/2021","51","COMUM 4 VIAGENS",8070,2999.84,41831.22,44831.06,{"$f":"TEXT(SPP[[#This Row],[DATA]],\"mmmm\")","v":"agosto"},{"$f":"YEAR(SPP[[#This Row],[DATA]])","v":2021}]
["07/08/2021","51","COMUM 4 VIAGENS",8062,2990.02,42013.96,45003.98,{"$f":"TEXT(SPP[[#This Row],[DATA]],\"mmmm\")","v":"agosto"},{"$f":"YEAR(SPP[[#This Row],[DATA]])","v":2021}]
["08/08/2021","74","PROFESSOR",24588,1065855.77,0,1065855.77,{"$f":"TEXT(SPP[[#This Row],[DATA]],\"mmmm\")","v":"agosto"},{"$f":"YEAR(SPP[[#This Row],[DATA]])","v":2021}]
["09/08/2021","71","MÃE PAULISTANA",160556,487020.08,814173.27,1301193.3500000001,{"$f":"TEXT(SPP[[#This Row],[DATA]],\"mmmm\")","v":"agosto"},{"$f":"YEAR(SPP[[#This Row],[DATA]])","v":2021}]
["09/08/2021","74","PROFESSOR",24607,1081534.7,0,1081534.7,{"$f":"TEXT(SPP[[#This Row],[DATA]],\"mmmm\")","v":"agosto"},{"$f":"YEAR(SPP[[#This Row],[DATA]])","v":2021}]
["11/08/2021","52","ESTUDANTE",71024,117811.37,456440.29000000004,574251.66,{"$f":"TEXT(SPP[[#This Row],[DATA]],\"mmmm\")","v":"agosto"},{"$f":"YEAR(SPP[[#This Row],[DATA]])","v":2021}]
["12/08/2021","52","ESTUDANTE",71049,118087.25,457140.87,575228.12,{"$f":"TEXT(SPP[[#This Row],[DATA]],\"mmmm\")","v":"agosto"},{"$f":"YEAR(SPP[[#This Row],[DATA]])","v":2021}]
["12/08/2021","100","BILHETE UNICO MENSAL - CASCO",5784830,898952428.79999995,101480345.23,1000432774.03,{"$f":"TEXT(SPP[[#This Row],[DATA]],\"mmmm\")","v":"agosto"},{"$f":"YEAR(SPP[[#This Row],[DATA]])","v":2021}]
["13/08/2021","75","CARTAO FIDELIDADE",121806,0,7924115.5599999996,7924115.5599999996,{"$f":"TEXT(SPP[[#This Row],[DATA]],\"mmmm\")","v":"agosto"},{"$f":"YEAR(SPP[[#This Row],[DATA]])","v":2021}]
["14/08/2021","75","CARTAO FIDELIDADE",121619,0,7868290.2599999998,7868290.2599999998,{"$f":"TEXT(SPP[[#This Row],[DATA]],\"mmmm\")","v":"agosto"},{"$f":"YEAR(SPP[[#This Row],[DATA]])","v":2021}]
["15/08/2021","71","MÃE PAULISTANA",160962,475637.92,788497.94000000006,1264135.8600000001,{"$f":"TEXT(SPP[[#This Row],[DATA]],\"mmmm\")","v":"agosto"},{"$f":"YEAR(SPP[[#This Row],[DATA]])","v":2021}]
["16/08/2021","110","BUM - ANÔNIMO - CASCO",1361422,647645.34,7023302.4000000004,7670947.7400000002,{"$f":"TEXT(SPP[[#This Row],[DATA]],\"mmmm\")","v":"agosto"},{"$f":"YEAR(SPP[[#This Row],[DATA]])","v":2021}]
["17/08/2021","51","COMUM 4 VIAGENS",7579,2808.09,38264.980000000003,41073.07,{"$f":"TEXT(SPP[[#This Row],[DATA]],\"mmmm\")","v":"agosto"},{"$f":"YEAR(SPP[[#This Row],[DATA]])","v":2021}]
["18/08/2021","76","Lazer",448,0,11682.85,11682.85,{"$f":"TEXT(SPP[[#This Row],[DATA]],\"mmmm\")","v":"agosto"},{"$f":"YEAR(SPP[[#This Row],[DATA]])","v":2021}]
["19/08/2021","80","COMUM 8 VIAGENS",46,0,589.75,589.75,{"$f":"TEXT(SPP[[#This Row],[DATA]],\"mmmm\")","v":"agosto"},{"$f":"YEAR(SPP[[#This Row],[DATA]])","v":2021}]
["20/08/2021","71","MÃE PAULISTANA",161203,460364.82,786205.16,1246569.98,{"$f":"TEXT(SPP[[#This Row],[DATA]],\"mmmm\")","v":"agosto"},{"$f":"YEAR(SPP[[#This Row],[DATA]])","v":2021}]
["21/08/2021","52","ESTUDANTE",71167,116986.1,452580.57,569566.67000000004,{"$f":"TEXT(SPP[[#This Row],[DATA]],\"mmmm\")","v":"agosto"},{"$f":"YEAR(SPP[[#This Row],[DATA]])","v":2021}]
["22/08/2021","52","ESTUDANTE",71157,116273.68000000001,449281.78,565555.46,{"$f":"TEXT(SPP[[#This Row],[DATA]],\"mmmm\")","v":"agosto"},{"$f":"YEAR(SPP[[#This Row],[DATA]])","v":2021}]
["23/08/2021","69","VT 8VG",926,0,13063.91,13063.91,{"$f":"TEXT(SPP[[#This Row],[DATA]],\"mmmm\")","v":"agosto"},{"$f":"YEAR(SPP[[#This Row],[DATA]])","v":2021}]
["24/08/2021","74","PROFESSOR",24751,1078710.97,0,1078710.97,{"$f":"TEXT(SPP[[#This Row],[DATA]],\"mmmm\")","v":"agosto"},{"$f":"YEAR(SPP[[#This Row],[DATA]])","v":2021}]
["24/08/2021","75","CARTAO FIDELIDADE",122172,0,7911591.46,7911591.46,{"$f":"TEXT(SPP[[#This Row],[DATA]],\"mmmm\")","v":"agosto"},{"$f":"YEAR(SPP[[#This Row],[DATA]])","v":2021}]
["26/08/2021","59","VT",3211253,113634511.01000001,16290026.23,129924537.23999999,{"$f":"TEXT(SPP[[#This Row],[DATA]],\"mmmm\")","v":"agosto"},{"$f":"YEAR(SPP[[#This Row],[DATA]])","v":2021}]
["26/08/2021","76","Lazer",448,0,11569,11569,{"$f":"TEXT(SPP[[#This Row],[DATA]],\"mmmm\")","v":"agosto"},{"$f":"YEAR(SPP[[#This Row],[DATA]])","v":2021}]
["27/08/2021","110","BUM - ANÔNIMO - CASCO",1357743,621369.1,6858527.4500000002,7479896.5499999998,{"$f":"TEXT(SPP[[#This Row],[DATA]],\"mmmm\")","v":"agosto"},{"$f":"YEAR(SPP[[#This Row],[DATA]])","v":2021}]
["28/08/2021","76","Lazer",450,0,11657.25,11657.25,{"$f":"TEXT(SPP[[#This Row],[DATA]],\"mmmm\")","v":"agosto"},{"$f":"YEAR(SPP[[#This Row],[DATA]])","v":2021}]
["29/08/2021","76","Lazer",450,0,11666.050000000001,11666.050000000001,{"$f":"TEXT(SPP[[#This Row],[DATA]],\"mmmm\")","v":"agosto"},{"$f":"YEAR(SPP[[#This Row],[DATA]])","v":2021}]
["30/08/2021","68","ESTUDANTE 8VG",1,0,2.7,2.7,{"$f":"TEXT(SPP[[#This Row],[DATA]],\"mmmm\")","v":"agosto"},{"$f":"YEAR(SPP[[#This Row],[DATA]])","v":2021}]
["01/09/2021","51","COMUM 4 VIAGENS",7594,2788.57,36195.85,38984.42,{"$f":"TEXT(SPP[[#This Row],[DATA]],\"mmmm\")","v":"setembro"},{"$f":"YEAR(SPP[[#This Row],[DATA]])","v":2021}]
["01/09/2021","52","ESTUDANTE",71203,115534.84,454441.67,569976.51,{"$f":"TEXT(SPP[[#This Row],[DATA]],\"mmmm\")","v":"setembro"},{"$f":"YEAR(SPP[[#This Row],[DATA]])","v":2021}]
["02/09/2021","80","COMUM 8 VIAGENS",45,0,704.87,704.87,{"$f":"TEXT(SPP[[#This Row],[DATA]],\"mmmm\")","v":"setembro"},{"$f":"YEAR(SPP[[#This Row],[DATA]])","v":2021}]
["03/09/2021","75","CARTAO FIDELIDADE",122158,0,7840358.0599999996,7840358.0599999996,{"$f":"TEXT(SPP[[#This Row],[DATA]],\"mmmm\")","v":"setembro"},{"$f":"YEAR(SPP[[#This Row],[DATA]])","v":2021}]
["04/09/2021","74","PROFESSOR",24791,1071949.08,0,1071949.08,{"$f":"TEXT(SPP[[#This Row],[DATA]],\"mmmm\")","v":"setembro"},{"$f":"YEAR(SPP[[#This Row],[DATA]])","v":2021}]
["05/09/2021","59","VT",3182804,94085928.290000007,15957384.6,110043312.89,{"$f":"TEXT(SPP[[#This Row],[DATA]],\"mmmm\")","v":"setembro"},{"$f":"YEAR(SPP[[#This Row],[DATA]])","v":2021}]
["06/09/2021","59","VT",3178222,90316888.670000002,15923950.779999999,106240839.45,{"$f":"TEXT(SPP[[#This Row],[DATA]],\"mmmm\")","v":"setembro"},{"$f":"YEAR(SPP[[#This Row],[DATA]])","v":2021}]
["07/09/2021","59","VT",3176498,88871438.849999994,15902669.859999999,104774108.70999999,{"$f":"TEXT(SPP[[#This Row],[DATA]],\"mmmm\")","v":"setembro"},{"$f":"YEAR(SPP[[#This Row],[DATA]])","v":2021}]
["07/09/2021","110","BUM - ANÔNIMO - CASCO",1352064,603696.63,6711655.8700000001,7315352.5,{"$f":"TEXT(SPP[[#This Row],[DATA]],\"mmmm\")","v":"setembro"},{"$f":"YEAR(SPP[[#This Row],[DATA]])","v":2021}]
["08/09/2021","76","Lazer",451,0,11654.45,11654.45,{"$f":"TEXT(SPP[[#This Row],[DATA]],\"mmmm\")","v":"setembro"},{"$f":"YEAR(SPP[[#This Row],[DATA]])","v":2021}]
["10/09/2021","68","ESTUDANTE 8VG",1,0,2.7,2.7,{"$f":"TEXT(SPP[[#This Row],[DATA]],\"mmmm\")","v":"setembro"},{"$f":"YEAR(SPP[[#This Row],[DATA]])","v":2021}]
["10/09/2021","74","PROFESSOR",24856,1115396.99,0,1115396.99,{"$f":"TEXT(SPP[[#This Row],[DATA]],\"mmmm\")","v":"setembro"},{"$f":"YEAR(SPP[[#This Row],[DATA]])","v":2021}]
["12/09/2021","51","COMUM 4 VIAGENS",7693,2800.41,37657.97,40458.379999999997,{"$f":"TEXT(SPP[[#This Row],[DATA]],\"mmmm\")","v":"setembro"},{"$f":"YEAR(SPP[[#This Row],[DATA]])","v":2021}]
["12/09/2021","80","COMUM 8 VIAGENS",41,0,430.46000000000004,430.46000000000004,{"$f":"TEXT(SPP[[#This Row],[DATA]],\"mmmm\")","v":"setembro"},{"$f":"YEAR(SPP[[#This Row],[DATA]])","v":2021}]
["13/09/2021","80","COMUM 8 VIAGENS",41,0,430.46000000000004,430.46000000000004,{"$f":"TEXT(SPP[[#This Row],[DATA]],\"mmmm\")","v":"setembro"},{"$f":"YEAR(SPP[[#This Row],[DATA]])","v":2021}]
["15/09/2021","52","ESTUDANTE",71317,120996.44,456102.98,577099.42000000004,{"$f":"TEXT(SPP[[#This Row],[DATA]],\"mmmm\")","v":"setembro"},{"$f":"YEAR(SPP[[#This Row],[DATA]])","v":2021}]
["15/09/2021","74","PROFESSOR",24893,1121998.3999999999,0,1121998.3999999999,{"$f":"TEXT(SPP[[#This Row],[DATA]],\"mmmm\")","v":"setembro"},{"$f":"YEAR(SPP[[#This Row],[DATA]])","v":2021}]
["16/09/2021","59","VT",3147896,67717391.420000002,15684873.41,83402264.829999998,{"$f":"TEXT(SPP[[#This Row],[DATA]],\"mmmm\")","v":"setembro"},{"$f":"YEAR(SPP[[#This Row],[DATA]])","v":2021}]
["17/09/2021","86","Estacionamento",9213,2043.1100000000001,105445.74,107488.85,{"$f":"TEXT(SPP[[#This Row],[DATA]],\"mmmm\")","v":"setembro"},{"$f":"YEAR(SPP[[#This Row],[DATA]])","v":2021}]
["18/09/2021","71","MÃE PAULISTANA",162207,433519.79000000004,769651.51,1203171.3,{"$f":"TEXT(SPP[[#This Row],[DATA]],\"mmmm\")","v":"setembro"},{"$f":"YEAR(SPP[[#This Row],[DATA]])","v":2021}]
["19/09/2021","75","CARTAO FIDELIDADE",122417,0,7812860.4500000002,7812860.4500000002,{"$f":"TEXT(SPP[[#This Row],[DATA]],\"mmmm\")","v":"setembro"},{"$f":"YEAR(SPP[[#This Row],[DATA]])","v":2021}]
["20/09/2021","68","ESTUDANTE 8VG",1,0,2.7,2.7,{"$f":"TEXT(SPP[[#This Row],[DATA]],\"mmmm\")","v":"setembro"},{"$f":"YEAR(SPP[[#This Row],[DATA]])","v":2021}]
["21/09/2021","68","ESTUDANTE 8VG",1,0,2.7,2.7,{"$f":"TEXT(SPP[[#This Row],[DATA]],\"mmmm\")","v":"setembro"},{"$f":"YEAR(SPP[[#This Row],[DATA]])","v":2021}]
["22/09/2021","51","COMUM 4 VIAGENS",7689,2780.68,35736.81,38517.49,{"$f":"TEXT(SPP[[#This Row],[DATA]],\"mmmm\")","v":"setembro"},{"$f":"YEAR(SPP[[#This Row],[DATA]])","v":2021}]
["23/09/2021","51","COMUM 4 VIAGENS",7708,2786.32,36723.050000000003,39509.370000000003,{"$f":"TEXT(SPP[[#This Row],[DATA]],\"mmmm\")","v":"setembro"},{"$f":"YEAR(SPP[[#This Row],[DATA]])","v":2021}]
["23/09/2021","80","COMUM 8 VIAGENS",41,0,300.22000000000003,300.22000000000003,{"$f":"TEXT(SPP[[#This Row],[DATA]],\"mmmm\")","v":"setembro"},{"$f":"YEAR(SPP[[#This Row],[DATA]])","v":2021}]
["25/09/2021","69","VT 8VG",813,0,8551.4500000000007,8551.4500000000007,{"$f":"TEXT(SPP[[#This Row],[DATA]],\"mmmm\")","v":"setembro"},{"$f":"YEAR(SPP[[#This Row],[DATA]])","v":2021}]
["26/09/2021","69","VT 8VG",813,0,8547.0499999999993,8547.0499999999993,{"$f":"TEXT(SPP[[#This Row],[DATA]],\"mmmm\")","v":"setembro"},{"$f":"YEAR(SPP[[#This Row],[DATA]])","v":2021}]
["27/09/2021","52","ESTUDANTE",71401,119734.86,455053.43,574788.29,{"$f":"TEXT(SPP[[#This Row],[DATA]],\"mmmm\")","v":"setembro"},{"$f":"YEAR(SPP[[#This Row],[DATA]])","v":2021}]
["28/09/2021","52","ESTUDANTE",71399,119370.5,454187.51,573558.01,{"$f":"TEXT(SPP[[#This Row],[DATA]],\"mmmm\")","v":"setembro"},{"$f":"YEAR(SPP[[#This Row],[DATA]])","v":2021}]
["28/09/2021","86","Estacionamento",9216,1666.66,105259,106925.66,{"$f":"TEXT(SPP[[#This Row],[DATA]],\"mmmm\")","v":"setembro"},{"$f":"YEAR(SPP[[#This Row],[DATA]])","v":2021}]
["29/09/2021","110","BUM - ANÔNIMO - CASCO",1345481,612095.03,6585751.9199999999,7197846.9500000002,{"$f":"TEXT(SPP[[#This Row],[DATA]],\"mmmm\")","v":"setembro"},{"$f":"YEAR(SPP[[#This Row],[DATA]])","v":2021}]
["30/09/2021","75","CARTAO FIDELIDADE",122846,0,7801879.6699999999,7801879.6699999999,{"$f":"TEXT(SPP[[#This Row],[DATA]],\"mmmm\")","v":"setembro"},{"$f":"YEAR(SPP[[#This Row],[DATA]])","v":2021}]
["01/10/2021","68","ESTUDANTE 8VG",1,0,2.7,2.7,{"$f":"TEXT(SPP[[#This Row],[DATA]],\"mmmm\")","v":"outubro"},{"$f":"YEAR(SPP[[#This Row],[DATA]])","v":2021}]
["02/10/2021","100","BILHETE UNICO MENSAL - CASCO",6092276,960695109.72000003,96819971.340000004,1057515081.0599999,{"$f":"TEXT(SPP[[#This Row],[DATA]],\"mmmm\")","v":"outubro"},{"$f":"YEAR(SPP[[#This Row],[DATA]])","v":2021}]
["03/10/2021","68","ESTUDANTE 8VG",1,0,2.7,2.7,{"$f":"TEXT(SPP[[#This Row],[DATA]],\"mmmm\")","v":"outubro"},{"$f":"YEAR(SPP[[#This Row],[DATA]])","v":2021}]
["04/10/2021","76","Lazer",454,0,11526.95,11526.95,{"$f":"TEXT(SPP[[#This Row],[DATA]],\"mmmm\")","v":"outubro"},{"$f":"YEAR(SPP[[#This Row],[DATA]])","v":2021}]
["05/10/2021","76","Lazer",454,0,11570.95,11570.95,{"$f":"TEXT(SPP[[#This Row],[DATA]],\"mmmm\")","v":"outubro"},{"$f":"YEAR(SPP[[#This Row],[DATA]])","v":2021}]
["06/10/2021","69","VT 8VG",781,0,7756.55,7756.55,{"$f":"TEXT(SPP[[#This Row],[DATA]],\"mmmm\")","v":"outubro"},{"$f":"YEAR(SPP[[#This Row],[DATA]])","v":2021}]
["06/10/2021","100","BILHETE UNICO MENSAL - CASCO",6113429,977830939.48000002,105725396.59999999,1083556336.0799999,{"$f":"TEXT(SPP[[#This Row],[DATA]],\"mmmm\")","v":"outubro"},{"$f":"YEAR(SPP[[#This Row],[DATA]])","v":2021}]
["08/10/2021","52","ESTUDANTE",71446,121173.8,455509.67,576683.47,{"$f":"TEXT(SPP[[#This Row],[DATA]],\"mmmm\")","v":"outubro"},{"$f":"YEAR(SPP[[#This Row],[DATA]])","v":2021}]
["08/10/2021","86","Estacionamento",9217,1297.1100000000001,104969.27,106266.38,{"$f":"TEXT(SPP[[#This Row],[DATA]],\"mmmm\")","v":"outubro"},{"$f":"YEAR(SPP[[#This Row],[DATA]])","v":2021}]
["09/10/2021","86","Estacionamento",9217,1252.1600000000001,104770.16,106022.32,{"$f":"TEXT(SPP[[#This Row],[DATA]],\"mmmm\")","v":"outubro"},{"$f":"YEAR(SPP[[#This Row],[DATA]])","v":2021}]
["11/10/2021","59","VT",3118130,52063368.039999999,15443206.16,67506574.200000003,{"$f":"TEXT(SPP[[#This Row],[DATA]],\"mmmm\")","v":"outubro"},{"$f":"YEAR(SPP[[#This Row],[DATA]])","v":2021}]
["12/10/2021","59","VT",3117890,51969075.229999997,15439945.199999999,67409020.430000007,{"$f":"TEXT(SPP[[#This Row],[DATA]],\"mmmm\")","v":"outubro"},{"$f":"YEAR(SPP[[#This Row],[DATA]])","v":2021}]
["13/10/2021","59","VT",3116963,51537822.740000002,15432964.82,66970787.560000002,{"$f":"TEXT(SPP[[#This Row],[DATA]],\"mmmm\")","v":"outubro"},{"$f":"YEAR(SPP[[#This Row],[DATA]])","v":2021}]
["13/10/2021","100","BILHETE UNICO MENSAL - CASCO",6141542,965868074.64999998,109474643.20999999,1075342717.8599999,{"$f":"TEXT(SPP[[#This Row],[DATA]],\"mmmm\")","v":"outubro"},{"$f":"YEAR(SPP[[#This Row],[DATA]])","v":2021}]
["14/10/2021","86","Estacionamento",9220,1109.46,105177.05,106286.51000000001,{"$f":"TEXT(SPP[[#This Row],[DATA]],\"mmmm\")","v":"outubro"},{"$f":"YEAR(SPP[[#This Row],[DATA]])","v":2021}]
["15/10/2021","76","Lazer",457,0,11562.4,11562.4,{"$f":"TEXT(SPP[[#This Row],[DATA]],\"mmmm\")","v":"outubro"},{"$f":"YEAR(SPP[[#This Row],[DATA]])","v":2021}]
["16/10/2021","69","VT 8VG",764,0,7334.71,7334.71,{"$f":"TEXT(SPP[[#This Row],[DATA]],\"mmmm\")","v":"outubro"},{"$f":"YEAR(SPP[[#This Row],[DATA]])","v":2021}]
["17/10/2021","69","VT 8VG",764,0,7334.71,7334.71,{"$f":"TEXT(SPP[[#This Row],[DATA]],\"mmmm\")","v":"outubro"},{"$f":"YEAR(SPP[[#This Row],[DATA]])","v":2021}]
["19/10/2021","52","ESTUDANTE",71531,118179.62,457325.96,575505.57999999996,{"$f":"TEXT(SPP[[#This Row],[DATA]],\"mmmm\")","v":"outubro"},{"$f":"YEAR(SPP[[#This Row],[DATA]])","v":2021}]
["19/10/2021","80","COMUM 8 VIAGENS",46,0,327.90000000000003,327.90000000000003,{"$f":"TEXT(SPP[[#This Row],[DATA]],\"mmmm\")","v":"outubro"},{"$f":"YEAR(SPP[[#This Row],[DATA]])","v":2021}]
["20/10/2021","80","COMUM 8 VIAGENS",45,0,293.63,293.63,{"$f":"TEXT(SPP[[#This Row],[DATA]],\"mmmm\")","v":"outubro"},{"$f":"YEAR(SPP[[#This Row],[DATA]])","v":2021}]
["21/10/2021","68","ESTUDANTE 8VG",1,0,2.7,2.7,{"$f":"TEXT(SPP[[#This Row],[DATA]],\"mmmm\")","v":"outubro"},{"$f":"YEAR(SPP[[#This Row],[DATA]])","v":2021}]
["22/10/2021","59","VT",3111502,49171615.740000002,15383181.890000001,64554797.630000003,{"$f":"TEXT(SPP[[#This Row],[DATA]],\"mmmm\")","v":"outubro"},{"$f":"YEAR(SPP[[#This Row],[DATA]])","v":2021}]
["23/10/2021","59","VT",3111113,49037807.560000002,15378849.98,64416657.539999999,{"$f":"TEXT(SPP[[#This Row],[DATA]],\"mmmm\")","v":"outubro"},{"$f":"YEAR(SPP[[#This Row],[DATA]])","v":2021}]
["23/10/2021","100","BILHETE UNICO MENSAL - CASCO",6178990,925171009.84000003,100334093.90000001,1025505103.74,{"$f":"TEXT(SPP[[#This Row],[DATA]],\"mmmm\")","v":"outubro"},{"$f":"YEAR(SPP[[#This Row],[DATA]])","v":2021}]
["25/10/2021","75","CARTAO FIDELIDADE",123772,0,7899814.7599999998,7899814.7599999998,{"$f":"TEXT(SPP[[#This Row],[DATA]],\"mmmm\")","v":"outubro"},{"$f":"YEAR(SPP[[#This Row],[DATA]])","v":2021}]
["26/10/2021","75","CARTAO FIDELIDADE",123825,0,7876725.8499999996,7876725.8499999996,{"$f":"TEXT(SPP[[#This Row],[DATA]],\"mmmm\")","v":"outubro"},{"$f":"YEAR(SPP[[#This Row],[DATA]])","v":2021}]
["27/10/2021","68","ESTUDANTE 8VG",1,0,2.7,2.7,{"$f":"TEXT(SPP[[#This Row],[DATA]],\"mmmm\")","v":"outubro"},{"$f":"YEAR(SPP[[#This Row],[DATA]])","v":2021}]
["28/10/2021","68","ESTUDANTE 8VG",1,0,2.7,2.7,{"$f":"TEXT(SPP[[#This Row],[DATA]],\"mmmm\")","v":"outubro"},{"$f":"YEAR(SPP[[#This Row],[DATA]])","v":2021}]
["29/10/2021","59","VT",3107883,47844395.25,15345295.51,63189690.759999998,{"$f":"TEXT(SPP[[#This Row],[DATA]],\"mmmm\")","v":"outubro"},{"$f":"YEAR(SPP[[#This Row],[DATA]])","v":2021}]
["30/10/2021","51","COMUM 4 VIAGENS",7631,2832.87,31937.62,34770.49,{"$f":"TEXT(SPP[[#This Row],[DATA]],\"mmmm\")","v":"outubro"},{"$f":"YEAR(SPP[[#This Row],[DATA]])","v":2021}]
["30/10/2021","80","COMUM 8 VIAGENS",45,0,293.63,293.63,{"$f":"TEXT(SPP[[#This Row],[DATA]],\"mmmm\")","v":"outubro"},{"$f":"YEAR(SPP[[#This Row],[DATA]])","v":2021}]
["31/10/2021","71","MÃE PAULISTANA",164130,356696.35000000003,775951.14,1132647.49,{"$f":"TEXT(SPP[[#This Row],[DATA]],\"mmmm\")","v":"outubro"},{"$f":"YEAR(SPP[[#This Row],[DATA]])","v":2021}]
["01/11/2021","74","PROFESSOR",25273,1120551.1599999999,0,1120551.1599999999,{"$f":"TEXT(SPP[[#This Row],[DATA]],\"mmmm\")","v":"novembro"},{"$f":"YEAR(SPP[[#This Row],[DATA]])","v":2021}]
["03/11/2021","52","ESTUDANTE",71596,114367.48,458363.21,572730.69000000006,{"$f":"TEXT(SPP[[#This Row],[DATA]],\"mmmm\")","v":"novembro"},{"$f":"YEAR(SPP[[#This Row],[DATA]])","v":2021}]
["03/11/2021","86","Estacionamento",9220,925.81000000000006,105345.88,106271.69,{"$f":"TEXT(SPP[[#This Row],[DATA]],\"mmmm\")","v":"novembro"},{"$f":"YEAR(SPP[[#This Row],[DATA]])","v":2021}]
["04/11/2021","86","Estacionamento",9225,925.81000000000006,105433.42,106359.23,{"$f":"TEXT(SPP[[#This Row],[DATA]],\"mmmm\")","v":"novembro"},{"$f":"YEAR(SPP[[#This Row],[DATA]])","v":2021}]
["05/11/2021","52","ESTUDANTE",71539,115506.77,455742.18,571248.95000000007,{"$f":"TEXT(SPP[[#This Row],[DATA]],\"mmmm\")","v":"novembro"},{"$f":"YEAR(SPP[[#This Row],[DATA]])","v":2021}]
["06/11/2021","75","CARTAO FIDELIDADE",123882,0,7899584.79,7899584.79,{"$f":"TEXT(SPP[[#This Row],[DATA]],\"mmmm\")","v":"novembro"},{"$f":"YEAR(SPP[[#This Row],[DATA]])","v":2021}]
["07/11/2021","68","ESTUDANTE 8VG",1,0,2.7,2.7,{"$f":"TEXT(SPP[[#This Row],[DATA]],\"mmmm\")","v":"novembro"},{"$f":"YEAR(SPP[[#This Row],[DATA]])","v":2021}]
["07/11/2021","110","BUM - ANÔNIMO - CASCO",1338470,609013.23,6484168.5700000003,7093181.7999999998,{"$f":"TEXT(SPP[[#This Row],[DATA]],\"mmmm\")","v":"novembro"},{"$f":"YEAR(SPP[[#This Row],[DATA]])","v":2021}]
["09/11/2021","71","MÃE PAULISTANA",164673,349316.66000000003,787253.83000000007,1136570.49,{"$f":"TEXT(SPP[[#This Row],[DATA]],\"mmmm\")","v":"novembro"},{"$f":"YEAR(SPP[[#This Row],[DATA]])","v":2021}]
["10/11/2021","76","Lazer",462,0,11580.25,11580.25,{"$f":"TEXT(SPP[[#This Row],[DATA]],\"mmmm\")","v":"novembro"},{"$f":"YEAR(SPP[[#This Row],[DATA]])","v":2021}]
["11/11/2021","76","Lazer",462,0,11580.25,11580.25,{"$f":"TEXT(SPP[[#This Row],[DATA]],\"mmmm\")","v":"novembro"},{"$f":"YEAR(SPP[[#This Row],[DATA]])","v":2021}]
["12/11/2021","69","VT 8VG",746,0,6742.07,6742.07,{"$f":"TEXT(SPP[[#This Row],[DATA]],\"mmmm\")","v":"novembro"},{"$f":"YEAR(SPP[[#This Row],[DATA]])","v":2021}]
["13/11/2021","51","COMUM 4 VIAGENS",7526,2825.86,30185.49,33011.35,{"$f":"TEXT(SPP[[#This Row],[DATA]],\"mmmm\")","v":"novembro"},{"$f":"YEAR(SPP[[#This Row],[DATA]])","v":2021}]
["14/11/2021","52","ESTUDANTE",71629,115708.75,453373.75,569082.5,{"$f":"TEXT(SPP[[#This Row],[DATA]],\"mmmm\")","v":"novembro"},{"$f":"YEAR(SPP[[#This Row],[DATA]])","v":2021}]
["14/11/2021","86","Estacionamento",9222,925.81000000000006,105139.1,106064.91,{"$f":"TEXT(SPP[[#This Row],[DATA]],\"mmmm\")","v":"novembro"},{"$f":"YEAR(SPP[[#This Row],[DATA]])","v":2021}]
["15/11/2021","74","PROFESSOR",25343,1167540.6000000001,0,1167540.6000000001,{"$f":"TEXT(SPP[[#This Row],[DATA]],\"mmmm\")","v":"novembro"},{"$f":"YEAR(SPP[[#This Row],[DATA]])","v":2021}]
["17/11/2021","69","VT 8VG",743,0,6676.93,6676.93,{"$f":"TEXT(SPP[[#This Row],[DATA]],\"mmmm\")","v":"novembro"},{"$f":"YEAR(SPP[[#This Row],[DATA]])","v":2021}]
["18/11/2021","59","VT",3099505,44966352.189999998,15272193.51,60238545.700000003,{"$f":"TEXT(SPP[[#This Row],[DATA]],\"mmmm\")","v":"novembro"},{"$f":"YEAR(SPP[[#This Row],[DATA]])","v":2021}]
["19/11/2021","59","VT",3098905,44836649.299999997,15268510.83,60105160.130000003,{"$f":"TEXT(SPP[[#This Row],[DATA]],\"mmmm\")","v":"novembro"},{"$f":"YEAR(SPP[[#This Row],[DATA]])","v":2021}]
["19/11/2021","100","BILHETE UNICO MENSAL - CASCO",6264965,931219388.16999996,105320138.95999999,1036539527.13,{"$f":"TEXT(SPP[[#This Row],[DATA]],\"mmmm\")","v":"novembro"},{"$f":"YEAR(SPP[[#This Row],[DATA]])","v":2021}]
["20/11/2021","110","BUM - ANÔNIMO - CASCO",1335585,608489.74,6450641.8300000001,7059131.5700000003,{"$f":"TEXT(SPP[[#This Row],[DATA]],\"mmmm\")","v":"novembro"},{"$f":"YEAR(SPP[[#This Row],[DATA]])","v":2021}]
["21/11/2021","76","Lazer",464,0,11762.35,11762.35,{"$f":"TEXT(SPP[[#This Row],[DATA]],\"mmmm\")","v":"novembro"},{"$f":"YEAR(SPP[[#This Row],[DATA]])","v":2021}]
["22/11/2021","69","VT 8VG",741,0,6635.64,6635.64,{"$f":"TEXT(SPP[[#This Row],[DATA]],\"mmmm\")","v":"novembro"},{"$f":"YEAR(SPP[[#This Row],[DATA]])","v":2021}]
["23/11/2021","51","COMUM 4 VIAGENS",7485,2825.86,29615.93,32441.79,{"$f":"TEXT(SPP[[#This Row],[DATA]],\"mmmm\")","v":"novembro"},{"$f":"YEAR(SPP[[#This Row],[DATA]])","v":2021}]
["24/11/2021","68","ESTUDANTE 8VG",1,0,2.7,2.7,{"$f":"TEXT(SPP[[#This Row],[DATA]],\"mmmm\")","v":"novembro"},{"$f":"YEAR(SPP[[#This Row],[DATA]])","v":2021}]
["25/11/2021","80","COMUM 8 VIAGENS",42,0,269.93,269.93,{"$f":"TEXT(SPP[[#This Row],[DATA]],\"mmmm\")","v":"novembro"},{"$f":"YEAR(SPP[[#This Row],[DATA]])","v":2021}]
["26/11/2021","80","COMUM 8 VIAGENS",42,0,269.93,269.93,{"$f":"TEXT(SPP[[#This Row],[DATA]],\"mmmm\")","v":"novembro"},{"$f":"YEAR(SPP[[#This Row],[DATA]])","v":2021}]
["27/11/2021","71","MÃE PAULISTANA",165953,333647.11,789751.27,1123398.3799999999,{"$f":"TEXT(SPP[[#This Row],[DATA]],\"mmmm\")","v":"novembro"},{"$f":"YEAR(SPP[[#This Row],[DATA]])","v":2021}]
["27/11/2021","100","BILHETE UNICO MENSAL - CASCO",6290964,921408197.88999999,97053685.969999999,1018461883.86,{"$f":"TEXT(SPP[[#This Row],[DATA]],\"mmmm\")","v":"novembro"},{"$f":"YEAR(SPP[[#This Row],[DATA]])","v":2021}]
["29/11/2021","59","VT",3094671,43650132.030000001,15220133.83,58870265.859999999,{"$f":"TEXT(SPP[[#This Row],[DATA]],\"mmmm\")","v":"novembro"},{"$f":"YEAR(SPP[[#This Row],[DATA]])","v":2021}]
["29/11/2021","100","BILHETE UNICO MENSAL - CASCO",6295370,928379250.15999997,98042682.709999993,1026421932.87,{"$f":"TEXT(SPP[[#This Row],[DATA]],\"mmmm\")","v":"novembro"},{"$f":"YEAR(SPP[[#This Row],[DATA]])","v":2021}]
["30/11/2021","100","BILHETE UNICO MENSAL - CASCO",6299895,938478286.00999999,100906519.59999999,1039384805.61,{"$f":"TEXT(SPP[[#This Row],[DATA]],\"mmmm\")","v":"novembro"},{"$f":"YEAR(SPP[[#This Row],[DATA]])","v":2021}]
["02/12/2021","59","VT",3093083,43272236.75,15202953.619999999,58475190.369999997,{"$f":"TEXT(SPP[[#This Row],[DATA]],\"mmmm\")","v":"dezembro"},{"$f":"YEAR(SPP[[#This Row],[DATA]])","v":2021}]
["03/12/2021","68","ESTUDANTE 8VG",1,0,2.7,2.7,{"$f":"TEXT(SPP[[#This Row],[DATA]],\"mmmm\")","v":"dezembro"},{"$f":"YEAR(SPP[[#This Row],[DATA]])","v":2021}]
["04/12/2021","68","ESTUDANTE 8VG",1,0,2.7,2.7,{"$f":"TEXT(SPP[[#This Row],[DATA]],\"mmmm\")","v":"dezembro"},{"$f":"YEAR(SPP[[#This Row],[DATA]])","v":2021}]
["04/12/2021","110","BUM - ANÔNIMO - CASCO",1332231,609041.30000000005,6411559.6399999997,7020600.9400000004,{"$f":"TEXT(SPP[[#This Row],[DATA]],\"mmmm\")","v":"dezembro"},{"$f":"YEAR(SPP[[#This Row],[DATA]])","v":2021}]
["05/12/2021","86","Estacionamento",9210,927.81000000000006,105435.39,106363.2,{"$f":"TEXT(SPP[[#This Row],[DATA]],\"mmmm\")","v":"dezembro"},{"$f":"YEAR(SPP[[#This Row],[DATA]])","v":2021}]
["06/12/2021","80","COMUM 8 VIAGENS",42,0,269.93,269.93,{"$f":"TEXT(SPP[[#This Row],[DATA]],\"mmmm\")","v":"dezembro"},{"$f":"YEAR(SPP[[#This Row],[DATA]])","v":2021}]
["07/12/2021","71","MÃE PAULISTANA",166564,328201.33,800047.33000000007,1128248.6599999999,{"$f":"TEXT(SPP[[#This Row],[DATA]],\"mmmm\")","v":"dezembro"},{"$f":"YEAR(SPP[[#This Row],[DATA]])","v":2021}]
["08/12/2021","71","MÃE PAULISTANA",166696,327239.5,803862.71,1131102.21,{"$f":"TEXT(SPP[[#This Row],[DATA]],\"mmmm\")","v":"dezembro"},{"$f":"YEAR(SPP[[#This Row],[DATA]])","v":2021}]
["09/12/2021","52","ESTUDANTE",71525,109605.1,459306.23999999999,568911.34,{"$f":"TEXT(SPP[[#This Row],[DATA]],\"mmmm\")","v":"dezembro"},{"$f":"YEAR(SPP[[#This Row],[DATA]])","v":2021}]
["10/12/2021","86","Estacionamento",9206,1015.8100000000001,105834.86,106850.67,{"$f":"TEXT(SPP[[#This Row],[DATA]],\"mmmm\")","v":"dezembro"},{"$f":"YEAR(SPP[[#This Row],[DATA]])","v":2021}]
["11/12/2021","86","Estacionamento",9207,1015.8100000000001,105706.52,106722.33,{"$f":"TEXT(SPP[[#This Row],[DATA]],\"mmmm\")","v":"dezembro"},{"$f":"YEAR(SPP[[#This Row],[DATA]])","v":2021}]
["12/12/2021","74","PROFESSOR",25439,1203324.8,0,1203324.8,{"$f":"TEXT(SPP[[#This Row],[DATA]],\"mmmm\")","v":"dezembro"},{"$f":"YEAR(SPP[[#This Row],[DATA]])","v":2021}]
["13/12/2021","86","Estacionamento",9206,932.21,105636.90000000001,106569.11,{"$f":"TEXT(SPP[[#This Row],[DATA]],\"mmmm\")","v":"dezembro"},{"$f":"YEAR(SPP[[#This Row],[DATA]])","v":2021}]
["14/12/2021","71","MÃE PAULISTANA",167033,324939.28000000003,803390.38,1128329.6599999999,{"$f":"TEXT(SPP[[#This Row],[DATA]],\"mmmm\")","v":"dezembro"},{"$f":"YEAR(SPP[[#This Row],[DATA]])","v":2021}]
["15/12/2021","52","ESTUDANTE",71566,110050.2,459092.55,569142.75,{"$f":"TEXT(SPP[[#This Row],[DATA]],\"mmmm\")","v":"dezembro"},{"$f":"YEAR(SPP[[#This Row],[DATA]])","v":2021}]
["16/12/2021","59","VT",3088732,42106508.140000001,15164514,57271022.140000001,{"$f":"TEXT(SPP[[#This Row],[DATA]],\"mmmm\")","v":"dezembro"},{"$f":"YEAR(SPP[[#This Row],[DATA]])","v":2021}]
["17/12/2021","71","MÃE PAULISTANA",167289,323923.98,802589.31,1126513.29,{"$f":"TEXT(SPP[[#This Row],[DATA]],\"mmmm\")","v":"dezembro"},{"$f":"YEAR(SPP[[#This Row],[DATA]])","v":2021}]
["18/12/2021","86","Estacionamento",9209,1048.6100000000001,105474.73,106523.34,{"$f":"TEXT(SPP[[#This Row],[DATA]],\"mmmm\")","v":"dezembro"},{"$f":"YEAR(SPP[[#This Row],[DATA]])","v":2021}]
["19/12/2021","100","BILHETE UNICO MENSAL - CASCO",6358276,924472173.91999996,101543579.62,1026015753.54,{"$f":"TEXT(SPP[[#This Row],[DATA]],\"mmmm\")","v":"dezembro"},{"$f":"YEAR(SPP[[#This Row],[DATA]])","v":2021}]
["20/12/2021","76","Lazer",474,0,11684.25,11684.25,{"$f":"TEXT(SPP[[#This Row],[DATA]],\"mmmm\")","v":"dezembro"},{"$f":"YEAR(SPP[[#This Row],[DATA]])","v":2021}]
["20/12/2021","110","BUM - ANÔNIMO - CASCO",1330861,608280.42000000004,6396775.21,7005055.6299999999,{"$f":"TEXT(SPP[[#This Row],[DATA]],\"mmmm\")","v":"dezembro"},{"$f":"YEAR(SPP[[#This Row],[DATA]])","v":2021}]
["22/12/2021","75","CARTAO FIDELIDADE",125013,0,7861434.79,7861434.79,{"$f":"TEXT(SPP[[#This Row],[DATA]],\"mmmm\")","v":"dezembro"},{"$f":"YEAR(SPP[[#This Row],[DATA]])","v":2021}]
["23/12/2021","69","VT 8VG",729,0,6335.84,6335.84,{"$f":"TEXT(SPP[[#This Row],[DATA]],\"mmmm\")","v":"dezembro"},{"$f":"YEAR(SPP[[#This Row],[DATA]])","v":2021}]
["24/12/2021","71","MÃE PAULISTANA",167650,319739.39,794334.21,1114073.6000000001,{"$f":"TEXT(SPP[[#This Row],[DATA]],\"mmmm\")","v":"dezembro"},{"$f":"YEAR(SPP[[#This Row],[DATA]])","v":2021}]
["25/12/2021","110","BUM - ANÔNIMO - CASCO",1330576,608267.22,6394012.4199999999,7002279.6399999997,{"$f":"TEXT(SPP[[#This Row],[DATA]],\"mmmm\")","v":"dezembro"},{"$f":"YEAR(SPP[[#This Row],[DATA]])","v":2021}]
["26/12/2021","110","BUM - ANÔNIMO - CASCO",1330572,608267.22,6393975.7000000002,7002242.9199999999,{"$f":"TEXT(SPP[[#This Row],[DATA]],\"mmmm\")","v":"dezembro"},{"$f":"YEAR(SPP[[#This Row],[DATA]])","v":2021}]
["28/12/2021","51","COMUM 4 VIAGENS",7407,2806.9500000000003,28821.440000000002,31628.39,{"$f":"TEXT(SPP[[#This Row],[DATA]],\"mmmm\")","v":"dezembro"},{"$f":"YEAR(SPP[[#This Row],[DATA]])","v":2021}]
["28/12/2021","86","Estacionamento",9209,1035.4100000000001,105699.21,106734.62,{"$f":"TEXT(SPP[[#This Row],[DATA]],\"mmmm\")","v":"dezembro"},{"$f":"YEAR(SPP[[#This Row],[DATA]])","v":2021}]
["29/12/2021","75","CARTAO FIDELIDADE",124862,0,7884618.2999999998,7884618.2999999998,{"$f":"TEXT(SPP[[#This Row],[DATA]],\"mmmm\")","v":"dezembro"},{"$f":"YEAR(SPP[[#This Row],[DATA]])","v":2021}]
["30/12/2021","80","COMUM 8 VIAGENS",41,0,256.02,256.02,{"$f":"TEXT(SPP[[#This Row],[DATA]],\"mmmm\")","v":"dezembro"},{"$f":"YEAR(SPP[[#This Row],[DATA]])","v":2021}]
["31/12/2021","74","PROFESSOR",25431,1214904.72,0,1214904.72,{"$f":"TEXT(SPP[[#This Row],[DATA]],\"mmmm\")","v":"dezembro"},{"$f":"YEAR(SPP[[#This Row],[DATA]])","v":2021}]
["01/01/2022","75","CARTAO FIDELIDADE",124677,0,7879021.9500000002,7879021.9500000002,{"$f":"TEXT(SPP[[#This Row],[DATA]],\"mmmm\")","v":"janeiro"},{"$f":"YEAR(SPP[[#This Row],[DATA]])","v":2022}]
["02/01/2022","74","PROFESSOR",25430,1212994.82,0,1212994.82,{"$f":"TEXT(SPP[[#This Row],[DATA]],\"mmmm\")","v":"janeiro"},{"$f":"YEAR(SPP[[#This Row],[DATA]])","v":2022}]
["03/01/2022","74","PROFESSOR",25430,1212803.6000000001,0,1212803.6000000001,{"$f":"TEXT(SPP[[#This Row],[DATA]],\"mmmm\")","v":"janeiro"},{"$f":"YEAR(SPP[[#This Row],[DATA]])","v":2022}]
["05/01/2022","59","VT",3084769,40966807.369999997,15132004.9,56098812.270000003,{"$f":"TEXT(SPP[[#This Row],[DATA]],\"mmmm\")","v":"janeiro"},{"$f":"YEAR(SPP[[#This Row],[DATA]])","v":2022}]
["05/01/2022","110","BUM - ANÔNIMO - CASCO",1329913,608036.27,6387461.3300000001,6995497.5999999996,{"$f":"TEXT(SPP[[#This Row],[DATA]],\"mmmm\")","v":"janeiro"},{"$f":"YEAR(SPP[[#This Row],[DATA]])","v":2022}]
["07/01/2022","52","ESTUDANTE",71688,107174.71,457739.73,564914.44000000006,{"$f":"TEXT(SPP[[#This Row],[DATA]],\"mmmm\")","v":"janeiro"},{"$f":"YEAR(SPP[[#This Row],[DATA]])","v":2022}]
["07/01/2022","100","BILHETE UNICO MENSAL - CASCO",6402463,976380848.27999997,113549342.55,1089930190.8299999,{"$f":"TEXT(SPP[[#This Row],[DATA]],\"mmmm\")","v":"janeiro"},{"$f":"YEAR(SPP[[#This Row],[DATA]])","v":2022}]
["08/01/2022","76","Lazer",474,0,11917.45,11917.45,{"$f":"TEXT(SPP[[#This Row],[DATA]],\"mmmm\")","v":"janeiro"},{"$f":"YEAR(SPP[[#This Row],[DATA]])","v":2022}]
["09/01/2022","80","COMUM 8 VIAGENS",41,0,256.02,256.02,{"$f":"TEXT(SPP[[#This Row],[DATA]],\"mmmm\")","v":"janeiro"},{"$f":"YEAR(SPP[[#This Row],[DATA]])","v":2022}]
["11/01/2022","51","COMUM 4 VIAGENS",7375,2807.1,28518.93,31326.03,{"$f":"TEXT(SPP[[#This Row],[DATA]],\"mmmm\")","v":"janeiro"},{"$f":"YEAR(SPP[[#This Row],[DATA]])","v":2022}]
["11/01/2022","76","Lazer",474,0,11935.050000000001,11935.050000000001,{"$f":"TEXT(SPP[[#This Row],[DATA]],\"mmmm\")","v":"janeiro"},{"$f":"YEAR(SPP[[#This Row],[DATA]])","v":2022}]
["13/01/2022","71","MÃE PAULISTANA",168579,314091.85000000003,812255.94000000006,1126347.79,{"$f":"TEXT(SPP[[#This Row],[DATA]],\"mmmm\")","v":"janeiro"},{"$f":"YEAR(SPP[[#This Row],[DATA]])","v":2022}]
["14/01/2022","52","ESTUDANTE",71654,107218.94,459350.14,566569.07999999996,{"$f":"TEXT(SPP[[#This Row],[DATA]],\"mmmm\")","v":"janeiro"},{"$f":"YEAR(SPP[[#This Row],[DATA]])","v":2022}]
["14/01/2022","76","Lazer",474,0,11935.050000000001,11935.050000000001,{"$f":"TEXT(SPP[[#This Row],[DATA]],\"mmmm\")","v":"janeiro"},{"$f":"YEAR(SPP[[#This Row],[DATA]])","v":2022}]
["16/01/2022","51","COMUM 4 VIAGENS",7355,2800.29,28270.47,31070.760000000002,{"$f":"TEXT(SPP[[#This Row],[DATA]],\"mmmm\")","v":"janeiro"},{"$f":"YEAR(SPP[[#This Row],[DATA]])","v":2022}]
["16/01/2022","86","Estacionamento",9189,956.21,106142.55,107098.76000000001,{"$f":"TEXT(SPP[[#This Row],[DATA]],\"mmmm\")","v":"janeiro"},{"$f":"YEAR(SPP[[#This Row],[DATA]])","v":2022}]
["17/01/2022","100","BILHETE UNICO MENSAL - CASCO",6426263,948833229.57000005,117207521.25,1066040750.8200001,{"$f":"TEXT(SPP[[#This Row],[DATA]],\"mmmm\")","v":"janeiro"},{"$f":"YEAR(SPP[[#This Row],[DATA]])","v":2022}]
["18/01/2022","75","CARTAO FIDELIDADE",125843,0,8152403.6600000001,8152403.6600000001,{"$f":"TEXT(SPP[[#This Row],[DATA]],\"mmmm\")","v":"janeiro"},{"$f":"YEAR(SPP[[#This Row],[DATA]])","v":2022}]
["19/01/2022","86","Estacionamento",9178,956.21,106119.32,107075.53,{"$f":"TEXT(SPP[[#This Row],[DATA]],\"mmmm\")","v":"janeiro"},{"$f":"YEAR(SPP[[#This Row],[DATA]])","v":2022}]
["21/01/2022","75","CARTAO FIDELIDADE",125908,0,8099646.4900000002,8099646.4900000002,{"$f":"TEXT(SPP[[#This Row],[DATA]],\"mmmm\")","v":"janeiro"},{"$f":"YEAR(SPP[[#This Row],[DATA]])","v":2022}]
["22/01/2022","69","VT 8VG",720,0,6289.06,6289.06,{"$f":"TEXT(SPP[[#This Row],[DATA]],\"mmmm\")","v":"janeiro"},{"$f":"YEAR(SPP[[#This Row],[DATA]])","v":2022}]
["23/01/2022","59","VT",3080737,39943670.399999999,15100144.449999999,55043814.850000001,{"$f":"TEXT(SPP[[#This Row],[DATA]],\"mmmm\")","v":"janeiro"},{"$f":"YEAR(SPP[[#This Row],[DATA]])","v":2022}]
["24/01/2022","59","VT",3080474,39870181.439999998,15098549.91,54968731.350000001,{"$f":"TEXT(SPP[[#This Row],[DATA]],\"mmmm\")","v":"janeiro"},{"$f":"YEAR(SPP[[#This Row],[DATA]])","v":2022}]
["25/01/2022","69","VT 8VG",719,0,6286.96,6286.96,{"$f":"TEXT(SPP[[#This Row],[DATA]],\"mmmm\")","v":"janeiro"},{"$f":"YEAR(SPP[[#This Row],[DATA]])","v":2022}]
["26/01/2022","51","COMUM 4 VIAGENS",7376,2797.01,28997.7,31794.71,{"$f":"TEXT(SPP[[#This Row],[DATA]],\"mmmm\")","v":"janeiro"},{"$f":"YEAR(SPP[[#This Row],[DATA]])","v":2022}]
["27/01/2022","52","ESTUDANTE",71626,111419.61,459614.05,571033.66,{"$f":"TEXT(SPP[[#This Row],[DATA]],\"mmmm\")","v":"janeiro"},{"$f":"YEAR(SPP[[#This Row],[DATA]])","v":2022}]
["27/01/2022","110","BUM - ANÔNIMO - CASCO",1328261,607702.85,6372614.0599999996,6980316.9100000001,{"$f":"TEXT(SPP[[#This Row],[DATA]],\"mmmm\")","v":"janeiro"},{"$f":"YEAR(SPP[[#This Row],[DATA]])","v":2022}]
["29/01/2022","80","COMUM 8 VIAGENS",41,0,256.02,256.02,{"$f":"TEXT(SPP[[#This Row],[DATA]],\"mmmm\")","v":"janeiro"},{"$f":"YEAR(SPP[[#This Row],[DATA]])","v":2022}]
["30/01/2022","74","PROFESSOR",25331,1127579.24,0,1127579.24,{"$f":"TEXT(SPP[[#This Row],[DATA]],\"mmmm\")","v":"janeiro"},{"$f":"YEAR(SPP[[#This Row],[DATA]])","v":2022}]
["31/01/2022","86","Estacionamento",9157,956.21,105910.87,106867.08,{"$f":"TEXT(SPP[[#This Row],[DATA]],\"mmmm\")","v":"janeiro"},{"$f":"YEAR(SPP[[#This Row],[DATA]])","v":2022}]
["01/02/2022","71","MÃE PAULISTANA",169135,307450.06,807743.14,1115193.2,{"$f":"TEXT(SPP[[#This Row],[DATA]],\"mmmm\")","v":"fevereiro"},{"$f":"YEAR(SPP[[#This Row],[DATA]])","v":2022}]
["02/02/2022","74","PROFESSOR",25346,1132082.6399999999,0,1132082.6399999999,{"$f":"TEXT(SPP[[#This Row],[DATA]],\"mmmm\")","v":"fevereiro"},{"$f":"YEAR(SPP[[#This Row],[DATA]])","v":2022}]
["03/02/2022","59","VT",3078250,39402214.210000001,15080354.619999999,54482568.829999998,{"$f":"TEXT(SPP[[#This Row],[DATA]],\"mmmm\")","v":"fevereiro"},{"$f":"YEAR(SPP[[#This Row],[DATA]])","v":2022}]
["04/02/2022","80","COMUM 8 VIAGENS",41,0,256.02,256.02,{"$f":"TEXT(SPP[[#This Row],[DATA]],\"mmmm\")","v":"fevereiro"},{"$f":"YEAR(SPP[[#This Row],[DATA]])","v":2022}]
["05/02/2022","52","ESTUDANTE",71643,111323.7,464399.75,575723.45000000007,{"$f":"TEXT(SPP[[#This Row],[DATA]],\"mmmm\")","v":"fevereiro"},{"$f":"YEAR(SPP[[#This Row],[DATA]])","v":2022}]
["06/02/2022","100","BILHETE UNICO MENSAL - CASCO",6479098,977909541.72000003,117695178.84999999,1095604720.5699999,{"$f":"TEXT(SPP[[#This Row],[DATA]],\"mmmm\")","v":"fevereiro"},{"$f":"YEAR(SPP[[#This Row],[DATA]])","v":2022}]
["06/02/2022","110","BUM - ANÔNIMO - CASCO",1327569,607437.69000000006,6367113.29,6974550.9800000004,{"$f":"TEXT(SPP[[#This Row],[DATA]],\"mmmm\")","v":"fevereiro"},{"$f":"YEAR(SPP[[#This Row],[DATA]])","v":2022}]
["08/02/2022","69","VT 8VG",714,0,6190.27,6190.27,{"$f":"TEXT(SPP[[#This Row],[DATA]],\"mmmm\")","v":"fevereiro"},{"$f":"YEAR(SPP[[#This Row],[DATA]])","v":2022}]
["09/02/2022","75","CARTAO FIDELIDADE",126381,0,8199773.7000000002,8199773.7000000002,{"$f":"TEXT(SPP[[#This Row],[DATA]],\"mmmm\")","v":"fevereiro"},{"$f":"YEAR(SPP[[#This Row],[DATA]])","v":2022}]
["10/02/2022","76","Lazer",472,0,11829.34,11829.34,{"$f":"TEXT(SPP[[#This Row],[DATA]],\"mmmm\")","v":"fevereiro"},{"$f":"YEAR(SPP[[#This Row],[DATA]])","v":2022}]
["11/02/2022","71","MÃE PAULISTANA",169783,307436.3,822189.48,1129625.78,{"$f":"TEXT(SPP[[#This Row],[DATA]],\"mmmm\")","v":"fevereiro"},{"$f":"YEAR(SPP[[#This Row],[DATA]])","v":2022}]
["12/02/2022","59","VT",3076398,38920917.109999999,15065530.48,53986447.590000004,{"$f":"TEXT(SPP[[#This Row],[DATA]],\"mmmm\")","v":"fevereiro"},{"$f":"YEAR(SPP[[#This Row],[DATA]])","v":2022}]
["13/02/2022","69","VT 8VG",714,0,6190.27,6190.27,{"$f":"TEXT(SPP[[#This Row],[DATA]],\"mmmm\")","v":"fevereiro"},{"$f":"YEAR(SPP[[#This Row],[DATA]])","v":2022}]
["15/02/2022","51","COMUM 4 VIAGENS",7302,2791.82,27497.09,30288.91,{"$f":"TEXT(SPP[[#This Row],[DATA]],\"mmmm\")","v":"fevereiro"},{"$f":"YEAR(SPP[[#This Row],[DATA]])","v":2022}]
["15/02/2022","52","ESTUDANTE",71618,114497.97,463716.75,578214.72,{"$f":"TEXT(SPP[[#This Row],[DATA]],\"mmmm\")","v":"fevereiro"},{"$f":"YEAR(SPP[[#This Row],[DATA]])","v":2022}]
["16/02/2022","100","BILHETE UNICO MENSAL - CASCO",6512495,943420128.75999999,119121185.31,1062541314.0700001,{"$f":"TEXT(SPP[[#This Row],[DATA]],\"mmmm\")","v":"fevereiro"},{"$f":"YEAR(SPP[[#This Row],[DATA]])","v":2022}]
["17/02/2022","80","COMUM 8 VIAGENS",41,0,256.02,256.02,{"$f":"TEXT(SPP[[#This Row],[DATA]],\"mmmm\")","v":"fevereiro"},{"$f":"YEAR(SPP[[#This Row],[DATA]])","v":2022}]
["18/02/2022","86","Estacionamento",9135,956.21,105973.6,106929.81,{"$f":"TEXT(SPP[[#This Row],[DATA]],\"mmmm\")","v":"fevereiro"},{"$f":"YEAR(SPP[[#This Row],[DATA]])","v":2022}]
["19/02/2022","59","VT",3075028,38623669.280000001,15054982.359999999,53678651.640000001,{"$f":"TEXT(SPP[[#This Row],[DATA]],\"mmmm\")","v":"fevereiro"},{"$f":"YEAR(SPP[[#This Row],[DATA]])","v":2022}]
["20/02/2022","71","MÃE PAULISTANA",170256,304812.55,819354.18,1124166.73,{"$f":"TEXT(SPP[[#This Row],[DATA]],\"mmmm\")","v":"fevereiro"},{"$f":"YEAR(SPP[[#This Row],[DATA]])","v":2022}]
["21/02/2022","74","PROFESSOR",25481,1138147.96,0,1138147.96,{"$f":"TEXT(SPP[[#This Row],[DATA]],\"mmmm\")","v":"fevereiro"},{"$f":"YEAR(SPP[[#This Row],[DATA]])","v":2022}]
["23/02/2022","59","VT",3074248,38470731.280000001,15048523.130000001,53519254.409999996,{"$f":"TEXT(SPP[[#This Row],[DATA]],\"mmmm\")","v":"fevereiro"},{"$f":"YEAR(SPP[[#This Row],[DATA]])","v":2022}]
["23/02/2022","100","BILHETE UNICO MENSAL - CASCO",6534481,920980142.11000001,112753025.33,1033733167.4400001,{"$f":"TEXT(SPP[[#This Row],[DATA]],\"mmmm\")","v":"fevereiro"},{"$f":"YEAR(SPP[[#This Row],[DATA]])","v":2022}]
["25/02/2022","52","ESTUDANTE",71527,103335.01000000001,457899.27,561234.28,{"$f":"TEXT(SPP[[#This Row],[DATA]],\"mmmm\")","v":"fevereiro"},{"$f":"YEAR(SPP[[#This Row],[DATA]])","v":2022}]
["25/02/2022","100","BILHETE UNICO MENSAL - CASCO",6541441,931532025.28999996,109183852.31999999,1040715877.61,{"$f":"TEXT(SPP[[#This Row],[DATA]],\"mmmm\")","v":"fevereiro"},{"$f":"YEAR(SPP[[#This Row],[DATA]])","v":2022}]
["26/02/2022","110","BUM - ANÔNIMO - CASCO",1326077,607144.02,6353603.6500000004,6960747.6699999999,{"$f":"TEXT(SPP[[#This Row],[DATA]],\"mmmm\")","v":"fevereiro"},{"$f":"YEAR(SPP[[#This Row],[DATA]])","v":2022}]
["27/02/2022","86","Estacionamento",9131,956.21,105967.45,106923.66,{"$f":"TEXT(SPP[[#This Row],[DATA]],\"mmmm\")","v":"fevereiro"},{"$f":"YEAR(SPP[[#This Row],[DATA]])","v":2022}]
["28/02/2022","100","BILHETE UNICO MENSAL - CASCO",6545015,950408480.25,107618315.08,1058026795.33,{"$f":"TEXT(SPP[[#This Row],[DATA]],\"mmmm\")","v":"fevereiro"},{"$f":"YEAR(SPP[[#This Row],[DATA]])","v":2022}]
["01/03/2022","76","Lazer",472,0,11958.14,11958.14,{"$f":"TEXT(SPP[[#This Row],[DATA]],\"mmmm\")","v":"março"},{"$f":"YEAR(SPP[[#This Row],[DATA]])","v":2022}]
["03/03/2022","71","MÃE PAULISTANA",170782,304831.21000000002,823345.85,1128177.06,{"$f":"TEXT(SPP[[#This Row],[DATA]],\"mmmm\")","v":"março"},{"$f":"YEAR(SPP[[#This Row],[DATA]])","v":2022}]
["04/03/2022","74","PROFESSOR",25650,1164782,0,1164782,{"$f":"TEXT(SPP[[#This Row],[DATA]],\"mmmm\")","v":"março"},{"$f":"YEAR(SPP[[#This Row],[DATA]])","v":2022}]
["05/03/2022","69","VT 8VG",712,0,6174.12,6174.12,{"$f":"TEXT(SPP[[#This Row],[DATA]],\"mmmm\")","v":"março"},{"$f":"YEAR(SPP[[#This Row],[DATA]])","v":2022}]
["06/03/2022","51","COMUM 4 VIAGENS",7257,2788.4900000000002,27180.720000000001,29969.21,{"$f":"TEXT(SPP[[#This Row],[DATA]],\"mmmm\")","v":"março"},{"$f":"YEAR(SPP[[#This Row],[DATA]])","v":2022}]
["07/03/2022","52","ESTUDANTE",71525,103479.44,460587.67,564067.11,{"$f":"TEXT(SPP[[#This Row],[DATA]],\"mmmm\")","v":"março"},{"$f":"YEAR(SPP[[#This Row],[DATA]])","v":2022}]
["08/03/2022","71","MÃE PAULISTANA",171045,304813.03000000003,830698.47,1135511.5,{"$f":"TEXT(SPP[[#This Row],[DATA]],\"mmmm\")","v":"março"},{"$f":"YEAR(SPP[[#This Row],[DATA]])","v":2022}]
["09/03/2022","51","COMUM 4 VIAGENS",7248,2788.4900000000002,27081.68,29870.170000000002,{"$f":"TEXT(SPP[[#This Row],[DATA]],\"mmmm\")","v":"março"},{"$f":"YEAR(SPP[[#This Row],[DATA]])","v":2022}]
["09/03/2022","86","Estacionamento",9122,956.21,106063.85,107020.06,{"$f":"TEXT(SPP[[#This Row],[DATA]],\"mmmm\")","v":"março"},{"$f":"YEAR(SPP[[#This Row],[DATA]])","v":2022}]
["11/03/2022","75","CARTAO FIDELIDADE",126939,0,8130040.1200000001,8130040.1200000001,{"$f":"TEXT(SPP[[#This Row],[DATA]],\"mmmm\")","v":"março"},{"$f":"YEAR(SPP[[#This Row],[DATA]])","v":2022}]
["11/03/2022","110","BUM - ANÔNIMO - CASCO",1325270,606976.67000000004,6345986.7599999998,6952963.4299999997,{"$f":"TEXT(SPP[[#This Row],[DATA]],\"mmmm\")","v":"março"},{"$f":"YEAR(SPP[[#This Row],[DATA]])","v":2022}]
["13/03/2022","74","PROFESSOR",25849,1189736.57,0,1189736.57,{"$f":"TEXT(SPP[[#This Row],[DATA]],\"mmmm\")","v":"março"},{"$f":"YEAR(SPP[[#This Row],[DATA]])","v":2022}]
["14/03/2022","59","VT",3071011,37685142.289999999,15022280.390000001,52707422.68,{"$f":"TEXT(SPP[[#This Row],[DATA]],\"mmmm\")","v":"março"},{"$f":"YEAR(SPP[[#This Row],[DATA]])","v":2022}]
["15/03/2022","69","VT 8VG",712,0,6174.12,6174.12,{"$f":"TEXT(SPP[[#This Row],[DATA]],\"mmmm\")","v":"março"},{"$f":"YEAR(SPP[[#This Row],[DATA]])","v":2022}]
["15/03/2022","100","BILHETE UNICO MENSAL - CASCO",6616153,972046298.76999998,122692024.70999999,1094738323.48,{"$f":"TEXT(SPP[[#This Row],[DATA]],\"mmmm\")","v":"março"},{"$f":"YEAR(SPP[[#This Row],[DATA]])","v":2022}]
["17/03/2022","59","VT",3070376,37558427.710000001,15016881.6,52575309.310000002,{"$f":"TEXT(SPP[[#This Row],[DATA]],\"mmmm\")","v":"março"},{"$f":"YEAR(SPP[[#This Row],[DATA]])","v":2022}]
["17/03/2022","110","BUM - ANÔNIMO - CASCO",1324881,606814.56000000006,6342489.3700000001,6949303.9299999997,{"$f":"TEXT(SPP[[#This Row],[DATA]],\"mmmm\")","v":"março"},{"$f":"YEAR(SPP[[#This Row],[DATA]])","v":2022}]
["19/03/2022","80","COMUM 8 VIAGENS",41,0,256.02,256.02,{"$f":"TEXT(SPP[[#This Row],[DATA]],\"mmmm\")","v":"março"},{"$f":"YEAR(SPP[[#This Row],[DATA]])","v":2022}]
["20/03/2022","75","CARTAO FIDELIDADE",126847,0,8004224.3200000003,8004224.3200000003,{"$f":"TEXT(SPP[[#This Row],[DATA]],\"mmmm\")","v":"março"},{"$f":"YEAR(SPP[[#This Row],[DATA]])","v":2022}]
["21/03/2022","76","Lazer",470,0,11783.2,11783.2,{"$f":"TEXT(SPP[[#This Row],[DATA]],\"mmmm\")","v":"março"},{"$f":"YEAR(SPP[[#This Row],[DATA]])","v":2022}]
["22/03/2022","80","COMUM 8 VIAGENS",41,0,256.02,256.02,{"$f":"TEXT(SPP[[#This Row],[DATA]],\"mmmm\")","v":"março"},{"$f":"YEAR(SPP[[#This Row],[DATA]])","v":2022}]
["23/03/2022","74","PROFESSOR",26202,1201990.81,0,1201990.81,{"$f":"TEXT(SPP[[#This Row],[DATA]],\"mmmm\")","v":"março"},{"$f":"YEAR(SPP[[#This Row],[DATA]])","v":2022}]
["24/03/2022","74","PROFESSOR",26226,1199357.51,0,1199357.51,{"$f":"TEXT(SPP[[#This Row],[DATA]],\"mmmm\")","v":"março"},{"$f":"YEAR(SPP[[#This Row],[DATA]])","v":2022}]
["25/03/2022","71","MÃE PAULISTANA",172115,296014.69,834538.85,1130553.54,{"$f":"TEXT(SPP[[#This Row],[DATA]],\"mmmm\")","v":"março"},{"$f":"YEAR(SPP[[#This Row],[DATA]])","v":2022}]
["26/03/2022","52","ESTUDANTE",71524,97090.94,458476.79000000004,555567.73,{"$f":"TEXT(SPP[[#This Row],[DATA]],\"mmmm\")","v":"março"},{"$f":"YEAR(SPP[[#This Row],[DATA]])","v":2022}]
["27/03/2022","100","BILHETE UNICO MENSAL - CASCO",6659211,930112255.08000004,109283048.73999999,1039395303.8200001,{"$f":"TEXT(SPP[[#This Row],[DATA]],\"mmmm\")","v":"março"},{"$f":"YEAR(SPP[[#This Row],[DATA]])","v":2022}]
["28/03/2022","51","COMUM 4 VIAGENS",7214,2783.9900000000002,26748.83,29532.82,{"$f":"TEXT(SPP[[#This Row],[DATA]],\"mmmm\")","v":"março"},{"$f":"YEAR(SPP[[#This Row],[DATA]])","v":2022}]
["29/03/2022","86","Estacionamento",9112,956.21,106076.33,107032.54000000001,{"$f":"TEXT(SPP[[#This Row],[DATA]],\"mmmm\")","v":"março"},{"$f":"YEAR(SPP[[#This Row],[DATA]])","v":2022}]
["30/03/2022","100","BILHETE UNICO MENSAL - CASCO",6672981,949856412.40999997,109624560.81,1059480973.22,{"$f":"TEXT(SPP[[#This Row],[DATA]],\"mmmm\")","v":"março"},{"$f":"YEAR(SPP[[#This Row],[DATA]])","v":2022}]
["31/03/2022","76","Lazer",469,0,11768,11768,{"$f":"TEXT(SPP[[#This Row],[DATA]],\"mmmm\")","v":"março"},{"$f":"YEAR(SPP[[#This Row],[DATA]])","v":2022}]
["02/04/2022","51","COMUM 4 VIAGENS",7204,2783.9900000000002,26691.74,29475.73,{"$f":"TEXT(SPP[[#This Row],[DATA]],\"mmmm\")","v":"abril"},{"$f":"YEAR(SPP[[#This Row],[DATA]])","v":2022}]
["02/04/2022","75","CARTAO FIDELIDADE",127033,0,7932673.5800000001,7932673.5800000001,{"$f":"TEXT(SPP[[#This Row],[DATA]],\"mmmm\")","v":"abril"},{"$f":"YEAR(SPP[[#This Row],[DATA]])","v":2022}]
["03/04/2022","69","VT 8VG",708,0,6074.99,6074.99,{"$f":"TEXT(SPP[[#This Row],[DATA]],\"mmmm\")","v":"abril"},{"$f":"YEAR(SPP[[#This Row],[DATA]])","v":2022}]
["04/04/2022","71","MÃE PAULISTANA",172669,295820.69,844158.44000000006,1139979.1299999999,{"$f":"TEXT(SPP[[#This Row],[DATA]],\"mmmm\")","v":"abril"},{"$f":"YEAR(SPP[[#This Row],[DATA]])","v":2022}]
["05/04/2022","76","Lazer",471,0,11790.4,11790.4,{"$f":"TEXT(SPP[[#This Row],[DATA]],\"mmmm\")","v":"abril"},{"$f":"YEAR(SPP[[#This Row],[DATA]])","v":2022}]
["06/04/2022","110","BUM - ANÔNIMO - CASCO",1323520,606572.29,6330089.9199999999,6936662.21,{"$f":"TEXT(SPP[[#This Row],[DATA]],\"mmmm\")","v":"abril"},{"$f":"YEAR(SPP[[#This Row],[DATA]])","v":2022}]
["08/04/2022","51","COMUM 4 VIAGENS",7189,2780.71,26619.74,29400.45,{"$f":"TEXT(SPP[[#This Row],[DATA]],\"mmmm\")","v":"abril"},{"$f":"YEAR(SPP[[#This Row],[DATA]])","v":2022}]
["08/04/2022","86","Estacionamento",9113,956.21,106402.94,107359.15000000001,{"$f":"TEXT(SPP[[#This Row],[DATA]],\"mmmm\")","v":"abril"},{"$f":"YEAR(SPP[[#This Row],[DATA]])","v":2022}]
["09/04/2022","75","CARTAO FIDELIDADE",127852,0,8113549.4199999999,8113549.4199999999,{"$f":"TEXT(SPP[[#This Row],[DATA]],\"mmmm\")","v":"abril"},{"$f":"YEAR(SPP[[#This Row],[DATA]])","v":2022}]
["10/04/2022","80","COMUM 8 VIAGENS",40,0,253.57,253.57,{"$f":"TEXT(SPP[[#This Row],[DATA]],\"mmmm\")","v":"abril"},{"$f":"YEAR(SPP[[#This Row],[DATA]])","v":2022}]
["11/04/2022","74","PROFESSOR",26695,1269141.19,0,1269141.19,{"$f":"TEXT(SPP[[#This Row],[DATA]],\"mmmm\")","v":"abril"},{"$f":"YEAR(SPP[[#This Row],[DATA]])","v":2022}]
["12/04/2022","75","CARTAO FIDELIDADE",128023,0,8190794.4699999997,8190794.4699999997,{"$f":"TEXT(SPP[[#This Row],[DATA]],\"mmmm\")","v":"abril"},{"$f":"YEAR(SPP[[#This Row],[DATA]])","v":2022}]
["14/04/2022","59","VT",3065276,36453737.780000001,14974028.25,51427766.030000001,{"$f":"TEXT(SPP[[#This Row],[DATA]],\"mmmm\")","v":"abril"},{"$f":"YEAR(SPP[[#This Row],[DATA]])","v":2022}]
["15/04/2022","52","ESTUDANTE",71453,92897.06,452309.78,545206.84,{"$f":"TEXT(SPP[[#This Row],[DATA]],\"mmmm\")","v":"abril"},{"$f":"YEAR(SPP[[#This Row],[DATA]])","v":2022}]
["16/04/2022","59","VT",3065140,36422949.509999998,14972806.810000001,51395756.32,{"$f":"TEXT(SPP[[#This Row],[DATA]],\"mmmm\")","v":"abril"},{"$f":"YEAR(SPP[[#This Row],[DATA]])","v":2022}]
["16/04/2022","110","BUM - ANÔNIMO - CASCO",1322997,606561.91,6325921.3300000001,6932483.2400000002,{"$f":"TEXT(SPP[[#This Row],[DATA]],\"mmmm\")","v":"abril"},{"$f":"YEAR(SPP[[#This Row],[DATA]])","v":2022}]
["18/04/2022","52","ESTUDANTE",71443,93648.42,459071.53,552719.94999999995,{"$f":"TEXT(SPP[[#This Row],[DATA]],\"mmmm\")","v":"abril"},{"$f":"YEAR(SPP[[#This Row],[DATA]])","v":2022}]
["18/04/2022","100","BILHETE UNICO MENSAL - CASCO",6736818,940839253.25,121319103.38,1062158356.63,{"$f":"TEXT(SPP[[#This Row],[DATA]],\"mmmm\")","v":"abril"},{"$f":"YEAR(SPP[[#This Row],[DATA]])","v":2022}]
["19/04/2022","76","Lazer",470,0,11345.800000000001,11345.800000000001,{"$f":"TEXT(SPP[[#This Row],[DATA]],\"mmmm\")","v":"abril"},{"$f":"YEAR(SPP[[#This Row],[DATA]])","v":2022}]
["20/04/2022","80","COMUM 8 VIAGENS",40,0,253.57,253.57,{"$f":"TEXT(SPP[[#This Row],[DATA]],\"mmmm\")","v":"abril"},{"$f":"YEAR(SPP[[#This Row],[DATA]])","v":2022}]
["21/04/2022","80","COMUM 8 VIAGENS",40,0,253.57,253.57,{"$f":"TEXT(SPP[[#This Row],[DATA]],\"mmmm\")","v":"abril"},{"$f":"YEAR(SPP[[#This Row],[DATA]])","v":2022}]
["23/04/2022","69","VT 8VG",705,0,6042.3,6042.3,{"$f":"TEXT(SPP[[#This Row],[DATA]],\"mmmm\")","v":"abril"},{"$f":"YEAR(SPP[[#This Row],[DATA]])","v":2022}]
["24/04/2022","71","MÃE PAULISTANA",173946,290739.31,840320.86,1131060.17,{"$f":"TEXT(SPP[[#This Row],[DATA]],\"mmmm\")","v":"abril"},{"$f":"YEAR(SPP[[#This Row],[DATA]])","v":2022}]
["25/04/2022","52","ESTUDANTE",71469,93468.25,460596.8,554065.05000000005,{"$f":"TEXT(SPP[[#This Row],[DATA]],\"mmmm\")","v":"abril"},{"$f":"YEAR(SPP[[#This Row],[DATA]])","v":2022}]
["26/04/2022","71","MÃE PAULISTANA",174139,291407.60000000003,847569.3,1138976.8999999999,{"$f":"TEXT(SPP[[#This Row],[DATA]],\"mmmm\")","v":"abril"},{"$f":"YEAR(SPP[[#This Row],[DATA]])","v":2022}]
["27/04/2022","51","COMUM 4 VIAGENS",7165,2779.67,26231.62,29011.29,{"$f":"TEXT(SPP[[#This Row],[DATA]],\"mmmm\")","v":"abril"},{"$f":"YEAR(SPP[[#This Row],[DATA]])","v":2022}]
["27/04/2022","86","Estacionamento",9109,956.21,106400.49,107356.7,{"$f":"TEXT(SPP[[#This Row],[DATA]],\"mmmm\")","v":"abril"},{"$f":"YEAR(SPP[[#This Row],[DATA]])","v":2022}]
["28/04/2022","100","BILHETE UNICO MENSAL - CASCO",6766085,941464090.63999999,111737880.17,1053201970.8099999,{"$f":"TEXT(SPP[[#This Row],[DATA]],\"mmmm\")","v":"abril"},{"$f":"YEAR(SPP[[#This Row],[DATA]])","v":2022}]
["30/04/2022","69","VT 8VG",704,0,6030.2,6030.2,{"$f":"TEXT(SPP[[#This Row],[DATA]],\"mmmm\")","v":"abril"},{"$f":"YEAR(SPP[[#This Row],[DATA]])","v":2022}]
["01/05/2022","74","PROFESSOR",27036,1253848.31,0,1253848.31,{"$f":"TEXT(SPP[[#This Row],[DATA]],\"mmmm\")","v":"maio"},{"$f":"YEAR(SPP[[#This Row],[DATA]])","v":2022}]
["02/05/2022","75","CARTAO FIDELIDADE",128169,0,8064787.8499999996,8064787.8499999996,{"$f":"TEXT(SPP[[#This Row],[DATA]],\"mmmm\")","v":"maio"},{"$f":"YEAR(SPP[[#This Row],[DATA]])","v":2022}]
["03/05/2022","69","VT 8VG",703,0,6014.54,6014.54,{"$f":"TEXT(SPP[[#This Row],[DATA]],\"mmmm\")","v":"maio"},{"$f":"YEAR(SPP[[#This Row],[DATA]])","v":2022}]
["03/05/2022","100","BILHETE UNICO MENSAL - CASCO",6782244,990595321.52999997,121577823.13,1112173144.6600001,{"$f":"TEXT(SPP[[#This Row],[DATA]],\"mmmm\")","v":"maio"},{"$f":"YEAR(SPP[[#This Row],[DATA]])","v":2022}]
["05/05/2022","59","VT",3062143,35854167.579999998,14948151.41,50802318.990000002,{"$f":"TEXT(SPP[[#This Row],[DATA]],\"mmmm\")","v":"maio"},{"$f":"YEAR(SPP[[#This Row],[DATA]])","v":2022}]
["05/05/2022","110","BUM - ANÔNIMO - CASCO",1321979,606560.89,6316315.3799999999,6922876.2700000005,{"$f":"TEXT(SPP[[#This Row],[DATA]],\"mmmm\")","v":"maio"},{"$f":"YEAR(SPP[[#This Row],[DATA]])","v":2022}]
["07/05/2022","51","COMUM 4 VIAGENS",7151,2776.27,26125.48,28901.75,{"$f":"TEXT(SPP[[#This Row],[DATA]],\"mmmm\")","v":"maio"},{"$f":"YEAR(SPP[[#This Row],[DATA]])","v":2022}]
["07/05/2022","86","Estacionamento",9113,956.21,106509.75,107465.96,{"$f":"TEXT(SPP[[#This Row],[DATA]],\"mmmm\")","v":"maio"},{"$f":"YEAR(SPP[[#This Row],[DATA]])","v":2022}]
["09/05/2022","76","Lazer",471,0,11728.7,11728.7,{"$f":"TEXT(SPP[[#This Row],[DATA]],\"mmmm\")","v":"maio"},{"$f":"YEAR(SPP[[#This Row],[DATA]])","v":2022}]
["10/05/2022","80","COMUM 8 VIAGENS",40,0,253.57,253.57,{"$f":"TEXT(SPP[[#This Row],[DATA]],\"mmmm\")","v":"maio"},{"$f":"YEAR(SPP[[#This Row],[DATA]])","v":2022}]
["11/05/2022","74","PROFESSOR",27419,1367210.41,0,1367210.41,{"$f":"TEXT(SPP[[#This Row],[DATA]],\"mmmm\")","v":"maio"},{"$f":"YEAR(SPP[[#This Row],[DATA]])","v":2022}]
["12/05/2022","74","PROFESSOR",27454,1367536.2,0,1367536.2,{"$f":"TEXT(SPP[[#This Row],[DATA]],\"mmmm\")","v":"maio"},{"$f":"YEAR(SPP[[#This Row],[DATA]])","v":2022}]
["13/05/2022","71","MÃE PAULISTANA",175302,291065.48,869009.87,1160075.3500000001,{"$f":"TEXT(SPP[[#This Row],[DATA]],\"mmmm\")","v":"maio"},{"$f":"YEAR(SPP[[#This Row],[DATA]])","v":2022}]
["14/05/2022","52","ESTUDANTE",71418,91512.05,456330.3,547842.35,{"$f":"TEXT(SPP[[#This Row],[DATA]],\"mmmm\")","v":"maio"},{"$f":"YEAR(SPP[[#This Row],[DATA]])","v":2022}]
["15/05/2022","59","VT",3060833,35584626.899999999,14938291.17,50522918.07,{"$f":"TEXT(SPP[[#This Row],[DATA]],\"mmmm\")","v":"maio"},{"$f":"YEAR(SPP[[#This Row],[DATA]])","v":2022}]
["16/05/2022","71","MÃE PAULISTANA",175406,290010.60000000003,869887.8,1159898.3999999999,{"$f":"TEXT(SPP[[#This Row],[DATA]],\"mmmm\")","v":"maio"},{"$f":"YEAR(SPP[[#This Row],[DATA]])","v":2022}]
["17/05/2022","52","ESTUDANTE",71422,92115.27,459945.48,552060.75,{"$f":"TEXT(SPP[[#This Row],[DATA]],\"mmmm\")","v":"maio"},{"$f":"YEAR(SPP[[#This Row],[DATA]])","v":2022}]
["18/05/2022","100","BILHETE UNICO MENSAL - CASCO",6826190,950588644.34000003,124198510.45999999,1074787154.8,{"$f":"TEXT(SPP[[#This Row],[DATA]],\"mmmm\")","v":"maio"},{"$f":"YEAR(SPP[[#This Row],[DATA]])","v":2022}]
["19/05/2022","76","Lazer",471,0,11719.9,11719.9,{"$f":"TEXT(SPP[[#This Row],[DATA]],\"mmmm\")","v":"maio"},{"$f":"YEAR(SPP[[#This Row],[DATA]])","v":2022}]
["21/05/2022","51","COMUM 4 VIAGENS",7135,2776.27,26036.100000000002,28812.37,{"$f":"TEXT(SPP[[#This Row],[DATA]],\"mmmm\")","v":"maio"},{"$f":"YEAR(SPP[[#This Row],[DATA]])","v":2022}]
["21/05/2022","75","CARTAO FIDELIDADE",128415,0,7972081.21,7972081.21,{"$f":"TEXT(SPP[[#This Row],[DATA]],\"mmmm\")","v":"maio"},{"$f":"YEAR(SPP[[#This Row],[DATA]])","v":2022}]
["22/05/2022","69","VT 8VG",701,0,5987.33,5987.33,{"$f":"TEXT(SPP[[#This Row],[DATA]],\"mmmm\")","v":"maio"},{"$f":"YEAR(SPP[[#This Row],[DATA]])","v":2022}]
["23/05/2022","71","MÃE PAULISTANA",175811,286955.98,869855.32000000007,1156811.3,{"$f":"TEXT(SPP[[#This Row],[DATA]],\"mmmm\")","v":"maio"},{"$f":"YEAR(SPP[[#This Row],[DATA]])","v":2022}]
["24/05/2022","110","BUM - ANÔNIMO - CASCO",1320778,606472.37,6303393.6600000001,6909866.0300000003,{"$f":"TEXT(SPP[[#This Row],[DATA]],\"mmmm\")","v":"maio"},{"$f":"YEAR(SPP[[#This Row],[DATA]])","v":2022}]
["25/05/2022","69","VT 8VG",700,0,5973.13,5973.13,{"$f":"TEXT(SPP[[#This Row],[DATA]],\"mmmm\")","v":"maio"},{"$f":"YEAR(SPP[[#This Row],[DATA]])","v":2022}]
["27/05/2022","51","COMUM 4 VIAGENS",7128,2776.27,26016.65,28792.920000000002,{"$f":"TEXT(SPP[[#This Row],[DATA]],\"mmmm\")","v":"maio"},{"$f":"YEAR(SPP[[#This Row],[DATA]])","v":2022}]
["27/05/2022","86","Estacionamento",9119,956.21,106599.91,107556.12,{"$f":"TEXT(SPP[[#This Row],[DATA]],\"mmmm\")","v":"maio"},{"$f":"YEAR(SPP[[#This Row],[DATA]])","v":2022}]
["28/05/2022","75","CARTAO FIDELIDADE",128503,0,7852553.8200000003,7852553.8200000003,{"$f":"TEXT(SPP[[#This Row],[DATA]],\"mmmm\")","v":"maio"},{"$f":"YEAR(SPP[[#This Row],[DATA]])","v":2022}]
["29/05/2022","80","COMUM 8 VIAGENS",40,0,253.57,253.57,{"$f":"TEXT(SPP[[#This Row],[DATA]],\"mmmm\")","v":"maio"},{"$f":"YEAR(SPP[[#This Row],[DATA]])","v":2022}]
["30/05/2022","86","Estacionamento",9121,956.21,106675.65000000001,107631.86,{"$f":"TEXT(SPP[[#This Row],[DATA]],\"mmmm\")","v":"maio"},{"$f":"YEAR(SPP[[#This Row],[DATA]])","v":2022}]
["31/05/2022","75","CARTAO FIDELIDADE",128772,0,7972786.6299999999,7972786.6299999999,{"$f":"TEXT(SPP[[#This Row],[DATA]],\"mmmm\")","v":"maio"},{"$f":"YEAR(SPP[[#This Row],[DATA]])","v":2022}]
["01/06/2022","74","PROFESSOR",27936,1345959.91,0,1345959.91,{"$f":"TEXT(SPP[[#This Row],[DATA]],\"mmmm\")","v":"junho"},{"$f":"YEAR(SPP[[#This Row],[DATA]])","v":2022}]
["02/06/2022","74","PROFESSOR",27959,1360667.53,0,1360667.53,{"$f":"TEXT(SPP[[#This Row],[DATA]],\"mmmm\")","v":"junho"},{"$f":"YEAR(SPP[[#This Row],[DATA]])","v":2022}]
["04/06/2022","59","VT",3058053,35063945.990000002,14912210.42,49976156.409999996,{"$f":"TEXT(SPP[[#This Row],[DATA]],\"mmmm\")","v":"junho"},{"$f":"YEAR(SPP[[#This Row],[DATA]])","v":2022}]
["04/06/2022","110","BUM - ANÔNIMO - CASCO",1319982,606382.47,6292928.7000000002,6899311.1699999999,{"$f":"TEXT(SPP[[#This Row],[DATA]],\"mmmm\")","v":"junho"},{"$f":"YEAR(SPP[[#This Row],[DATA]])","v":2022}]
["06/06/2022","52","ESTUDANTE",71343,85101.33,457382.96,542484.29,{"$f":"TEXT(SPP[[#This Row],[DATA]],\"mmmm\")","v":"junho"},{"$f":"YEAR(SPP[[#This Row],[DATA]])","v":2022}]
["06/06/2022","100","BILHETE UNICO MENSAL - CASCO",6867404,995664040.29999995,127710732.33,1123374772.6300001,{"$f":"TEXT(SPP[[#This Row],[DATA]],\"mmmm\")","v":"junho"},{"$f":"YEAR(SPP[[#This Row],[DATA]])","v":2022}]
["07/06/2022","110","BUM - ANÔNIMO - CASCO",1319849,606239.98,6291455.0599999996,6897695.04,{"$f":"TEXT(SPP[[#This Row],[DATA]],\"mmmm\")","v":"junho"},{"$f":"YEAR(SPP[[#This Row],[DATA]])","v":2022}]
["08/06/2022","80","COMUM 8 VIAGENS",40,0,253.57,253.57,{"$f":"TEXT(SPP[[#This Row],[DATA]],\"mmmm\")","v":"junho"},{"$f":"YEAR(SPP[[#This Row],[DATA]])","v":2022}]
["10/06/2022","51","COMUM 4 VIAGENS",7116,2774.57,25965.65,28740.22,{"$f":"TEXT(SPP[[#This Row],[DATA]],\"mmmm\")","v":"junho"},{"$f":"YEAR(SPP[[#This Row],[DATA]])","v":2022}]
["10/06/2022","76","Lazer",471,0,11689.15,11689.15,{"$f":"TEXT(SPP[[#This Row],[DATA]],\"mmmm\")","v":"junho"},{"$f":"YEAR(SPP[[#This Row],[DATA]])","v":2022}]
["12/06/2022","71","MÃE PAULISTANA",176983,286490.67,879113.20000000007,1165603.8700000001,{"$f":"TEXT(SPP[[#This Row],[DATA]],\"mmmm\")","v":"junho"},{"$f":"YEAR(SPP[[#This Row],[DATA]])","v":2022}]
["13/06/2022","52","ESTUDANTE",71364,82759.66,458877.41000000003,541637.07000000007,{"$f":"TEXT(SPP[[#This Row],[DATA]],\"mmmm\")","v":"junho"},{"$f":"YEAR(SPP[[#This Row],[DATA]])","v":2022}]
["13/06/2022","76","Lazer",472,0,11724.35,11724.35,{"$f":"TEXT(SPP[[#This Row],[DATA]],\"mmmm\")","v":"junho"},{"$f":"YEAR(SPP[[#This Row],[DATA]])","v":2022}]
["15/06/2022","51","COMUM 4 VIAGENS",7111,2772.35,25955.3,28727.65,{"$f":"TEXT(SPP[[#This Row],[DATA]],\"mmmm\")","v":"junho"},{"$f":"YEAR(SPP[[#This Row],[DATA]])","v":2022}]
["16/06/2022","52","ESTUDANTE",71331,83917.17,455308.71,539225.88,{"$f":"TEXT(SPP[[#This Row],[DATA]],\"mmmm\")","v":"junho"},{"$f":"YEAR(SPP[[#This Row],[DATA]])","v":2022}]
["16/06/2022","100","BILHETE UNICO MENSAL - CASCO",6886853,956896575.25,124899866.09999999,1081796441.3499999,{"$f":"TEXT(SPP[[#This Row],[DATA]],\"mmmm\")","v":"junho"},{"$f":"YEAR(SPP[[#This Row],[DATA]])","v":2022}]
["18/06/2022","76","Lazer",473,0,11763.95,11763.95,{"$f":"TEXT(SPP[[#This Row],[DATA]],\"mmmm\")","v":"junho"},{"$f":"YEAR(SPP[[#This Row],[DATA]])","v":2022}]
["18/06/2022","86","Estacionamento",9123,956.21,106942.73,107898.94,{"$f":"TEXT(SPP[[#This Row],[DATA]],\"mmmm\")","v":"junho"},{"$f":"YEAR(SPP[[#This Row],[DATA]])","v":2022}]
["20/06/2022","75","CARTAO FIDELIDADE",129267,0,8069825.3200000003,8069825.3200000003,{"$f":"TEXT(SPP[[#This Row],[DATA]],\"mmmm\")","v":"junho"},{"$f":"YEAR(SPP[[#This Row],[DATA]])","v":2022}]
["21/06/2022","76","Lazer",474,0,11762.95,11762.95,{"$f":"TEXT(SPP[[#This Row],[DATA]],\"mmmm\")","v":"junho"},{"$f":"YEAR(SPP[[#This Row],[DATA]])","v":2022}]
["22/06/2022","59","VT",3056080,34669720.140000001,14896848.140000001,49566568.280000001,{"$f":"TEXT(SPP[[#This Row],[DATA]],\"mmmm\")","v":"junho"},{"$f":"YEAR(SPP[[#This Row],[DATA]])","v":2022}]
["23/06/2022","59","VT",3055957,34630580.810000002,14895953.220000001,49526534.030000001,{"$f":"TEXT(SPP[[#This Row],[DATA]],\"mmmm\")","v":"junho"},{"$f":"YEAR(SPP[[#This Row],[DATA]])","v":2022}]
["24/06/2022","69","VT 8VG",696,0,5822.82,5822.82,{"$f":"TEXT(SPP[[#This Row],[DATA]],\"mmmm\")","v":"junho"},{"$f":"YEAR(SPP[[#This Row],[DATA]])","v":2022}]
["25/06/2022","51","COMUM 4 VIAGENS",7106,2772.35,25917.82,28690.170000000002,{"$f":"TEXT(SPP[[#This Row],[DATA]],\"mmmm\")","v":"junho"},{"$f":"YEAR(SPP[[#This Row],[DATA]])","v":2022}]
["26/06/2022","52","ESTUDANTE",71317,82693.040000000008,453369.5,536062.54,{"$f":"TEXT(SPP[[#This Row],[DATA]],\"mmmm\")","v":"junho"},{"$f":"YEAR(SPP[[#This Row],[DATA]])","v":2022}]
["26/06/2022","110","BUM - ANÔNIMO - CASCO",1319034,606239.98,6284202.7000000002,6890442.6799999997,{"$f":"TEXT(SPP[[#This Row],[DATA]],\"mmmm\")","v":"junho"},{"$f":"YEAR(SPP[[#This Row],[DATA]])","v":2022}]
["28/06/2022","80","COMUM 8 VIAGENS",40,0,253.57,253.57,{"$f":"TEXT(SPP[[#This Row],[DATA]],\"mmmm\")","v":"junho"},{"$f":"YEAR(SPP[[#This Row],[DATA]])","v":2022}]
["29/06/2022","59","VT",3055348,34512074.210000001,14890996.220000001,49403070.43,{"$f":"TEXT(SPP[[#This Row],[DATA]],\"mmmm\")","v":"junho"},{"$f":"YEAR(SPP[[#This Row],[DATA]])","v":2022}]
["30/06/2022","76","Lazer",473,0,11694.75,11694.75,{"$f":"TEXT(SPP[[#This Row],[DATA]],\"mmmm\")","v":"junho"},{"$f":"YEAR(SPP[[#This Row],[DATA]])","v":2022}]
["01/07/2022","71","MÃE PAULISTANA",177814,284078.53999999998,878965.66,1163044.2,{"$f":"TEXT(SPP[[#This Row],[DATA]],\"mmmm\")","v":"julho"},{"$f":"YEAR(SPP[[#This Row],[DATA]])","v":2022}]
["02/07/2022","74","PROFESSOR",28505,1403685.96,0,1403685.96,{"$f":"TEXT(SPP[[#This Row],[DATA]],\"mmmm\")","v":"julho"},{"$f":"YEAR(SPP[[#This Row],[DATA]])","v":2022}]
["03/07/2022","52","ESTUDANTE",71275,80603.8,449968.37,530572.17000000004,{"$f":"TEXT(SPP[[#This Row],[DATA]],\"mmmm\")","v":"julho"},{"$f":"YEAR(SPP[[#This Row],[DATA]])","v":2022}]
["04/07/2022","71","MÃE PAULISTANA",177950,284211.77,887144.37,1171356.1399999999,{"$f":"TEXT(SPP[[#This Row],[DATA]],\"mmmm\")","v":"julho"},{"$f":"YEAR(SPP[[#This Row],[DATA]])","v":2022}]
["05/07/2022","52","ESTUDANTE",71266,80732.479999999996,455866.81,536599.29,{"$f":"TEXT(SPP[[#This Row],[DATA]],\"mmmm\")","v":"julho"},{"$f":"YEAR(SPP[[#This Row],[DATA]])","v":2022}]
["06/07/2022","100","BILHETE UNICO MENSAL - CASCO",6928004,1001137737.42,128316474.06,1129454211.48,{"$f":"TEXT(SPP[[#This Row],[DATA]],\"mmmm\")","v":"julho"},{"$f":"YEAR(SPP[[#This Row],[DATA]])","v":2022}]
["07/07/2022","86","Estacionamento",9119,956.21,107264.74,108220.95,{"$f":"TEXT(SPP[[#This Row],[DATA]],\"mmmm\")","v":"julho"},{"$f":"YEAR(SPP[[#This Row],[DATA]])","v":2022}]
["08/07/2022","86","Estacionamento",9119,956.21,107270.31,108226.52,{"$f":"TEXT(SPP[[#This Row],[DATA]],\"mmmm\")","v":"julho"},{"$f":"YEAR(SPP[[#This Row],[DATA]])","v":2022}]
["09/07/2022","75","CARTAO FIDELIDADE",129335,0,7990072.9000000004,7990072.9000000004,{"$f":"TEXT(SPP[[#This Row],[DATA]],\"mmmm\")","v":"julho"},{"$f":"YEAR(SPP[[#This Row],[DATA]])","v":2022}]
["10/07/2022","76","Lazer",473,0,11804.75,11804.75,{"$f":"TEXT(SPP[[#This Row],[DATA]],\"mmmm\")","v":"julho"},{"$f":"YEAR(SPP[[#This Row],[DATA]])","v":2022}]
["11/07/2022","80","COMUM 8 VIAGENS",40,0,253.57,253.57,{"$f":"TEXT(SPP[[#This Row],[DATA]],\"mmmm\")","v":"julho"},{"$f":"YEAR(SPP[[#This Row],[DATA]])","v":2022}]
["12/07/2022","75","CARTAO FIDELIDADE",129703,0,8089032.6900000004,8089032.6900000004,{"$f":"TEXT(SPP[[#This Row],[DATA]],\"mmmm\")","v":"julho"},{"$f":"YEAR(SPP[[#This Row],[DATA]])","v":2022}]
["13/07/2022","69","VT 8VG",692,0,5790.79,5790.79,{"$f":"TEXT(SPP[[#This Row],[DATA]],\"mmmm\")","v":"julho"},{"$f":"YEAR(SPP[[#This Row],[DATA]])","v":2022}]
["15/07/2022","51","COMUM 4 VIAGENS",7223,2775.13,26335.75,29110.880000000001,{"$f":"TEXT(SPP[[#This Row],[DATA]],\"mmmm\")","v":"julho"},{"$f":"YEAR(SPP[[#This Row],[DATA]])","v":2022}]
["15/07/2022","69","VT 8VG",692,0,5790.79,5790.79,{"$f":"TEXT(SPP[[#This Row],[DATA]],\"mmmm\")","v":"julho"},{"$f":"YEAR(SPP[[#This Row],[DATA]])","v":2022}]
["16/07/2022","110","BUM - ANÔNIMO - CASCO",1318136,606158.13,6274491.0899999999,6880649.2199999997,{"$f":"TEXT(SPP[[#This Row],[DATA]],\"mmmm\")","v":"julho"},{"$f":"YEAR(SPP[[#This Row],[DATA]])","v":2022}]
["17/07/2022","80","COMUM 8 VIAGENS",40,0,253.57,253.57,{"$f":"TEXT(SPP[[#This Row],[DATA]],\"mmmm\")","v":"julho"},{"$f":"YEAR(SPP[[#This Row],[DATA]])","v":2022}]
["18/07/2022","86","Estacionamento",9118,956.21,107315.73,108271.94,{"$f":"TEXT(SPP[[#This Row],[DATA]],\"mmmm\")","v":"julho"},{"$f":"YEAR(SPP[[#This Row],[DATA]])","v":2022}]
["20/07/2022","69","VT 8VG",690,0,5771.82,5771.82,{"$f":"TEXT(SPP[[#This Row],[DATA]],\"mmmm\")","v":"julho"},{"$f":"YEAR(SPP[[#This Row],[DATA]])","v":2022}]
["20/07/2022","80","COMUM 8 VIAGENS",40,0,253.57,253.57,{"$f":"TEXT(SPP[[#This Row],[DATA]],\"mmmm\")","v":"julho"},{"$f":"YEAR(SPP[[#This Row],[DATA]])","v":2022}]
["21/07/2022","74","PROFESSOR",28774,1368614.3,0,1368614.3,{"$f":"TEXT(SPP[[#This Row],[DATA]],\"mmmm\")","v":"julho"},{"$f":"YEAR(SPP[[#This Row],[DATA]])","v":2022}]
["23/07/2022","59","VT",3052523,34017301.509999998,14866469.32,48883770.829999998,{"$f":"TEXT(SPP[[#This Row],[DATA]],\"mmmm\")","v":"julho"},{"$f":"YEAR(SPP[[#This Row],[DATA]])","v":2022}]
["23/07/2022","100","BILHETE UNICO MENSAL - CASCO",6969138,937771651.90999997,120193813.64,1057965465.55,{"$f":"TEXT(SPP[[#This Row],[DATA]],\"mmmm\")","v":"julho"},{"$f":"YEAR(SPP[[#This Row],[DATA]])","v":2022}]
["25/07/2022","52","ESTUDANTE",71277,78962.89,454306.48,533269.37,{"$f":"TEXT(SPP[[#This Row],[DATA]],\"mmmm\")","v":"julho"},{"$f":"YEAR(SPP[[#This Row],[DATA]])","v":2022}]
["26/07/2022","59","VT",3052226,33987750.939999998,14863595.73,48851346.670000002,{"$f":"TEXT(SPP[[#This Row],[DATA]],\"mmmm\")","v":"julho"},{"$f":"YEAR(SPP[[#This Row],[DATA]])","v":2022}]
["26/07/2022","110","BUM - ANÔNIMO - CASCO",1317653,605970.62,6270623.0099999998,6876593.6299999999,{"$f":"TEXT(SPP[[#This Row],[DATA]],\"mmmm\")","v":"julho"},{"$f":"YEAR(SPP[[#This Row],[DATA]])","v":2022}]
["27/07/2022","86","Estacionamento",9113,956.21,107434.56,108390.77,{"$f":"TEXT(SPP[[#This Row],[DATA]],\"mmmm\")","v":"julho"},{"$f":"YEAR(SPP[[#This Row],[DATA]])","v":2022}]
["28/07/2022","100","BILHETE UNICO MENSAL - CASCO",6981135,954993327.92999995,116350995.45,1071344323.38,{"$f":"TEXT(SPP[[#This Row],[DATA]],\"mmmm\")","v":"julho"},{"$f":"YEAR(SPP[[#This Row],[DATA]])","v":2022}]
["29/07/2022","76","Lazer",474,0,11799.800000000001,11799.800000000001,{"$f":"TEXT(SPP[[#This Row],[DATA]],\"mmmm\")","v":"julho"},{"$f":"YEAR(SPP[[#This Row],[DATA]])","v":2022}]
["31/07/2022","71","MÃE PAULISTANA",179692,285040.39,889336.41,1174376.8,{"$f":"TEXT(SPP[[#This Row],[DATA]],\"mmmm\")","v":"julho"},{"$f":"YEAR(SPP[[#This Row],[DATA]])","v":2022}]
["01/08/2022","74","PROFESSOR",29036,1386190.1300000001,0,1386190.1300000001,{"$f":"TEXT(SPP[[#This Row],[DATA]],\"mmmm\")","v":"agosto"},{"$f":"YEAR(SPP[[#This Row],[DATA]])","v":2022}]
["02/08/2022","69","VT 8VG",687,0,5488.5,5488.5,{"$f":"TEXT(SPP[[#This Row],[DATA]],\"mmmm\")","v":"agosto"},{"$f":"YEAR(SPP[[#This Row],[DATA]])","v":2022}]
["03/08/2022","71","MÃE PAULISTANA",179967,284766.03000000003,908829.19000000006,1193595.22,{"$f":"TEXT(SPP[[#This Row],[DATA]],\"mmmm\")","v":"agosto"},{"$f":"YEAR(SPP[[#This Row],[DATA]])","v":2022}]
["04/08/2022","52","ESTUDANTE",71308,78639.78,455767.13,534406.91,{"$f":"TEXT(SPP[[#This Row],[DATA]],\"mmmm\")","v":"agosto"},{"$f":"YEAR(SPP[[#This Row],[DATA]])","v":2022}]
["05/08/2022","71","MÃE PAULISTANA",180084,284354.36,906235.52,1190589.8799999999,{"$f":"TEXT(SPP[[#This Row],[DATA]],\"mmmm\")","v":"agosto"},{"$f":"YEAR(SPP[[#This Row],[DATA]])","v":2022}]
["06/08/2022","51","COMUM 4 VIAGENS",7192,2775.13,26188.97,28964.100000000002,{"$f":"TEXT(SPP[[#This Row],[DATA]],\"mmmm\")","v":"agosto"},{"$f":"YEAR(SPP[[#This Row],[DATA]])","v":2022}]
["06/08/2022","86","Estacionamento",9117,956.21,107386.3,108342.51000000001,{"$f":"TEXT(SPP[[#This Row],[DATA]],\"mmmm\")","v":"agosto"},{"$f":"YEAR(SPP[[#This Row],[DATA]])","v":2022}]
["08/08/2022","75","CARTAO FIDELIDADE",130294,0,8108939.5700000003,8108939.5700000003,{"$f":"TEXT(SPP[[#This Row],[DATA]],\"mmmm\")","v":"agosto"},{"$f":"YEAR(SPP[[#This Row],[DATA]])","v":2022}]
["08/08/2022","110","BUM - ANÔNIMO - CASCO",1317133,605577.03,6266979.8099999996,6872556.8399999999,{"$f":"TEXT(SPP[[#This Row],[DATA]],\"mmmm\")","v":"agosto"},{"$f":"YEAR(SPP[[#This Row],[DATA]])","v":2022}]
["10/08/2022","74","PROFESSOR",29317,1500344.44,0,1500344.44,{"$f":"TEXT(SPP[[#This Row],[DATA]],\"mmmm\")","v":"agosto"},{"$f":"YEAR(SPP[[#This Row],[DATA]])","v":2022}]
["11/08/2022","75","CARTAO FIDELIDADE",130505,0,8126582.21,8126582.21,{"$f":"TEXT(SPP[[#This Row],[DATA]],\"mmmm\")","v":"agosto"},{"$f":"YEAR(SPP[[#This Row],[DATA]])","v":2022}]
["12/08/2022","69","VT 8VG",685,0,5487.3,5487.3,{"$f":"TEXT(SPP[[#This Row],[DATA]],\"mmmm\")","v":"agosto"},{"$f":"YEAR(SPP[[#This Row],[DATA]])","v":2022}]
["12/08/2022","100","BILHETE UNICO MENSAL - CASCO",7019022,995090347,131433440.56999999,1126523787.5699999,{"$f":"TEXT(SPP[[#This Row],[DATA]],\"mmmm\")","v":"agosto"},{"$f":"YEAR(SPP[[#This Row],[DATA]])","v":2022}]
["14/08/2022","59","VT",3050199,33670181.359999999,14848745.050000001,48518926.409999996,{"$f":"TEXT(SPP[[#This Row],[DATA]],\"mmmm\")","v":"agosto"},{"$f":"YEAR(SPP[[#This Row],[DATA]])","v":2022}]
["14/08/2022","110","BUM - ANÔNIMO - CASCO",1316900,605577.03,6265162.1699999999,6870739.2000000002,{"$f":"TEXT(SPP[[#This Row],[DATA]],\"mmmm\")","v":"agosto"},{"$f":"YEAR(SPP[[#This Row],[DATA]])","v":2022}]
["16/08/2022","51","COMUM 4 VIAGENS",7177,2771.85,26131.72,28903.57,{"$f":"TEXT(SPP[[#This Row],[DATA]],\"mmmm\")","v":"agosto"},{"$f":"YEAR(SPP[[#This Row],[DATA]])","v":2022}]
["17/08/2022","75","CARTAO FIDELIDADE",130680,0,8081870.1799999997,8081870.1799999997,{"$f":"TEXT(SPP[[#This Row],[DATA]],\"mmmm\")","v":"agosto"},{"$f":"YEAR(SPP[[#This Row],[DATA]])","v":2022}]
["18/08/2022","76","Lazer",473,0,11730.59,11730.59,{"$f":"TEXT(SPP[[#This Row],[DATA]],\"mmmm\")","v":"agosto"},{"$f":"YEAR(SPP[[#This Row],[DATA]])","v":2022}]
["19/08/2022","80","COMUM 8 VIAGENS",40,0,253.57,253.57,{"$f":"TEXT(SPP[[#This Row],[DATA]],\"mmmm\")","v":"agosto"},{"$f":"YEAR(SPP[[#This Row],[DATA]])","v":2022}]
["20/08/2022","74","PROFESSOR",29508,1458165.72,0,1458165.72,{"$f":"TEXT(SPP[[#This Row],[DATA]],\"mmmm\")","v":"agosto"},{"$f":"YEAR(SPP[[#This Row],[DATA]])","v":2022}]
["21/08/2022","74","PROFESSOR",29509,1455082.07,0,1455082.07,{"$f":"TEXT(SPP[[#This Row],[DATA]],\"mmmm\")","v":"agosto"},{"$f":"YEAR(SPP[[#This Row],[DATA]])","v":2022}]
["22/08/2022","71","MÃE PAULISTANA",181041,279466.5,913902.25,1193368.75,{"$f":"TEXT(SPP[[#This Row],[DATA]],\"mmmm\")","v":"agosto"},{"$f":"YEAR(SPP[[#This Row],[DATA]])","v":2022}]
["23/08/2022","52","ESTUDANTE",71231,76828.98,457490.36,534319.34,{"$f":"TEXT(SPP[[#This Row],[DATA]],\"mmmm\")","v":"agosto"},{"$f":"YEAR(SPP[[#This Row],[DATA]])","v":2022}]
["24/08/2022","59","VT",3049162,33508808.670000002,14840538.060000001,48349346.729999997,{"$f":"TEXT(SPP[[#This Row],[DATA]],\"mmmm\")","v":"agosto"},{"$f":"YEAR(SPP[[#This Row],[DATA]])","v":2022}]
["25/08/2022","51","COMUM 4 VIAGENS",7170,2771.85,26104.04,28875.89,{"$f":"TEXT(SPP[[#This Row],[DATA]],\"mmmm\")","v":"agosto"},{"$f":"YEAR(SPP[[#This Row],[DATA]])","v":2022}]
["26/08/2022","86","Estacionamento",9117,956.21,107379.78,108335.99,{"$f":"TEXT(SPP[[#This Row],[DATA]],\"mmmm\")","v":"agosto"},{"$f":"YEAR(SPP[[#This Row],[DATA]])","v":2022}]
["27/08/2022","100","BILHETE UNICO MENSAL - CASCO",7053384,946475483.97000003,115684024.01000001,1062159507.98,{"$f":"TEXT(SPP[[#This Row],[DATA]],\"mmmm\")","v":"agosto"},{"$f":"YEAR(SPP[[#This Row],[DATA]])","v":2022}]
["28/08/2022","76","Lazer",474,0,11761.39,11761.39,{"$f":"TEXT(SPP[[#This Row],[DATA]],\"mmmm\")","v":"agosto"},{"$f":"YEAR(SPP[[#This Row],[DATA]])","v":2022}]
["29/08/2022","80","COMUM 8 VIAGENS",40,0,253.57,253.57,{"$f":"TEXT(SPP[[#This Row],[DATA]],\"mmmm\")","v":"agosto"},{"$f":"YEAR(SPP[[#This Row],[DATA]])","v":2022}]
["30/08/2022","75","CARTAO FIDELIDADE",130563,0,7895418.2699999996,7895418.2699999996,{"$f":"TEXT(SPP[[#This Row],[DATA]],\"mmmm\")","v":"agosto"},{"$f":"YEAR(SPP[[#This Row],[DATA]])","v":2022}]
["31/08/2022","69","VT 8VG",684,0,5486.63,5486.63,{"$f":"TEXT(SPP[[#This Row],[DATA]],\"mmmm\")","v":"agosto"},{"$f":"YEAR(SPP[[#This Row],[DATA]])","v":2022}]
["01/09/2022","71","MÃE PAULISTANA",181676,284976.06,915422.96,1200399.02,{"$f":"TEXT(SPP[[#This Row],[DATA]],\"mmmm\")","v":"setembro"},{"$f":"YEAR(SPP[[#This Row],[DATA]])","v":2022}]
["02/09/2022","76","Lazer",472,0,11615.09,11615.09,{"$f":"TEXT(SPP[[#This Row],[DATA]],\"mmmm\")","v":"setembro"},{"$f":"YEAR(SPP[[#This Row],[DATA]])","v":2022}]
["03/09/2022","110","BUM - ANÔNIMO - CASCO",1316038,605565.74,6258655.7199999997,6864221.46,{"$f":"TEXT(SPP[[#This Row],[DATA]],\"mmmm\")","v":"setembro"},{"$f":"YEAR(SPP[[#This Row],[DATA]])","v":2022}]
["05/09/2022","51","COMUM 4 VIAGENS",7162,2771.85,26032.22,28804.07,{"$f":"TEXT(SPP[[#This Row],[DATA]],\"mmmm\")","v":"setembro"},{"$f":"YEAR(SPP[[#This Row],[DATA]])","v":2022}]
["05/09/2022","86","Estacionamento",9121,956.21,107483.46,108439.67,{"$f":"TEXT(SPP[[#This Row],[DATA]],\"mmmm\")","v":"setembro"},{"$f":"YEAR(SPP[[#This Row],[DATA]])","v":2022}]
["07/09/2022","69","VT 8VG",684,0,5486.63,5486.63,{"$f":"TEXT(SPP[[#This Row],[DATA]],\"mmmm\")","v":"setembro"},{"$f":"YEAR(SPP[[#This Row],[DATA]])","v":2022}]
["07/09/2022","80","COMUM 8 VIAGENS",40,0,253.57,253.57,{"$f":"TEXT(SPP[[#This Row],[DATA]],\"mmmm\")","v":"setembro"},{"$f":"YEAR(SPP[[#This Row],[DATA]])","v":2022}]
["08/09/2022","74","PROFESSOR",29954,1523467.09,0,1523467.09,{"$f":"TEXT(SPP[[#This Row],[DATA]],\"mmmm\")","v":"setembro"},{"$f":"YEAR(SPP[[#This Row],[DATA]])","v":2022}]
["09/09/2022","75","CARTAO FIDELIDADE",130896,0,8069915.96,8069915.96,{"$f":"TEXT(SPP[[#This Row],[DATA]],\"mmmm\")","v":"setembro"},{"$f":"YEAR(SPP[[#This Row],[DATA]])","v":2022}]
["11/09/2022","59","VT",3047653,33268347.23,14830216.51,48098563.740000002,{"$f":"TEXT(SPP[[#This Row],[DATA]],\"mmmm\")","v":"setembro"},{"$f":"YEAR(SPP[[#This Row],[DATA]])","v":2022}]
["12/09/2022","52","ESTUDANTE",71198,75154.16,457472.77,532626.93000000005,{"$f":"TEXT(SPP[[#This Row],[DATA]],\"mmmm\")","v":"setembro"},{"$f":"YEAR(SPP[[#This Row],[DATA]])","v":2022}]
["13/09/2022","59","VT",3047429,33240791.140000001,14828568.85,48069359.990000002,{"$f":"TEXT(SPP[[#This Row],[DATA]],\"mmmm\")","v":"setembro"},{"$f":"YEAR(SPP[[#This Row],[DATA]])","v":2022}]
["13/09/2022","110","BUM - ANÔNIMO - CASCO",1315700,605196.59,6255926.1900000004,6861122.7800000003,{"$f":"TEXT(SPP[[#This Row],[DATA]],\"mmmm\")","v":"setembro"},{"$f":"YEAR(SPP[[#This Row],[DATA]])","v":2022}]
["14/09/2022","86","Estacionamento",9123,956.21,107425.44,108381.65000000001,{"$f":"TEXT(SPP[[#This Row],[DATA]],\"mmmm\")","v":"setembro"},{"$f":"YEAR(SPP[[#This Row],[DATA]])","v":2022}]
["15/09/2022","100","BILHETE UNICO MENSAL - CASCO",7103078,978662139.22000003,131190256.19,1109852395.4100001,{"$f":"TEXT(SPP[[#This Row],[DATA]],\"mmmm\")","v":"setembro"},{"$f":"YEAR(SPP[[#This Row],[DATA]])","v":2022}]
["16/09/2022","76","Lazer",474,0,11777.19,11777.19,{"$f":"TEXT(SPP[[#This Row],[DATA]],\"mmmm\")","v":"setembro"},{"$f":"YEAR(SPP[[#This Row],[DATA]])","v":2022}]
["17/09/2022","80","COMUM 8 VIAGENS",40,0,253.57,253.57,{"$f":"TEXT(SPP[[#This Row],[DATA]],\"mmmm\")","v":"setembro"},{"$f":"YEAR(SPP[[#This Row],[DATA]])","v":2022}]
["18/09/2022","80","COMUM 8 VIAGENS",40,0,253.57,253.57,{"$f":"TEXT(SPP[[#This Row],[DATA]],\"mmmm\")","v":"setembro"},{"$f":"YEAR(SPP[[#This Row],[DATA]])","v":2022}]
["19/09/2022","76","Lazer",474,0,11768.39,11768.39,{"$f":"TEXT(SPP[[#This Row],[DATA]],\"mmmm\")","v":"setembro"},{"$f":"YEAR(SPP[[#This Row],[DATA]])","v":2022}]
["21/09/2022","71","MÃE PAULISTANA",182591,282283.06,926933.6,1209216.6599999999,{"$f":"TEXT(SPP[[#This Row],[DATA]],\"mmmm\")","v":"setembro"},{"$f":"YEAR(SPP[[#This Row],[DATA]])","v":2022}]
["22/09/2022","52","ESTUDANTE",71091,76288.87,452390.26,528679.13,{"$f":"TEXT(SPP[[#This Row],[DATA]],\"mmmm\")","v":"setembro"},{"$f":"YEAR(SPP[[#This Row],[DATA]])","v":2022}]
["23/09/2022","71","MÃE PAULISTANA",182723,281665.7,924517.42,1206183.1200000001,{"$f":"TEXT(SPP[[#This Row],[DATA]],\"mmmm\")","v":"setembro"},{"$f":"YEAR(SPP[[#This Row],[DATA]])","v":2022}]
["24/09/2022","51","COMUM 4 VIAGENS",7145,2771.85,25934.31,28706.16,{"$f":"TEXT(SPP[[#This Row],[DATA]],\"mmmm\")","v":"setembro"},{"$f":"YEAR(SPP[[#This Row],[DATA]])","v":2022}]
["24/09/2022","86","Estacionamento",9126,956.21,107440.54000000001,108396.75,{"$f":"TEXT(SPP[[#This Row],[DATA]],\"mmmm\")","v":"setembro"},{"$f":"YEAR(SPP[[#This Row],[DATA]])","v":2022}]
["25/09/2022","100","BILHETE UNICO MENSAL - CASCO",7119439,936916167,118553309.62,1055469476.62,{"$f":"TEXT(SPP[[#This Row],[DATA]],\"mmmm\")","v":"setembro"},{"$f":"YEAR(SPP[[#This Row],[DATA]])","v":2022}]
["27/09/2022","69","VT 8VG",681,0,5477.96,5477.96,{"$f":"TEXT(SPP[[#This Row],[DATA]],\"mmmm\")","v":"setembro"},{"$f":"YEAR(SPP[[#This Row],[DATA]])","v":2022}]
["27/09/2022","86","Estacionamento",9126,956.21,107462.94,108419.15000000001,{"$f":"TEXT(SPP[[#This Row],[DATA]],\"mmmm\")","v":"setembro"},{"$f":"YEAR(SPP[[#This Row],[DATA]])","v":2022}]
["29/09/2022","75","CARTAO FIDELIDADE",131222,0,7910387.0499999998,7910387.0499999998,{"$f":"TEXT(SPP[[#This Row],[DATA]],\"mmmm\")","v":"setembro"},{"$f":"YEAR(SPP[[#This Row],[DATA]])","v":2022}]
["30/09/2022","69","VT 8VG",680,0,5467.84,5467.84,{"$f":"TEXT(SPP[[#This Row],[DATA]],\"mmmm\")","v":"setembro"},{"$f":"YEAR(SPP[[#This Row],[DATA]])","v":2022}]
["30/09/2022","100","BILHETE UNICO MENSAL - CASCO",7132601,970623883.28999996,122896381.61,1093520264.9000001,{"$f":"TEXT(SPP[[#This Row],[DATA]],\"mmmm\")","v":"setembro"},{"$f":"YEAR(SPP[[#This Row],[DATA]])","v":2022}]
["02/10/2022","59","VT",3045905,32973647.32,14817530.57,47791177.890000001,{"$f":"TEXT(SPP[[#This Row],[DATA]],\"mmmm\")","v":"outubro"},{"$f":"YEAR(SPP[[#This Row],[DATA]])","v":2022}]
["02/10/2022","110","BUM - ANÔNIMO - CASCO",1314986,604395.17000000004,6250930.5899999999,6855325.7599999998,{"$f":"TEXT(SPP[[#This Row],[DATA]],\"mmmm\")","v":"outubro"},{"$f":"YEAR(SPP[[#This Row],[DATA]])","v":2022}]
["04/10/2022","51","COMUM 4 VIAGENS",7138,2771.85,25828.75,28600.600000000002,{"$f":"TEXT(SPP[[#This Row],[DATA]],\"mmmm\")","v":"outubro"},{"$f":"YEAR(SPP[[#This Row],[DATA]])","v":2022}]
["05/10/2022","100","BILHETE UNICO MENSAL - CASCO",7142470,1008468877.42,129060612.38,1137529489.8,{"$f":"TEXT(SPP[[#This Row],[DATA]],\"mmmm\")","v":"outubro"},{"$f":"YEAR(SPP[[#This Row],[DATA]])","v":2022}]
["05/10/2022","110","BUM - ANÔNIMO - CASCO",1314850,604395.17000000004,6249591.4900000002,6853986.6600000001,{"$f":"TEXT(SPP[[#This Row],[DATA]],\"mmmm\")","v":"outubro"},{"$f":"YEAR(SPP[[#This Row],[DATA]])","v":2022}]
["07/10/2022","80","COMUM 8 VIAGENS",40,0,253.57,253.57,{"$f":"TEXT(SPP[[#This Row],[DATA]],\"mmmm\")","v":"outubro"},{"$f":"YEAR(SPP[[#This Row],[DATA]])","v":2022}]
["08/10/2022","74","PROFESSOR",30481,1555256.48,0,1555256.48,{"$f":"TEXT(SPP[[#This Row],[DATA]],\"mmmm\")","v":"outubro"},{"$f":"YEAR(SPP[[#This Row],[DATA]])","v":2022}]
["09/10/2022","74","PROFESSOR",30476,1550231.61,0,1550231.61,{"$f":"TEXT(SPP[[#This Row],[DATA]],\"mmmm\")","v":"outubro"},{"$f":"YEAR(SPP[[#This Row],[DATA]])","v":2022}]
["10/10/2022","71","MÃE PAULISTANA",183684,282790.71000000002,938823.48,1221614.19,{"$f":"TEXT(SPP[[#This Row],[DATA]],\"mmmm\")","v":"outubro"},{"$f":"YEAR(SPP[[#This Row],[DATA]])","v":2022}]
["11/10/2022","74","PROFESSOR",30523,1575755.33,0,1575755.33,{"$f":"TEXT(SPP[[#This Row],[DATA]],\"mmmm\")","v":"outubro"},{"$f":"YEAR(SPP[[#This Row],[DATA]])","v":2022}]
["12/10/2022","59","VT",3045005,32822939.809999999,14811468.33,47634408.140000001,{"$f":"TEXT(SPP[[#This Row],[DATA]],\"mmmm\")","v":"outubro"},{"$f":"YEAR(SPP[[#This Row],[DATA]])","v":2022}]
["13/10/2022","71","MÃE PAULISTANA",183885,281689.19,935932.14,1217621.33,{"$f":"TEXT(SPP[[#This Row],[DATA]],\"mmmm\")","v":"outubro"},{"$f":"YEAR(SPP[[#This Row],[DATA]])","v":2022}]
["14/10/2022","52","ESTUDANTE",61283,65379.58,362940.83,428320.41000000003,{"$f":"TEXT(SPP[[#This Row],[DATA]],\"mmmm\")","v":"outubro"},{"$f":"YEAR(SPP[[#This Row],[DATA]])","v":2022}]
["15/10/2022","100","BILHETE UNICO MENSAL - CASCO",7163901,977699917.02999997,129072840.62,1106772757.6500001,{"$f":"TEXT(SPP[[#This Row],[DATA]],\"mmmm\")","v":"outubro"},{"$f":"YEAR(SPP[[#This Row],[DATA]])","v":2022}]
["16/10/2022","76","Lazer",476,0,11881.68,11881.68,{"$f":"TEXT(SPP[[#This Row],[DATA]],\"mmmm\")","v":"outubro"},{"$f":"YEAR(SPP[[#This Row],[DATA]])","v":2022}]
["18/10/2022","51","COMUM 4 VIAGENS",7131,2771.85,25805.16,28577.010000000002,{"$f":"TEXT(SPP[[#This Row],[DATA]],\"mmmm\")","v":"outubro"},{"$f":"YEAR(SPP[[#This Row],[DATA]])","v":2022}]
["18/10/2022","75","CARTAO FIDELIDADE",132056,0,8079112.6299999999,8079112.6299999999,{"$f":"TEXT(SPP[[#This Row],[DATA]],\"mmmm\")","v":"outubro"},{"$f":"YEAR(SPP[[#This Row],[DATA]])","v":2022}]
["19/10/2022","76","Lazer",474,0,11675.880000000001,11675.880000000001,{"$f":"TEXT(SPP[[#This Row],[DATA]],\"mmmm\")","v":"outubro"},{"$f":"YEAR(SPP[[#This Row],[DATA]])","v":2022}]
["20/10/2022","71","MÃE PAULISTANA",184291,278750.42,935012.58000000007,1213763,{"$f":"TEXT(SPP[[#This Row],[DATA]],\"mmmm\")","v":"outubro"},{"$f":"YEAR(SPP[[#This Row],[DATA]])","v":2022}]
["21/10/2022","110","BUM - ANÔNIMO - CASCO",1314222,604185.41,6244704.21,6848889.6200000001,{"$f":"TEXT(SPP[[#This Row],[DATA]],\"mmmm\")","v":"outubro"},{"$f":"YEAR(SPP[[#This Row],[DATA]])","v":2022}]
["22/10/2022","69","VT 8VG",676,0,5378.67,5378.67,{"$f":"TEXT(SPP[[#This Row],[DATA]],\"mmmm\")","v":"outubro"},{"$f":"YEAR(SPP[[#This Row],[DATA]])","v":2022}]
["24/10/2022","51","COMUM 4 VIAGENS",7125,2771.85,25724.12,28495.97,{"$f":"TEXT(SPP[[#This Row],[DATA]],\"mmmm\")","v":"outubro"},{"$f":"YEAR(SPP[[#This Row],[DATA]])","v":2022}]
["25/10/2022","52","ESTUDANTE",60892,64935.39,360449.03,425384.42,{"$f":"TEXT(SPP[[#This Row],[DATA]],\"mmmm\")","v":"outubro"},{"$f":"YEAR(SPP[[#This Row],[DATA]])","v":2022}]
["25/10/2022","75","CARTAO FIDELIDADE",132262,0,8013514.8700000001,8013514.8700000001,{"$f":"TEXT(SPP[[#This Row],[DATA]],\"mmmm\")","v":"outubro"},{"$f":"YEAR(SPP[[#This Row],[DATA]])","v":2022}]
["26/10/2022","80","COMUM 8 VIAGENS",40,0,253.57,253.57,{"$f":"TEXT(SPP[[#This Row],[DATA]],\"mmmm\")","v":"outubro"},{"$f":"YEAR(SPP[[#This Row],[DATA]])","v":2022}]
["27/10/2022","86","Estacionamento",9137,956.21,107889.77,108845.98,{"$f":"TEXT(SPP[[#This Row],[DATA]],\"mmmm\")","v":"outubro"},{"$f":"YEAR(SPP[[#This Row],[DATA]])","v":2022}]
["28/10/2022","75","CARTAO FIDELIDADE",132060,0,7893725,7893725,{"$f":"TEXT(SPP[[#This Row],[DATA]],\"mmmm\")","v":"outubro"},{"$f":"YEAR(SPP[[#This Row],[DATA]])","v":2022}]
["29/10/2022","74","PROFESSOR",30792,1536551.72,0,1536551.72,{"$f":"TEXT(SPP[[#This Row],[DATA]],\"mmmm\")","v":"outubro"},{"$f":"YEAR(SPP[[#This Row],[DATA]])","v":2022}]
["30/10/2022","74","PROFESSOR",30785,1531735.54,0,1531735.54,{"$f":"TEXT(SPP[[#This Row],[DATA]],\"mmmm\")","v":"outubro"},{"$f":"YEAR(SPP[[#This Row],[DATA]])","v":2022}]
["01/11/2022","59","VT",3043371,32614293.93,14799362.119999999,47413656.049999997,{"$f":"TEXT(SPP[[#This Row],[DATA]],\"mmmm\")","v":"novembro"},{"$f":"YEAR(SPP[[#This Row],[DATA]])","v":2022}]
["01/11/2022","75","CARTAO FIDELIDADE",132445,0,8093539.4900000002,8093539.4900000002,{"$f":"TEXT(SPP[[#This Row],[DATA]],\"mmmm\")","v":"novembro"},{"$f":"YEAR(SPP[[#This Row],[DATA]])","v":2022}]
["03/11/2022","52","ESTUDANTE",60766,64738.12,360322.9,425061.02,{"$f":"TEXT(SPP[[#This Row],[DATA]],\"mmmm\")","v":"novembro"},{"$f":"YEAR(SPP[[#This Row],[DATA]])","v":2022}]
["03/11/2022","100","BILHETE UNICO MENSAL - CASCO",7199180,1003626473.23,126732211,1130358684.23,{"$f":"TEXT(SPP[[#This Row],[DATA]],\"mmmm\")","v":"novembro"},{"$f":"YEAR(SPP[[#This Row],[DATA]])","v":2022}]
["04/11/2022","110","BUM - ANÔNIMO - CASCO",1313754,604185.41,6241144.5300000003,6845329.9400000004,{"$f":"TEXT(SPP[[#This Row],[DATA]],\"mmmm\")","v":"novembro"},{"$f":"YEAR(SPP[[#This Row],[DATA]])","v":2022}]
["06/11/2022","75","CARTAO FIDELIDADE",131971,0,7883594.5700000003,7883594.5700000003,{"$f":"TEXT(SPP[[#This Row],[DATA]],\"mmmm\")","v":"novembro"},{"$f":"YEAR(SPP[[#This Row],[DATA]])","v":2022}]
["07/11/2022","75","CARTAO FIDELIDADE",132436,0,8052977.1699999999,8052977.1699999999,{"$f":"TEXT(SPP[[#This Row],[DATA]],\"mmmm\")","v":"novembro"},{"$f":"YEAR(SPP[[#This Row],[DATA]])","v":2022}]
["07/11/2022","76","Lazer",474,0,11621.78,11621.78,{"$f":"TEXT(SPP[[#This Row],[DATA]],\"mmmm\")","v":"novembro"},{"$f":"YEAR(SPP[[#This Row],[DATA]])","v":2022}]
["09/11/2022","71","MÃE PAULISTANA",185379,278457.83,953788.55,1232246.3800000001,{"$f":"TEXT(SPP[[#This Row],[DATA]],\"mmmm\")","v":"novembro"},{"$f":"YEAR(SPP[[#This Row],[DATA]])","v":2022}]
["10/11/2022","52","ESTUDANTE",60759,65210.3,361211.99,426422.29000000004,{"$f":"TEXT(SPP[[#This Row],[DATA]],\"mmmm\")","v":"novembro"},{"$f":"YEAR(SPP[[#This Row],[DATA]])","v":2022}]
["11/11/2022","69","VT 8VG",674,0,5328.05,5328.05,{"$f":"TEXT(SPP[[#This Row],[DATA]],\"mmmm\")","v":"novembro"},{"$f":"YEAR(SPP[[#This Row],[DATA]])","v":2022}]
["12/11/2022","51","COMUM 4 VIAGENS",7113,2769.61,25690.58,28460.190000000002,{"$f":"TEXT(SPP[[#This Row],[DATA]],\"mmmm\")","v":"novembro"},{"$f":"YEAR(SPP[[#This Row],[DATA]])","v":2022}]
["13/11/2022","52","ESTUDANTE",60770,65447.75,361450.92,426898.67,{"$f":"TEXT(SPP[[#This Row],[DATA]],\"mmmm\")","v":"novembro"},{"$f":"YEAR(SPP[[#This Row],[DATA]])","v":2022}]
["14/11/2022","51","COMUM 4 VIAGENS",7112,2769.61,25687.58,28457.190000000002,{"$f":"TEXT(SPP[[#This Row],[DATA]],\"mmmm\")","v":"novembro"},{"$f":"YEAR(SPP[[#This Row],[DATA]])","v":2022}]
["15/11/2022","51","COMUM 4 VIAGENS",7112,2769.61,25687.58,28457.190000000002,{"$f":"TEXT(SPP[[#This Row],[DATA]],\"mmmm\")","v":"novembro"},{"$f":"YEAR(SPP[[#This Row],[DATA]])","v":2022}]
["15/11/2022","86","Estacionamento",9141,956.21,107826.69,108782.90000000001,{"$f":"TEXT(SPP[[#This Row],[DATA]],\"mmmm\")","v":"novembro"},{"$f":"YEAR(SPP[[#This Row],[DATA]])","v":2022}]
["17/11/2022","75","CARTAO FIDELIDADE",132878,0,8054588.3200000003,8054588.3200000003,{"$f":"TEXT(SPP[[#This Row],[DATA]],\"mmmm\")","v":"novembro"},{"$f":"YEAR(SPP[[#This Row],[DATA]])","v":2022}]
["18/11/2022","80","COMUM 8 VIAGENS",39,0,251.17000000000002,251.17000000000002,{"$f":"TEXT(SPP[[#This Row],[DATA]],\"mmmm\")","v":"novembro"},{"$f":"YEAR(SPP[[#This Row],[DATA]])","v":2022}]
["19/11/2022","74","PROFESSOR",31026,1643424.02,0,1643424.02,{"$f":"TEXT(SPP[[#This Row],[DATA]],\"mmmm\")","v":"novembro"},{"$f":"YEAR(SPP[[#This Row],[DATA]])","v":2022}]
["20/11/2022","59","VT",3042087,32432538.620000001,14788157.5,47220696.119999997,{"$f":"TEXT(SPP[[#This Row],[DATA]],\"mmmm\")","v":"novembro"},{"$f":"YEAR(SPP[[#This Row],[DATA]])","v":2022}]
["21/11/2022","69","VT 8VG",674,0,5328.05,5328.05,{"$f":"TEXT(SPP[[#This Row],[DATA]],\"mmmm\")","v":"novembro"},{"$f":"YEAR(SPP[[#This Row],[DATA]])","v":2022}]
["22/11/2022","76","Lazer",473,0,11610.25,11610.25,{"$f":"TEXT(SPP[[#This Row],[DATA]],\"mmmm\")","v":"novembro"},{"$f":"YEAR(SPP[[#This Row],[DATA]])","v":2022}]
["23/11/2022","59","VT",3041819,32392649.329999998,14786662.029999999,47179311.359999999,{"$f":"TEXT(SPP[[#This Row],[DATA]],\"mmmm\")","v":"novembro"},{"$f":"YEAR(SPP[[#This Row],[DATA]])","v":2022}]
["23/11/2022","110","BUM - ANÔNIMO - CASCO",1313131,603560.32000000007,6236674.4800000004,6840234.7999999998,{"$f":"TEXT(SPP[[#This Row],[DATA]],\"mmmm\")","v":"novembro"},{"$f":"YEAR(SPP[[#This Row],[DATA]])","v":2022}]
["25/11/2022","80","COMUM 8 VIAGENS",39,0,251.17000000000002,251.17000000000002,{"$f":"TEXT(SPP[[#This Row],[DATA]],\"mmmm\")","v":"novembro"},{"$f":"YEAR(SPP[[#This Row],[DATA]])","v":2022}]
["26/11/2022","59","VT",3041637,32373629.640000001,14785649.27,47159278.909999996,{"$f":"TEXT(SPP[[#This Row],[DATA]],\"mmmm\")","v":"novembro"},{"$f":"YEAR(SPP[[#This Row],[DATA]])","v":2022}]
["27/11/2022","76","Lazer",474,0,11649.85,11649.85,{"$f":"TEXT(SPP[[#This Row],[DATA]],\"mmmm\")","v":"novembro"},{"$f":"YEAR(SPP[[#This Row],[DATA]])","v":2022}]
["28/11/2022","80","COMUM 8 VIAGENS",39,0,251.17000000000002,251.17000000000002,{"$f":"TEXT(SPP[[#This Row],[DATA]],\"mmmm\")","v":"novembro"},{"$f":"YEAR(SPP[[#This Row],[DATA]])","v":2022}]
["29/11/2022","74","PROFESSOR",31115,1648905.53,0,1648905.53,{"$f":"TEXT(SPP[[#This Row],[DATA]],\"mmmm\")","v":"novembro"},{"$f":"YEAR(SPP[[#This Row],[DATA]])","v":2022}]
["30/11/2022","52","ESTUDANTE",60548,65868.100000000006,361802.79,427670.89,{"$f":"TEXT(SPP[[#This Row],[DATA]],\"mmmm\")","v":"novembro"},{"$f":"YEAR(SPP[[#This Row],[DATA]])","v":2022}]
["01/12/2022","71","MÃE PAULISTANA",186589,276725.15000000002,942359,1219084.1499999999,{"$f":"TEXT(SPP[[#This Row],[DATA]],\"mmmm\")","v":"dezembro"},{"$f":"YEAR(SPP[[#This Row],[DATA]])","v":2022}]
["02/12/2022","52","ESTUDANTE",60555,65867.95,361955.15,427823.10000000003,{"$f":"TEXT(SPP[[#This Row],[DATA]],\"mmmm\")","v":"dezembro"},{"$f":"YEAR(SPP[[#This Row],[DATA]])","v":2022}]
["03/12/2022","100","BILHETE UNICO MENSAL - CASCO",7247942,1008056883.97,125195556.22,1133252440.1900001,{"$f":"TEXT(SPP[[#This Row],[DATA]],\"mmmm\")","v":"dezembro"},{"$f":"YEAR(SPP[[#This Row],[DATA]])","v":2022}]
["04/12/2022","86","Estacionamento",9144,956.21,107836.69,108792.90000000001,{"$f":"TEXT(SPP[[#This Row],[DATA]],\"mmmm\")","v":"dezembro"},{"$f":"YEAR(SPP[[#This Row],[DATA]])","v":2022}]
["05/12/2022","86","Estacionamento",9143,956.21,107826.69,108782.90000000001,{"$f":"TEXT(SPP[[#This Row],[DATA]],\"mmmm\")","v":"dezembro"},{"$f":"YEAR(SPP[[#This Row],[DATA]])","v":2022}]
["06/12/2022","100","BILHETE UNICO MENSAL - CASCO",7253070,1011954047.9,131389789.59,1143343837.49,{"$f":"TEXT(SPP[[#This Row],[DATA]],\"mmmm\")","v":"dezembro"},{"$f":"YEAR(SPP[[#This Row],[DATA]])","v":2022}]
["07/12/2022","76","Lazer",476,0,11745.25,11745.25,{"$f":"TEXT(SPP[[#This Row],[DATA]],\"mmmm\")","v":"dezembro"},{"$f":"YEAR(SPP[[#This Row],[DATA]])","v":2022}]
["08/12/2022","80","COMUM 8 VIAGENS",39,0,251.17000000000002,251.17000000000002,{"$f":"TEXT(SPP[[#This Row],[DATA]],\"mmmm\")","v":"dezembro"},{"$f":"YEAR(SPP[[#This Row],[DATA]])","v":2022}]
["09/12/2022","75","CARTAO FIDELIDADE",132745,0,7924507.2599999998,7924507.2599999998,{"$f":"TEXT(SPP[[#This Row],[DATA]],\"mmmm\")","v":"dezembro"},{"$f":"YEAR(SPP[[#This Row],[DATA]])","v":2022}]
["10/12/2022","69","VT 8VG",674,0,5328.05,5328.05,{"$f":"TEXT(SPP[[#This Row],[DATA]],\"mmmm\")","v":"dezembro"},{"$f":"YEAR(SPP[[#This Row],[DATA]])","v":2022}]
["12/12/2022","51","COMUM 4 VIAGENS",7096,2763.53,25615.21,28378.74,{"$f":"TEXT(SPP[[#This Row],[DATA]],\"mmmm\")","v":"dezembro"},{"$f":"YEAR(SPP[[#This Row],[DATA]])","v":2022}]
["12/12/2022","69","VT 8VG",674,0,5328.05,5328.05,{"$f":"TEXT(SPP[[#This Row],[DATA]],\"mmmm\")","v":"dezembro"},{"$f":"YEAR(SPP[[#This Row],[DATA]])","v":2022}]
["13/12/2022","110","BUM - ANÔNIMO - CASCO",1312539,603560.32000000007,6232987.1100000003,6836547.4299999997,{"$f":"TEXT(SPP[[#This Row],[DATA]],\"mmmm\")","v":"dezembro"},{"$f":"YEAR(SPP[[#This Row],[DATA]])","v":2022}]
["15/12/2022","51","COMUM 4 VIAGENS",7094,2763.53,25608.959999999999,28372.49,{"$f":"TEXT(SPP[[#This Row],[DATA]],\"mmmm\")","v":"dezembro"},{"$f":"YEAR(SPP[[#This Row],[DATA]])","v":2022}]
["15/12/2022","86","Estacionamento",9146,956.21,108005.52,108961.73,{"$f":"TEXT(SPP[[#This Row],[DATA]],\"mmmm\")","v":"dezembro"},{"$f":"YEAR(SPP[[#This Row],[DATA]])","v":2022}]
["17/12/2022","69","VT 8VG",674,0,5328.05,5328.05,{"$f":"TEXT(SPP[[#This Row],[DATA]],\"mmmm\")","v":"dezembro"},{"$f":"YEAR(SPP[[#This Row],[DATA]])","v":2022}]
["17/12/2022","80","COMUM 8 VIAGENS",39,0,251.17000000000002,251.17000000000002,{"$f":"TEXT(SPP[[#This Row],[DATA]],\"mmmm\")","v":"dezembro"},{"$f":"YEAR(SPP[[#This Row],[DATA]])","v":2022}]
["18/12/2022","74","PROFESSOR",31134,1576430.74,0,1576430.74,{"$f":"TEXT(SPP[[#This Row],[DATA]],\"mmmm\")","v":"dezembro"},{"$f":"YEAR(SPP[[#This Row],[DATA]])","v":2022}]
["19/12/2022","75","CARTAO FIDELIDADE",132901,0,7867834.3099999996,7867834.3099999996,{"$f":"TEXT(SPP[[#This Row],[DATA]],\"mmmm\")","v":"dezembro"},{"$f":"YEAR(SPP[[#This Row],[DATA]])","v":2022}]
["20/12/2022","100","BILHETE UNICO MENSAL - CASCO",7275793,957911935.05999994,125478435.34999999,1083390370.4100001,{"$f":"TEXT(SPP[[#This Row],[DATA]],\"mmmm\")","v":"dezembro"},{"$f":"YEAR(SPP[[#This Row],[DATA]])","v":2022}]
["22/12/2022","52","ESTUDANTE",60559,66333.95,364662.44,430996.39,{"$f":"TEXT(SPP[[#This Row],[DATA]],\"mmmm\")","v":"dezembro"},{"$f":"YEAR(SPP[[#This Row],[DATA]])","v":2022}]
["23/12/2022","59","VT",3039910,32148209.809999999,14773507.9,46921717.710000001,{"$f":"TEXT(SPP[[#This Row],[DATA]],\"mmmm\")","v":"dezembro"},{"$f":"YEAR(SPP[[#This Row],[DATA]])","v":2022}]
["23/12/2022","110","BUM - ANÔNIMO - CASCO",1312196,603447.47,6230545.4400000004,6833992.9100000001,{"$f":"TEXT(SPP[[#This Row],[DATA]],\"mmmm\")","v":"dezembro"},{"$f":"YEAR(SPP[[#This Row],[DATA]])","v":2022}]
["24/12/2022","86","Estacionamento",9149,956.21,107997.12,108953.33,{"$f":"TEXT(SPP[[#This Row],[DATA]],\"mmmm\")","v":"dezembro"},{"$f":"YEAR(SPP[[#This Row],[DATA]])","v":2022}]
["25/12/2022","100","BILHETE UNICO MENSAL - CASCO",7281540,949724061.79999995,116954769.89,1066678831.6900001,{"$f":"TEXT(SPP[[#This Row],[DATA]],\"mmmm\")","v":"dezembro"},{"$f":"YEAR(SPP[[#This Row],[DATA]])","v":2022}]
["26/12/2022","76","Lazer",478,0,11791.67,11791.67,{"$f":"TEXT(SPP[[#This Row],[DATA]],\"mmmm\")","v":"dezembro"},{"$f":"YEAR(SPP[[#This Row],[DATA]])","v":2022}]
["27/12/2022","80","COMUM 8 VIAGENS",39,0,251.17000000000002,251.17000000000002,{"$f":"TEXT(SPP[[#This Row],[DATA]],\"mmmm\")","v":"dezembro"},{"$f":"YEAR(SPP[[#This Row],[DATA]])","v":2022}]
["29/12/2022","74","PROFESSOR",31099,1569463.62,0,1569463.62,{"$f":"TEXT(SPP[[#This Row],[DATA]],\"mmmm\")","v":"dezembro"},{"$f":"YEAR(SPP[[#This Row],[DATA]])","v":2022}]
["30/12/2022","69","VT 8VG",674,0,5328.05,5328.05,{"$f":"TEXT(SPP[[#This Row],[DATA]],\"mmmm\")","v":"dezembro"},{"$f":"YEAR(SPP[[#This Row],[DATA]])","v":2022}]
["31/12/2022","71","MÃE PAULISTANA",188301,277681.91000000003,937498.93,1215180.8400000001,{"$f":"TEXT(SPP[[#This Row],[DATA]],\"mmmm\")","v":"dezembro"},{"$f":"YEAR(SPP[[#This Row],[DATA]])","v":2022}]
["01/01/2023","52","ESTUDANTE",60147,66977.11,362051.19,429028.3,{"$f":"TEXT(SPP[[#This Row],[DATA]],\"mmmm\")","v":"janeiro"},{"$f":"YEAR(SPP[[#This Row],[DATA]])","v":2023}]
["02/01/2023","71","MÃE PAULISTANA",188359,277782.45,943067.51,1220849.96,{"$f":"TEXT(SPP[[#This Row],[DATA]],\"mmmm\")","v":"janeiro"},{"$f":"YEAR(SPP[[#This Row],[DATA]])","v":2023}]
["03/01/2023","51","COMUM 4 VIAGENS",7089,2763.53,25590.47,28354,{"$f":"TEXT(SPP[[#This Row],[DATA]],\"mmmm\")","v":"janeiro"},{"$f":"YEAR(SPP[[#This Row],[DATA]])","v":2023}]
["03/01/2023","86","Estacionamento",9147,956.21,107979.47,108935.68000000001,{"$f":"TEXT(SPP[[#This Row],[DATA]],\"mmmm\")","v":"janeiro"},{"$f":"YEAR(SPP[[#This Row],[DATA]])","v":2023}]
["04/01/2023","100","BILHETE UNICO MENSAL - CASCO",7296855,1013284657.61,126041522.38,1139326179.99,{"$f":"TEXT(SPP[[#This Row],[DATA]],\"mmmm\")","v":"janeiro"},{"$f":"YEAR(SPP[[#This Row],[DATA]])","v":2023}]
["05/01/2023","110","BUM - ANÔNIMO - CASCO",1311762,603447.47,6227948.6900000004,6831396.1600000001,{"$f":"TEXT(SPP[[#This Row],[DATA]],\"mmmm\")","v":"janeiro"},{"$f":"YEAR(SPP[[#This Row],[DATA]])","v":2023}]
["07/01/2023","74","PROFESSOR",31048,1546939.96,0,1546939.96,{"$f":"TEXT(SPP[[#This Row],[DATA]],\"mmmm\")","v":"janeiro"},{"$f":"YEAR(SPP[[#This Row],[DATA]])","v":2023}]
["08/01/2023","75","CARTAO FIDELIDADE",133137,0,7929646.79,7929646.79,{"$f":"TEXT(SPP[[#This Row],[DATA]],\"mmmm\")","v":"janeiro"},{"$f":"YEAR(SPP[[#This Row],[DATA]])","v":2023}]
["09/01/2023","69","VT 8VG",673,0,5318.75,5318.75,{"$f":"TEXT(SPP[[#This Row],[DATA]],\"mmmm\")","v":"janeiro"},{"$f":"YEAR(SPP[[#This Row],[DATA]])","v":2023}]
["10/01/2023","76","Lazer",479,0,11830.19,11830.19,{"$f":"TEXT(SPP[[#This Row],[DATA]],\"mmmm\")","v":"janeiro"},{"$f":"YEAR(SPP[[#This Row],[DATA]])","v":2023}]
["11/01/2023","59","VT",3038427,31993558.960000001,14763739.99,46757298.950000003,{"$f":"TEXT(SPP[[#This Row],[DATA]],\"mmmm\")","v":"janeiro"},{"$f":"YEAR(SPP[[#This Row],[DATA]])","v":2023}]
["11/01/2023","110","BUM - ANÔNIMO - CASCO",1311538,603074.57999999996,6226227.1399999997,6829301.7199999997,{"$f":"TEXT(SPP[[#This Row],[DATA]],\"mmmm\")","v":"janeiro"},{"$f":"YEAR(SPP[[#This Row],[DATA]])","v":2023}]
["13/01/2023","51","COMUM 4 VIAGENS",7086,2763.53,25583.119999999999,28346.65,{"$f":"TEXT(SPP[[#This Row],[DATA]],\"mmmm\")","v":"janeiro"},{"$f":"YEAR(SPP[[#This Row],[DATA]])","v":2023}]
["14/01/2023","75","CARTAO FIDELIDADE",133600,0,8011299.8499999996,8011299.8499999996,{"$f":"TEXT(SPP[[#This Row],[DATA]],\"mmmm\")","v":"janeiro"},{"$f":"YEAR(SPP[[#This Row],[DATA]])","v":2023}]
["15/01/2023","76","Lazer",479,0,11830.19,11830.19,{"$f":"TEXT(SPP[[#This Row],[DATA]],\"mmmm\")","v":"janeiro"},{"$f":"YEAR(SPP[[#This Row],[DATA]])","v":2023}]
["16/01/2023","80","COMUM 8 VIAGENS",39,0,251.17000000000002,251.17000000000002,{"$f":"TEXT(SPP[[#This Row],[DATA]],\"mmmm\")","v":"janeiro"},{"$f":"YEAR(SPP[[#This Row],[DATA]])","v":2023}]
["17/01/2023","74","PROFESSOR",30968,1491609.12,0,1491609.12,{"$f":"TEXT(SPP[[#This Row],[DATA]],\"mmmm\")","v":"janeiro"},{"$f":"YEAR(SPP[[#This Row],[DATA]])","v":2023}]
["18/01/2023","52","ESTUDANTE",60009,66037.62,363119.89,429157.51,{"$f":"TEXT(SPP[[#This Row],[DATA]],\"mmmm\")","v":"janeiro"},{"$f":"YEAR(SPP[[#This Row],[DATA]])","v":2023}]
["19/01/2023","71","MÃE PAULISTANA",189234,275848.40000000002,963382.55,1239230.95,{"$f":"TEXT(SPP[[#This Row],[DATA]],\"mmmm\")","v":"janeiro"},{"$f":"YEAR(SPP[[#This Row],[DATA]])","v":2023}]
["20/01/2023","52","ESTUDANTE",60001,66049.399999999994,363165.13,429214.53,{"$f":"TEXT(SPP[[#This Row],[DATA]],\"mmmm\")","v":"janeiro"},{"$f":"YEAR(SPP[[#This Row],[DATA]])","v":2023}]
["21/01/2023","59","VT",3037674,31890943.25,14758804.130000001,46649747.380000003,{"$f":"TEXT(SPP[[#This Row],[DATA]],\"mmmm\")","v":"janeiro"},{"$f":"YEAR(SPP[[#This Row],[DATA]])","v":2023}]
["23/01/2023","52","ESTUDANTE",59988,66045,363525.29,429570.29000000004,{"$f":"TEXT(SPP[[#This Row],[DATA]],\"mmmm\")","v":"janeiro"},{"$f":"YEAR(SPP[[#This Row],[DATA]])","v":2023}]
["24/01/2023","52","ESTUDANTE",59989,66058.930000000008,363523.26,429582.19,{"$f":"TEXT(SPP[[#This Row],[DATA]],\"mmmm\")","v":"janeiro"},{"$f":"YEAR(SPP[[#This Row],[DATA]])","v":2023}]
["24/01/2023","100","BILHETE UNICO MENSAL - CASCO",7339869,962711212.40999997,129159665.73999999,1091870878.1500001,{"$f":"TEXT(SPP[[#This Row],[DATA]],\"mmmm\")","v":"janeiro"},{"$f":"YEAR(SPP[[#This Row],[DATA]])","v":2023}]
["25/01/2023","76","Lazer",479,0,11830.19,11830.19,{"$f":"TEXT(SPP[[#This Row],[DATA]],\"mmmm\")","v":"janeiro"},{"$f":"YEAR(SPP[[#This Row],[DATA]])","v":2023}]
["26/01/2023","80","COMUM 8 VIAGENS",39,0,251.17000000000002,251.17000000000002,{"$f":"TEXT(SPP[[#This Row],[DATA]],\"mmmm\")","v":"janeiro"},{"$f":"YEAR(SPP[[#This Row],[DATA]])","v":2023}]
["27/01/2023","75","CARTAO FIDELIDADE",133932,0,7871821.7999999998,7871821.7999999998,{"$f":"TEXT(SPP[[#This Row],[DATA]],\"mmmm\")","v":"janeiro"},{"$f":"YEAR(SPP[[#This Row],[DATA]])","v":2023}]
["28/01/2023","69","VT 8VG",672,0,5311.58,5311.58,{"$f":"TEXT(SPP[[#This Row],[DATA]],\"mmmm\")","v":"janeiro"},{"$f":"YEAR(SPP[[#This Row],[DATA]])","v":2023}]
["29/01/2023","71","MÃE PAULISTANA",189534,274761.11,944204.19000000006,1218965.3,{"$f":"TEXT(SPP[[#This Row],[DATA]],\"mmmm\")","v":"janeiro"},{"$f":"YEAR(SPP[[#This Row],[DATA]])","v":2023}]
["30/01/2023","76","Lazer",478,0,11591.79,11591.79,{"$f":"TEXT(SPP[[#This Row],[DATA]],\"mmmm\")","v":"janeiro"},{"$f":"YEAR(SPP[[#This Row],[DATA]])","v":2023}]
["01/02/2023","69","VT 8VG",670,0,5271.77,5271.77,{"$f":"TEXT(SPP[[#This Row],[DATA]],\"mmmm\")","v":"fevereiro"},{"$f":"YEAR(SPP[[#This Row],[DATA]])","v":2023}]
["02/02/2023","51","COMUM 4 VIAGENS",7076,2763.53,25501.55,28265.08,{"$f":"TEXT(SPP[[#This Row],[DATA]],\"mmmm\")","v":"fevereiro"},{"$f":"YEAR(SPP[[#This Row],[DATA]])","v":2023}]
["02/02/2023","86","Estacionamento",9148,956.21,108027.33,108983.54000000001,{"$f":"TEXT(SPP[[#This Row],[DATA]],\"mmmm\")","v":"fevereiro"},{"$f":"YEAR(SPP[[#This Row],[DATA]])","v":2023}]
["04/02/2023","69","VT 8VG",670,0,5271.77,5271.77,{"$f":"TEXT(SPP[[#This Row],[DATA]],\"mmmm\")","v":"fevereiro"},{"$f":"YEAR(SPP[[#This Row],[DATA]])","v":2023}]
["04/02/2023","80","COMUM 8 VIAGENS",39,0,251.17000000000002,251.17000000000002,{"$f":"TEXT(SPP[[#This Row],[DATA]],\"mmmm\")","v":"fevereiro"},{"$f":"YEAR(SPP[[#This Row],[DATA]])","v":2023}]
["05/02/2023","74","PROFESSOR",30872,1426237.11,0,1426237.11,{"$f":"TEXT(SPP[[#This Row],[DATA]],\"mmmm\")","v":"fevereiro"},{"$f":"YEAR(SPP[[#This Row],[DATA]])","v":2023}]
["06/02/2023","75","CARTAO FIDELIDADE",134501,0,8036563.4199999999,8036563.4199999999,{"$f":"TEXT(SPP[[#This Row],[DATA]],\"mmmm\")","v":"fevereiro"},{"$f":"YEAR(SPP[[#This Row],[DATA]])","v":2023}]
["08/02/2023","59","VT",3035766,31756637.100000001,14746842.869999999,46503479.969999999,{"$f":"TEXT(SPP[[#This Row],[DATA]],\"mmmm\")","v":"fevereiro"},{"$f":"YEAR(SPP[[#This Row],[DATA]])","v":2023}]
["09/02/2023","74","PROFESSOR",30930,1495560.35,0,1495560.35,{"$f":"TEXT(SPP[[#This Row],[DATA]],\"mmmm\")","v":"fevereiro"},{"$f":"YEAR(SPP[[#This Row],[DATA]])","v":2023}]
["10/02/2023","59","VT",3035607,31742687.629999999,14745489.08,46488176.710000001,{"$f":"TEXT(SPP[[#This Row],[DATA]],\"mmmm\")","v":"fevereiro"},{"$f":"YEAR(SPP[[#This Row],[DATA]])","v":2023}]
["10/02/2023","110","BUM - ANÔNIMO - CASCO",1310338,602442,6218146.7800000003,6820588.7800000003,{"$f":"TEXT(SPP[[#This Row],[DATA]],\"mmmm\")","v":"fevereiro"},{"$f":"YEAR(SPP[[#This Row],[DATA]])","v":2023}]
["11/02/2023","86","Estacionamento",9149,956.21,108062.86,109019.07,{"$f":"TEXT(SPP[[#This Row],[DATA]],\"mmmm\")","v":"fevereiro"},{"$f":"YEAR(SPP[[#This Row],[DATA]])","v":2023}]
["12/02/2023","100","BILHETE UNICO MENSAL - CASCO",7377990,998153223.37,131608032.91,1129761256.28,{"$f":"TEXT(SPP[[#This Row],[DATA]],\"mmmm\")","v":"fevereiro"},{"$f":"YEAR(SPP[[#This Row],[DATA]])","v":2023}]
["13/02/2023","110","BUM - ANÔNIMO - CASCO",1310257,602442,6217566.1699999999,6820008.1699999999,{"$f":"TEXT(SPP[[#This Row],[DATA]],\"mmmm\")","v":"fevereiro"},{"$f":"YEAR(SPP[[#This Row],[DATA]])","v":2023}]
["14/02/2023","80","COMUM 8 VIAGENS",39,0,251.17000000000002,251.17000000000002,{"$f":"TEXT(SPP[[#This Row],[DATA]],\"mmmm\")","v":"fevereiro"},{"$f":"YEAR(SPP[[#This Row],[DATA]])","v":2023}]
["15/02/2023","80","COMUM 8 VIAGENS",39,0,251.17000000000002,251.17000000000002,{"$f":"TEXT(SPP[[#This Row],[DATA]],\"mmmm\")","v":"fevereiro"},{"$f":"YEAR(SPP[[#This Row],[DATA]])","v":2023}]
["17/02/2023","76","Lazer",477,0,11590.99,11590.99,{"$f":"TEXT(SPP[[#This Row],[DATA]],\"mmmm\")","v":"fevereiro"},{"$f":"YEAR(SPP[[#This Row],[DATA]])","v":2023}]
["18/02/2023","71","MÃE PAULISTANA",190415,273256.43,953493.08000000007,1226749.51,{"$f":"TEXT(SPP[[#This Row],[DATA]],\"mmmm\")","v":"fevereiro"},{"$f":"YEAR(SPP[[#This Row],[DATA]])","v":2023}]
["19/02/2023","52","ESTUDANTE",59600,66062.33,363110.40000000002,429172.73,{"$f":"TEXT(SPP[[#This Row],[DATA]],\"mmmm\")","v":"fevereiro"},{"$f":"YEAR(SPP[[#This Row],[DATA]])","v":2023}]
["20/02/2023","71","MÃE PAULISTANA",190442,273259.28999999998,951562.5,1224821.79,{"$f":"TEXT(SPP[[#This Row],[DATA]],\"mmmm\")","v":"fevereiro"},{"$f":"YEAR(SPP[[#This Row],[DATA]])","v":2023}]
["21/02/2023","51","COMUM 4 VIAGENS",7066,2763.19,25475.940000000002,28239.13,{"$f":"TEXT(SPP[[#This Row],[DATA]],\"mmmm\")","v":"fevereiro"},{"$f":"YEAR(SPP[[#This Row],[DATA]])","v":2023}]
["22/02/2023","52","ESTUDANTE",59593,65730.87,363197.23,428928.10000000003,{"$f":"TEXT(SPP[[#This Row],[DATA]],\"mmmm\")","v":"fevereiro"},{"$f":"YEAR(SPP[[#This Row],[DATA]])","v":2023}]
["22/02/2023","100","BILHETE UNICO MENSAL - CASCO",7398653,962204804.75,124270478.19,1086475282.9400001,{"$f":"TEXT(SPP[[#This Row],[DATA]],\"mmmm\")","v":"fevereiro"},{"$f":"YEAR(SPP[[#This Row],[DATA]])","v":2023}]
["24/02/2023","69","VT 8VG",670,0,5271.77,5271.77,{"$f":"TEXT(SPP[[#This Row],[DATA]],\"mmmm\")","v":"fevereiro"},{"$f":"YEAR(SPP[[#This Row],[DATA]])","v":2023}]
["25/02/2023","86","Estacionamento",9146,956.21,107956.36,108912.57,{"$f":"TEXT(SPP[[#This Row],[DATA]],\"mmmm\")","v":"fevereiro"},{"$f":"YEAR(SPP[[#This Row],[DATA]])","v":2023}]
["26/02/2023","75","CARTAO FIDELIDADE",134046,0,7767472.3700000001,7767472.3700000001,{"$f":"TEXT(SPP[[#This Row],[DATA]],\"mmmm\")","v":"fevereiro"},{"$f":"YEAR(SPP[[#This Row],[DATA]])","v":2023}]
["27/02/2023","76","Lazer",477,0,11593.99,11593.99,{"$f":"TEXT(SPP[[#This Row],[DATA]],\"mmmm\")","v":"fevereiro"},{"$f":"YEAR(SPP[[#This Row],[DATA]])","v":2023}]
["27/02/2023","100","BILHETE UNICO MENSAL - CASCO",7414913,979849696.01999998,119776153.40000001,1099625849.4200001,{"$f":"TEXT(SPP[[#This Row],[DATA]],\"mmmm\")","v":"fevereiro"},{"$f":"YEAR(SPP[[#This Row],[DATA]])","v":2023}]
["01/03/2023","59","VT",3034245,31606470.100000001,14736113.859999999,46342583.960000001,{"$f":"TEXT(SPP[[#This Row],[DATA]],\"mmmm\")","v":"março"},{"$f":"YEAR(SPP[[#This Row],[DATA]])","v":2023}]
["02/03/2023","69","VT 8VG",669,0,5269.37,5269.37,{"$f":"TEXT(SPP[[#This Row],[DATA]],\"mmmm\")","v":"março"},{"$f":"YEAR(SPP[[#This Row],[DATA]])","v":2023}]
["03/03/2023","51","COMUM 4 VIAGENS",7061,2762.05,25469.13,28231.18,{"$f":"TEXT(SPP[[#This Row],[DATA]],\"mmmm\")","v":"março"},{"$f":"YEAR(SPP[[#This Row],[DATA]])","v":2023}]
["04/03/2023","100","BILHETE UNICO MENSAL - CASCO",7434492,1032114045.95,128288028.59,1160402074.54,{"$f":"TEXT(SPP[[#This Row],[DATA]],\"mmmm\")","v":"março"},{"$f":"YEAR(SPP[[#This Row],[DATA]])","v":2023}]
["05/03/2023","110","BUM - ANÔNIMO - CASCO",1309512,601898.14,6212847.4500000002,6814745.5899999999,{"$f":"TEXT(SPP[[#This Row],[DATA]],\"mmmm\")","v":"março"},{"$f":"YEAR(SPP[[#This Row],[DATA]])","v":2023}]
["06/03/2023","80","COMUM 8 VIAGENS",39,0,251.17000000000002,251.17000000000002,{"$f":"TEXT(SPP[[#This Row],[DATA]],\"mmmm\")","v":"março"},{"$f":"YEAR(SPP[[#This Row],[DATA]])","v":2023}]
["07/03/2023","86","Estacionamento",9146,956.21,107975.86,108932.07,{"$f":"TEXT(SPP[[#This Row],[DATA]],\"mmmm\")","v":"março"},{"$f":"YEAR(SPP[[#This Row],[DATA]])","v":2023}]
["08/03/2023","74","PROFESSOR",31701,1598582.36,0,1598582.36,{"$f":"TEXT(SPP[[#This Row],[DATA]],\"mmmm\")","v":"março"},{"$f":"YEAR(SPP[[#This Row],[DATA]])","v":2023}]
["09/03/2023","71","MÃE PAULISTANA",191336,278113.37,976340.03,1254453.3999999999,{"$f":"TEXT(SPP[[#This Row],[DATA]],\"mmmm\")","v":"março"},{"$f":"YEAR(SPP[[#This Row],[DATA]])","v":2023}]
["10/03/2023","74","PROFESSOR",31775,1610004.51,0,1610004.51,{"$f":"TEXT(SPP[[#This Row],[DATA]],\"mmmm\")","v":"março"},{"$f":"YEAR(SPP[[#This Row],[DATA]])","v":2023}]
["11/03/2023","100","BILHETE UNICO MENSAL - CASCO",7457665,1025135904.86,134003095.88,1159139000.74,{"$f":"TEXT(SPP[[#This Row],[DATA]],\"mmmm\")","v":"março"},{"$f":"YEAR(SPP[[#This Row],[DATA]])","v":2023}]
["13/03/2023","51","COMUM 4 VIAGENS",7057,2762.05,25463.03,28225.08,{"$f":"TEXT(SPP[[#This Row],[DATA]],\"mmmm\")","v":"março"},{"$f":"YEAR(SPP[[#This Row],[DATA]])","v":2023}]
["14/03/2023","52","ESTUDANTE",59260,65336.68,361599.31,426935.99,{"$f":"TEXT(SPP[[#This Row],[DATA]],\"mmmm\")","v":"março"},{"$f":"YEAR(SPP[[#This Row],[DATA]])","v":2023}]
["14/03/2023","100","BILHETE UNICO MENSAL - CASCO",7466653,1014665448.66,134423513.94999999,1149088962.6099999,{"$f":"TEXT(SPP[[#This Row],[DATA]],\"mmmm\")","v":"março"},{"$f":"YEAR(SPP[[#This Row],[DATA]])","v":2023}]
["15/03/2023","74","PROFESSOR",31912,1623579.08,0,1623579.08,{"$f":"TEXT(SPP[[#This Row],[DATA]],\"mmmm\")","v":"março"},{"$f":"YEAR(SPP[[#This Row],[DATA]])","v":2023}]
["16/03/2023","86","Estacionamento",9146,956.21,107990.56,108946.77,{"$f":"TEXT(SPP[[#This Row],[DATA]],\"mmmm\")","v":"março"},{"$f":"YEAR(SPP[[#This Row],[DATA]])","v":2023}]
["17/03/2023","75","CARTAO FIDELIDADE",134941,0,7952415.9400000004,7952415.9400000004,{"$f":"TEXT(SPP[[#This Row],[DATA]],\"mmmm\")","v":"março"},{"$f":"YEAR(SPP[[#This Row],[DATA]])","v":2023}]
["18/03/2023","76","Lazer",477,0,11586.09,11586.09,{"$f":"TEXT(SPP[[#This Row],[DATA]],\"mmmm\")","v":"março"},{"$f":"YEAR(SPP[[#This Row],[DATA]])","v":2023}]
["19/03/2023","71","MÃE PAULISTANA",191871,277323.72000000003,963237.18,1240560.8999999999,{"$f":"TEXT(SPP[[#This Row],[DATA]],\"mmmm\")","v":"março"},{"$f":"YEAR(SPP[[#This Row],[DATA]])","v":2023}]
["20/03/2023","75","CARTAO FIDELIDADE",134987,0,7957439.54,7957439.54,{"$f":"TEXT(SPP[[#This Row],[DATA]],\"mmmm\")","v":"março"},{"$f":"YEAR(SPP[[#This Row],[DATA]])","v":2023}]
["22/03/2023","69","VT 8VG",668,0,5267.33,5267.33,{"$f":"TEXT(SPP[[#This Row],[DATA]],\"mmmm\")","v":"março"},{"$f":"YEAR(SPP[[#This Row],[DATA]])","v":2023}]
["23/03/2023","51","COMUM 4 VIAGENS",7055,2762.05,25446.639999999999,28208.690000000002,{"$f":"TEXT(SPP[[#This Row],[DATA]],\"mmmm\")","v":"março"},{"$f":"YEAR(SPP[[#This Row],[DATA]])","v":2023}]
["24/03/2023","51","COMUM 4 VIAGENS",7055,2762.05,25446.639999999999,28208.690000000002,{"$f":"TEXT(SPP[[#This Row],[DATA]],\"mmmm\")","v":"março"},{"$f":"YEAR(SPP[[#This Row],[DATA]])","v":2023}]
["24/03/2023","110","BUM - ANÔNIMO - CASCO",1308704,601790.93000000005,6208085.1100000003,6809876.04,{"$f":"TEXT(SPP[[#This Row],[DATA]],\"mmmm\")","v":"março"},{"$f":"YEAR(SPP[[#This Row],[DATA]])","v":2023}]
["25/03/2023","80","COMUM 8 VIAGENS",39,0,251.17000000000002,251.17000000000002,{"$f":"TEXT(SPP[[#This Row],[DATA]],\"mmmm\")","v":"março"},{"$f":"YEAR(SPP[[#This Row],[DATA]])","v":2023}]
["26/03/2023","86","Estacionamento",9146,956.21,108084.16,109040.37,{"$f":"TEXT(SPP[[#This Row],[DATA]],\"mmmm\")","v":"março"},{"$f":"YEAR(SPP[[#This Row],[DATA]])","v":2023}]
["27/03/2023","110","BUM - ANÔNIMO - CASCO",1308613,601418.29,6207166.5099999998,6808584.7999999998,{"$f":"TEXT(SPP[[#This Row],[DATA]],\"mmmm\")","v":"março"},{"$f":"YEAR(SPP[[#This Row],[DATA]])","v":2023}]
["28/03/2023","80","COMUM 8 VIAGENS",39,0,251.17000000000002,251.17000000000002,{"$f":"TEXT(SPP[[#This Row],[DATA]],\"mmmm\")","v":"março"},{"$f":"YEAR(SPP[[#This Row],[DATA]])","v":2023}]
["30/03/2023","74","PROFESSOR",32323,1561173.85,0,1561173.85,{"$f":"TEXT(SPP[[#This Row],[DATA]],\"mmmm\")","v":"março"},{"$f":"YEAR(SPP[[#This Row],[DATA]])","v":2023}]
["31/03/2023","59","VT",3031900,31387859.440000001,14720538.83,46108398.270000003,{"$f":"TEXT(SPP[[#This Row],[DATA]],\"mmmm\")","v":"março"},{"$f":"YEAR(SPP[[#This Row],[DATA]])","v":2023}]
["31/03/2023","75","CARTAO FIDELIDADE",134917,0,7820222.7599999998,7820222.7599999998,{"$f":"TEXT(SPP[[#This Row],[DATA]],\"mmmm\")","v":"março"},{"$f":"YEAR(SPP[[#This Row],[DATA]])","v":2023}]
["02/04/2023","52","ESTUDANTE",59043,66360.41,361174.94,427535.35000000003,{"$f":"TEXT(SPP[[#This Row],[DATA]],\"mmmm\")","v":"abril"},{"$f":"YEAR(SPP[[#This Row],[DATA]])","v":2023}]
["02/04/2023","100","BILHETE UNICO MENSAL - CASCO",7514660,1002208731.2,118932060.86,1121140792.0599999,{"$f":"TEXT(SPP[[#This Row],[DATA]],\"mmmm\")","v":"abril"},{"$f":"YEAR(SPP[[#This Row],[DATA]])","v":2023}]
["03/04/2023","110","BUM - ANÔNIMO - CASCO",1308346,601330.74,6205266.7199999997,6806597.46,{"$f":"TEXT(SPP[[#This Row],[DATA]],\"mmmm\")","v":"abril"},{"$f":"YEAR(SPP[[#This Row],[DATA]])","v":2023}]
["05/04/2023","75","CARTAO FIDELIDADE",135149,0,7928648.0999999996,7928648.0999999996,{"$f":"TEXT(SPP[[#This Row],[DATA]],\"mmmm\")","v":"abril"},{"$f":"YEAR(SPP[[#This Row],[DATA]])","v":2023}]
["05/04/2023","100","BILHETE UNICO MENSAL - CASCO",7525635,1017019320.63,128547432.62,1145566753.25,{"$f":"TEXT(SPP[[#This Row],[DATA]],\"mmmm\")","v":"abril"},{"$f":"YEAR(SPP[[#This Row],[DATA]])","v":2023}]
["07/04/2023","76","Lazer",476,0,11538.59,11538.59,{"$f":"TEXT(SPP[[#This Row],[DATA]],\"mmmm\")","v":"abril"},{"$f":"YEAR(SPP[[#This Row],[DATA]])","v":2023}]
["08/04/2023","71","MÃE PAULISTANA",193033,277729.88,979453.38,1257183.26,{"$f":"TEXT(SPP[[#This Row],[DATA]],\"mmmm\")","v":"abril"},{"$f":"YEAR(SPP[[#This Row],[DATA]])","v":2023}]
["09/04/2023","52","ESTUDANTE",59040,67325.040000000008,361550.4,428875.44,{"$f":"TEXT(SPP[[#This Row],[DATA]],\"mmmm\")","v":"abril"},{"$f":"YEAR(SPP[[#This Row],[DATA]])","v":2023}]
["10/04/2023","69","VT 8VG",665,0,5262.8,5262.8,{"$f":"TEXT(SPP[[#This Row],[DATA]],\"mmmm\")","v":"abril"},{"$f":"YEAR(SPP[[#This Row],[DATA]])","v":2023}]
["11/04/2023","71","MÃE PAULISTANA",193199,277344.05,988324.61,1265668.6599999999,{"$f":"TEXT(SPP[[#This Row],[DATA]],\"mmmm\")","v":"abril"},{"$f":"YEAR(SPP[[#This Row],[DATA]])","v":2023}]
["12/04/2023","52","ESTUDANTE",59023,67687.27,361726.47000000003,429413.74,{"$f":"TEXT(SPP[[#This Row],[DATA]],\"mmmm\")","v":"abril"},{"$f":"YEAR(SPP[[#This Row],[DATA]])","v":2023}]
["13/04/2023","51","COMUM 4 VIAGENS",7051,2759.17,25420.12,28179.29,{"$f":"TEXT(SPP[[#This Row],[DATA]],\"mmmm\")","v":"abril"},{"$f":"YEAR(SPP[[#This Row],[DATA]])","v":2023}]
["14/04/2023","51","COMUM 4 VIAGENS",7049,2759.17,25413.62,28172.79,{"$f":"TEXT(SPP[[#This Row],[DATA]],\"mmmm\")","v":"abril"},{"$f":"YEAR(SPP[[#This Row],[DATA]])","v":2023}]
["15/04/2023","86","Estacionamento",9154,956.21,108382.81,109339.02,{"$f":"TEXT(SPP[[#This Row],[DATA]],\"mmmm\")","v":"abril"},{"$f":"YEAR(SPP[[#This Row],[DATA]])","v":2023}]
["16/04/2023","75","CARTAO FIDELIDADE",135356,0,7881852.29,7881852.29,{"$f":"TEXT(SPP[[#This Row],[DATA]],\"mmmm\")","v":"abril"},{"$f":"YEAR(SPP[[#This Row],[DATA]])","v":2023}]
["17/04/2023","80","COMUM 8 VIAGENS",39,0,251.17000000000002,251.17000000000002,{"$f":"TEXT(SPP[[#This Row],[DATA]],\"mmmm\")","v":"abril"},{"$f":"YEAR(SPP[[#This Row],[DATA]])","v":2023}]
["18/04/2023","74","PROFESSOR",32827,1671121.32,0,1671121.32,{"$f":"TEXT(SPP[[#This Row],[DATA]],\"mmmm\")","v":"abril"},{"$f":"YEAR(SPP[[#This Row],[DATA]])","v":2023}]
["19/04/2023","75","CARTAO FIDELIDADE",135715,0,7954867.7400000002,7954867.7400000002,{"$f":"TEXT(SPP[[#This Row],[DATA]],\"mmmm\")","v":"abril"},{"$f":"YEAR(SPP[[#This Row],[DATA]])","v":2023}]
["20/04/2023","69","VT 8VG",663,0,5191.5600000000004,5191.5600000000004,{"$f":"TEXT(SPP[[#This Row],[DATA]],\"mmmm\")","v":"abril"},{"$f":"YEAR(SPP[[#This Row],[DATA]])","v":2023}]
["21/04/2023","76","Lazer",476,0,11617.99,11617.99,{"$f":"TEXT(SPP[[#This Row],[DATA]],\"mmmm\")","v":"abril"},{"$f":"YEAR(SPP[[#This Row],[DATA]])","v":2023}]
["22/04/2023","59","VT",3030529,31276410.32,14710938.48,45987348.799999997,{"$f":"TEXT(SPP[[#This Row],[DATA]],\"mmmm\")","v":"abril"},{"$f":"YEAR(SPP[[#This Row],[DATA]])","v":2023}]
["23/04/2023","110","BUM - ANÔNIMO - CASCO",1307711,600941.21,6201245.6600000001,6802186.8700000001,{"$f":"TEXT(SPP[[#This Row],[DATA]],\"mmmm\")","v":"abril"},{"$f":"YEAR(SPP[[#This Row],[DATA]])","v":2023}]
["24/04/2023","51","COMUM 4 VIAGENS",7046,2759.17,25408.87,28168.04,{"$f":"TEXT(SPP[[#This Row],[DATA]],\"mmmm\")","v":"abril"},{"$f":"YEAR(SPP[[#This Row],[DATA]])","v":2023}]
["25/04/2023","59","VT",3030301,31259196.379999999,14709269.449999999,45968465.829999998,{"$f":"TEXT(SPP[[#This Row],[DATA]],\"mmmm\")","v":"abril"},{"$f":"YEAR(SPP[[#This Row],[DATA]])","v":2023}]
["26/04/2023","76","Lazer",477,0,11664.49,11664.49,{"$f":"TEXT(SPP[[#This Row],[DATA]],\"mmmm\")","v":"abril"},{"$f":"YEAR(SPP[[#This Row],[DATA]])","v":2023}]
["27/04/2023","80","COMUM 8 VIAGENS",39,0,251.17000000000002,251.17000000000002,{"$f":"TEXT(SPP[[#This Row],[DATA]],\"mmmm\")","v":"abril"},{"$f":"YEAR(SPP[[#This Row],[DATA]])","v":2023}]
["28/04/2023","74","PROFESSOR",33059,1640205.19,0,1640205.19,{"$f":"TEXT(SPP[[#This Row],[DATA]],\"mmmm\")","v":"abril"},{"$f":"YEAR(SPP[[#This Row],[DATA]])","v":2023}]
["29/04/2023","52","ESTUDANTE",58831,67209.63,361538.46,428748.09,{"$f":"TEXT(SPP[[#This Row],[DATA]],\"mmmm\")","v":"abril"},{"$f":"YEAR(SPP[[#This Row],[DATA]])","v":2023}]
["30/04/2023","71","MÃE PAULISTANA",194350,280868.18,985387.6,1266255.78,{"$f":"TEXT(SPP[[#This Row],[DATA]],\"mmmm\")","v":"abril"},{"$f":"YEAR(SPP[[#This Row],[DATA]])","v":2023}]
["02/05/2023","52","ESTUDANTE",58837,67209.63,362208.32,429417.95,{"$f":"TEXT(SPP[[#This Row],[DATA]],\"mmmm\")","v":"maio"},{"$f":"YEAR(SPP[[#This Row],[DATA]])","v":2023}]
["02/05/2023","59","VT",3029872,31235680.460000001,14706595.58,45942276.039999999,{"$f":"TEXT(SPP[[#This Row],[DATA]],\"mmmm\")","v":"maio"},{"$f":"YEAR(SPP[[#This Row],[DATA]])","v":2023}]
["03/05/2023","86","Estacionamento",9156,956.21,108389.23,109345.44,{"$f":"TEXT(SPP[[#This Row],[DATA]],\"mmmm\")","v":"maio"},{"$f":"YEAR(SPP[[#This Row],[DATA]])","v":2023}]
["04/05/2023","86","Estacionamento",9156,956.21,108389.23,109345.44,{"$f":"TEXT(SPP[[#This Row],[DATA]],\"mmmm\")","v":"maio"},{"$f":"YEAR(SPP[[#This Row],[DATA]])","v":2023}]
["05/05/2023","100","BILHETE UNICO MENSAL - CASCO",7582337,1043115165.2,129907855.70999999,1173023020.9100001,{"$f":"TEXT(SPP[[#This Row],[DATA]],\"mmmm\")","v":"maio"},{"$f":"YEAR(SPP[[#This Row],[DATA]])","v":2023}]
["06/05/2023","76","Lazer",478,0,11553.09,11553.09,{"$f":"TEXT(SPP[[#This Row],[DATA]],\"mmmm\")","v":"maio"},{"$f":"YEAR(SPP[[#This Row],[DATA]])","v":2023}]
["07/05/2023","80","COMUM 8 VIAGENS",39,0,251.17000000000002,251.17000000000002,{"$f":"TEXT(SPP[[#This Row],[DATA]],\"mmmm\")","v":"maio"},{"$f":"YEAR(SPP[[#This Row],[DATA]])","v":2023}]
["08/05/2023","75","CARTAO FIDELIDADE",135555,0,7953643.7000000002,7953643.7000000002,{"$f":"TEXT(SPP[[#This Row],[DATA]],\"mmmm\")","v":"maio"},{"$f":"YEAR(SPP[[#This Row],[DATA]])","v":2023}]
["10/05/2023","69","VT 8VG",661,0,5158.1099999999997,5158.1099999999997,{"$f":"TEXT(SPP[[#This Row],[DATA]],\"mmmm\")","v":"maio"},{"$f":"YEAR(SPP[[#This Row],[DATA]])","v":2023}]
["10/05/2023","71","MÃE PAULISTANA",194879,280504.49,1008692.89,1289197.3800000001,{"$f":"TEXT(SPP[[#This Row],[DATA]],\"mmmm\")","v":"maio"},{"$f":"YEAR(SPP[[#This Row],[DATA]])","v":2023}]
["12/05/2023","71","MÃE PAULISTANA",195006,279784.77,1004525.08,1284309.8500000001,{"$f":"TEXT(SPP[[#This Row],[DATA]],\"mmmm\")","v":"maio"},{"$f":"YEAR(SPP[[#This Row],[DATA]])","v":2023}]
["12/05/2023","110","BUM - ANÔNIMO - CASCO",1307082,600652.81000000006,6197092.7199999997,6797745.5300000003,{"$f":"TEXT(SPP[[#This Row],[DATA]],\"mmmm\")","v":"maio"},{"$f":"YEAR(SPP[[#This Row],[DATA]])","v":2023}]
["14/05/2023","51","COMUM 4 VIAGENS",7035,2756.53,25389.07,28145.600000000002,{"$f":"TEXT(SPP[[#This Row],[DATA]],\"mmmm\")","v":"maio"},{"$f":"YEAR(SPP[[#This Row],[DATA]])","v":2023}]
["14/05/2023","86","Estacionamento",9162,956.21,108550.7,109506.91,{"$f":"TEXT(SPP[[#This Row],[DATA]],\"mmmm\")","v":"maio"},{"$f":"YEAR(SPP[[#This Row],[DATA]])","v":2023}]
["15/05/2023","110","BUM - ANÔNIMO - CASCO",1307024,600652.81000000006,6196782.7300000004,6797435.54,{"$f":"TEXT(SPP[[#This Row],[DATA]],\"mmmm\")","v":"maio"},{"$f":"YEAR(SPP[[#This Row],[DATA]])","v":2023}]
["16/05/2023","80","COMUM 8 VIAGENS",39,0,251.17000000000002,251.17000000000002,{"$f":"TEXT(SPP[[#This Row],[DATA]],\"mmmm\")","v":"maio"},{"$f":"YEAR(SPP[[#This Row],[DATA]])","v":2023}]
["18/05/2023","74","PROFESSOR",33476,1704508.7,0,1704508.7,{"$f":"TEXT(SPP[[#This Row],[DATA]],\"mmmm\")","v":"maio"},{"$f":"YEAR(SPP[[#This Row],[DATA]])","v":2023}]
["18/05/2023","75","CARTAO FIDELIDADE",135819,0,7895413.1399999997,7895413.1399999997,{"$f":"TEXT(SPP[[#This Row],[DATA]],\"mmmm\")","v":"maio"},{"$f":"YEAR(SPP[[#This Row],[DATA]])","v":2023}]
["19/05/2023","100","BILHETE UNICO MENSAL - CASCO",7605922,988599097.64999998,127514226.25,1116113323.9000001,{"$f":"TEXT(SPP[[#This Row],[DATA]],\"mmmm\")","v":"maio"},{"$f":"YEAR(SPP[[#This Row],[DATA]])","v":2023}]
["21/05/2023","52","ESTUDANTE",58803,67688.2,363242.67,430930.87,{"$f":"TEXT(SPP[[#This Row],[DATA]],\"mmmm\")","v":"maio"},{"$f":"YEAR(SPP[[#This Row],[DATA]])","v":2023}]
["22/05/2023","59","VT",3028688,31099522.059999999,14698472.24,45797994.299999997,{"$f":"TEXT(SPP[[#This Row],[DATA]],\"mmmm\")","v":"maio"},{"$f":"YEAR(SPP[[#This Row],[DATA]])","v":2023}]
["22/05/2023","110","BUM - ANÔNIMO - CASCO",1306790,600475.01,6195178.4100000001,6795653.4199999999,{"$f":"TEXT(SPP[[#This Row],[DATA]],\"mmmm\")","v":"maio"},{"$f":"YEAR(SPP[[#This Row],[DATA]])","v":2023}]
["24/05/2023","75","CARTAO FIDELIDADE",136142,0,7989261.3899999997,7989261.3899999997,{"$f":"TEXT(SPP[[#This Row],[DATA]],\"mmmm\")","v":"maio"},{"$f":"YEAR(SPP[[#This Row],[DATA]])","v":2023}]
["24/05/2023","100","BILHETE UNICO MENSAL - CASCO",7614607,973577633.78999996,126812583.94,1100390217.73,{"$f":"TEXT(SPP[[#This Row],[DATA]],\"mmmm\")","v":"maio"},{"$f":"YEAR(SPP[[#This Row],[DATA]])","v":2023}]
["26/05/2023","76","Lazer",476,0,11502.39,11502.39,{"$f":"TEXT(SPP[[#This Row],[DATA]],\"mmmm\")","v":"maio"},{"$f":"YEAR(SPP[[#This Row],[DATA]])","v":2023}]
["26/05/2023","80","COMUM 8 VIAGENS",39,0,251.17000000000002,251.17000000000002,{"$f":"TEXT(SPP[[#This Row],[DATA]],\"mmmm\")","v":"maio"},{"$f":"YEAR(SPP[[#This Row],[DATA]])","v":2023}]
["28/05/2023","74","PROFESSOR",33681,1672669.3,0,1672669.3,{"$f":"TEXT(SPP[[#This Row],[DATA]],\"mmmm\")","v":"maio"},{"$f":"YEAR(SPP[[#This Row],[DATA]])","v":2023}]
["29/05/2023","69","VT 8VG",661,0,5158.1099999999997,5158.1099999999997,{"$f":"TEXT(SPP[[#This Row],[DATA]],\"mmmm\")","v":"maio"},{"$f":"YEAR(SPP[[#This Row],[DATA]])","v":2023}]
["30/05/2023","71","MÃE PAULISTANA",196036,279986.48,1004003.51,1283989.99,{"$f":"TEXT(SPP[[#This Row],[DATA]],\"mmmm\")","v":"maio"},{"$f":"YEAR(SPP[[#This Row],[DATA]])","v":2023}]
["31/05/2023","52","ESTUDANTE",58764,68345.38,363849.64,432195.02,{"$f":"TEXT(SPP[[#This Row],[DATA]],\"mmmm\")","v":"maio"},{"$f":"YEAR(SPP[[#This Row],[DATA]])","v":2023}]
["01/06/2023","51","COMUM 4 VIAGENS",7031,2756.53,25367.420000000002,28123.95,{"$f":"TEXT(SPP[[#This Row],[DATA]],\"mmmm\")","v":"junho"},{"$f":"YEAR(SPP[[#This Row],[DATA]])","v":2023}]
["02/06/2023","51","COMUM 4 VIAGENS",7030,2756.53,25361.670000000002,28118.2,{"$f":"TEXT(SPP[[#This Row],[DATA]],\"mmmm\")","v":"junho"},{"$f":"YEAR(SPP[[#This Row],[DATA]])","v":2023}]
["03/06/2023","86","Estacionamento",9165,956.21,108635.90000000001,109592.11,{"$f":"TEXT(SPP[[#This Row],[DATA]],\"mmmm\")","v":"junho"},{"$f":"YEAR(SPP[[#This Row],[DATA]])","v":2023}]
["03/06/2023","100","BILHETE UNICO MENSAL - CASCO",7630834,1032968794.25,127195324.17,1160164118.4200001,{"$f":"TEXT(SPP[[#This Row],[DATA]],\"mmmm\")","v":"junho"},{"$f":"YEAR(SPP[[#This Row],[DATA]])","v":2023}]
["04/06/2023","110","BUM - ANÔNIMO - CASCO",1306428,600475.01,6192815.4699999997,6793290.4800000004,{"$f":"TEXT(SPP[[#This Row],[DATA]],\"mmmm\")","v":"junho"},{"$f":"YEAR(SPP[[#This Row],[DATA]])","v":2023}]
["06/06/2023","86","Estacionamento",9165,956.21,108635.93000000001,109592.14,{"$f":"TEXT(SPP[[#This Row],[DATA]],\"mmmm\")","v":"junho"},{"$f":"YEAR(SPP[[#This Row],[DATA]])","v":2023}]
["07/06/2023","75","CARTAO FIDELIDADE",136094,0,7961334.79,7961334.79,{"$f":"TEXT(SPP[[#This Row],[DATA]],\"mmmm\")","v":"junho"},{"$f":"YEAR(SPP[[#This Row],[DATA]])","v":2023}]
["08/06/2023","69","VT 8VG",661,0,5158.1099999999997,5158.1099999999997,{"$f":"TEXT(SPP[[#This Row],[DATA]],\"mmmm\")","v":"junho"},{"$f":"YEAR(SPP[[#This Row],[DATA]])","v":2023}]
["09/06/2023","76","Lazer",475,0,11485.29,11485.29,{"$f":"TEXT(SPP[[#This Row],[DATA]],\"mmmm\")","v":"junho"},{"$f":"YEAR(SPP[[#This Row],[DATA]])","v":2023}]
["10/06/2023","59","VT",3027560,30979469.359999999,14690845.93,45670315.289999999,{"$f":"TEXT(SPP[[#This Row],[DATA]],\"mmmm\")","v":"junho"},{"$f":"YEAR(SPP[[#This Row],[DATA]])","v":2023}]
["11/06/2023","110","BUM - ANÔNIMO - CASCO",1306210,600475.01,6191407.7300000004,6791882.7400000002,{"$f":"TEXT(SPP[[#This Row],[DATA]],\"mmmm\")","v":"junho"},{"$f":"YEAR(SPP[[#This Row],[DATA]])","v":2023}]
["12/06/2023","51","COMUM 4 VIAGENS",7025,2756.53,25302.32,28058.850000000002,{"$f":"TEXT(SPP[[#This Row],[DATA]],\"mmmm\")","v":"junho"},{"$f":"YEAR(SPP[[#This Row],[DATA]])","v":2023}]
["13/06/2023","75","CARTAO FIDELIDADE",136776,0,8268982.9500000002,8268982.9500000002,{"$f":"TEXT(SPP[[#This Row],[DATA]],\"mmmm\")","v":"junho"},{"$f":"YEAR(SPP[[#This Row],[DATA]])","v":2023}]
["14/06/2023","110","BUM - ANÔNIMO - CASCO",1306098,600475.01,6190760.1399999997,6791235.1500000004,{"$f":"TEXT(SPP[[#This Row],[DATA]],\"mmmm\")","v":"junho"},{"$f":"YEAR(SPP[[#This Row],[DATA]])","v":2023}]
["15/06/2023","80","COMUM 8 VIAGENS",39,0,251.17000000000002,251.17000000000002,{"$f":"TEXT(SPP[[#This Row],[DATA]],\"mmmm\")","v":"junho"},{"$f":"YEAR(SPP[[#This Row],[DATA]])","v":2023}]
["16/06/2023","74","PROFESSOR",34061,1789057.04,0,1789057.04,{"$f":"TEXT(SPP[[#This Row],[DATA]],\"mmmm\")","v":"junho"},{"$f":"YEAR(SPP[[#This Row],[DATA]])","v":2023}]
["17/06/2023","52","ESTUDANTE",58462,67660.56,362556.49,430217.05,{"$f":"TEXT(SPP[[#This Row],[DATA]],\"mmmm\")","v":"junho"},{"$f":"YEAR(SPP[[#This Row],[DATA]])","v":2023}]
["18/06/2023","71","MÃE PAULISTANA",196881,279870.77,1007144.28,1287015.05,{"$f":"TEXT(SPP[[#This Row],[DATA]],\"mmmm\")","v":"junho"},{"$f":"YEAR(SPP[[#This Row],[DATA]])","v":2023}]
["19/06/2023","74","PROFESSOR",34105,1778816.15,0,1778816.15,{"$f":"TEXT(SPP[[#This Row],[DATA]],\"mmmm\")","v":"junho"},{"$f":"YEAR(SPP[[#This Row],[DATA]])","v":2023}]
["20/06/2023","59","VT",3027044,30921691.84,14687913.92,45609605.759999998,{"$f":"TEXT(SPP[[#This Row],[DATA]],\"mmmm\")","v":"junho"},{"$f":"YEAR(SPP[[#This Row],[DATA]])","v":2023}]
["22/06/2023","52","ESTUDANTE",58452,68047.11,362292.85000000003,430339.96,{"$f":"TEXT(SPP[[#This Row],[DATA]],\"mmmm\")","v":"junho"},{"$f":"YEAR(SPP[[#This Row],[DATA]])","v":2023}]
["23/06/2023","52","ESTUDANTE",58448,68042.710000000006,362439.22000000003,430481.93,{"$f":"TEXT(SPP[[#This Row],[DATA]],\"mmmm\")","v":"junho"},{"$f":"YEAR(SPP[[#This Row],[DATA]])","v":2023}]
["23/06/2023","100","BILHETE UNICO MENSAL - CASCO",7659796,976582639.27999997,128174869.31999999,1104757508.5999999,{"$f":"TEXT(SPP[[#This Row],[DATA]],\"mmmm\")","v":"junho"},{"$f":"YEAR(SPP[[#This Row],[DATA]])","v":2023}]
["24/06/2023","76","Lazer",474,0,11441.29,11441.29,{"$f":"TEXT(SPP[[#This Row],[DATA]],\"mmmm\")","v":"junho"},{"$f":"YEAR(SPP[[#This Row],[DATA]])","v":2023}]
["25/06/2023","80","COMUM 8 VIAGENS",39,0,251.17000000000002,251.17000000000002,{"$f":"TEXT(SPP[[#This Row],[DATA]],\"mmmm\")","v":"junho"},{"$f":"YEAR(SPP[[#This Row],[DATA]])","v":2023}]
["26/06/2023","75","CARTAO FIDELIDADE",135983,0,7772312.6600000001,7772312.6600000001,{"$f":"TEXT(SPP[[#This Row],[DATA]],\"mmmm\")","v":"junho"},{"$f":"YEAR(SPP[[#This Row],[DATA]])","v":2023}]
["27/06/2023","76","Lazer",474,0,11441.29,11441.29,{"$f":"TEXT(SPP[[#This Row],[DATA]],\"mmmm\")","v":"junho"},{"$f":"YEAR(SPP[[#This Row],[DATA]])","v":2023}]
["28/06/2023","71","MÃE PAULISTANA",197586,281360.68,1010572.35,1291933.03,{"$f":"TEXT(SPP[[#This Row],[DATA]],\"mmmm\")","v":"junho"},{"$f":"YEAR(SPP[[#This Row],[DATA]])","v":2023}]
["29/06/2023","76","Lazer",474,0,11441.29,11441.29,{"$f":"TEXT(SPP[[#This Row],[DATA]],\"mmmm\")","v":"junho"},{"$f":"YEAR(SPP[[#This Row],[DATA]])","v":2023}]
["01/07/2023","69","VT 8VG",656,0,5100.37,5100.37,{"$f":"TEXT(SPP[[#This Row],[DATA]],\"mmmm\")","v":"julho"},{"$f":"YEAR(SPP[[#This Row],[DATA]])","v":2023}]
["02/07/2023","51","COMUM 4 VIAGENS",7016,2749.77,25273.09,28022.86,{"$f":"TEXT(SPP[[#This Row],[DATA]],\"mmmm\")","v":"julho"},{"$f":"YEAR(SPP[[#This Row],[DATA]])","v":2023}]
["02/07/2023","86","Estacionamento",9165,956.21,108689.75,109645.96,{"$f":"TEXT(SPP[[#This Row],[DATA]],\"mmmm\")","v":"julho"},{"$f":"YEAR(SPP[[#This Row],[DATA]])","v":2023}]
["04/07/2023","69","VT 8VG",655,0,5095.6400000000003,5095.6400000000003,{"$f":"TEXT(SPP[[#This Row],[DATA]],\"mmmm\")","v":"julho"},{"$f":"YEAR(SPP[[#This Row],[DATA]])","v":2023}]
["04/07/2023","80","COMUM 8 VIAGENS",39,0,251.17000000000002,251.17000000000002,{"$f":"TEXT(SPP[[#This Row],[DATA]],\"mmmm\")","v":"julho"},{"$f":"YEAR(SPP[[#This Row],[DATA]])","v":2023}]
["05/07/2023","86","Estacionamento",9168,956.21,108739.40000000001,109695.61,{"$f":"TEXT(SPP[[#This Row],[DATA]],\"mmmm\")","v":"julho"},{"$f":"YEAR(SPP[[#This Row],[DATA]])","v":2023}]
["06/07/2023","75","CARTAO FIDELIDADE",136210,0,7828023.2300000004,7828023.2300000004,{"$f":"TEXT(SPP[[#This Row],[DATA]],\"mmmm\")","v":"julho"},{"$f":"YEAR(SPP[[#This Row],[DATA]])","v":2023}]
["08/07/2023","59","VT",3025757,30819517.739999998,14680253.529999999,45499771.270000003,{"$f":"TEXT(SPP[[#This Row],[DATA]],\"mmmm\")","v":"julho"},{"$f":"YEAR(SPP[[#This Row],[DATA]])","v":2023}]
["09/07/2023","74","PROFESSOR",34282,1675207.4,0,1675207.4,{"$f":"TEXT(SPP[[#This Row],[DATA]],\"mmmm\")","v":"julho"},{"$f":"YEAR(SPP[[#This Row],[DATA]])","v":2023}]
["10/07/2023","59","VT",3025645,30816360.579999998,14679798.609999999,45496159.189999998,{"$f":"TEXT(SPP[[#This Row],[DATA]],\"mmmm\")","v":"julho"},{"$f":"YEAR(SPP[[#This Row],[DATA]])","v":2023}]
["11/07/2023","69","VT 8VG",655,0,5095.6400000000003,5095.6400000000003,{"$f":"TEXT(SPP[[#This Row],[DATA]],\"mmmm\")","v":"julho"},{"$f":"YEAR(SPP[[#This Row],[DATA]])","v":2023}]
["11/07/2023","86","Estacionamento",9172,956.21,108764.74,109720.95,{"$f":"TEXT(SPP[[#This Row],[DATA]],\"mmmm\")","v":"julho"},{"$f":"YEAR(SPP[[#This Row],[DATA]])","v":2023}]
["12/07/2023","100","BILHETE UNICO MENSAL - CASCO",7663192,1032423377.84,136855310.28,1169278688.1199999,{"$f":"TEXT(SPP[[#This Row],[DATA]],\"mmmm\")","v":"julho"},{"$f":"YEAR(SPP[[#This Row],[DATA]])","v":2023}]
["13/07/2023","110","BUM - ANÔNIMO - CASCO",1305039,600054.02,6184680.21,6784734.2300000004,{"$f":"TEXT(SPP[[#This Row],[DATA]],\"mmmm\")","v":"julho"},{"$f":"YEAR(SPP[[#This Row],[DATA]])","v":2023}]
["15/07/2023","59","VT",3025322,30793133.75,14677211.460000001,45470345.210000001,{"$f":"TEXT(SPP[[#This Row],[DATA]],\"mmmm\")","v":"julho"},{"$f":"YEAR(SPP[[#This Row],[DATA]])","v":2023}]
["16/07/2023","75","CARTAO FIDELIDADE",135955,0,7731359.8899999997,7731359.8899999997,{"$f":"TEXT(SPP[[#This Row],[DATA]],\"mmmm\")","v":"julho"},{"$f":"YEAR(SPP[[#This Row],[DATA]])","v":2023}]
["17/07/2023","76","Lazer",475,0,11485.29,11485.29,{"$f":"TEXT(SPP[[#This Row],[DATA]],\"mmmm\")","v":"julho"},{"$f":"YEAR(SPP[[#This Row],[DATA]])","v":2023}]
["18/07/2023","71","MÃE PAULISTANA",198638,284174.16000000003,1031143.21,1315317.3700000001,{"$f":"TEXT(SPP[[#This Row],[DATA]],\"mmmm\")","v":"julho"},{"$f":"YEAR(SPP[[#This Row],[DATA]])","v":2023}]
["18/07/2023","86","Estacionamento",9174,956.21,108786.71,109742.92,{"$f":"TEXT(SPP[[#This Row],[DATA]],\"mmmm\")","v":"julho"},{"$f":"YEAR(SPP[[#This Row],[DATA]])","v":2023}]
["20/07/2023","69","VT 8VG",654,0,5093.88,5093.88,{"$f":"TEXT(SPP[[#This Row],[DATA]],\"mmmm\")","v":"julho"},{"$f":"YEAR(SPP[[#This Row],[DATA]])","v":2023}]
["21/07/2023","51","COMUM 4 VIAGENS",7013,2745.48,25268.14,28013.62,{"$f":"TEXT(SPP[[#This Row],[DATA]],\"mmmm\")","v":"julho"},{"$f":"YEAR(SPP[[#This Row],[DATA]])","v":2023}]
["22/07/2023","52","ESTUDANTE",58286,68264.97,361764.13,430029.10000000003,{"$f":"TEXT(SPP[[#This Row],[DATA]],\"mmmm\")","v":"julho"},{"$f":"YEAR(SPP[[#This Row],[DATA]])","v":2023}]
["23/07/2023","86","Estacionamento",9173,956.21,108756.1,109712.31,{"$f":"TEXT(SPP[[#This Row],[DATA]],\"mmmm\")","v":"julho"},{"$f":"YEAR(SPP[[#This Row],[DATA]])","v":2023}]
["24/07/2023","51","COMUM 4 VIAGENS",7013,2745.48,25268.14,28013.62,{"$f":"TEXT(SPP[[#This Row],[DATA]],\"mmmm\")","v":"julho"},{"$f":"YEAR(SPP[[#This Row],[DATA]])","v":2023}]
["25/07/2023","86","Estacionamento",9177,956.21,108833.23,109789.44,{"$f":"TEXT(SPP[[#This Row],[DATA]],\"mmmm\")","v":"julho"},{"$f":"YEAR(SPP[[#This Row],[DATA]])","v":2023}]
["26/07/2023","75","CARTAO FIDELIDADE",136268,0,7732330.9100000001,7732330.9100000001,{"$f":"TEXT(SPP[[#This Row],[DATA]],\"mmmm\")","v":"julho"},{"$f":"YEAR(SPP[[#This Row],[DATA]])","v":2023}]
["27/07/2023","71","MÃE PAULISTANA",199131,287064.68,1021414.51,1308479.19,{"$f":"TEXT(SPP[[#This Row],[DATA]],\"mmmm\")","v":"julho"},{"$f":"YEAR(SPP[[#This Row],[DATA]])","v":2023}]
["28/07/2023","74","PROFESSOR",34423,1608912.77,0,1608912.77,{"$f":"TEXT(SPP[[#This Row],[DATA]],\"mmmm\")","v":"julho"},{"$f":"YEAR(SPP[[#This Row],[DATA]])","v":2023}]
["29/07/2023","59","VT",3024516,30705949.93,14672103.550000001,45378053.479999997,{"$f":"TEXT(SPP[[#This Row],[DATA]],\"mmmm\")","v":"julho"},{"$f":"YEAR(SPP[[#This Row],[DATA]])","v":2023}]
["30/07/2023","69","VT 8VG",654,0,5093.88,5093.88,{"$f":"TEXT(SPP[[#This Row],[DATA]],\"mmmm\")","v":"julho"},{"$f":"YEAR(SPP[[#This Row],[DATA]])","v":2023}]
["31/07/2023","69","VT 8VG",654,0,5093.88,5093.88,{"$f":"TEXT(SPP[[#This Row],[DATA]],\"mmmm\")","v":"julho"},{"$f":"YEAR(SPP[[#This Row],[DATA]])","v":2023}]
["01/08/2023","59","VT",3024326,30680684.120000001,14670780.189999999,45351464.310000002,{"$f":"TEXT(SPP[[#This Row],[DATA]],\"mmmm\")","v":"agosto"},{"$f":"YEAR(SPP[[#This Row],[DATA]])","v":2023}]
["02/08/2023","110","BUM - ANÔNIMO - CASCO",1304494,599427.30000000005,6181022.5899999999,6780449.8899999997,{"$f":"TEXT(SPP[[#This Row],[DATA]],\"mmmm\")","v":"agosto"},{"$f":"YEAR(SPP[[#This Row],[DATA]])","v":2023}]
["03/08/2023","80","COMUM 8 VIAGENS",39,0,251.17000000000002,251.17000000000002,{"$f":"TEXT(SPP[[#This Row],[DATA]],\"mmmm\")","v":"agosto"},{"$f":"YEAR(SPP[[#This Row],[DATA]])","v":2023}]
["04/08/2023","110","BUM - ANÔNIMO - CASCO",1304423,599044.95000000007,6180530.6799999997,6779575.6299999999,{"$f":"TEXT(SPP[[#This Row],[DATA]],\"mmmm\")","v":"agosto"},{"$f":"YEAR(SPP[[#This Row],[DATA]])","v":2023}]
["05/08/2023","76","Lazer",476,0,11529.29,11529.29,{"$f":"TEXT(SPP[[#This Row],[DATA]],\"mmmm\")","v":"agosto"},{"$f":"YEAR(SPP[[#This Row],[DATA]])","v":2023}]
["06/08/2023","71","MÃE PAULISTANA",199611,291056.68,1034093.58,1325150.26,{"$f":"TEXT(SPP[[#This Row],[DATA]],\"mmmm\")","v":"agosto"},{"$f":"YEAR(SPP[[#This Row],[DATA]])","v":2023}]
["07/08/2023","74","PROFESSOR",34637,1751769.4,0,1751769.4,{"$f":"TEXT(SPP[[#This Row],[DATA]],\"mmmm\")","v":"agosto"},{"$f":"YEAR(SPP[[#This Row],[DATA]])","v":2023}]
["08/08/2023","100","BILHETE UNICO MENSAL - CASCO",7717426,1071009947.3099999,146698461.55000001,1217708408.8599999,{"$f":"TEXT(SPP[[#This Row],[DATA]],\"mmmm\")","v":"agosto"},{"$f":"YEAR(SPP[[#This Row],[DATA]])","v":2023}]
["09/08/2023","71","MÃE PAULISTANA",199905,289492.10000000003,1061290.57,1350782.67,{"$f":"TEXT(SPP[[#This Row],[DATA]],\"mmmm\")","v":"agosto"},{"$f":"YEAR(SPP[[#This Row],[DATA]])","v":2023}]
["11/08/2023","52","ESTUDANTE",58217,68939.58,361664.57,430604.15,{"$f":"TEXT(SPP[[#This Row],[DATA]],\"mmmm\")","v":"agosto"},{"$f":"YEAR(SPP[[#This Row],[DATA]])","v":2023}]
["11/08/2023","100","BILHETE UNICO MENSAL - CASCO",7721239,1055400349.7,138241001.83000001,1193641351.53,{"$f":"TEXT(SPP[[#This Row],[DATA]],\"mmmm\")","v":"agosto"},{"$f":"YEAR(SPP[[#This Row],[DATA]])","v":2023}]
["12/08/2023","74","PROFESSOR",34698,1759198.87,0,1759198.87,{"$f":"TEXT(SPP[[#This Row],[DATA]],\"mmmm\")","v":"agosto"},{"$f":"YEAR(SPP[[#This Row],[DATA]])","v":2023}]
["13/08/2023","86","Estacionamento",9182,956.21,109033.7,109989.91,{"$f":"TEXT(SPP[[#This Row],[DATA]],\"mmmm\")","v":"agosto"},{"$f":"YEAR(SPP[[#This Row],[DATA]])","v":2023}]
["14/08/2023","100","BILHETE UNICO MENSAL - CASCO",7726337,1045314124.92,138483129.43000001,1183797254.3499999,{"$f":"TEXT(SPP[[#This Row],[DATA]],\"mmmm\")","v":"agosto"},{"$f":"YEAR(SPP[[#This Row],[DATA]])","v":2023}]
["15/08/2023","76","Lazer",475,0,11486.49,11486.49,{"$f":"TEXT(SPP[[#This Row],[DATA]],\"mmmm\")","v":"agosto"},{"$f":"YEAR(SPP[[#This Row],[DATA]])","v":2023}]
["16/08/2023","71","MÃE PAULISTANA",200190,288624.49,1043747.14,1332371.6300000001,{"$f":"TEXT(SPP[[#This Row],[DATA]],\"mmmm\")","v":"agosto"},{"$f":"YEAR(SPP[[#This Row],[DATA]])","v":2023}]
["17/08/2023","75","CARTAO FIDELIDADE",136934,0,7859441.3700000001,7859441.3700000001,{"$f":"TEXT(SPP[[#This Row],[DATA]],\"mmmm\")","v":"agosto"},{"$f":"YEAR(SPP[[#This Row],[DATA]])","v":2023}]
["19/08/2023","69","VT 8VG",653,0,5080.6000000000004,5080.6000000000004,{"$f":"TEXT(SPP[[#This Row],[DATA]],\"mmmm\")","v":"agosto"},{"$f":"YEAR(SPP[[#This Row],[DATA]])","v":2023}]
["20/08/2023","51","COMUM 4 VIAGENS",7004,2742.84,25235.11,27977.95,{"$f":"TEXT(SPP[[#This Row],[DATA]],\"mmmm\")","v":"agosto"},{"$f":"YEAR(SPP[[#This Row],[DATA]])","v":2023}]
["21/08/2023","51","COMUM 4 VIAGENS",7004,2742.84,25235.11,27977.95,{"$f":"TEXT(SPP[[#This Row],[DATA]],\"mmmm\")","v":"agosto"},{"$f":"YEAR(SPP[[#This Row],[DATA]])","v":2023}]
["21/08/2023","110","BUM - ANÔNIMO - CASCO",1303979,599044.95000000007,6177519.75,6776564.7000000002,{"$f":"TEXT(SPP[[#This Row],[DATA]],\"mmmm\")","v":"agosto"},{"$f":"YEAR(SPP[[#This Row],[DATA]])","v":2023}]
["23/08/2023","51","COMUM 4 VIAGENS",7003,2742.84,25232.100000000002,27974.940000000002,{"$f":"TEXT(SPP[[#This Row],[DATA]],\"mmmm\")","v":"agosto"},{"$f":"YEAR(SPP[[#This Row],[DATA]])","v":2023}]
["23/08/2023","86","Estacionamento",9185,956.21,109098.85,110055.06,{"$f":"TEXT(SPP[[#This Row],[DATA]],\"mmmm\")","v":"agosto"},{"$f":"YEAR(SPP[[#This Row],[DATA]])","v":2023}]
["24/08/2023","110","BUM - ANÔNIMO - CASCO",1303893,599044.95000000007,6176938.96,6775983.9100000001,{"$f":"TEXT(SPP[[#This Row],[DATA]],\"mmmm\")","v":"agosto"},{"$f":"YEAR(SPP[[#This Row],[DATA]])","v":2023}]
["25/08/2023","80","COMUM 8 VIAGENS",39,0,251.17000000000002,251.17000000000002,{"$f":"TEXT(SPP[[#This Row],[DATA]],\"mmmm\")","v":"agosto"},{"$f":"YEAR(SPP[[#This Row],[DATA]])","v":2023}]
["27/08/2023","74","PROFESSOR",34931,1659912.81,0,1659912.81,{"$f":"TEXT(SPP[[#This Row],[DATA]],\"mmmm\")","v":"agosto"},{"$f":"YEAR(SPP[[#This Row],[DATA]])","v":2023}]
["28/08/2023","59","VT",3022909,30520888.120000001,14661852.91,45182741.030000001,{"$f":"TEXT(SPP[[#This Row],[DATA]],\"mmmm\")","v":"agosto"},{"$f":"YEAR(SPP[[#This Row],[DATA]])","v":2023}]
["29/08/2023","76","Lazer",474,0,11435.99,11435.99,{"$f":"TEXT(SPP[[#This Row],[DATA]],\"mmmm\")","v":"agosto"},{"$f":"YEAR(SPP[[#This Row],[DATA]])","v":2023}]
["30/08/2023","52","ESTUDANTE",58184,69134.070000000007,362107.44,431241.51,{"$f":"TEXT(SPP[[#This Row],[DATA]],\"mmmm\")","v":"agosto"},{"$f":"YEAR(SPP[[#This Row],[DATA]])","v":2023}]
["31/08/2023","59","VT",3022682,30476037.710000001,14660026.529999999,45136064.240000002,{"$f":"TEXT(SPP[[#This Row],[DATA]],\"mmmm\")","v":"agosto"},{"$f":"YEAR(SPP[[#This Row],[DATA]])","v":2023}]
["31/08/2023","110","BUM - ANÔNIMO - CASCO",1303719,599044.95000000007,6176095.3499999996,6775140.2999999998,{"$f":"TEXT(SPP[[#This Row],[DATA]],\"mmmm\")","v":"agosto"},{"$f":"YEAR(SPP[[#This Row],[DATA]])","v":2023}]
["02/09/2023","75","CARTAO FIDELIDADE",137450,0,7870395.5199999996,7870395.5199999996,{"$f":"TEXT(SPP[[#This Row],[DATA]],\"mmmm\")","v":"setembro"},{"$f":"YEAR(SPP[[#This Row],[DATA]])","v":2023}]
["02/09/2023","100","BILHETE UNICO MENSAL - CASCO",7761899,1054311454.5700001,130519672.37,1184831126.9400001,{"$f":"TEXT(SPP[[#This Row],[DATA]],\"mmmm\")","v":"setembro"},{"$f":"YEAR(SPP[[#This Row],[DATA]])","v":2023}]
["04/09/2023","76","Lazer",470,0,11319.98,11319.98,{"$f":"TEXT(SPP[[#This Row],[DATA]],\"mmmm\")","v":"setembro"},{"$f":"YEAR(SPP[[#This Row],[DATA]])","v":2023}]
["05/09/2023","80","COMUM 8 VIAGENS",39,0,251.17000000000002,251.17000000000002,{"$f":"TEXT(SPP[[#This Row],[DATA]],\"mmmm\")","v":"setembro"},{"$f":"YEAR(SPP[[#This Row],[DATA]])","v":2023}]
["06/09/2023","52","ESTUDANTE",58171,69736.25,362056.89,431793.14,{"$f":"TEXT(SPP[[#This Row],[DATA]],\"mmmm\")","v":"setembro"},{"$f":"YEAR(SPP[[#This Row],[DATA]])","v":2023}]
["07/09/2023","69","VT 8VG",653,0,5080.6000000000004,5080.6000000000004,{"$f":"TEXT(SPP[[#This Row],[DATA]],\"mmmm\")","v":"setembro"},{"$f":"YEAR(SPP[[#This Row],[DATA]])","v":2023}]
["08/09/2023","71","MÃE PAULISTANA",201418,290306.68,1049712.7,1340019.3800000001,{"$f":"TEXT(SPP[[#This Row],[DATA]],\"mmmm\")","v":"setembro"},{"$f":"YEAR(SPP[[#This Row],[DATA]])","v":2023}]
["09/09/2023","52","ESTUDANTE",58173,69679.850000000006,361952.84,431632.69,{"$f":"TEXT(SPP[[#This Row],[DATA]],\"mmmm\")","v":"setembro"},{"$f":"YEAR(SPP[[#This Row],[DATA]])","v":2023}]
["10/09/2023","51","COMUM 4 VIAGENS",7000,2742.84,25225.4,27968.240000000002,{"$f":"TEXT(SPP[[#This Row],[DATA]],\"mmmm\")","v":"setembro"},{"$f":"YEAR(SPP[[#This Row],[DATA]])","v":2023}]
["11/09/2023","51","COMUM 4 VIAGENS",7000,2742.84,25225.4,27968.240000000002,{"$f":"TEXT(SPP[[#This Row],[DATA]],\"mmmm\")","v":"setembro"},{"$f":"YEAR(SPP[[#This Row],[DATA]])","v":2023}]
["12/09/2023","86","Estacionamento",9190,956.21,109343.89,110300.1,{"$f":"TEXT(SPP[[#This Row],[DATA]],\"mmmm\")","v":"setembro"},{"$f":"YEAR(SPP[[#This Row],[DATA]])","v":2023}]
["13/09/2023","100","BILHETE UNICO MENSAL - CASCO",7777376,1047971999.47,139925801.53999999,1187897801.01,{"$f":"TEXT(SPP[[#This Row],[DATA]],\"mmmm\")","v":"setembro"},{"$f":"YEAR(SPP[[#This Row],[DATA]])","v":2023}]
["14/09/2023","80","COMUM 8 VIAGENS",39,0,251.17000000000002,251.17000000000002,{"$f":"TEXT(SPP[[#This Row],[DATA]],\"mmmm\")","v":"setembro"},{"$f":"YEAR(SPP[[#This Row],[DATA]])","v":2023}]
["15/09/2023","74","PROFESSOR",35257,1829332.11,0,1829332.11,{"$f":"TEXT(SPP[[#This Row],[DATA]],\"mmmm\")","v":"setembro"},{"$f":"YEAR(SPP[[#This Row],[DATA]])","v":2023}]
["05/10/2023","75","CARTAO FIDELIDADE",137495,0,7818647.2000000002,7818647.2000000002,{"$f":"TEXT(SPP[[#This Row],[DATA]],\"mmmm\")","v":"outubro"},{"$f":"YEAR(SPP[[#This Row],[DATA]])","v":2023}]
["09/10/2023","69","VT 8VG",652,0,5071.92,5071.92,{"$f":"TEXT(SPP[[#This Row],[DATA]],\"mmmm\")","v":"outubro"},{"$f":"YEAR(SPP[[#This Row],[DATA]])","v":2023}]
["10/10/2023","69","VT 8VG",652,0,5071.92,5071.92,{"$f":"TEXT(SPP[[#This Row],[DATA]],\"mmmm\")","v":"outubro"},{"$f":"YEAR(SPP[[#This Row],[DATA]])","v":2023}]
["12/10/2023","69","VT 8VG",652,0,5071.92,5071.92,{"$f":"TEXT(SPP[[#This Row],[DATA]],\"mmmm\")","v":"outubro"},{"$f":"YEAR(SPP[[#This Row],[DATA]])","v":2023}]
["14/10/2023","51","COMUM 4 VIAGENS",6994,2742.84,25213.4,27956.240000000002,{"$f":"TEXT(SPP[[#This Row],[DATA]],\"mmmm\")","v":"outubro"},{"$f":"YEAR(SPP[[#This Row],[DATA]])","v":2023}]
["15/10/2023","52","ESTUDANTE",58093,69024.95,361800.47000000003,430825.42,{"$f":"TEXT(SPP[[#This Row],[DATA]],\"mmmm\")","v":"outubro"},{"$f":"YEAR(SPP[[#This Row],[DATA]])","v":2023}]
["15/10/2023","69","VT 8VG",652,0,5071.92,5071.92,{"$f":"TEXT(SPP[[#This Row],[DATA]],\"mmmm\")","v":"outubro"},{"$f":"YEAR(SPP[[#This Row],[DATA]])","v":2023}]
["16/10/2023","80","COMUM 8 VIAGENS",39,0,251.17000000000002,251.17000000000002,{"$f":"TEXT(SPP[[#This Row],[DATA]],\"mmmm\")","v":"outubro"},{"$f":"YEAR(SPP[[#This Row],[DATA]])","v":2023}]
["17/10/2023","86","Estacionamento",9198,956.21,109367.81,110324.02,{"$f":"TEXT(SPP[[#This Row],[DATA]],\"mmmm\")","v":"outubro"},{"$f":"YEAR(SPP[[#This Row],[DATA]])","v":2023}]
["18/10/2023","75","CARTAO FIDELIDADE",137773,0,7870207.2800000003,7870207.2800000003,{"$f":"TEXT(SPP[[#This Row],[DATA]],\"mmmm\")","v":"outubro"},{"$f":"YEAR(SPP[[#This Row],[DATA]])","v":2023}]
["19/10/2023","110","BUM - ANÔNIMO - CASCO",1302450,598038.46,6168974.5899999999,6767013.0499999998,{"$f":"TEXT(SPP[[#This Row],[DATA]],\"mmmm\")","v":"outubro"},{"$f":"YEAR(SPP[[#This Row],[DATA]])","v":2023}]
["20/10/2023","74","PROFESSOR",35630,1840924.75,0,1840924.75,{"$f":"TEXT(SPP[[#This Row],[DATA]],\"mmmm\")","v":"outubro"},{"$f":"YEAR(SPP[[#This Row],[DATA]])","v":2023}]
["22/10/2023","59","VT",3020277,30185671.920000002,14645127.970000001,44830799.890000001,{"$f":"TEXT(SPP[[#This Row],[DATA]],\"mmmm\")","v":"outubro"},{"$f":"YEAR(SPP[[#This Row],[DATA]])","v":2023}]
["23/10/2023","69","VT 8VG",652,0,5071.92,5071.92,{"$f":"TEXT(SPP[[#This Row],[DATA]],\"mmmm\")","v":"outubro"},{"$f":"YEAR(SPP[[#This Row],[DATA]])","v":2023}]
["23/10/2023","100","BILHETE UNICO MENSAL - CASCO",7828908,1012144130.26,133629895.52,1145774025.78,{"$f":"TEXT(SPP[[#This Row],[DATA]],\"mmmm\")","v":"outubro"},{"$f":"YEAR(SPP[[#This Row],[DATA]])","v":2023}]
["24/10/2023","100","BILHETE UNICO MENSAL - CASCO",7830406,1008765941.59,132732504.39,1141498445.98,{"$f":"TEXT(SPP[[#This Row],[DATA]],\"mmmm\")","v":"outubro"},{"$f":"YEAR(SPP[[#This Row],[DATA]])","v":2023}]
["25/10/2023","110","BUM - ANÔNIMO - CASCO",1302307,598038.46,6167949.9100000001,6765988.3700000001,{"$f":"TEXT(SPP[[#This Row],[DATA]],\"mmmm\")","v":"outubro"},{"$f":"YEAR(SPP[[#This Row],[DATA]])","v":2023}]
["26/10/2023","80","COMUM 8 VIAGENS",39,0,251.17000000000002,251.17000000000002,{"$f":"TEXT(SPP[[#This Row],[DATA]],\"mmmm\")","v":"outubro"},{"$f":"YEAR(SPP[[#This Row],[DATA]])","v":2023}]
["27/10/2023","74","PROFESSOR",35686,1788741.75,0,1788741.75,{"$f":"TEXT(SPP[[#This Row],[DATA]],\"mmmm\")","v":"outubro"},{"$f":"YEAR(SPP[[#This Row],[DATA]])","v":2023}]
["28/10/2023","76","Lazer",468,0,11227.08,11227.08,{"$f":"TEXT(SPP[[#This Row],[DATA]],\"mmmm\")","v":"outubro"},{"$f":"YEAR(SPP[[#This Row],[DATA]])","v":2023}]
["30/10/2023","71","MÃE PAULISTANA",203835,290223.28999999998,1043011.85,1333235.1399999999,{"$f":"TEXT(SPP[[#This Row],[DATA]],\"mmmm\")","v":"outubro"},{"$f":"YEAR(SPP[[#This Row],[DATA]])","v":2023}]
["31/10/2023","74","PROFESSOR",35694,1788772.96,0,1788772.96,{"$f":"TEXT(SPP[[#This Row],[DATA]],\"mmmm\")","v":"outubro"},{"$f":"YEAR(SPP[[#This Row],[DATA]])","v":2023}]
["01/11/2023","74","PROFESSOR",35736,1830472.46,0,1830472.46,{"$f":"TEXT(SPP[[#This Row],[DATA]],\"mmmm\")","v":"novembro"},{"$f":"YEAR(SPP[[#This Row],[DATA]])","v":2023}]
["02/11/2023","71","MÃE PAULISTANA",204097,290869.3,1073997.83,1364867.1300000001,{"$f":"TEXT(SPP[[#This Row],[DATA]],\"mmmm\")","v":"novembro"},{"$f":"YEAR(SPP[[#This Row],[DATA]])","v":2023}]
["03/11/2023","52","ESTUDANTE",58051,71075.77,362444.87,433520.64000000001,{"$f":"TEXT(SPP[[#This Row],[DATA]],\"mmmm\")","v":"novembro"},{"$f":"YEAR(SPP[[#This Row],[DATA]])","v":2023}]
["03/11/2023","100","BILHETE UNICO MENSAL - CASCO",7845344,1055754857.58,144278567.12,1200033424.7,{"$f":"TEXT(SPP[[#This Row],[DATA]],\"mmmm\")","v":"novembro"},{"$f":"YEAR(SPP[[#This Row],[DATA]])","v":2023}]
["05/11/2023","51","COMUM 4 VIAGENS",6990,2740.6,25195.49,27936.09,{"$f":"TEXT(SPP[[#This Row],[DATA]],\"mmmm\")","v":"novembro"},{"$f":"YEAR(SPP[[#This Row],[DATA]])","v":2023}]
["05/11/2023","86","Estacionamento",9196,956.21,109383.8,110340.01000000001,{"$f":"TEXT(SPP[[#This Row],[DATA]],\"mmmm\")","v":"novembro"},{"$f":"YEAR(SPP[[#This Row],[DATA]])","v":2023}]
["07/11/2023","75","CARTAO FIDELIDADE",138140,0,7876111.21,7876111.21,{"$f":"TEXT(SPP[[#This Row],[DATA]],\"mmmm\")","v":"novembro"},{"$f":"YEAR(SPP[[#This Row],[DATA]])","v":2023}]
["08/11/2023","76","Lazer",468,0,11227.08,11227.08,{"$f":"TEXT(SPP[[#This Row],[DATA]],\"mmmm\")","v":"novembro"},{"$f":"YEAR(SPP[[#This Row],[DATA]])","v":2023}]
["08/11/2023","110","BUM - ANÔNIMO - CASCO",1301997,597879.93000000005,6165871.5899999999,6763751.5199999996,{"$f":"TEXT(SPP[[#This Row],[DATA]],\"mmmm\")","v":"novembro"},{"$f":"YEAR(SPP[[#This Row],[DATA]])","v":2023}]
["10/11/2023","75","CARTAO FIDELIDADE",138271,0,7889469.4699999997,7889469.4699999997,{"$f":"TEXT(SPP[[#This Row],[DATA]],\"mmmm\")","v":"novembro"},{"$f":"YEAR(SPP[[#This Row],[DATA]])","v":2023}]
["11/11/2023","69","VT 8VG",652,0,5071.92,5071.92,{"$f":"TEXT(SPP[[#This Row],[DATA]],\"mmmm\")","v":"novembro"},{"$f":"YEAR(SPP[[#This Row],[DATA]])","v":2023}]
["12/11/2023","51","COMUM 4 VIAGENS",6987,2740.6,25193.75,27934.350000000002,{"$f":"TEXT(SPP[[#This Row],[DATA]],\"mmmm\")","v":"novembro"},{"$f":"YEAR(SPP[[#This Row],[DATA]])","v":2023}]
["13/11/2023","76","Lazer",468,0,11227.08,11227.08,{"$f":"TEXT(SPP[[#This Row],[DATA]],\"mmmm\")","v":"novembro"},{"$f":"YEAR(SPP[[#This Row],[DATA]])","v":2023}]
["13/11/2023","110","BUM - ANÔNIMO - CASCO",1301878,597879.93000000005,6165273.6100000003,6763153.54,{"$f":"TEXT(SPP[[#This Row],[DATA]],\"mmmm\")","v":"novembro"},{"$f":"YEAR(SPP[[#This Row],[DATA]])","v":2023}]
["15/11/2023","80","COMUM 8 VIAGENS",39,0,251.17000000000002,251.17000000000002,{"$f":"TEXT(SPP[[#This Row],[DATA]],\"mmmm\")","v":"novembro"},{"$f":"YEAR(SPP[[#This Row],[DATA]])","v":2023}]
["16/11/2023","86","Estacionamento",9196,956.21,109292.5,110248.71,{"$f":"TEXT(SPP[[#This Row],[DATA]],\"mmmm\")","v":"novembro"},{"$f":"YEAR(SPP[[#This Row],[DATA]])","v":2023}]
["17/11/2023","75","CARTAO FIDELIDADE",138339,0,7831900.3899999997,7831900.3899999997,{"$f":"TEXT(SPP[[#This Row],[DATA]],\"mmmm\")","v":"novembro"},{"$f":"YEAR(SPP[[#This Row],[DATA]])","v":2023}]
["18/11/2023","80","COMUM 8 VIAGENS",39,0,251.17000000000002,251.17000000000002,{"$f":"TEXT(SPP[[#This Row],[DATA]],\"mmmm\")","v":"novembro"},{"$f":"YEAR(SPP[[#This Row],[DATA]])","v":2023}]
["19/11/2023","74","PROFESSOR",35819,1862593.66,0,1862593.66,{"$f":"TEXT(SPP[[#This Row],[DATA]],\"mmmm\")","v":"novembro"},{"$f":"YEAR(SPP[[#This Row],[DATA]])","v":2023}]
["20/11/2023","59","VT",3019076,30088734.32,14638116.210000001,44726850.530000001,{"$f":"TEXT(SPP[[#This Row],[DATA]],\"mmmm\")","v":"novembro"},{"$f":"YEAR(SPP[[#This Row],[DATA]])","v":2023}]
["21/11/2023","52","ESTUDANTE",57993,72867.12,361607.85000000003,434474.97000000003,{"$f":"TEXT(SPP[[#This Row],[DATA]],\"mmmm\")","v":"novembro"},{"$f":"YEAR(SPP[[#This Row],[DATA]])","v":2023}]
["22/11/2023","52","ESTUDANTE",57992,72860.52,361727.27,434587.79000000004,{"$f":"TEXT(SPP[[#This Row],[DATA]],\"mmmm\")","v":"novembro"},{"$f":"YEAR(SPP[[#This Row],[DATA]])","v":2023}]
["23/11/2023","59","VT",3018923,30071253.609999999,14637227.5,44708481.109999999,{"$f":"TEXT(SPP[[#This Row],[DATA]],\"mmmm\")","v":"novembro"},{"$f":"YEAR(SPP[[#This Row],[DATA]])","v":2023}]
["24/11/2023","110","BUM - ANÔNIMO - CASCO",1301659,597879.93000000005,6164110.9000000004,6761990.8300000001,{"$f":"TEXT(SPP[[#This Row],[DATA]],\"mmmm\")","v":"novembro"},{"$f":"YEAR(SPP[[#This Row],[DATA]])","v":2023}]
["25/11/2023","51","COMUM 4 VIAGENS",6986,2740.6,25189.68,27930.28,{"$f":"TEXT(SPP[[#This Row],[DATA]],\"mmmm\")","v":"novembro"},{"$f":"YEAR(SPP[[#This Row],[DATA]])","v":2023}]
["26/11/2023","100","BILHETE UNICO MENSAL - CASCO",7861942,1003408680.38,123748953.89,1127157634.27,{"$f":"TEXT(SPP[[#This Row],[DATA]],\"mmmm\")","v":"novembro"},{"$f":"YEAR(SPP[[#This Row],[DATA]])","v":2023}]
["27/11/2023","76","Lazer",468,0,11227.08,11227.08,{"$f":"TEXT(SPP[[#This Row],[DATA]],\"mmmm\")","v":"novembro"},{"$f":"YEAR(SPP[[#This Row],[DATA]])","v":2023}]
["28/11/2023","71","MÃE PAULISTANA",205019,288484.03999999998,1050944.48,1339428.52,{"$f":"TEXT(SPP[[#This Row],[DATA]],\"mmmm\")","v":"novembro"},{"$f":"YEAR(SPP[[#This Row],[DATA]])","v":2023}]
["29/11/2023","80","COMUM 8 VIAGENS",39,0,251.17000000000002,251.17000000000002,{"$f":"TEXT(SPP[[#This Row],[DATA]],\"mmmm\")","v":"novembro"},{"$f":"YEAR(SPP[[#This Row],[DATA]])","v":2023}]
["30/11/2023","69","VT 8VG",650,0,5046.6000000000004,5046.6000000000004,{"$f":"TEXT(SPP[[#This Row],[DATA]],\"mmmm\")","v":"novembro"},{"$f":"YEAR(SPP[[#This Row],[DATA]])","v":2023}]
["01/12/2023","71","MÃE PAULISTANA",205200,290565.06,1055129.78,1345694.84,{"$f":"TEXT(SPP[[#This Row],[DATA]],\"mmmm\")","v":"dezembro"},{"$f":"YEAR(SPP[[#This Row],[DATA]])","v":2023}]
["03/12/2023","52","ESTUDANTE",57973,72948.87,361686.04,434634.91000000003,{"$f":"TEXT(SPP[[#This Row],[DATA]],\"mmmm\")","v":"dezembro"},{"$f":"YEAR(SPP[[#This Row],[DATA]])","v":2023}]
["03/12/2023","76","Lazer",469,0,11296.53,11296.53,{"$f":"TEXT(SPP[[#This Row],[DATA]],\"mmmm\")","v":"dezembro"},{"$f":"YEAR(SPP[[#This Row],[DATA]])","v":2023}]
["05/12/2023","51","COMUM 4 VIAGENS",6981,2740.6,25169.46,27910.06,{"$f":"TEXT(SPP[[#This Row],[DATA]],\"mmmm\")","v":"dezembro"},{"$f":"YEAR(SPP[[#This Row],[DATA]])","v":2023}]
["05/12/2023","86","Estacionamento",9197,956.21,109374.74,110330.95,{"$f":"TEXT(SPP[[#This Row],[DATA]],\"mmmm\")","v":"dezembro"},{"$f":"YEAR(SPP[[#This Row],[DATA]])","v":2023}]
["06/12/2023","100","BILHETE UNICO MENSAL - CASCO",7874625,1068591432.74,137571219.37,1206162652.1099999,{"$f":"TEXT(SPP[[#This Row],[DATA]],\"mmmm\")","v":"dezembro"},{"$f":"YEAR(SPP[[#This Row],[DATA]])","v":2023}]
["08/12/2023","69","VT 8VG",650,0,5046.6000000000004,5046.6000000000004,{"$f":"TEXT(SPP[[#This Row],[DATA]],\"mmmm\")","v":"dezembro"},{"$f":"YEAR(SPP[[#This Row],[DATA]])","v":2023}]
["08/12/2023","74","PROFESSOR",35978,1887487.84,0,1887487.84,{"$f":"TEXT(SPP[[#This Row],[DATA]],\"mmmm\")","v":"dezembro"},{"$f":"YEAR(SPP[[#This Row],[DATA]])","v":2023}]
["09/12/2023","75","CARTAO FIDELIDADE",138926,0,7927780.9500000002,7927780.9500000002,{"$f":"TEXT(SPP[[#This Row],[DATA]],\"mmmm\")","v":"dezembro"},{"$f":"YEAR(SPP[[#This Row],[DATA]])","v":2023}]
["11/12/2023","69","VT 8VG",650,0,5046.6000000000004,5046.6000000000004,{"$f":"TEXT(SPP[[#This Row],[DATA]],\"mmmm\")","v":"dezembro"},{"$f":"YEAR(SPP[[#This Row],[DATA]])","v":2023}]
["12/12/2023","59","VT",3018035,29982119.34,14632315.810000001,44614435.149999999,{"$f":"TEXT(SPP[[#This Row],[DATA]],\"mmmm\")","v":"dezembro"},{"$f":"YEAR(SPP[[#This Row],[DATA]])","v":2023}]
["13/12/2023","59","VT",3017982,29979241.48,14632095.470000001,44611336.950000003,{"$f":"TEXT(SPP[[#This Row],[DATA]],\"mmmm\")","v":"dezembro"},{"$f":"YEAR(SPP[[#This Row],[DATA]])","v":2023}]
["13/12/2023","110","BUM - ANÔNIMO - CASCO",1301205,597352.80000000005,6161637.1500000004,6758989.9500000002,{"$f":"TEXT(SPP[[#This Row],[DATA]],\"mmmm\")","v":"dezembro"},{"$f":"YEAR(SPP[[#This Row],[DATA]])","v":2023}]
["15/12/2023","69","VT 8VG",650,0,5046.6000000000004,5046.6000000000004,{"$f":"TEXT(SPP[[#This Row],[DATA]],\"mmmm\")","v":"dezembro"},{"$f":"YEAR(SPP[[#This Row],[DATA]])","v":2023}]
["15/12/2023","100","BILHETE UNICO MENSAL - CASCO",7885538,1030618005.66,132296369.93000001,1162914375.5899999,{"$f":"TEXT(SPP[[#This Row],[DATA]],\"mmmm\")","v":"dezembro"},{"$f":"YEAR(SPP[[#This Row],[DATA]])","v":2023}]
["16/12/2023","76","Lazer",467,0,11208.93,11208.93,{"$f":"TEXT(SPP[[#This Row],[DATA]],\"mmmm\")","v":"dezembro"},{"$f":"YEAR(SPP[[#This Row],[DATA]])","v":2023}]
["17/12/2023","80","COMUM 8 VIAGENS",39,0,251.17000000000002,251.17000000000002,{"$f":"TEXT(SPP[[#This Row],[DATA]],\"mmmm\")","v":"dezembro"},{"$f":"YEAR(SPP[[#This Row],[DATA]])","v":2023}]
["19/12/2023","59","VT",3017720,29961772.879999999,14630407.789999999,44592180.670000002,{"$f":"TEXT(SPP[[#This Row],[DATA]],\"mmmm\")","v":"dezembro"},{"$f":"YEAR(SPP[[#This Row],[DATA]])","v":2023}]
["20/12/2023","69","VT 8VG",650,0,5046.6000000000004,5046.6000000000004,{"$f":"TEXT(SPP[[#This Row],[DATA]],\"mmmm\")","v":"dezembro"},{"$f":"YEAR(SPP[[#This Row],[DATA]])","v":2023}]
["21/12/2023","71","MÃE PAULISTANA",206239,291814.86,1057265.8899999999,1349080.75,{"$f":"TEXT(SPP[[#This Row],[DATA]],\"mmmm\")","v":"dezembro"},{"$f":"YEAR(SPP[[#This Row],[DATA]])","v":2023}]
["22/12/2023","52","ESTUDANTE",57905,73589.11,361386.58,434975.69,{"$f":"TEXT(SPP[[#This Row],[DATA]],\"mmmm\")","v":"dezembro"},{"$f":"YEAR(SPP[[#This Row],[DATA]])","v":2023}]
["22/12/2023","86","Estacionamento",9199,956.21,109417.85,110374.06,{"$f":"TEXT(SPP[[#This Row],[DATA]],\"mmmm\")","v":"dezembro"},{"$f":"YEAR(SPP[[#This Row],[DATA]])","v":2023}]
["24/12/2023","51","COMUM 4 VIAGENS",6977,2740.6,25114.86,27855.46,{"$f":"TEXT(SPP[[#This Row],[DATA]],\"mmmm\")","v":"dezembro"},{"$f":"YEAR(SPP[[#This Row],[DATA]])","v":2023}]
["24/12/2023","86","Estacionamento",9199,956.21,109417.85,110374.06,{"$f":"TEXT(SPP[[#This Row],[DATA]],\"mmmm\")","v":"dezembro"},{"$f":"YEAR(SPP[[#This Row],[DATA]])","v":2023}]
["25/12/2023","100","BILHETE UNICO MENSAL - CASCO",7889958,1003843288.5700001,122414431.41,1126257719.98,{"$f":"TEXT(SPP[[#This Row],[DATA]],\"mmmm\")","v":"dezembro"},{"$f":"YEAR(SPP[[#This Row],[DATA]])","v":2023}]
["26/12/2023","80","COMUM 8 VIAGENS",39,0,251.17000000000002,251.17000000000002,{"$f":"TEXT(SPP[[#This Row],[DATA]],\"mmmm\")","v":"dezembro"},{"$f":"YEAR(SPP[[#This Row],[DATA]])","v":2023}]
["27/12/2023","86","Estacionamento",9199,956.21,109408.55,110364.76000000001,{"$f":"TEXT(SPP[[#This Row],[DATA]],\"mmmm\")","v":"dezembro"},{"$f":"YEAR(SPP[[#This Row],[DATA]])","v":2023}]
["29/12/2023","75","CARTAO FIDELIDADE",139423,0,8706735.4000000004,8706735.4000000004,{"$f":"TEXT(SPP[[#This Row],[DATA]],\"mmmm\")","v":"dezembro"},{"$f":"YEAR(SPP[[#This Row],[DATA]])","v":2023}]
["30/12/2023","69","VT 8VG",650,0,5046.6000000000004,5046.6000000000004,{"$f":"TEXT(SPP[[#This Row],[DATA]],\"mmmm\")","v":"dezembro"},{"$f":"YEAR(SPP[[#This Row],[DATA]])","v":2023}]
["31/12/2023","71","MÃE PAULISTANA",206505,296117.46000000002,1041478.11,1337595.57,{"$f":"TEXT(SPP[[#This Row],[DATA]],\"mmmm\")","v":"dezembro"},{"$f":"YEAR(SPP[[#This Row],[DATA]])","v":2023}]
["01/01/2024","59","VT",3017251,29921820.829999998,14627352.02,44549172.850000001,{"$f":"TEXT(SPP[[#This Row],[DATA]],\"mmmm\")","v":"janeiro"},{"$f":"YEAR(SPP[[#This Row],[DATA]])","v":2024}]
["01/01/2024","110","BUM - ANÔNIMO - CASCO",1300840,597352.80000000005,6159625.46,6756978.2599999998,{"$f":"TEXT(SPP[[#This Row],[DATA]],\"mmmm\")","v":"janeiro"},{"$f":"YEAR(SPP[[#This Row],[DATA]])","v":2024}]
["03/01/2024","51","COMUM 4 VIAGENS",6975,2738.53,25108.48,27847.010000000002,{"$f":"TEXT(SPP[[#This Row],[DATA]],\"mmmm\")","v":"janeiro"},{"$f":"YEAR(SPP[[#This Row],[DATA]])","v":2024}]
["04/01/2024","69","VT 8VG",648,0,5042.93,5042.93,{"$f":"TEXT(SPP[[#This Row],[DATA]],\"mmmm\")","v":"janeiro"},{"$f":"YEAR(SPP[[#This Row],[DATA]])","v":2024}]
["04/01/2024","110","BUM - ANÔNIMO - CASCO",1300732,597352.80000000005,6158984.75,6756337.5499999998,{"$f":"TEXT(SPP[[#This Row],[DATA]],\"mmmm\")","v":"janeiro"},{"$f":"YEAR(SPP[[#This Row],[DATA]])","v":2024}]
["06/01/2024","80","COMUM 8 VIAGENS",39,0,251.17000000000002,251.17000000000002,{"$f":"TEXT(SPP[[#This Row],[DATA]],\"mmmm\")","v":"janeiro"},{"$f":"YEAR(SPP[[#This Row],[DATA]])","v":2024}]
["07/01/2024","74","PROFESSOR",35790,1748038.73,0,1748038.73,{"$f":"TEXT(SPP[[#This Row],[DATA]],\"mmmm\")","v":"janeiro"},{"$f":"YEAR(SPP[[#This Row],[DATA]])","v":2024}]
["08/01/2024","110","BUM - ANÔNIMO - CASCO",1300618,597328.07999999996,6158258.25,6755586.3300000001,{"$f":"TEXT(SPP[[#This Row],[DATA]],\"mmmm\")","v":"janeiro"},{"$f":"YEAR(SPP[[#This Row],[DATA]])","v":2024}]
["09/01/2024","71","MÃE PAULISTANA",206858,301751.02,1072074.28,1373825.3,{"$f":"TEXT(SPP[[#This Row],[DATA]],\"mmmm\")","v":"janeiro"},{"$f":"YEAR(SPP[[#This Row],[DATA]])","v":2024}]
["10/01/2024","74","PROFESSOR",35731,1733781.83,0,1733781.83,{"$f":"TEXT(SPP[[#This Row],[DATA]],\"mmmm\")","v":"janeiro"},{"$f":"YEAR(SPP[[#This Row],[DATA]])","v":2024}]
["11/01/2024","59","VT",3016600,29882347.16,14623205.08,44505552.240000002,{"$f":"TEXT(SPP[[#This Row],[DATA]],\"mmmm\")","v":"janeiro"},{"$f":"YEAR(SPP[[#This Row],[DATA]])","v":2024}]
["12/01/2024","100","BILHETE UNICO MENSAL - CASCO",7913474,1068492791.25,148061706.22,1216554497.47,{"$f":"TEXT(SPP[[#This Row],[DATA]],\"mmmm\")","v":"janeiro"},{"$f":"YEAR(SPP[[#This Row],[DATA]])","v":2024}]
["13/01/2024","52","ESTUDANTE",57834,75205.63,361177.41000000003,436383.04000000004,{"$f":"TEXT(SPP[[#This Row],[DATA]],\"mmmm\")","v":"janeiro"},{"$f":"YEAR(SPP[[#This Row],[DATA]])","v":2024}]
["14/01/2024","100","BILHETE UNICO MENSAL - CASCO",7913800,1062114610.54,144278291.38,1206392901.9200001,{"$f":"TEXT(SPP[[#This Row],[DATA]],\"mmmm\")","v":"janeiro"},{"$f":"YEAR(SPP[[#This Row],[DATA]])","v":2024}]
["15/01/2024","76","Lazer",465,0,11133.73,11133.73,{"$f":"TEXT(SPP[[#This Row],[DATA]],\"mmmm\")","v":"janeiro"},{"$f":"YEAR(SPP[[#This Row],[DATA]])","v":2024}]
["16/01/2024","74","PROFESSOR",35658,1701635.46,0,1701635.46,{"$f":"TEXT(SPP[[#This Row],[DATA]],\"mmmm\")","v":"janeiro"},{"$f":"YEAR(SPP[[#This Row],[DATA]])","v":2024}]
["17/01/2024","75","CARTAO FIDELIDADE",141179,0,9020161.1500000004,9020161.1500000004,{"$f":"TEXT(SPP[[#This Row],[DATA]],\"mmmm\")","v":"janeiro"},{"$f":"YEAR(SPP[[#This Row],[DATA]])","v":2024}]
["18/01/2024","76","Lazer",465,0,11133.73,11133.73,{"$f":"TEXT(SPP[[#This Row],[DATA]],\"mmmm\")","v":"janeiro"},{"$f":"YEAR(SPP[[#This Row],[DATA]])","v":2024}]
["19/01/2024","71","MÃE PAULISTANA",207067,301796.78999999998,1057631.3600000001,1359428.15,{"$f":"TEXT(SPP[[#This Row],[DATA]],\"mmmm\")","v":"janeiro"},{"$f":"YEAR(SPP[[#This Row],[DATA]])","v":2024}]
["20/01/2024","71","MÃE PAULISTANA",207047,301719.76,1054949.21,1356668.97,{"$f":"TEXT(SPP[[#This Row],[DATA]],\"mmmm\")","v":"janeiro"},{"$f":"YEAR(SPP[[#This Row],[DATA]])","v":2024}]
["21/01/2024","69","VT 8VG",644,0,5026.93,5026.93,{"$f":"TEXT(SPP[[#This Row],[DATA]],\"mmmm\")","v":"janeiro"},{"$f":"YEAR(SPP[[#This Row],[DATA]])","v":2024}]
["23/01/2024","51","COMUM 4 VIAGENS",6972,2738.53,25101.25,27839.78,{"$f":"TEXT(SPP[[#This Row],[DATA]],\"mmmm\")","v":"janeiro"},{"$f":"YEAR(SPP[[#This Row],[DATA]])","v":2024}]
["23/01/2024","86","Estacionamento",9205,956.21,109515.63,110471.84,{"$f":"TEXT(SPP[[#This Row],[DATA]],\"mmmm\")","v":"janeiro"},{"$f":"YEAR(SPP[[#This Row],[DATA]])","v":2024}]
["25/01/2024","51","COMUM 4 VIAGENS",6971,2738.53,25097.75,27836.28,{"$f":"TEXT(SPP[[#This Row],[DATA]],\"mmmm\")","v":"janeiro"},{"$f":"YEAR(SPP[[#This Row],[DATA]])","v":2024}]
["25/01/2024","80","COMUM 8 VIAGENS",39,0,251.17000000000002,251.17000000000002,{"$f":"TEXT(SPP[[#This Row],[DATA]],\"mmmm\")","v":"janeiro"},{"$f":"YEAR(SPP[[#This Row],[DATA]])","v":2024}]
["26/01/2024","86","Estacionamento",9206,956.21,109520.63,110476.84,{"$f":"TEXT(SPP[[#This Row],[DATA]],\"mmmm\")","v":"janeiro"},{"$f":"YEAR(SPP[[#This Row],[DATA]])","v":2024}]
["27/01/2024","75","CARTAO FIDELIDADE",141060,0,8770707.2100000009,8770707.2100000009,{"$f":"TEXT(SPP[[#This Row],[DATA]],\"mmmm\")","v":"janeiro"},{"$f":"YEAR(SPP[[#This Row],[DATA]])","v":2024}]
["28/01/2024","110","BUM - ANÔNIMO - CASCO",1300069,597088.35,6155265.8399999999,6752354.1900000004,{"$f":"TEXT(SPP[[#This Row],[DATA]],\"mmmm\")","v":"janeiro"},{"$f":"YEAR(SPP[[#This Row],[DATA]])","v":2024}]
["29/01/2024","74","PROFESSOR",35428,1632372.71,0,1632372.71,{"$f":"TEXT(SPP[[#This Row],[DATA]],\"mmmm\")","v":"janeiro"},{"$f":"YEAR(SPP[[#This Row],[DATA]])","v":2024}]
["31/01/2024","59","VT",3015573,29830269.739999998,14617235.939999999,44447505.68,{"$f":"TEXT(SPP[[#This Row],[DATA]],\"mmmm\")","v":"janeiro"},{"$f":"YEAR(SPP[[#This Row],[DATA]])","v":2024}]
["01/02/2024","69","VT 8VG",644,0,5026.93,5026.93,{"$f":"TEXT(SPP[[#This Row],[DATA]],\"mmmm\")","v":"fevereiro"},{"$f":"YEAR(SPP[[#This Row],[DATA]])","v":2024}]
["01/02/2024","75","CARTAO FIDELIDADE",141399,0,8816204.1699999999,8816204.1699999999,{"$f":"TEXT(SPP[[#This Row],[DATA]],\"mmmm\")","v":"fevereiro"},{"$f":"YEAR(SPP[[#This Row],[DATA]])","v":2024}]
["02/02/2024","100","BILHETE UNICO MENSAL - CASCO",7938477,1090400491.5599999,143253435.28,1233653926.8399999,{"$f":"TEXT(SPP[[#This Row],[DATA]],\"mmmm\")","v":"fevereiro"},{"$f":"YEAR(SPP[[#This Row],[DATA]])","v":2024}]
["03/02/2024","110","BUM - ANÔNIMO - CASCO",1299839,597088.35,6153810.9900000002,6750899.3399999999,{"$f":"TEXT(SPP[[#This Row],[DATA]],\"mmmm\")","v":"fevereiro"},{"$f":"YEAR(SPP[[#This Row],[DATA]])","v":2024}]
["04/02/2024","80","COMUM 8 VIAGENS",39,0,251.17000000000002,251.17000000000002,{"$f":"TEXT(SPP[[#This Row],[DATA]],\"mmmm\")","v":"fevereiro"},{"$f":"YEAR(SPP[[#This Row],[DATA]])","v":2024}]
["06/02/2024","75","CARTAO FIDELIDADE",141696,0,8878356.4600000009,8878356.4600000009,{"$f":"TEXT(SPP[[#This Row],[DATA]],\"mmmm\")","v":"fevereiro"},{"$f":"YEAR(SPP[[#This Row],[DATA]])","v":2024}]
["06/02/2024","76","Lazer",465,0,11139.73,11139.73,{"$f":"TEXT(SPP[[#This Row],[DATA]],\"mmmm\")","v":"fevereiro"},{"$f":"YEAR(SPP[[#This Row],[DATA]])","v":2024}]
["08/02/2024","71","MÃE PAULISTANA",207634,315694.98,1075495.5,1391190.48,{"$f":"TEXT(SPP[[#This Row],[DATA]],\"mmmm\")","v":"fevereiro"},{"$f":"YEAR(SPP[[#This Row],[DATA]])","v":2024}]
["09/02/2024","74","PROFESSOR",35097,1644807.56,0,1644807.56,{"$f":"TEXT(SPP[[#This Row],[DATA]],\"mmmm\")","v":"fevereiro"},{"$f":"YEAR(SPP[[#This Row],[DATA]])","v":2024}]
["10/02/2024","52","ESTUDANTE",57652,75798.64,359829.76000000001,435628.4,{"$f":"TEXT(SPP[[#This Row],[DATA]],\"mmmm\")","v":"fevereiro"},{"$f":"YEAR(SPP[[#This Row],[DATA]])","v":2024}]
["11/02/2024","51","COMUM 4 VIAGENS",6966,2738.53,25066.240000000002,27804.77,{"$f":"TEXT(SPP[[#This Row],[DATA]],\"mmmm\")","v":"fevereiro"},{"$f":"YEAR(SPP[[#This Row],[DATA]])","v":2024}]
["12/02/2024","52","ESTUDANTE",57641,75759.040000000008,359870.37,435629.41000000003,{"$f":"TEXT(SPP[[#This Row],[DATA]],\"mmmm\")","v":"fevereiro"},{"$f":"YEAR(SPP[[#This Row],[DATA]])","v":2024}]
["12/02/2024","100","BILHETE UNICO MENSAL - CASCO",7955407,1087504232.29,148178773.27000001,1235683005.5599999,{"$f":"TEXT(SPP[[#This Row],[DATA]],\"mmmm\")","v":"fevereiro"},{"$f":"YEAR(SPP[[#This Row],[DATA]])","v":2024}]
["14/02/2024","51","COMUM 4 VIAGENS",6966,2738.53,25066.240000000002,27804.77,{"$f":"TEXT(SPP[[#This Row],[DATA]],\"mmmm\")","v":"fevereiro"},{"$f":"YEAR(SPP[[#This Row],[DATA]])","v":2024}]
["14/02/2024","86","Estacionamento",9208,956.21,109576.79000000001,110533,{"$f":"TEXT(SPP[[#This Row],[DATA]],\"mmmm\")","v":"fevereiro"},{"$f":"YEAR(SPP[[#This Row],[DATA]])","v":2024}]
["16/02/2024","75","CARTAO FIDELIDADE",141893,0,8802996.6699999999,8802996.6699999999,{"$f":"TEXT(SPP[[#This Row],[DATA]],\"mmmm\")","v":"fevereiro"},{"$f":"YEAR(SPP[[#This Row],[DATA]])","v":2024}]
["17/02/2024","76","Lazer",465,0,11139.73,11139.73,{"$f":"TEXT(SPP[[#This Row],[DATA]],\"mmmm\")","v":"fevereiro"},{"$f":"YEAR(SPP[[#This Row],[DATA]])","v":2024}]
["18/02/2024","80","COMUM 8 VIAGENS",39,0,251.17000000000002,251.17000000000002,{"$f":"TEXT(SPP[[#This Row],[DATA]],\"mmmm\")","v":"fevereiro"},{"$f":"YEAR(SPP[[#This Row],[DATA]])","v":2024}]
["19/02/2024","59","VT",3014591,29771806.739999998,14611725.970000001,44383532.710000001,{"$f":"TEXT(SPP[[#This Row],[DATA]],\"mmmm\")","v":"fevereiro"},{"$f":"YEAR(SPP[[#This Row],[DATA]])","v":2024}]
["20/02/2024","69","VT 8VG",643,0,5020.4800000000005,5020.4800000000005,{"$f":"TEXT(SPP[[#This Row],[DATA]],\"mmmm\")","v":"fevereiro"},{"$f":"YEAR(SPP[[#This Row],[DATA]])","v":2024}]
["21/02/2024","51","COMUM 4 VIAGENS",6965,2738.53,25064.99,27803.52,{"$f":"TEXT(SPP[[#This Row],[DATA]],\"mmmm\")","v":"fevereiro"},{"$f":"YEAR(SPP[[#This Row],[DATA]])","v":2024}]
["22/02/2024","69","VT 8VG",643,0,5020.4800000000005,5020.4800000000005,{"$f":"TEXT(SPP[[#This Row],[DATA]],\"mmmm\")","v":"fevereiro"},{"$f":"YEAR(SPP[[#This Row],[DATA]])","v":2024}]
["22/02/2024","110","BUM - ANÔNIMO - CASCO",1299276,596904.71,6150845.4800000004,6747750.1900000004,{"$f":"TEXT(SPP[[#This Row],[DATA]],\"mmmm\")","v":"fevereiro"},{"$f":"YEAR(SPP[[#This Row],[DATA]])","v":2024}]
["24/02/2024","80","COMUM 8 VIAGENS",39,0,251.17000000000002,251.17000000000002,{"$f":"TEXT(SPP[[#This Row],[DATA]],\"mmmm\")","v":"fevereiro"},{"$f":"YEAR(SPP[[#This Row],[DATA]])","v":2024}]
["25/02/2024","86","Estacionamento",9210,956.21,109672.53,110628.74,{"$f":"TEXT(SPP[[#This Row],[DATA]],\"mmmm\")","v":"fevereiro"},{"$f":"YEAR(SPP[[#This Row],[DATA]])","v":2024}]
["26/02/2024","59","VT",3014218,29748924.280000001,14609396.720000001,44358321,{"$f":"TEXT(SPP[[#This Row],[DATA]],\"mmmm\")","v":"fevereiro"},{"$f":"YEAR(SPP[[#This Row],[DATA]])","v":2024}]
["27/02/2024","71","MÃE PAULISTANA",208111,315949.27,1064241.69,1380190.96,{"$f":"TEXT(SPP[[#This Row],[DATA]],\"mmmm\")","v":"fevereiro"},{"$f":"YEAR(SPP[[#This Row],[DATA]])","v":2024}]
["28/02/2024","74","PROFESSOR",35172,1661265.85,0,1661265.85,{"$f":"TEXT(SPP[[#This Row],[DATA]],\"mmmm\")","v":"fevereiro"},{"$f":"YEAR(SPP[[#This Row],[DATA]])","v":2024}]
["29/02/2024","59","VT",3014033,29739142.609999999,14608140.779999999,44347283.390000001,{"$f":"TEXT(SPP[[#This Row],[DATA]],\"mmmm\")","v":"fevereiro"},{"$f":"YEAR(SPP[[#This Row],[DATA]])","v":2024}]
["01/03/2024","100","BILHETE UNICO MENSAL - CASCO",7995896,1092206459.04,140150232.72,1232356691.76,{"$f":"TEXT(SPP[[#This Row],[DATA]],\"mmmm\")","v":"março"},{"$f":"YEAR(SPP[[#This Row],[DATA]])","v":2024}]
["02/03/2024","52","ESTUDANTE",57527,75905.22,359242.35000000003,435147.57,{"$f":"TEXT(SPP[[#This Row],[DATA]],\"mmmm\")","v":"março"},{"$f":"YEAR(SPP[[#This Row],[DATA]])","v":2024}]
["03/03/2024","100","BILHETE UNICO MENSAL - CASCO",7995524,1105057525.5799999,140024807.83000001,1245082333.4100001,{"$f":"TEXT(SPP[[#This Row],[DATA]],\"mmmm\")","v":"março"},{"$f":"YEAR(SPP[[#This Row],[DATA]])","v":2024}]
["04/03/2024","110","BUM - ANÔNIMO - CASCO",1298941,596904.71,6148913.1799999997,6745817.8899999997,{"$f":"TEXT(SPP[[#This Row],[DATA]],\"mmmm\")","v":"março"},{"$f":"YEAR(SPP[[#This Row],[DATA]])","v":2024}]
["05/03/2024","86","Estacionamento",9215,956.21,109760.48,110716.69,{"$f":"TEXT(SPP[[#This Row],[DATA]],\"mmmm\")","v":"março"},{"$f":"YEAR(SPP[[#This Row],[DATA]])","v":2024}]
["06/03/2024","100","BILHETE UNICO MENSAL - CASCO",8011265,1120124311.8399999,152109455.75,1272233767.5899999,{"$f":"TEXT(SPP[[#This Row],[DATA]],\"mmmm\")","v":"março"},{"$f":"YEAR(SPP[[#This Row],[DATA]])","v":2024}]
["07/03/2024","76","Lazer",465,0,11139.73,11139.73,{"$f":"TEXT(SPP[[#This Row],[DATA]],\"mmmm\")","v":"março"},{"$f":"YEAR(SPP[[#This Row],[DATA]])","v":2024}]
["08/03/2024","71","MÃE PAULISTANA",208324,321025.25,1078131.3,1399156.55,{"$f":"TEXT(SPP[[#This Row],[DATA]],\"mmmm\")","v":"março"},{"$f":"YEAR(SPP[[#This Row],[DATA]])","v":2024}]
["09/03/2024","71","MÃE PAULISTANA",208342,318354.25,1071334.4099999999,1389688.66,{"$f":"TEXT(SPP[[#This Row],[DATA]],\"mmmm\")","v":"março"},{"$f":"YEAR(SPP[[#This Row],[DATA]])","v":2024}]
["10/03/2024","69","VT 8VG",643,0,5020.4800000000005,5020.4800000000005,{"$f":"TEXT(SPP[[#This Row],[DATA]],\"mmmm\")","v":"março"},{"$f":"YEAR(SPP[[#This Row],[DATA]])","v":2024}]
["12/03/2024","51","COMUM 4 VIAGENS",6961,2734.93,25041.15,27776.080000000002,{"$f":"TEXT(SPP[[#This Row],[DATA]],\"mmmm\")","v":"março"},{"$f":"YEAR(SPP[[#This Row],[DATA]])","v":2024}]
["13/03/2024","52","ESTUDANTE",57456,77963.59,359222.08,437185.67,{"$f":"TEXT(SPP[[#This Row],[DATA]],\"mmmm\")","v":"março"},{"$f":"YEAR(SPP[[#This Row],[DATA]])","v":2024}]
["13/03/2024","69","VT 8VG",643,0,5020.4800000000005,5020.4800000000005,{"$f":"TEXT(SPP[[#This Row],[DATA]],\"mmmm\")","v":"março"},{"$f":"YEAR(SPP[[#This Row],[DATA]])","v":2024}]
["15/03/2024","51","COMUM 4 VIAGENS",6959,2734.93,25037.25,27772.18,{"$f":"TEXT(SPP[[#This Row],[DATA]],\"mmmm\")","v":"março"},{"$f":"YEAR(SPP[[#This Row],[DATA]])","v":2024}]
["15/03/2024","86","Estacionamento",9216,956.21,109798.86,110755.07,{"$f":"TEXT(SPP[[#This Row],[DATA]],\"mmmm\")","v":"março"},{"$f":"YEAR(SPP[[#This Row],[DATA]])","v":2024}]
["16/03/2024","75","CARTAO FIDELIDADE",142108,0,8693894.6400000006,8693894.6400000006,{"$f":"TEXT(SPP[[#This Row],[DATA]],\"mmmm\")","v":"março"},{"$f":"YEAR(SPP[[#This Row],[DATA]])","v":2024}]
["17/03/2024","110","BUM - ANÔNIMO - CASCO",1298552,596675.24,6146909.1699999999,6743584.4100000001,{"$f":"TEXT(SPP[[#This Row],[DATA]],\"mmmm\")","v":"março"},{"$f":"YEAR(SPP[[#This Row],[DATA]])","v":2024}]
["18/03/2024","74","PROFESSOR",35780,1780224.93,0,1780224.93,{"$f":"TEXT(SPP[[#This Row],[DATA]],\"mmmm\")","v":"março"},{"$f":"YEAR(SPP[[#This Row],[DATA]])","v":2024}]
["20/03/2024","59","VT",3013028,29686730.190000001,14602213.67,44288943.859999999,{"$f":"TEXT(SPP[[#This Row],[DATA]],\"mmmm\")","v":"março"},{"$f":"YEAR(SPP[[#This Row],[DATA]])","v":2024}]
["21/03/2024","69","VT 8VG",643,0,5020.4800000000005,5020.4800000000005,{"$f":"TEXT(SPP[[#This Row],[DATA]],\"mmmm\")","v":"março"},{"$f":"YEAR(SPP[[#This Row],[DATA]])","v":2024}]
["21/03/2024","100","BILHETE UNICO MENSAL - CASCO",8048135,1063388141.9,145438912.75,1208827054.6500001,{"$f":"TEXT(SPP[[#This Row],[DATA]],\"mmmm\")","v":"março"},{"$f":"YEAR(SPP[[#This Row],[DATA]])","v":2024}]
["23/03/2024","59","VT",3012913,29681808.039999999,14601563.6,44283371.640000001,{"$f":"TEXT(SPP[[#This Row],[DATA]],\"mmmm\")","v":"março"},{"$f":"YEAR(SPP[[#This Row],[DATA]])","v":2024}]
["23/03/2024","110","BUM - ANÔNIMO - CASCO",1298384,596432.72,6146159.6600000001,6742592.3799999999,{"$f":"TEXT(SPP[[#This Row],[DATA]],\"mmmm\")","v":"março"},{"$f":"YEAR(SPP[[#This Row],[DATA]])","v":2024}]
["24/03/2024","80","COMUM 8 VIAGENS",39,0,251.17000000000002,251.17000000000002,{"$f":"TEXT(SPP[[#This Row],[DATA]],\"mmmm\")","v":"março"},{"$f":"YEAR(SPP[[#This Row],[DATA]])","v":2024}]
["26/03/2024","75","CARTAO FIDELIDADE",142336,0,8689177.6500000004,8689177.6500000004,{"$f":"TEXT(SPP[[#This Row],[DATA]],\"mmmm\")","v":"março"},{"$f":"YEAR(SPP[[#This Row],[DATA]])","v":2024}]
["26/03/2024","76","Lazer",465,0,11139.73,11139.73,{"$f":"TEXT(SPP[[#This Row],[DATA]],\"mmmm\")","v":"março"},{"$f":"YEAR(SPP[[#This Row],[DATA]])","v":2024}]
["27/03/2024","80","COMUM 8 VIAGENS",39,0,251.17000000000002,251.17000000000002,{"$f":"TEXT(SPP[[#This Row],[DATA]],\"mmmm\")","v":"março"},{"$f":"YEAR(SPP[[#This Row],[DATA]])","v":2024}]
["29/03/2024","74","PROFESSOR",36221,1722495.73,0,1722495.73,{"$f":"TEXT(SPP[[#This Row],[DATA]],\"mmmm\")","v":"março"},{"$f":"YEAR(SPP[[#This Row],[DATA]])","v":2024}]
["30/03/2024","74","PROFESSOR",36246,1731428.3,0,1731428.3,{"$f":"TEXT(SPP[[#This Row],[DATA]],\"mmmm\")","v":"março"},{"$f":"YEAR(SPP[[#This Row],[DATA]])","v":2024}]
["31/03/2024","71","MÃE PAULISTANA",209047,320097.27,1053748.43,1373845.7,{"$f":"TEXT(SPP[[#This Row],[DATA]],\"mmmm\")","v":"março"},{"$f":"YEAR(SPP[[#This Row],[DATA]])","v":2024}]
["01/04/2024","52","ESTUDANTE",57335,78645.919999999998,358431.52,437077.44,{"$f":"TEXT(SPP[[#This Row],[DATA]],\"mmmm\")","v":"abril"},{"$f":"YEAR(SPP[[#This Row],[DATA]])","v":2024}]
["01/04/2024","100","BILHETE UNICO MENSAL - CASCO",8065384,1105142169.79,144459935.88999999,1249602105.6800001,{"$f":"TEXT(SPP[[#This Row],[DATA]],\"mmmm\")","v":"abril"},{"$f":"YEAR(SPP[[#This Row],[DATA]])","v":2024}]
["03/04/2024","51","COMUM 4 VIAGENS",6957,2734.93,25034.45,27769.38,{"$f":"TEXT(SPP[[#This Row],[DATA]],\"mmmm\")","v":"abril"},{"$f":"YEAR(SPP[[#This Row],[DATA]])","v":2024}]
["03/04/2024","86","Estacionamento",9220,956.21,109838.40000000001,110794.61,{"$f":"TEXT(SPP[[#This Row],[DATA]],\"mmmm\")","v":"abril"},{"$f":"YEAR(SPP[[#This Row],[DATA]])","v":2024}]
["04/04/2024","100","BILHETE UNICO MENSAL - CASCO",8074126,1131383413.0699999,149620453.90000001,1281003866.97,{"$f":"TEXT(SPP[[#This Row],[DATA]],\"mmmm\")","v":"abril"},{"$f":"YEAR(SPP[[#This Row],[DATA]])","v":2024}]
["06/04/2024","76","Lazer",466,0,11189.73,11189.73,{"$f":"TEXT(SPP[[#This Row],[DATA]],\"mmmm\")","v":"abril"},{"$f":"YEAR(SPP[[#This Row],[DATA]])","v":2024}]
["06/04/2024","110","BUM - ANÔNIMO - CASCO",1297990,596410.79,6143984,6740394.79,{"$f":"TEXT(SPP[[#This Row],[DATA]],\"mmmm\")","v":"abril"},{"$f":"YEAR(SPP[[#This Row],[DATA]])","v":2024}]
["08/04/2024","75","CARTAO FIDELIDADE",142610,0,8845584.6999999993,8845584.6999999993,{"$f":"TEXT(SPP[[#This Row],[DATA]],\"mmmm\")","v":"abril"},{"$f":"YEAR(SPP[[#This Row],[DATA]])","v":2024}]
["09/04/2024","69","VT 8VG",642,0,5018.79,5018.79,{"$f":"TEXT(SPP[[#This Row],[DATA]],\"mmmm\")","v":"abril"},{"$f":"YEAR(SPP[[#This Row],[DATA]])","v":2024}]
["10/04/2024","71","MÃE PAULISTANA",209675,329146.14,1085464.23,1414610.37,{"$f":"TEXT(SPP[[#This Row],[DATA]],\"mmmm\")","v":"abril"},{"$f":"YEAR(SPP[[#This Row],[DATA]])","v":2024}]
["11/04/2024","76","Lazer",466,0,11189.73,11189.73,{"$f":"TEXT(SPP[[#This Row],[DATA]],\"mmmm\")","v":"abril"},{"$f":"YEAR(SPP[[#This Row],[DATA]])","v":2024}]
["11/04/2024","110","BUM - ANÔNIMO - CASCO",1297823,596410.79,6143024.6100000003,6739435.4000000004,{"$f":"TEXT(SPP[[#This Row],[DATA]],\"mmmm\")","v":"abril"},{"$f":"YEAR(SPP[[#This Row],[DATA]])","v":2024}]
["13/04/2024","51","COMUM 4 VIAGENS",6952,2734.93,25028.05,27762.98,{"$f":"TEXT(SPP[[#This Row],[DATA]],\"mmmm\")","v":"abril"},{"$f":"YEAR(SPP[[#This Row],[DATA]])","v":2024}]
["14/04/2024","86","Estacionamento",9223,956.21,109907.33,110863.54000000001,{"$f":"TEXT(SPP[[#This Row],[DATA]],\"mmmm\")","v":"abril"},{"$f":"YEAR(SPP[[#This Row],[DATA]])","v":2024}]
["15/04/2024","75","CARTAO FIDELIDADE",142848,0,8818457.5600000005,8818457.5600000005,{"$f":"TEXT(SPP[[#This Row],[DATA]],\"mmmm\")","v":"abril"},{"$f":"YEAR(SPP[[#This Row],[DATA]])","v":2024}]
["16/04/2024","80","COMUM 8 VIAGENS",39,0,251.17000000000002,251.17000000000002,{"$f":"TEXT(SPP[[#This Row],[DATA]],\"mmmm\")","v":"abril"},{"$f":"YEAR(SPP[[#This Row],[DATA]])","v":2024}]
["17/04/2024","74","PROFESSOR",36962,1871249.85,0,1871249.85,{"$f":"TEXT(SPP[[#This Row],[DATA]],\"mmmm\")","v":"abril"},{"$f":"YEAR(SPP[[#This Row],[DATA]])","v":2024}]
["18/04/2024","76","Lazer",466,0,11189.73,11189.73,{"$f":"TEXT(SPP[[#This Row],[DATA]],\"mmmm\")","v":"abril"},{"$f":"YEAR(SPP[[#This Row],[DATA]])","v":2024}]
["19/04/2024","71","MÃE PAULISTANA",210018,331424.86,1075525.8700000001,1406950.73,{"$f":"TEXT(SPP[[#This Row],[DATA]],\"mmmm\")","v":"abril"},{"$f":"YEAR(SPP[[#This Row],[DATA]])","v":2024}]
["20/04/2024","52","ESTUDANTE",57239,80430.28,358317.05,438747.33,{"$f":"TEXT(SPP[[#This Row],[DATA]],\"mmmm\")","v":"abril"},{"$f":"YEAR(SPP[[#This Row],[DATA]])","v":2024}]
["21/04/2024","59","VT",3011405,29617059.969999999,14592474.810000001,44209534.780000001,{"$f":"TEXT(SPP[[#This Row],[DATA]],\"mmmm\")","v":"abril"},{"$f":"YEAR(SPP[[#This Row],[DATA]])","v":2024}]
["22/04/2024","75","CARTAO FIDELIDADE",142879,0,8737099.1699999999,8737099.1699999999,{"$f":"TEXT(SPP[[#This Row],[DATA]],\"mmmm\")","v":"abril"},{"$f":"YEAR(SPP[[#This Row],[DATA]])","v":2024}]
["23/04/2024","86","Estacionamento",9223,956.21,109907.41,110863.62,{"$f":"TEXT(SPP[[#This Row],[DATA]],\"mmmm\")","v":"abril"},{"$f":"YEAR(SPP[[#This Row],[DATA]])","v":2024}]
["24/04/2024","100","BILHETE UNICO MENSAL - CASCO",8111335,1066018849.9400001,146000048.91,1212018898.8499999,{"$f":"TEXT(SPP[[#This Row],[DATA]],\"mmmm\")","v":"abril"},{"$f":"YEAR(SPP[[#This Row],[DATA]])","v":2024}]
["25/04/2024","76","Lazer",466,0,11189.73,11189.73,{"$f":"TEXT(SPP[[#This Row],[DATA]],\"mmmm\")","v":"abril"},{"$f":"YEAR(SPP[[#This Row],[DATA]])","v":2024}]
["27/04/2024","59","VT",3011038,29603578.09,14590569.550000001,44194147.640000001,{"$f":"TEXT(SPP[[#This Row],[DATA]],\"mmmm\")","v":"abril"},{"$f":"YEAR(SPP[[#This Row],[DATA]])","v":2024}]
["27/04/2024","75","CARTAO FIDELIDADE",142631,0,8568992.2599999998,8568992.2599999998,{"$f":"TEXT(SPP[[#This Row],[DATA]],\"mmmm\")","v":"abril"},{"$f":"YEAR(SPP[[#This Row],[DATA]])","v":2024}]
["28/04/2024","69","VT 8VG",642,0,5018.79,5018.79,{"$f":"TEXT(SPP[[#This Row],[DATA]],\"mmmm\")","v":"abril"},{"$f":"YEAR(SPP[[#This Row],[DATA]])","v":2024}]
["29/04/2024","71","MÃE PAULISTANA",210459,332064.31,1073939.3700000001,1406003.68,{"$f":"TEXT(SPP[[#This Row],[DATA]],\"mmmm\")","v":"abril"},{"$f":"YEAR(SPP[[#This Row],[DATA]])","v":2024}]
["01/05/2024","52","ESTUDANTE",57163,80788.55,357672.58,438461.13,{"$f":"TEXT(SPP[[#This Row],[DATA]],\"mmmm\")","v":"maio"},{"$f":"YEAR(SPP[[#This Row],[DATA]])","v":2024}]
["02/05/2024","69","VT 8VG",642,0,5018.79,5018.79,{"$f":"TEXT(SPP[[#This Row],[DATA]],\"mmmm\")","v":"maio"},{"$f":"YEAR(SPP[[#This Row],[DATA]])","v":2024}]
["03/05/2024","51","COMUM 4 VIAGENS",6949,2734.93,25013.98,27748.91,{"$f":"TEXT(SPP[[#This Row],[DATA]],\"mmmm\")","v":"maio"},{"$f":"YEAR(SPP[[#This Row],[DATA]])","v":2024}]
["03/05/2024","86","Estacionamento",9221,956.21,109834.46,110790.67,{"$f":"TEXT(SPP[[#This Row],[DATA]],\"mmmm\")","v":"maio"},{"$f":"YEAR(SPP[[#This Row],[DATA]])","v":2024}]
["04/05/2024","80","COMUM 8 VIAGENS",39,0,251.17000000000002,251.17000000000002,{"$f":"TEXT(SPP[[#This Row],[DATA]],\"mmmm\")","v":"maio"},{"$f":"YEAR(SPP[[#This Row],[DATA]])","v":2024}]
["05/05/2024","80","COMUM 8 VIAGENS",39,0,251.17000000000002,251.17000000000002,{"$f":"TEXT(SPP[[#This Row],[DATA]],\"mmmm\")","v":"maio"},{"$f":"YEAR(SPP[[#This Row],[DATA]])","v":2024}]
["06/05/2024","74","PROFESSOR",37712,1897984.1,0,1897984.1,{"$f":"TEXT(SPP[[#This Row],[DATA]],\"mmmm\")","v":"maio"},{"$f":"YEAR(SPP[[#This Row],[DATA]])","v":2024}]
["07/05/2024","75","CARTAO FIDELIDADE",143313,0,8853786.3800000008,8853786.3800000008,{"$f":"TEXT(SPP[[#This Row],[DATA]],\"mmmm\")","v":"maio"},{"$f":"YEAR(SPP[[#This Row],[DATA]])","v":2024}]
["08/05/2024","76","Lazer",466,0,11189.73,11189.73,{"$f":"TEXT(SPP[[#This Row],[DATA]],\"mmmm\")","v":"maio"},{"$f":"YEAR(SPP[[#This Row],[DATA]])","v":2024}]
["10/05/2024","74","PROFESSOR",37855,1957978.17,0,1957978.17,{"$f":"TEXT(SPP[[#This Row],[DATA]],\"mmmm\")","v":"maio"},{"$f":"YEAR(SPP[[#This Row],[DATA]])","v":2024}]
["11/05/2024","59","VT",3010354,29574074.309999999,14586446.15,44160520.460000001,{"$f":"TEXT(SPP[[#This Row],[DATA]],\"mmmm\")","v":"maio"},{"$f":"YEAR(SPP[[#This Row],[DATA]])","v":2024}]
["11/05/2024","110","BUM - ANÔNIMO - CASCO",1297021,596252.64,6138952.7699999996,6735205.4100000001,{"$f":"TEXT(SPP[[#This Row],[DATA]],\"mmmm\")","v":"maio"},{"$f":"YEAR(SPP[[#This Row],[DATA]])","v":2024}]
["13/05/2024","69","VT 8VG",642,0,5018.79,5018.79,{"$f":"TEXT(SPP[[#This Row],[DATA]],\"mmmm\")","v":"maio"},{"$f":"YEAR(SPP[[#This Row],[DATA]])","v":2024}]
["13/05/2024","100","BILHETE UNICO MENSAL - CASCO",8140761,1130764151.3399999,158300545.41,1289064696.75,{"$f":"TEXT(SPP[[#This Row],[DATA]],\"mmmm\")","v":"maio"},{"$f":"YEAR(SPP[[#This Row],[DATA]])","v":2024}]
["14/05/2024","76","Lazer",466,0,11189.73,11189.73,{"$f":"TEXT(SPP[[#This Row],[DATA]],\"mmmm\")","v":"maio"},{"$f":"YEAR(SPP[[#This Row],[DATA]])","v":2024}]
["15/05/2024","80","COMUM 8 VIAGENS",39,0,251.17000000000002,251.17000000000002,{"$f":"TEXT(SPP[[#This Row],[DATA]],\"mmmm\")","v":"maio"},{"$f":"YEAR(SPP[[#This Row],[DATA]])","v":2024}]
["17/05/2024","59","VT",3010049,29556054.899999999,14584412.970000001,44140467.869999997,{"$f":"TEXT(SPP[[#This Row],[DATA]],\"mmmm\")","v":"maio"},{"$f":"YEAR(SPP[[#This Row],[DATA]])","v":2024}]
["18/05/2024","76","Lazer",466,0,11189.73,11189.73,{"$f":"TEXT(SPP[[#This Row],[DATA]],\"mmmm\")","v":"maio"},{"$f":"YEAR(SPP[[#This Row],[DATA]])","v":2024}]
["19/05/2024","71","MÃE PAULISTANA",211271,333657.46000000002,1079634.3799999999,1413291.84,{"$f":"TEXT(SPP[[#This Row],[DATA]],\"mmmm\")","v":"maio"},{"$f":"YEAR(SPP[[#This Row],[DATA]])","v":2024}]
["20/05/2024","52","ESTUDANTE",57065,82508.73,358237.91000000003,440746.64,{"$f":"TEXT(SPP[[#This Row],[DATA]],\"mmmm\")","v":"maio"},{"$f":"YEAR(SPP[[#This Row],[DATA]])","v":2024}]
["20/05/2024","86","Estacionamento",9222,956.21,109761.35,110717.56,{"$f":"TEXT(SPP[[#This Row],[DATA]],\"mmmm\")","v":"maio"},{"$f":"YEAR(SPP[[#This Row],[DATA]])","v":2024}]
["22/05/2024","51","COMUM 4 VIAGENS",6947,2734.93,25009.64,27744.57,{"$f":"TEXT(SPP[[#This Row],[DATA]],\"mmmm\")","v":"maio"},{"$f":"YEAR(SPP[[#This Row],[DATA]])","v":2024}]
["23/05/2024","52","ESTUDANTE",57041,83152.05,358214.17,441366.22000000003,{"$f":"TEXT(SPP[[#This Row],[DATA]],\"mmmm\")","v":"maio"},{"$f":"YEAR(SPP[[#This Row],[DATA]])","v":2024}]
["23/05/2024","100","BILHETE UNICO MENSAL - CASCO",8153792,1084781073.53,150150540.08000001,1234931613.6099999,{"$f":"TEXT(SPP[[#This Row],[DATA]],\"mmmm\")","v":"maio"},{"$f":"YEAR(SPP[[#This Row],[DATA]])","v":2024}]
["25/05/2024","86","Estacionamento",9223,956.21,109815.31,110771.52,{"$f":"TEXT(SPP[[#This Row],[DATA]],\"mmmm\")","v":"maio"},{"$f":"YEAR(SPP[[#This Row],[DATA]])","v":2024}]
["26/05/2024","86","Estacionamento",9223,956.21,109815.32,110771.53,{"$f":"TEXT(SPP[[#This Row],[DATA]],\"mmmm\")","v":"maio"},{"$f":"YEAR(SPP[[#This Row],[DATA]])","v":2024}]
["27/05/2024","75","CARTAO FIDELIDADE",144143,0,8867530.1199999992,8867530.1199999992,{"$f":"TEXT(SPP[[#This Row],[DATA]],\"mmmm\")","v":"maio"},{"$f":"YEAR(SPP[[#This Row],[DATA]])","v":2024}]
["28/05/2024","69","VT 8VG",642,0,5018.79,5018.79,{"$f":"TEXT(SPP[[#This Row],[DATA]],\"mmmm\")","v":"maio"},{"$f":"YEAR(SPP[[#This Row],[DATA]])","v":2024}]
["29/05/2024","71","MÃE PAULISTANA",211726,336222.62,1094551.98,1430774.6,{"$f":"TEXT(SPP[[#This Row],[DATA]],\"mmmm\")","v":"maio"},{"$f":"YEAR(SPP[[#This Row],[DATA]])","v":2024}]
["30/05/2024","59","VT",3009562,29537946.48,14581612.99,44119559.469999999,{"$f":"TEXT(SPP[[#This Row],[DATA]],\"mmmm\")","v":"maio"},{"$f":"YEAR(SPP[[#This Row],[DATA]])","v":2024}]
["31/05/2024","69","VT 8VG",642,0,5018.79,5018.79,{"$f":"TEXT(SPP[[#This Row],[DATA]],\"mmmm\")","v":"maio"},{"$f":"YEAR(SPP[[#This Row],[DATA]])","v":2024}]
["01/06/2024","51","COMUM 4 VIAGENS",6945,2734.93,25003.440000000002,27738.37,{"$f":"TEXT(SPP[[#This Row],[DATA]],\"mmmm\")","v":"junho"},{"$f":"YEAR(SPP[[#This Row],[DATA]])","v":2024}]
["02/06/2024","69","VT 8VG",642,0,5018.79,5018.79,{"$f":"TEXT(SPP[[#This Row],[DATA]],\"mmmm\")","v":"junho"},{"$f":"YEAR(SPP[[#This Row],[DATA]])","v":2024}]
["03/06/2024","110","BUM - ANÔNIMO - CASCO",1296520,596167.92000000004,6136698.9900000002,6732866.9100000001,{"$f":"TEXT(SPP[[#This Row],[DATA]],\"mmmm\")","v":"junho"},{"$f":"YEAR(SPP[[#This Row],[DATA]])","v":2024}]
["04/06/2024","80","COMUM 8 VIAGENS",39,0,251.17000000000002,251.17000000000002,{"$f":"TEXT(SPP[[#This Row],[DATA]],\"mmmm\")","v":"junho"},{"$f":"YEAR(SPP[[#This Row],[DATA]])","v":2024}]
["05/06/2024","86","Estacionamento",9224,956.21,109786.49,110742.7,{"$f":"TEXT(SPP[[#This Row],[DATA]],\"mmmm\")","v":"junho"},{"$f":"YEAR(SPP[[#This Row],[DATA]])","v":2024}]
["06/06/2024","110","BUM - ANÔNIMO - CASCO",1296431,596000.68000000005,6136348.1200000001,6732348.7999999998,{"$f":"TEXT(SPP[[#This Row],[DATA]],\"mmmm\")","v":"junho"},{"$f":"YEAR(SPP[[#This Row],[DATA]])","v":2024}]
["07/06/2024","71","MÃE PAULISTANA",211935,341145.95,1102081.74,1443227.69,{"$f":"TEXT(SPP[[#This Row],[DATA]],\"mmmm\")","v":"junho"},{"$f":"YEAR(SPP[[#This Row],[DATA]])","v":2024}]
["08/06/2024","74","PROFESSOR",38375,1980929.3800000001,0,1980929.3800000001,{"$f":"TEXT(SPP[[#This Row],[DATA]],\"mmmm\")","v":"junho"},{"$f":"YEAR(SPP[[#This Row],[DATA]])","v":2024}]
["09/06/2024","59","VT",3009133,29507859.109999999,14579526.23,44087385.340000004,{"$f":"TEXT(SPP[[#This Row],[DATA]],\"mmmm\")","v":"junho"},{"$f":"YEAR(SPP[[#This Row],[DATA]])","v":2024}]
["10/06/2024","100","BILHETE UNICO MENSAL - CASCO",8174166,1147056730.6300001,164767218.44999999,1311823949.0799999,{"$f":"TEXT(SPP[[#This Row],[DATA]],\"mmmm\")","v":"junho"},{"$f":"YEAR(SPP[[#This Row],[DATA]])","v":2024}]
["12/06/2024","52","ESTUDANTE",56950,83646.880000000005,358390.54,442037.42,{"$f":"TEXT(SPP[[#This Row],[DATA]],\"mmmm\")","v":"junho"},{"$f":"YEAR(SPP[[#This Row],[DATA]])","v":2024}]
["12/06/2024","100","BILHETE UNICO MENSAL - CASCO",8175721,1137677466.3199999,164728346.65000001,1302405812.97,{"$f":"TEXT(SPP[[#This Row],[DATA]],\"mmmm\")","v":"junho"},{"$f":"YEAR(SPP[[#This Row],[DATA]])","v":2024}]
["13/06/2024","110","BUM - ANÔNIMO - CASCO",1296248,595689.19000000006,6135417.8200000003,6731107.0099999998,{"$f":"TEXT(SPP[[#This Row],[DATA]],\"mmmm\")","v":"junho"},{"$f":"YEAR(SPP[[#This Row],[DATA]])","v":2024}]
["14/06/2024","74","PROFESSOR",38495,2014049.19,0,2014049.19,{"$f":"TEXT(SPP[[#This Row],[DATA]],\"mmmm\")","v":"junho"},{"$f":"YEAR(SPP[[#This Row],[DATA]])","v":2024}]
["15/06/2024","75","CARTAO FIDELIDADE",145394,0,9069551.0800000001,9069551.0800000001,{"$f":"TEXT(SPP[[#This Row],[DATA]],\"mmmm\")","v":"junho"},{"$f":"YEAR(SPP[[#This Row],[DATA]])","v":2024}]
["16/06/2024","76","Lazer",465,0,11187.12,11187.12,{"$f":"TEXT(SPP[[#This Row],[DATA]],\"mmmm\")","v":"junho"},{"$f":"YEAR(SPP[[#This Row],[DATA]])","v":2024}]
["17/06/2024","71","MÃE PAULISTANA",212380,339786.49,1107013.0900000001,1446799.58,{"$f":"TEXT(SPP[[#This Row],[DATA]],\"mmmm\")","v":"junho"},{"$f":"YEAR(SPP[[#This Row],[DATA]])","v":2024}]
["18/06/2024","71","MÃE PAULISTANA",212434,340476.9,1110315.75,1450792.65,{"$f":"TEXT(SPP[[#This Row],[DATA]],\"mmmm\")","v":"junho"},{"$f":"YEAR(SPP[[#This Row],[DATA]])","v":2024}]
["20/06/2024","69","VT 8VG",642,0,5018.79,5018.79,{"$f":"TEXT(SPP[[#This Row],[DATA]],\"mmmm\")","v":"junho"},{"$f":"YEAR(SPP[[#This Row],[DATA]])","v":2024}]
["21/06/2024","51","COMUM 4 VIAGENS",6943,2734.93,24975.29,27710.22,{"$f":"TEXT(SPP[[#This Row],[DATA]],\"mmmm\")","v":"junho"},{"$f":"YEAR(SPP[[#This Row],[DATA]])","v":2024}]
["22/06/2024","52","ESTUDANTE",56896,84021.790000000008,358494.52,442516.31,{"$f":"TEXT(SPP[[#This Row],[DATA]],\"mmmm\")","v":"junho"},{"$f":"YEAR(SPP[[#This Row],[DATA]])","v":2024}]
["23/06/2024","51","COMUM 4 VIAGENS",6943,2734.93,24975.29,27710.22,{"$f":"TEXT(SPP[[#This Row],[DATA]],\"mmmm\")","v":"junho"},{"$f":"YEAR(SPP[[#This Row],[DATA]])","v":2024}]
["23/06/2024","80","COMUM 8 VIAGENS",39,0,251.17000000000002,251.17000000000002,{"$f":"TEXT(SPP[[#This Row],[DATA]],\"mmmm\")","v":"junho"},{"$f":"YEAR(SPP[[#This Row],[DATA]])","v":2024}]
["24/06/2024","86","Estacionamento",9228,956.21,109867.84,110824.05,{"$f":"TEXT(SPP[[#This Row],[DATA]],\"mmmm\")","v":"junho"},{"$f":"YEAR(SPP[[#This Row],[DATA]])","v":2024}]
["25/06/2024","75","CARTAO FIDELIDADE",145834,0,9091029.0500000007,9091029.0500000007,{"$f":"TEXT(SPP[[#This Row],[DATA]],\"mmmm\")","v":"junho"},{"$f":"YEAR(SPP[[#This Row],[DATA]])","v":2024}]
["26/06/2024","76","Lazer",465,0,11187.12,11187.12,{"$f":"TEXT(SPP[[#This Row],[DATA]],\"mmmm\")","v":"junho"},{"$f":"YEAR(SPP[[#This Row],[DATA]])","v":2024}]
["28/06/2024","74","PROFESSOR",38631,1918882.45,0,1918882.45,{"$f":"TEXT(SPP[[#This Row],[DATA]],\"mmmm\")","v":"junho"},{"$f":"YEAR(SPP[[#This Row],[DATA]])","v":2024}]
["29/06/2024","59","VT",3008161,29475408.09,14574112.82,44049520.909999996,{"$f":"TEXT(SPP[[#This Row],[DATA]],\"mmmm\")","v":"junho"},{"$f":"YEAR(SPP[[#This Row],[DATA]])","v":2024}]
["30/06/2024","69","VT 8VG",641,0,5015.71,5015.71,{"$f":"TEXT(SPP[[#This Row],[DATA]],\"mmmm\")","v":"junho"},{"$f":"YEAR(SPP[[#This Row],[DATA]])","v":2024}]
["30/06/2024","75","CARTAO FIDELIDADE",145345,0,8876789.0099999998,8876789.0099999998,{"$f":"TEXT(SPP[[#This Row],[DATA]],\"mmmm\")","v":"junho"},{"$f":"YEAR(SPP[[#This Row],[DATA]])","v":2024}]
["01/07/2024","100","BILHETE UNICO MENSAL - CASCO",8191484,1136878587.3099999,158154030.86000001,1295032618.1700001,{"$f":"TEXT(SPP[[#This Row],[DATA]],\"mmmm\")","v":"julho"},{"$f":"YEAR(SPP[[#This Row],[DATA]])","v":2024}]
["02/07/2024","110","BUM - ANÔNIMO - CASCO",1295807,595688.65,6132826.4299999997,6728515.0800000001,{"$f":"TEXT(SPP[[#This Row],[DATA]],\"mmmm\")","v":"julho"},{"$f":"YEAR(SPP[[#This Row],[DATA]])","v":2024}]
["03/07/2024","80","COMUM 8 VIAGENS",39,0,251.17000000000002,251.17000000000002,{"$f":"TEXT(SPP[[#This Row],[DATA]],\"mmmm\")","v":"julho"},{"$f":"YEAR(SPP[[#This Row],[DATA]])","v":2024}]
["05/07/2024","59","VT",3007860,29461033.75,14572403.199999999,44033436.950000003,{"$f":"TEXT(SPP[[#This Row],[DATA]],\"mmmm\")","v":"julho"},{"$f":"YEAR(SPP[[#This Row],[DATA]])","v":2024}]
["06/07/2024","76","Lazer",464,0,11104.22,11104.22,{"$f":"TEXT(SPP[[#This Row],[DATA]],\"mmmm\")","v":"julho"},{"$f":"YEAR(SPP[[#This Row],[DATA]])","v":2024}]
["07/07/2024","71","MÃE PAULISTANA",213130,342620.49,1110911.33,1453531.82,{"$f":"TEXT(SPP[[#This Row],[DATA]],\"mmmm\")","v":"julho"},{"$f":"YEAR(SPP[[#This Row],[DATA]])","v":2024}]
["08/07/2024","74","PROFESSOR",38611,1904483.77,0,1904483.77,{"$f":"TEXT(SPP[[#This Row],[DATA]],\"mmmm\")","v":"julho"},{"$f":"YEAR(SPP[[#This Row],[DATA]])","v":2024}]
["09/07/2024","52","ESTUDANTE",56787,86641.16,358012.96,444654.12,{"$f":"TEXT(SPP[[#This Row],[DATA]],\"mmmm\")","v":"julho"},{"$f":"YEAR(SPP[[#This Row],[DATA]])","v":2024}]
["10/07/2024","51","COMUM 4 VIAGENS",6938,2733.81,24946.880000000001,27680.690000000002,{"$f":"TEXT(SPP[[#This Row],[DATA]],\"mmmm\")","v":"julho"},{"$f":"YEAR(SPP[[#This Row],[DATA]])","v":2024}]
["11/07/2024","52","ESTUDANTE",56773,87376.66,357968.91000000003,445345.57,{"$f":"TEXT(SPP[[#This Row],[DATA]],\"mmmm\")","v":"julho"},{"$f":"YEAR(SPP[[#This Row],[DATA]])","v":2024}]
["11/07/2024","100","BILHETE UNICO MENSAL - CASCO",8205140,1152371500.03,173166935.44,1325538435.47,{"$f":"TEXT(SPP[[#This Row],[DATA]],\"mmmm\")","v":"julho"},{"$f":"YEAR(SPP[[#This Row],[DATA]])","v":2024}]
["13/07/2024","86","Estacionamento",9232,956.21,109952.1,110908.31,{"$f":"TEXT(SPP[[#This Row],[DATA]],\"mmmm\")","v":"julho"},{"$f":"YEAR(SPP[[#This Row],[DATA]])","v":2024}]
["14/07/2024","86","Estacionamento",9232,956.21,109952.1,110908.31,{"$f":"TEXT(SPP[[#This Row],[DATA]],\"mmmm\")","v":"julho"},{"$f":"YEAR(SPP[[#This Row],[DATA]])","v":2024}]
["15/07/2024","75","CARTAO FIDELIDADE",146096,0,9217768.7400000002,9217768.7400000002,{"$f":"TEXT(SPP[[#This Row],[DATA]],\"mmmm\")","v":"julho"},{"$f":"YEAR(SPP[[#This Row],[DATA]])","v":2024}]
["16/07/2024","76","Lazer",463,0,11080.62,11080.62,{"$f":"TEXT(SPP[[#This Row],[DATA]],\"mmmm\")","v":"julho"},{"$f":"YEAR(SPP[[#This Row],[DATA]])","v":2024}]
["17/07/2024","80","COMUM 8 VIAGENS",39,0,251.17000000000002,251.17000000000002,{"$f":"TEXT(SPP[[#This Row],[DATA]],\"mmmm\")","v":"julho"},{"$f":"YEAR(SPP[[#This Row],[DATA]])","v":2024}]
["18/07/2024","75","CARTAO FIDELIDADE",143520,0,8598913.5299999993,8598913.5299999993,{"$f":"TEXT(SPP[[#This Row],[DATA]],\"mmmm\")","v":"julho"},{"$f":"YEAR(SPP[[#This Row],[DATA]])","v":2024}]
["19/07/2024","69","VT 8VG",640,0,5007.3100000000004,5007.3100000000004,{"$f":"TEXT(SPP[[#This Row],[DATA]],\"mmmm\")","v":"julho"},{"$f":"YEAR(SPP[[#This Row],[DATA]])","v":2024}]
["20/07/2024","51","COMUM 4 VIAGENS",6934,2733.81,24941.64,27675.45,{"$f":"TEXT(SPP[[#This Row],[DATA]],\"mmmm\")","v":"julho"},{"$f":"YEAR(SPP[[#This Row],[DATA]])","v":2024}]
["21/07/2024","69","VT 8VG",640,0,5007.3100000000004,5007.3100000000004,{"$f":"TEXT(SPP[[#This Row],[DATA]],\"mmmm\")","v":"julho"},{"$f":"YEAR(SPP[[#This Row],[DATA]])","v":2024}]
["22/07/2024","110","BUM - ANÔNIMO - CASCO",1295289,595688.65,6130091.25,6725779.9000000004,{"$f":"TEXT(SPP[[#This Row],[DATA]],\"mmmm\")","v":"julho"},{"$f":"YEAR(SPP[[#This Row],[DATA]])","v":2024}]
["23/07/2024","80","COMUM 8 VIAGENS",39,0,251.17000000000002,251.17000000000002,{"$f":"TEXT(SPP[[#This Row],[DATA]],\"mmmm\")","v":"julho"},{"$f":"YEAR(SPP[[#This Row],[DATA]])","v":2024}]
["24/07/2024","86","Estacionamento",9234,956.21,109978.63,110934.84,{"$f":"TEXT(SPP[[#This Row],[DATA]],\"mmmm\")","v":"julho"},{"$f":"YEAR(SPP[[#This Row],[DATA]])","v":2024}]
["25/07/2024","59","VT",3006973,29423499.149999999,14567606.619999999,43991105.770000003,{"$f":"TEXT(SPP[[#This Row],[DATA]],\"mmmm\")","v":"julho"},{"$f":"YEAR(SPP[[#This Row],[DATA]])","v":2024}]
["26/07/2024","80","COMUM 8 VIAGENS",39,0,251.17000000000002,251.17000000000002,{"$f":"TEXT(SPP[[#This Row],[DATA]],\"mmmm\")","v":"julho"},{"$f":"YEAR(SPP[[#This Row],[DATA]])","v":2024}]
["27/07/2024","74","PROFESSOR",38781,1832362.02,0,1832362.02,{"$f":"TEXT(SPP[[#This Row],[DATA]],\"mmmm\")","v":"julho"},{"$f":"YEAR(SPP[[#This Row],[DATA]])","v":2024}]
["28/07/2024","59","VT",3006868,29416091.59,14567064.32,43983155.909999996,{"$f":"TEXT(SPP[[#This Row],[DATA]],\"mmmm\")","v":"julho"},{"$f":"YEAR(SPP[[#This Row],[DATA]])","v":2024}]
["29/07/2024","100","BILHETE UNICO MENSAL - CASCO",8222204,1108036063.5899999,162631796.03,1270667859.6199999,{"$f":"TEXT(SPP[[#This Row],[DATA]],\"mmmm\")","v":"julho"},{"$f":"YEAR(SPP[[#This Row],[DATA]])","v":2024}]
["31/07/2024","52","ESTUDANTE",56664,89720.400000000009,358146.32,447866.72000000003,{"$f":"TEXT(SPP[[#This Row],[DATA]],\"mmmm\")","v":"julho"},{"$f":"YEAR(SPP[[#This Row],[DATA]])","v":2024}]
["31/07/2024","59","VT",3006680,29400085.77,14566058.66,43966144.43,{"$f":"TEXT(SPP[[#This Row],[DATA]],\"mmmm\")","v":"julho"},{"$f":"YEAR(SPP[[#This Row],[DATA]])","v":2024}]
["01/08/2024","110","BUM - ANÔNIMO - CASCO",1295036,595618.54,6128865.1900000004,6724483.7300000004,{"$f":"TEXT(SPP[[#This Row],[DATA]],\"mmmm\")","v":"agosto"},{"$f":"YEAR(SPP[[#This Row],[DATA]])","v":2024}]
["02/08/2024","86","Estacionamento",9237,956.21,110058.17,111014.38,{"$f":"TEXT(SPP[[#This Row],[DATA]],\"mmmm\")","v":"agosto"},{"$f":"YEAR(SPP[[#This Row],[DATA]])","v":2024}]
["03/08/2024","100","BILHETE UNICO MENSAL - CASCO",8227785,1170025297.5699999,170531395.86000001,1340556693.4300001,{"$f":"TEXT(SPP[[#This Row],[DATA]],\"mmmm\")","v":"agosto"},{"$f":"YEAR(SPP[[#This Row],[DATA]])","v":2024}]
["04/08/2024","76","Lazer",463,0,11080.62,11080.62,{"$f":"TEXT(SPP[[#This Row],[DATA]],\"mmmm\")","v":"agosto"},{"$f":"YEAR(SPP[[#This Row],[DATA]])","v":2024}]
["05/08/2024","71","MÃE PAULISTANA",214341,339802.02,1139923.29,1479725.31,{"$f":"TEXT(SPP[[#This Row],[DATA]],\"mmmm\")","v":"agosto"},{"$f":"YEAR(SPP[[#This Row],[DATA]])","v":2024}]
["06/08/2024","71","MÃE PAULISTANA",214422,339241.3,1146525.19,1485766.49,{"$f":"TEXT(SPP[[#This Row],[DATA]],\"mmmm\")","v":"agosto"},{"$f":"YEAR(SPP[[#This Row],[DATA]])","v":2024}]
["08/08/2024","69","VT 8VG",637,0,4987.8500000000004,4987.8500000000004,{"$f":"TEXT(SPP[[#This Row],[DATA]],\"mmmm\")","v":"agosto"},{"$f":"YEAR(SPP[[#This Row],[DATA]])","v":2024}]
["08/08/2024","71","MÃE PAULISTANA",214524,339520.53,1152295.1299999999,1491815.66,{"$f":"TEXT(SPP[[#This Row],[DATA]],\"mmmm\")","v":"agosto"},{"$f":"YEAR(SPP[[#This Row],[DATA]])","v":2024}]
["10/08/2024","52","ESTUDANTE",56640,90562.33,358470.48,449032.81,{"$f":"TEXT(SPP[[#This Row],[DATA]],\"mmmm\")","v":"agosto"},{"$f":"YEAR(SPP[[#This Row],[DATA]])","v":2024}]
["11/08/2024","71","MÃE PAULISTANA",214530,340634.61,1140350.05,1480984.66,{"$f":"TEXT(SPP[[#This Row],[DATA]],\"mmmm\")","v":"agosto"},{"$f":"YEAR(SPP[[#This Row],[DATA]])","v":2024}]
["12/08/2024","51","COMUM 4 VIAGENS",6932,2733.81,24936.34,27670.15,{"$f":"TEXT(SPP[[#This Row],[DATA]],\"mmmm\")","v":"agosto"},{"$f":"YEAR(SPP[[#This Row],[DATA]])","v":2024}]
["12/08/2024","86","Estacionamento",9239,956.21,110094.23,111050.44,{"$f":"TEXT(SPP[[#This Row],[DATA]],\"mmmm\")","v":"agosto"},{"$f":"YEAR(SPP[[#This Row],[DATA]])","v":2024}]
["13/08/2024","75","CARTAO FIDELIDADE",142505,0,8543908.4199999999,8543908.4199999999,{"$f":"TEXT(SPP[[#This Row],[DATA]],\"mmmm\")","v":"agosto"},{"$f":"YEAR(SPP[[#This Row],[DATA]])","v":2024}]
["14/08/2024","110","BUM - ANÔNIMO - CASCO",1294251,595330.98,6125589.0800000001,6720920.0599999996,{"$f":"TEXT(SPP[[#This Row],[DATA]],\"mmmm\")","v":"agosto"},{"$f":"YEAR(SPP[[#This Row],[DATA]])","v":2024}]
["16/08/2024","74","PROFESSOR",39365,2027621.2,0,2027621.2,{"$f":"TEXT(SPP[[#This Row],[DATA]],\"mmmm\")","v":"agosto"},{"$f":"YEAR(SPP[[#This Row],[DATA]])","v":2024}]
["16/08/2024","75","CARTAO FIDELIDADE",142443,0,8484366.1400000006,8484366.1400000006,{"$f":"TEXT(SPP[[#This Row],[DATA]],\"mmmm\")","v":"agosto"},{"$f":"YEAR(SPP[[#This Row],[DATA]])","v":2024}]
["18/08/2024","69","VT 8VG",637,0,4987.8500000000004,4987.8500000000004,{"$f":"TEXT(SPP[[#This Row],[DATA]],\"mmmm\")","v":"agosto"},{"$f":"YEAR(SPP[[#This Row],[DATA]])","v":2024}]
["18/08/2024","100","BILHETE UNICO MENSAL - CASCO",8242247,1130117472.6400001,176499730.38999999,1306617203.03,{"$f":"TEXT(SPP[[#This Row],[DATA]],\"mmmm\")","v":"agosto"},{"$f":"YEAR(SPP[[#This Row],[DATA]])","v":2024}]
["20/08/2024","59","VT",3005812,29361206.629999999,14561532.609999999,43922739.240000002,{"$f":"TEXT(SPP[[#This Row],[DATA]],\"mmmm\")","v":"agosto"},{"$f":"YEAR(SPP[[#This Row],[DATA]])","v":2024}]
["20/08/2024","110","BUM - ANÔNIMO - CASCO",1294100,595330.98,6124716.8399999999,6720047.8200000003,{"$f":"TEXT(SPP[[#This Row],[DATA]],\"mmmm\")","v":"agosto"},{"$f":"YEAR(SPP[[#This Row],[DATA]])","v":2024}]
["22/08/2024","51","COMUM 4 VIAGENS",6930,2733.81,24933.49,27667.3,{"$f":"TEXT(SPP[[#This Row],[DATA]],\"mmmm\")","v":"agosto"},{"$f":"YEAR(SPP[[#This Row],[DATA]])","v":2024}]
["23/08/2024","75","CARTAO FIDELIDADE",142296,0,8389425.7899999991,8389425.7899999991,{"$f":"TEXT(SPP[[#This Row],[DATA]],\"mmmm\")","v":"agosto"},{"$f":"YEAR(SPP[[#This Row],[DATA]])","v":2024}]
["24/08/2024","76","Lazer",462,0,11037.62,11037.62,{"$f":"TEXT(SPP[[#This Row],[DATA]],\"mmmm\")","v":"agosto"},{"$f":"YEAR(SPP[[#This Row],[DATA]])","v":2024}]
["24/08/2024","80","COMUM 8 VIAGENS",39,0,251.17000000000002,251.17000000000002,{"$f":"TEXT(SPP[[#This Row],[DATA]],\"mmmm\")","v":"agosto"},{"$f":"YEAR(SPP[[#This Row],[DATA]])","v":2024}]
["25/08/2024","100","BILHETE UNICO MENSAL - CASCO",8249181,1098092648.74,172028644.25999999,1270121293,{"$f":"TEXT(SPP[[#This Row],[DATA]],\"mmmm\")","v":"agosto"},{"$f":"YEAR(SPP[[#This Row],[DATA]])","v":2024}]
["27/08/2024","69","VT 8VG",637,0,4987.8500000000004,4987.8500000000004,{"$f":"TEXT(SPP[[#This Row],[DATA]],\"mmmm\")","v":"agosto"},{"$f":"YEAR(SPP[[#This Row],[DATA]])","v":2024}]
["28/08/2024","71","MÃE PAULISTANA",215429,330506.14,1147853.27,1478359.41,{"$f":"TEXT(SPP[[#This Row],[DATA]],\"mmmm\")","v":"agosto"},{"$f":"YEAR(SPP[[#This Row],[DATA]])","v":2024}]
["29/08/2024","52","ESTUDANTE",56425,90029.08,357826.07,447855.15,{"$f":"TEXT(SPP[[#This Row],[DATA]],\"mmmm\")","v":"agosto"},{"$f":"YEAR(SPP[[#This Row],[DATA]])","v":2024}]
["30/08/2024","75","CARTAO FIDELIDADE",139186,0,8015538.5999999996,8015538.5999999996,{"$f":"TEXT(SPP[[#This Row],[DATA]],\"mmmm\")","v":"agosto"},{"$f":"YEAR(SPP[[#This Row],[DATA]])","v":2024}]
["31/08/2024","51","COMUM 4 VIAGENS",6930,2733.81,24933.49,27667.3,{"$f":"TEXT(SPP[[#This Row],[DATA]],\"mmmm\")","v":"agosto"},{"$f":"YEAR(SPP[[#This Row],[DATA]])","v":2024}]
["01/09/2024","86","Estacionamento",9240,956.21,110143.5,111099.71,{"$f":"TEXT(SPP[[#This Row],[DATA]],\"mmmm\")","v":"setembro"},{"$f":"YEAR(SPP[[#This Row],[DATA]])","v":2024}]
["01/09/2024","100","BILHETE UNICO MENSAL - CASCO",8256717,1143760389.05,171201911.33000001,1314962300.3800001,{"$f":"TEXT(SPP[[#This Row],[DATA]],\"mmmm\")","v":"setembro"},{"$f":"YEAR(SPP[[#This Row],[DATA]])","v":2024}]
["03/09/2024","74","PROFESSOR",39722,2004018.96,0,2004018.96,{"$f":"TEXT(SPP[[#This Row],[DATA]],\"mmmm\")","v":"setembro"},{"$f":"YEAR(SPP[[#This Row],[DATA]])","v":2024}]
["04/09/2024","86","Estacionamento",9240,956.21,110143.58,111099.79000000001,{"$f":"TEXT(SPP[[#This Row],[DATA]],\"mmmm\")","v":"setembro"},{"$f":"YEAR(SPP[[#This Row],[DATA]])","v":2024}]
["05/09/2024","75","CARTAO FIDELIDADE",139556,0,8171329.9299999997,8171329.9299999997,{"$f":"TEXT(SPP[[#This Row],[DATA]],\"mmmm\")","v":"setembro"},{"$f":"YEAR(SPP[[#This Row],[DATA]])","v":2024}]
["06/09/2024","69","VT 8VG",637,0,4987.8500000000004,4987.8500000000004,{"$f":"TEXT(SPP[[#This Row],[DATA]],\"mmmm\")","v":"setembro"},{"$f":"YEAR(SPP[[#This Row],[DATA]])","v":2024}]
["07/09/2024","51","COMUM 4 VIAGENS",6928,2730.9500000000003,24925.920000000002,27656.87,{"$f":"TEXT(SPP[[#This Row],[DATA]],\"mmmm\")","v":"setembro"},{"$f":"YEAR(SPP[[#This Row],[DATA]])","v":2024}]
["08/09/2024","59","VT",3005014,29326336.640000001,14557189.9,43883526.539999999,{"$f":"TEXT(SPP[[#This Row],[DATA]],\"mmmm\")","v":"setembro"},{"$f":"YEAR(SPP[[#This Row],[DATA]])","v":2024}]
["09/09/2024","110","BUM - ANÔNIMO - CASCO",1293635,595205.56000000006,6122653.8799999999,6717859.4400000004,{"$f":"TEXT(SPP[[#This Row],[DATA]],\"mmmm\")","v":"setembro"},{"$f":"YEAR(SPP[[#This Row],[DATA]])","v":2024}]
["10/09/2024","51","COMUM 4 VIAGENS",6928,2730.9500000000003,24925.920000000002,27656.87,{"$f":"TEXT(SPP[[#This Row],[DATA]],\"mmmm\")","v":"setembro"},{"$f":"YEAR(SPP[[#This Row],[DATA]])","v":2024}]
["12/09/2024","51","COMUM 4 VIAGENS",6928,2730.9500000000003,24925.920000000002,27656.87,{"$f":"TEXT(SPP[[#This Row],[DATA]],\"mmmm\")","v":"setembro"},{"$f":"YEAR(SPP[[#This Row],[DATA]])","v":2024}]
["12/09/2024","110","BUM - ANÔNIMO - CASCO",1293532,595205.56000000006,6121976.4800000004,6717182.04,{"$f":"TEXT(SPP[[#This Row],[DATA]],\"mmmm\")","v":"setembro"},{"$f":"YEAR(SPP[[#This Row],[DATA]])","v":2024}]
["13/09/2024","80","COMUM 8 VIAGENS",39,0,251.17000000000002,251.17000000000002,{"$f":"TEXT(SPP[[#This Row],[DATA]],\"mmmm\")","v":"setembro"},{"$f":"YEAR(SPP[[#This Row],[DATA]])","v":2024}]
["14/09/2024","74","PROFESSOR",39953,2073926.9,0,2073926.9,{"$f":"TEXT(SPP[[#This Row],[DATA]],\"mmmm\")","v":"setembro"},{"$f":"YEAR(SPP[[#This Row],[DATA]])","v":2024}]
["15/09/2024","76","Lazer",462,0,11037.62,11037.62,{"$f":"TEXT(SPP[[#This Row],[DATA]],\"mmmm\")","v":"setembro"},{"$f":"YEAR(SPP[[#This Row],[DATA]])","v":2024}]
["16/09/2024","71","MÃE PAULISTANA",216426,326968.73,1173685.8899999999,1500654.62,{"$f":"TEXT(SPP[[#This Row],[DATA]],\"mmmm\")","v":"setembro"},{"$f":"YEAR(SPP[[#This Row],[DATA]])","v":2024}]
["18/09/2024","52","ESTUDANTE",56345,89986.67,358239.84,448226.51,{"$f":"TEXT(SPP[[#This Row],[DATA]],\"mmmm\")","v":"setembro"},{"$f":"YEAR(SPP[[#This Row],[DATA]])","v":2024}]
["18/09/2024","59","VT",3004543,29304667.949999999,14554824.65,43859492.600000001,{"$f":"TEXT(SPP[[#This Row],[DATA]],\"mmmm\")","v":"setembro"},{"$f":"YEAR(SPP[[#This Row],[DATA]])","v":2024}]
["19/09/2024","75","CARTAO FIDELIDADE",140206,0,8217148.9100000001,8217148.9100000001,{"$f":"TEXT(SPP[[#This Row],[DATA]],\"mmmm\")","v":"setembro"},{"$f":"YEAR(SPP[[#This Row],[DATA]])","v":2024}]
["21/09/2024","52","ESTUDANTE",56329,89971.69,358000.23,447971.92,{"$f":"TEXT(SPP[[#This Row],[DATA]],\"mmmm\")","v":"setembro"},{"$f":"YEAR(SPP[[#This Row],[DATA]])","v":2024}]
["21/09/2024","100","BILHETE UNICO MENSAL - CASCO",8284841,1101233809.3800001,183066579.56,1284300388.9400001,{"$f":"TEXT(SPP[[#This Row],[DATA]],\"mmmm\")","v":"setembro"},{"$f":"YEAR(SPP[[#This Row],[DATA]])","v":2024}]
["22/09/2024","76","Lazer",462,0,11037.62,11037.62,{"$f":"TEXT(SPP[[#This Row],[DATA]],\"mmmm\")","v":"setembro"},{"$f":"YEAR(SPP[[#This Row],[DATA]])","v":2024}]
["24/09/2024","59","VT",3004287,29292176.68,14553751.16,43845927.840000004,{"$f":"TEXT(SPP[[#This Row],[DATA]],\"mmmm\")","v":"setembro"},{"$f":"YEAR(SPP[[#This Row],[DATA]])","v":2024}]
["24/09/2024","75","CARTAO FIDELIDADE",140354,0,8209058.5099999998,8209058.5099999998,{"$f":"TEXT(SPP[[#This Row],[DATA]],\"mmmm\")","v":"setembro"},{"$f":"YEAR(SPP[[#This Row],[DATA]])","v":2024}]
["25/09/2024","76","Lazer",462,0,11037.62,11037.62,{"$f":"TEXT(SPP[[#This Row],[DATA]],\"mmmm\")","v":"setembro"},{"$f":"YEAR(SPP[[#This Row],[DATA]])","v":2024}]
["26/09/2024","71","MÃE PAULISTANA",216867,319285.57,1159691.79,1478977.36,{"$f":"TEXT(SPP[[#This Row],[DATA]],\"mmmm\")","v":"setembro"},{"$f":"YEAR(SPP[[#This Row],[DATA]])","v":2024}]
["28/09/2024","52","ESTUDANTE",56298,90293.759999999995,358007.18,448300.94,{"$f":"TEXT(SPP[[#This Row],[DATA]],\"mmmm\")","v":"setembro"},{"$f":"YEAR(SPP[[#This Row],[DATA]])","v":2024}]
["29/09/2024","69","VT 8VG",637,0,4987.8500000000004,4987.8500000000004,{"$f":"TEXT(SPP[[#This Row],[DATA]],\"mmmm\")","v":"setembro"},{"$f":"YEAR(SPP[[#This Row],[DATA]])","v":2024}]
["30/09/2024","51","COMUM 4 VIAGENS",6922,2730.9500000000003,24919.7,27650.65,{"$f":"TEXT(SPP[[#This Row],[DATA]],\"mmmm\")","v":"setembro"},{"$f":"YEAR(SPP[[#This Row],[DATA]])","v":2024}]
["30/09/2024","86","Estacionamento",9242,956.21,110183.48,111139.69,{"$f":"TEXT(SPP[[#This Row],[DATA]],\"mmmm\")","v":"setembro"},{"$f":"YEAR(SPP[[#This Row],[DATA]])","v":2024}]
["01/10/2024","80","COMUM 8 VIAGENS",39,0,251.17000000000002,251.17000000000002,{"$f":"TEXT(SPP[[#This Row],[DATA]],\"mmmm\")","v":"outubro"},{"$f":"YEAR(SPP[[#This Row],[DATA]])","v":2024}]
["02/10/2024","80","COMUM 8 VIAGENS",39,0,251.17000000000002,251.17000000000002,{"$f":"TEXT(SPP[[#This Row],[DATA]],\"mmmm\")","v":"outubro"},{"$f":"YEAR(SPP[[#This Row],[DATA]])","v":2024}]
["03/10/2024","86","Estacionamento",9241,956.21,110184.31,111140.52,{"$f":"TEXT(SPP[[#This Row],[DATA]],\"mmmm\")","v":"outubro"},{"$f":"YEAR(SPP[[#This Row],[DATA]])","v":2024}]
["04/10/2024","75","CARTAO FIDELIDADE",140457,0,8239125.6900000004,8239125.6900000004,{"$f":"TEXT(SPP[[#This Row],[DATA]],\"mmmm\")","v":"outubro"},{"$f":"YEAR(SPP[[#This Row],[DATA]])","v":2024}]
["05/10/2024","76","Lazer",462,0,11037.62,11037.62,{"$f":"TEXT(SPP[[#This Row],[DATA]],\"mmmm\")","v":"outubro"},{"$f":"YEAR(SPP[[#This Row],[DATA]])","v":2024}]
["07/10/2024","74","PROFESSOR",40212,2108496.7799999998,0,2108496.7799999998,{"$f":"TEXT(SPP[[#This Row],[DATA]],\"mmmm\")","v":"outubro"},{"$f":"YEAR(SPP[[#This Row],[DATA]])","v":2024}]
["08/10/2024","59","VT",3003712,29266393.539999999,14550816.52,43817210.060000002,{"$f":"TEXT(SPP[[#This Row],[DATA]],\"mmmm\")","v":"outubro"},{"$f":"YEAR(SPP[[#This Row],[DATA]])","v":2024}]
["08/10/2024","110","BUM - ANÔNIMO - CASCO",1292973,595186.21,6119011.5300000003,6714197.7400000002,{"$f":"TEXT(SPP[[#This Row],[DATA]],\"mmmm\")","v":"outubro"},{"$f":"YEAR(SPP[[#This Row],[DATA]])","v":2024}]
["10/10/2024","69","VT 8VG",637,0,4987.8500000000004,4987.8500000000004,{"$f":"TEXT(SPP[[#This Row],[DATA]],\"mmmm\")","v":"outubro"},{"$f":"YEAR(SPP[[#This Row],[DATA]])","v":2024}]
["10/10/2024","100","BILHETE UNICO MENSAL - CASCO",8309860,1171401829.71,202074236.37,1373476066.0799999,{"$f":"TEXT(SPP[[#This Row],[DATA]],\"mmmm\")","v":"outubro"},{"$f":"YEAR(SPP[[#This Row],[DATA]])","v":2024}]
["11/10/2024","110","BUM - ANÔNIMO - CASCO",1292899,595186.21,6118727.4900000002,6713913.7000000002,{"$f":"TEXT(SPP[[#This Row],[DATA]],\"mmmm\")","v":"outubro"},{"$f":"YEAR(SPP[[#This Row],[DATA]])","v":2024}]
["12/10/2024","80","COMUM 8 VIAGENS",39,0,251.17000000000002,251.17000000000002,{"$f":"TEXT(SPP[[#This Row],[DATA]],\"mmmm\")","v":"outubro"},{"$f":"YEAR(SPP[[#This Row],[DATA]])","v":2024}]
["14/10/2024","59","VT",3003516,29257282.719999999,14549490.85,43806773.57,{"$f":"TEXT(SPP[[#This Row],[DATA]],\"mmmm\")","v":"outubro"},{"$f":"YEAR(SPP[[#This Row],[DATA]])","v":2024}]
["15/10/2024","76","Lazer",462,0,11037.62,11037.62,{"$f":"TEXT(SPP[[#This Row],[DATA]],\"mmmm\")","v":"outubro"},{"$f":"YEAR(SPP[[#This Row],[DATA]])","v":2024}]
["16/10/2024","71","MÃE PAULISTANA",217720,323522.60000000003,1175986.04,1499508.64,{"$f":"TEXT(SPP[[#This Row],[DATA]],\"mmmm\")","v":"outubro"},{"$f":"YEAR(SPP[[#This Row],[DATA]])","v":2024}]
["17/10/2024","74","PROFESSOR",40378,2112901.4,0,2112901.4,{"$f":"TEXT(SPP[[#This Row],[DATA]],\"mmmm\")","v":"outubro"},{"$f":"YEAR(SPP[[#This Row],[DATA]])","v":2024}]
["17/10/2024","86","Estacionamento",9243,956.21,110170.92,111127.13,{"$f":"TEXT(SPP[[#This Row],[DATA]],\"mmmm\")","v":"outubro"},{"$f":"YEAR(SPP[[#This Row],[DATA]])","v":2024}]
["19/10/2024","51","COMUM 4 VIAGENS",6922,2730.9500000000003,24919.7,27650.65,{"$f":"TEXT(SPP[[#This Row],[DATA]],\"mmmm\")","v":"outubro"},{"$f":"YEAR(SPP[[#This Row],[DATA]])","v":2024}]
["20/10/2024","52","ESTUDANTE",56195,91671.1,357801.37,449472.47000000003,{"$f":"TEXT(SPP[[#This Row],[DATA]],\"mmmm\")","v":"outubro"},{"$f":"YEAR(SPP[[#This Row],[DATA]])","v":2024}]
["20/10/2024","100","BILHETE UNICO MENSAL - CASCO",8313574,1121046794.78,192629063.25999999,1313675858.04,{"$f":"TEXT(SPP[[#This Row],[DATA]],\"mmmm\")","v":"outubro"},{"$f":"YEAR(SPP[[#This Row],[DATA]])","v":2024}]
["22/10/2024","86","Estacionamento",9244,956.21,110176.56,111132.77,{"$f":"TEXT(SPP[[#This Row],[DATA]],\"mmmm\")","v":"outubro"},{"$f":"YEAR(SPP[[#This Row],[DATA]])","v":2024}]
["23/10/2024","86","Estacionamento",9244,956.21,110176.62,111132.83,{"$f":"TEXT(SPP[[#This Row],[DATA]],\"mmmm\")","v":"outubro"},{"$f":"YEAR(SPP[[#This Row],[DATA]])","v":2024}]
["24/10/2024","75","CARTAO FIDELIDADE",140614,0,8187181.9699999997,8187181.9699999997,{"$f":"TEXT(SPP[[#This Row],[DATA]],\"mmmm\")","v":"outubro"},{"$f":"YEAR(SPP[[#This Row],[DATA]])","v":2024}]
["25/10/2024","76","Lazer",462,0,11037.62,11037.62,{"$f":"TEXT(SPP[[#This Row],[DATA]],\"mmmm\")","v":"outubro"},{"$f":"YEAR(SPP[[#This Row],[DATA]])","v":2024}]
["26/10/2024","71","MÃE PAULISTANA",218119,318530.78999999998,1166608.3600000001,1485139.15,{"$f":"TEXT(SPP[[#This Row],[DATA]],\"mmmm\")","v":"outubro"},{"$f":"YEAR(SPP[[#This Row],[DATA]])","v":2024}]
["27/10/2024","59","VT",3003027,29243940.609999999,14546385.33,43790325.939999998,{"$f":"TEXT(SPP[[#This Row],[DATA]],\"mmmm\")","v":"outubro"},{"$f":"YEAR(SPP[[#This Row],[DATA]])","v":2024}]
["28/10/2024","69","VT 8VG",635,0,4957.87,4957.87,{"$f":"TEXT(SPP[[#This Row],[DATA]],\"mmmm\")","v":"outubro"},{"$f":"YEAR(SPP[[#This Row],[DATA]])","v":2024}]
["29/10/2024","51","COMUM 4 VIAGENS",6921,2730.9500000000003,24917.53,27648.48,{"$f":"TEXT(SPP[[#This Row],[DATA]],\"mmmm\")","v":"outubro"},{"$f":"YEAR(SPP[[#This Row],[DATA]])","v":2024}]
["31/10/2024","51","COMUM 4 VIAGENS",6921,2730.9500000000003,24917.53,27648.48,{"$f":"TEXT(SPP[[#This Row],[DATA]],\"mmmm\")","v":"outubro"},{"$f":"YEAR(SPP[[#This Row],[DATA]])","v":2024}]
["31/10/2024","110","BUM - ANÔNIMO - CASCO",1292444,595184.82000000007,6116451.1900000004,6711636.0099999998,{"$f":"TEXT(SPP[[#This Row],[DATA]],\"mmmm\")","v":"outubro"},{"$f":"YEAR(SPP[[#This Row],[DATA]])","v":2024}]
["01/11/2024","80","COMUM 8 VIAGENS",39,0,251.17000000000002,251.17000000000002,{"$f":"TEXT(SPP[[#This Row],[DATA]],\"mmmm\")","v":"novembro"},{"$f":"YEAR(SPP[[#This Row],[DATA]])","v":2024}]
["02/11/2024","86","Estacionamento",9243,956.21,110195.28,111151.49,{"$f":"TEXT(SPP[[#This Row],[DATA]],\"mmmm\")","v":"novembro"},{"$f":"YEAR(SPP[[#This Row],[DATA]])","v":2024}]
["03/11/2024","110","BUM - ANÔNIMO - CASCO",1292395,595182.85,6116140.5,6711323.3499999996,{"$f":"TEXT(SPP[[#This Row],[DATA]],\"mmmm\")","v":"novembro"},{"$f":"YEAR(SPP[[#This Row],[DATA]])","v":2024}]
["04/11/2024","71","MÃE PAULISTANA",218465,316812.14,1183556.49,1500368.6300000001,{"$f":"TEXT(SPP[[#This Row],[DATA]],\"mmmm\")","v":"novembro"},{"$f":"YEAR(SPP[[#This Row],[DATA]])","v":2024}]
["05/11/2024","74","PROFESSOR",40390,2104690.27,0,2104690.27,{"$f":"TEXT(SPP[[#This Row],[DATA]],\"mmmm\")","v":"novembro"},{"$f":"YEAR(SPP[[#This Row],[DATA]])","v":2024}]
["06/11/2024","59","VT",3002569,29232679.82,14543797.51,43776477.329999998,{"$f":"TEXT(SPP[[#This Row],[DATA]],\"mmmm\")","v":"novembro"},{"$f":"YEAR(SPP[[#This Row],[DATA]])","v":2024}]
["07/11/2024","75","CARTAO FIDELIDADE",140503,0,8235450.6399999997,8235450.6399999997,{"$f":"TEXT(SPP[[#This Row],[DATA]],\"mmmm\")","v":"novembro"},{"$f":"YEAR(SPP[[#This Row],[DATA]])","v":2024}]
["09/11/2024","52","ESTUDANTE",56125,92226.38,357547.13,449773.51,{"$f":"TEXT(SPP[[#This Row],[DATA]],\"mmmm\")","v":"novembro"},{"$f":"YEAR(SPP[[#This Row],[DATA]])","v":2024}]
["09/11/2024","100","BILHETE UNICO MENSAL - CASCO",8334317,1157214736.96,204167689.88999999,1361382426.8499999,{"$f":"TEXT(SPP[[#This Row],[DATA]],\"mmmm\")","v":"novembro"},{"$f":"YEAR(SPP[[#This Row],[DATA]])","v":2024}]
["10/11/2024","110","BUM - ANÔNIMO - CASCO",1292253,595182.85,6115565.9400000004,6710748.79,{"$f":"TEXT(SPP[[#This Row],[DATA]],\"mmmm\")","v":"novembro"},{"$f":"YEAR(SPP[[#This Row],[DATA]])","v":2024}]
["11/11/2024","74","PROFESSOR",40471,2166608.0299999998,0,2166608.0299999998,{"$f":"TEXT(SPP[[#This Row],[DATA]],\"mmmm\")","v":"novembro"},{"$f":"YEAR(SPP[[#This Row],[DATA]])","v":2024}]
["12/11/2024","75","CARTAO FIDELIDADE",140639,0,8285084.0899999999,8285084.0899999999,{"$f":"TEXT(SPP[[#This Row],[DATA]],\"mmmm\")","v":"novembro"},{"$f":"YEAR(SPP[[#This Row],[DATA]])","v":2024}]
["13/11/2024","76","Lazer",462,0,11037.62,11037.62,{"$f":"TEXT(SPP[[#This Row],[DATA]],\"mmmm\")","v":"novembro"},{"$f":"YEAR(SPP[[#This Row],[DATA]])","v":2024}]
["14/11/2024","71","MÃE PAULISTANA",218952,311826.8,1200775.56,1512602.36,{"$f":"TEXT(SPP[[#This Row],[DATA]],\"mmmm\")","v":"novembro"},{"$f":"YEAR(SPP[[#This Row],[DATA]])","v":2024}]
["16/11/2024","52","ESTUDANTE",56110,93474.55,357678.34,451152.89,{"$f":"TEXT(SPP[[#This Row],[DATA]],\"mmmm\")","v":"novembro"},{"$f":"YEAR(SPP[[#This Row],[DATA]])","v":2024}]
["17/11/2024","69","VT 8VG",633,0,4936.18,4936.18,{"$f":"TEXT(SPP[[#This Row],[DATA]],\"mmmm\")","v":"novembro"},{"$f":"YEAR(SPP[[#This Row],[DATA]])","v":2024}]
["18/11/2024","51","COMUM 4 VIAGENS",6919,2730.9500000000003,24915.13,27646.080000000002,{"$f":"TEXT(SPP[[#This Row],[DATA]],\"mmmm\")","v":"novembro"},{"$f":"YEAR(SPP[[#This Row],[DATA]])","v":2024}]
["19/11/2024","52","ESTUDANTE",56101,93762.19,357863.93,451626.12,{"$f":"TEXT(SPP[[#This Row],[DATA]],\"mmmm\")","v":"novembro"},{"$f":"YEAR(SPP[[#This Row],[DATA]])","v":2024}]
["20/11/2024","51","COMUM 4 VIAGENS",6919,2730.9500000000003,24915.13,27646.080000000002,{"$f":"TEXT(SPP[[#This Row],[DATA]],\"mmmm\")","v":"novembro"},{"$f":"YEAR(SPP[[#This Row],[DATA]])","v":2024}]
["21/11/2024","51","COMUM 4 VIAGENS",6919,2730.9500000000003,24915.13,27646.080000000002,{"$f":"TEXT(SPP[[#This Row],[DATA]],\"mmmm\")","v":"novembro"},{"$f":"YEAR(SPP[[#This Row],[DATA]])","v":2024}]
["21/11/2024","86","Estacionamento",9246,956.21,110278.69,111234.90000000001,{"$f":"TEXT(SPP[[#This Row],[DATA]],\"mmmm\")","v":"novembro"},{"$f":"YEAR(SPP[[#This Row],[DATA]])","v":2024}]
["22/11/2024","75","CARTAO FIDELIDADE",140431,0,8172557.3899999997,8172557.3899999997,{"$f":"TEXT(SPP[[#This Row],[DATA]],\"mmmm\")","v":"novembro"},{"$f":"YEAR(SPP[[#This Row],[DATA]])","v":2024}]
["23/11/2024","76","Lazer",462,0,11037.62,11037.62,{"$f":"TEXT(SPP[[#This Row],[DATA]],\"mmmm\")","v":"novembro"},{"$f":"YEAR(SPP[[#This Row],[DATA]])","v":2024}]
["25/11/2024","74","PROFESSOR",40573,2129559.09,0,2129559.09,{"$f":"TEXT(SPP[[#This Row],[DATA]],\"mmmm\")","v":"novembro"},{"$f":"YEAR(SPP[[#This Row],[DATA]])","v":2024}]
["26/11/2024","59","VT",3001751,29209843.170000002,14538942.85,43748786.020000003,{"$f":"TEXT(SPP[[#This Row],[DATA]],\"mmmm\")","v":"novembro"},{"$f":"YEAR(SPP[[#This Row],[DATA]])","v":2024}]
["27/11/2024","69","VT 8VG",633,0,4936.18,4936.18,{"$f":"TEXT(SPP[[#This Row],[DATA]],\"mmmm\")","v":"novembro"},{"$f":"YEAR(SPP[[#This Row],[DATA]])","v":2024}]
["28/11/2024","76","Lazer",462,0,11037.62,11037.62,{"$f":"TEXT(SPP[[#This Row],[DATA]],\"mmmm\")","v":"novembro"},{"$f":"YEAR(SPP[[#This Row],[DATA]])","v":2024}]
["29/11/2024","59","VT",3001596,29209430.129999999,14537859.25,43747289.380000003,{"$f":"TEXT(SPP[[#This Row],[DATA]],\"mmmm\")","v":"novembro"},{"$f":"YEAR(SPP[[#This Row],[DATA]])","v":2024}]
["29/11/2024","110","BUM - ANÔNIMO - CASCO",1291812,594765.78,6113223.2599999998,6707989.04,{"$f":"TEXT(SPP[[#This Row],[DATA]],\"mmmm\")","v":"novembro"},{"$f":"YEAR(SPP[[#This Row],[DATA]])","v":2024}]
["30/11/2024","80","COMUM 8 VIAGENS",39,0,251.17000000000002,251.17000000000002,{"$f":"TEXT(SPP[[#This Row],[DATA]],\"mmmm\")","v":"novembro"},{"$f":"YEAR(SPP[[#This Row],[DATA]])","v":2024}]
["02/12/2024","59","VT",3001494,29203586.670000002,14537381.09,43740967.759999998,{"$f":"TEXT(SPP[[#This Row],[DATA]],\"mmmm\")","v":"dezembro"},{"$f":"YEAR(SPP[[#This Row],[DATA]])","v":2024}]
["03/12/2024","76","Lazer",463,0,11089.02,11089.02,{"$f":"TEXT(SPP[[#This Row],[DATA]],\"mmmm\")","v":"dezembro"},{"$f":"YEAR(SPP[[#This Row],[DATA]])","v":2024}]
["04/12/2024","80","COMUM 8 VIAGENS",39,0,251.17000000000002,251.17000000000002,{"$f":"TEXT(SPP[[#This Row],[DATA]],\"mmmm\")","v":"dezembro"},{"$f":"YEAR(SPP[[#This Row],[DATA]])","v":2024}]
["05/12/2024","74","PROFESSOR",40493,2127320.7599999998,0,2127320.7599999998,{"$f":"TEXT(SPP[[#This Row],[DATA]],\"mmmm\")","v":"dezembro"},{"$f":"YEAR(SPP[[#This Row],[DATA]])","v":2024}]
["06/12/2024","52","ESTUDANTE",56001,93906.32,357657.82,451564.14,{"$f":"TEXT(SPP[[#This Row],[DATA]],\"mmmm\")","v":"dezembro"},{"$f":"YEAR(SPP[[#This Row],[DATA]])","v":2024}]
["07/12/2024","71","MÃE PAULISTANA",219524,307553.58,1167574.3999999999,1475127.98,{"$f":"TEXT(SPP[[#This Row],[DATA]],\"mmmm\")","v":"dezembro"},{"$f":"YEAR(SPP[[#This Row],[DATA]])","v":2024}]
["08/12/2024","52","ESTUDANTE",55989,93906.32,357538.92,451445.24,{"$f":"TEXT(SPP[[#This Row],[DATA]],\"mmmm\")","v":"dezembro"},{"$f":"YEAR(SPP[[#This Row],[DATA]])","v":2024}]
["08/12/2024","100","BILHETE UNICO MENSAL - CASCO",8181194,1142520085.1800001,155260466.55000001,1297780551.73,{"$f":"TEXT(SPP[[#This Row],[DATA]],\"mmmm\")","v":"dezembro"},{"$f":"YEAR(SPP[[#This Row],[DATA]])","v":2024}]
["10/12/2024","86","Estacionamento",9247,956.21,110333.49,111289.7,{"$f":"TEXT(SPP[[#This Row],[DATA]],\"mmmm\")","v":"dezembro"},{"$f":"YEAR(SPP[[#This Row],[DATA]])","v":2024}]
["11/12/2024","86","Estacionamento",9247,956.21,110333.53,111289.74,{"$f":"TEXT(SPP[[#This Row],[DATA]],\"mmmm\")","v":"dezembro"},{"$f":"YEAR(SPP[[#This Row],[DATA]])","v":2024}]
["12/12/2024","100","BILHETE UNICO MENSAL - CASCO",8149187,1124857678.02,155908648.5,1280766326.52,{"$f":"TEXT(SPP[[#This Row],[DATA]],\"mmmm\")","v":"dezembro"},{"$f":"YEAR(SPP[[#This Row],[DATA]])","v":2024}]
["13/12/2024","76","Lazer",462,0,11049.42,11049.42,{"$f":"TEXT(SPP[[#This Row],[DATA]],\"mmmm\")","v":"dezembro"},{"$f":"YEAR(SPP[[#This Row],[DATA]])","v":2024}]
["14/12/2024","80","COMUM 8 VIAGENS",39,0,251.17000000000002,251.17000000000002,{"$f":"TEXT(SPP[[#This Row],[DATA]],\"mmmm\")","v":"dezembro"},{"$f":"YEAR(SPP[[#This Row],[DATA]])","v":2024}]
["15/12/2024","75","CARTAO FIDELIDADE",140044,0,8065451.3200000003,8065451.3200000003,{"$f":"TEXT(SPP[[#This Row],[DATA]],\"mmmm\")","v":"dezembro"},{"$f":"YEAR(SPP[[#This Row],[DATA]])","v":2024}]
["16/12/2024","69","VT 8VG",633,0,4936.18,4936.18,{"$f":"TEXT(SPP[[#This Row],[DATA]],\"mmmm\")","v":"dezembro"},{"$f":"YEAR(SPP[[#This Row],[DATA]])","v":2024}]
["17/12/2024","51","COMUM 4 VIAGENS",6914,2727.67,24904.43,27632.100000000002,{"$f":"TEXT(SPP[[#This Row],[DATA]],\"mmmm\")","v":"dezembro"},{"$f":"YEAR(SPP[[#This Row],[DATA]])","v":2024}]
["18/12/2024","69","VT 8VG",633,0,4936.18,4936.18,{"$f":"TEXT(SPP[[#This Row],[DATA]],\"mmmm\")","v":"dezembro"},{"$f":"YEAR(SPP[[#This Row],[DATA]])","v":2024}]
["19/12/2024","110","BUM - ANÔNIMO - CASCO",1291353,594765.78,6110909.1399999997,6705674.9199999999,{"$f":"TEXT(SPP[[#This Row],[DATA]],\"mmmm\")","v":"dezembro"},{"$f":"YEAR(SPP[[#This Row],[DATA]])","v":2024}]
["21/12/2024","51","COMUM 4 VIAGENS",6913,2727.67,24900.23,27627.9,{"$f":"TEXT(SPP[[#This Row],[DATA]],\"mmmm\")","v":"dezembro"},{"$f":"YEAR(SPP[[#This Row],[DATA]])","v":2024}]
["21/12/2024","86","Estacionamento",9245,956.21,110284.76000000001,111240.97,{"$f":"TEXT(SPP[[#This Row],[DATA]],\"mmmm\")","v":"dezembro"},{"$f":"YEAR(SPP[[#This Row],[DATA]])","v":2024}]
["22/12/2024","59","VT",3000678,29168827.969999999,14533054.59,43701882.560000002,{"$f":"TEXT(SPP[[#This Row],[DATA]],\"mmmm\")","v":"dezembro"},{"$f":"YEAR(SPP[[#This Row],[DATA]])","v":2024}]
["23/12/2024","80","COMUM 8 VIAGENS",39,0,251.17000000000002,251.17000000000002,{"$f":"TEXT(SPP[[#This Row],[DATA]],\"mmmm\")","v":"dezembro"},{"$f":"YEAR(SPP[[#This Row],[DATA]])","v":2024}]
["24/12/2024","74","PROFESSOR",39909,1988546.52,0,1988546.52,{"$f":"TEXT(SPP[[#This Row],[DATA]],\"mmmm\")","v":"dezembro"},{"$f":"YEAR(SPP[[#This Row],[DATA]])","v":2024}]
["25/12/2024","75","CARTAO FIDELIDADE",139688,0,7998983.7000000002,7998983.7000000002,{"$f":"TEXT(SPP[[#This Row],[DATA]],\"mmmm\")","v":"dezembro"},{"$f":"YEAR(SPP[[#This Row],[DATA]])","v":2024}]
["26/12/2024","100","BILHETE UNICO MENSAL - CASCO",8080512,1082570999.05,137600041.86000001,1220171040.9100001,{"$f":"TEXT(SPP[[#This Row],[DATA]],\"mmmm\")","v":"dezembro"},{"$f":"YEAR(SPP[[#This Row],[DATA]])","v":2024}]
["28/12/2024","52","ESTUDANTE",55904,93133.81,358408.96000000002,451542.77,{"$f":"TEXT(SPP[[#This Row],[DATA]],\"mmmm\")","v":"dezembro"},{"$f":"YEAR(SPP[[#This Row],[DATA]])","v":2024}]
["29/12/2024","59","VT",3000502,29164508.109999999,14532049.99,43696558.100000001,{"$f":"TEXT(SPP[[#This Row],[DATA]],\"mmmm\")","v":"dezembro"},{"$f":"YEAR(SPP[[#This Row],[DATA]])","v":2024}]
["30/12/2024","69","VT 8VG",633,0,4936.18,4936.18,{"$f":"TEXT(SPP[[#This Row],[DATA]],\"mmmm\")","v":"dezembro"},{"$f":"YEAR(SPP[[#This Row],[DATA]])","v":2024}]
["30/12/2024","71","MÃE PAULISTANA",220162,297127.03999999998,1141266.3600000001,1438393.4,{"$f":"TEXT(SPP[[#This Row],[DATA]],\"mmmm\")","v":"dezembro"},{"$f":"YEAR(SPP[[#This Row],[DATA]])","v":2024}]
["30/12/2024","74","PROFESSOR",39868,1999268.96,0,1999268.96,{"$f":"TEXT(SPP[[#This Row],[DATA]],\"mmmm\")","v":"dezembro"},{"$f":"YEAR(SPP[[#This Row],[DATA]])","v":2024}]
["30/12/2024","75","CARTAO FIDELIDADE",139998,0,8490054.6999999993,8490054.6999999993,{"$f":"TEXT(SPP[[#This Row],[DATA]],\"mmmm\")","v":"dezembro"},{"$f":"YEAR(SPP[[#This Row],[DATA]])","v":2024}]
["30/12/2024","76","Lazer",462,0,11049.42,11049.42,{"$f":"TEXT(SPP[[#This Row],[DATA]],\"mmmm\")","v":"dezembro"},{"$f":"YEAR(SPP[[#This Row],[DATA]])","v":2024}]
["30/12/2024","80","COMUM 8 VIAGENS",39,0,251.17000000000002,251.17000000000002,{"$f":"TEXT(SPP[[#This Row],[DATA]],\"mmmm\")","v":"dezembro"},{"$f":"YEAR(SPP[[#This Row],[DATA]])","v":2024}]
["30/12/2024","86","Estacionamento",9246,956.21,110321.33,111277.54000000001,{"$f":"TEXT(SPP[[#This Row],[DATA]],\"mmmm\")","v":"dezembro"},{"$f":"YEAR(SPP[[#This Row],[DATA]])","v":2024}]
["30/12/2024","100","BILHETE UNICO MENSAL - CASCO",8091223,1109892992.1400001,144631223.59999999,1254524215.74,{"$f":"TEXT(SPP[[#This Row],[DATA]],\"mmmm\")","v":"dezembro"},{"$f":"YEAR(SPP[[#This Row],[DATA]])","v":2024}]
["30/12/2024","110","BUM - ANÔNIMO - CASCO",1291197,594765.78,6110086.4400000004,6704852.2199999997,{"$f":"TEXT(SPP[[#This Row],[DATA]],\"mmmm\")","v":"dezembro"},{"$f":"YEAR(SPP[[#This Row],[DATA]])","v":2024}]
["31/12/2024","51","COMUM 4 VIAGENS",6912,2726.55,24898.84,27625.39,{"$f":"TEXT(SPP[[#This Row],[DATA]],\"mmmm\")","v":"dezembro"},{"$f":"YEAR(SPP[[#This Row],[DATA]])","v":2024}]
["31/12/2024","52","ESTUDANTE",55892,93133.81,358532.81,451666.62,{"$f":"TEXT(SPP[[#This Row],[DATA]],\"mmmm\")","v":"dezembro"},{"$f":"YEAR(SPP[[#This Row],[DATA]])","v":2024}]
["31/12/2024","59","VT",3000437,29164443.23,14531652.07,43696095.299999997,{"$f":"TEXT(SPP[[#This Row],[DATA]],\"mmmm\")","v":"dezembro"},{"$f":"YEAR(SPP[[#This Row],[DATA]])","v":2024}]
["31/12/2024","69","VT 8VG",633,0,4936.18,4936.18,{"$f":"TEXT(SPP[[#This Row],[DATA]],\"mmmm\")","v":"dezembro"},{"$f":"YEAR(SPP[[#This Row],[DATA]])","v":2024}]
["31/12/2024","71","MÃE PAULISTANA",220158,297556.8,1137640.99,1435197.79,{"$f":"TEXT(SPP[[#This Row],[DATA]],\"mmmm\")","v":"dezembro"},{"$f":"YEAR(SPP[[#This Row],[DATA]])","v":2024}]
["31/12/2024","74","PROFESSOR",39839,1997897.08,0,1997897.08,{"$f":"TEXT(SPP[[#This Row],[DATA]],\"mmmm\")","v":"dezembro"},{"$f":"YEAR(SPP[[#This Row],[DATA]])","v":2024}]
["31/12/2024","75","CARTAO FIDELIDADE",139959,0,8531611,8531611,{"$f":"TEXT(SPP[[#This Row],[DATA]],\"mmmm\")","v":"dezembro"},{"$f":"YEAR(SPP[[#This Row],[DATA]])","v":2024}]
["31/12/2024","76","Lazer",462,0,11049.42,11049.42,{"$f":"TEXT(SPP[[#This Row],[DATA]],\"mmmm\")","v":"dezembro"},{"$f":"YEAR(SPP[[#This Row],[DATA]])","v":2024}]
["31/12/2024","80","COMUM 8 VIAGENS",39,0,251.17000000000002,251.17000000000002,{"$f":"TEXT(SPP[[#This Row],[DATA]],\"mmmm\")","v":"dezembro"},{"$f":"YEAR(SPP[[#This Row],[DATA]])","v":2024}]
["31/12/2024","86","Estacionamento",9246,956.21,110326.33,111282.54000000001,{"$f":"TEXT(SPP[[#This Row],[DATA]],\"mmmm\")","v":"dezembro"},{"$f":"YEAR(SPP[[#This Row],[DATA]])","v":2024}]
["31/12/2024","100","BILHETE UNICO MENSAL - CASCO",8091703,1116633818.54,145400472.38,1262034290.9200001,{"$f":"TEXT(SPP[[#This Row],[DATA]],\"mmmm\")","v":"dezembro"},{"$f":"YEAR(SPP[[#This Row],[DATA]])","v":2024}]
["31/12/2024","110","BUM - ANÔNIMO - CASCO",1291193,594765.78,6110069.0599999996,6704834.8399999999,{"$f":"TEXT(SPP[[#This Row],[DATA]],\"mmmm\")","v":"dezembro"},{"$f":"YEAR(SPP[[#This Row],[DATA]])","v":2024}]
["01/01/2025","51","COMUM 4 VIAGENS",6912,2726.55,24898.84,27625.39,{"$f":"TEXT(SPP[[#This Row],[DATA]],\"mmmm\")","v":"janeiro"},{"$f":"YEAR(SPP[[#This Row],[DATA]])","v":2025}]
["01/01/2025","52","ESTUDANTE",55893,93133.81,358566.71,451700.52,{"$f":"TEXT(SPP[[#This Row],[DATA]],\"mmmm\")","v":"janeiro"},{"$f":"YEAR(SPP[[#This Row],[DATA]])","v":2025}]
["01/01/2025","59","VT",3000432,29164439.170000002,14531649.25,43696088.420000002,{"$f":"TEXT(SPP[[#This Row],[DATA]],\"mmmm\")","v":"janeiro"},{"$f":"YEAR(SPP[[#This Row],[DATA]])","v":2025}]
["01/01/2025","69","VT 8VG",633,0,4936.18,4936.18,{"$f":"TEXT(SPP[[#This Row],[DATA]],\"mmmm\")","v":"janeiro"},{"$f":"YEAR(SPP[[#This Row],[DATA]])","v":2025}]
["01/01/2025","71","MÃE PAULISTANA",220143,297707.38,1134799.1399999999,1432506.52,{"$f":"TEXT(SPP[[#This Row],[DATA]],\"mmmm\")","v":"janeiro"},{"$f":"YEAR(SPP[[#This Row],[DATA]])","v":2025}]
["01/01/2025","74","PROFESSOR",39825,1995120.8800000001,0,1995120.8800000001,{"$f":"TEXT(SPP[[#This Row],[DATA]],\"mmmm\")","v":"janeiro"},{"$f":"YEAR(SPP[[#This Row],[DATA]])","v":2025}]
["01/01/2025","75","CARTAO FIDELIDADE",139938,0,8537732.5500000007,8537732.5500000007,{"$f":"TEXT(SPP[[#This Row],[DATA]],\"mmmm\")","v":"janeiro"},{"$f":"YEAR(SPP[[#This Row],[DATA]])","v":2025}]
["01/01/2025","76","Lazer",462,0,11049.42,11049.42,{"$f":"TEXT(SPP[[#This Row],[DATA]],\"mmmm\")","v":"janeiro"},{"$f":"YEAR(SPP[[#This Row],[DATA]])","v":2025}]
["01/01/2025","80","COMUM 8 VIAGENS",39,0,251.17000000000002,251.17000000000002,{"$f":"TEXT(SPP[[#This Row],[DATA]],\"mmmm\")","v":"janeiro"},{"$f":"YEAR(SPP[[#This Row],[DATA]])","v":2025}]
["01/01/2025","86","Estacionamento",9246,956.21,110326.35,111282.56,{"$f":"TEXT(SPP[[#This Row],[DATA]],\"mmmm\")","v":"janeiro"},{"$f":"YEAR(SPP[[#This Row],[DATA]])","v":2025}]
["01/01/2025","100","BILHETE UNICO MENSAL - CASCO",8090993,1118495074.1800001,144868888.97,1263363963.1500001,{"$f":"TEXT(SPP[[#This Row],[DATA]],\"mmmm\")","v":"janeiro"},{"$f":"YEAR(SPP[[#This Row],[DATA]])","v":2025}]
["01/01/2025","110","BUM - ANÔNIMO - CASCO",1291188,594765.78,6110058.3600000003,6704824.1399999997,{"$f":"TEXT(SPP[[#This Row],[DATA]],\"mmmm\")","v":"janeiro"},{"$f":"YEAR(SPP[[#This Row],[DATA]])","v":2025}]
["02/01/2025","51","COMUM 4 VIAGENS",6912,2726.55,24898.84,27625.39,{"$f":"TEXT(SPP[[#This Row],[DATA]],\"mmmm\")","v":"janeiro"},{"$f":"YEAR(SPP[[#This Row],[DATA]])","v":2025}]
["02/01/2025","52","ESTUDANTE",55880,93133.81,358570.57,451704.38,{"$f":"TEXT(SPP[[#This Row],[DATA]],\"mmmm\")","v":"janeiro"},{"$f":"YEAR(SPP[[#This Row],[DATA]])","v":2025}]
["02/01/2025","59","VT",3000381,29155183.559999999,14531441.43,43686624.990000002,{"$f":"TEXT(SPP[[#This Row],[DATA]],\"mmmm\")","v":"janeiro"},{"$f":"YEAR(SPP[[#This Row],[DATA]])","v":2025}]
["02/01/2025","69","VT 8VG",633,0,4936.18,4936.18,{"$f":"TEXT(SPP[[#This Row],[DATA]],\"mmmm\")","v":"janeiro"},{"$f":"YEAR(SPP[[#This Row],[DATA]])","v":2025}]
["02/01/2025","71","MÃE PAULISTANA",220195,298469.76000000001,1143975.92,1442445.68,{"$f":"TEXT(SPP[[#This Row],[DATA]],\"mmmm\")","v":"janeiro"},{"$f":"YEAR(SPP[[#This Row],[DATA]])","v":2025}]
["02/01/2025","74","PROFESSOR",39814,1993888.07,0,1993888.07,{"$f":"TEXT(SPP[[#This Row],[DATA]],\"mmmm\")","v":"janeiro"},{"$f":"YEAR(SPP[[#This Row],[DATA]])","v":2025}]
["02/01/2025","75","CARTAO FIDELIDADE",140160,0,8746507.8499999996,8746507.8499999996,{"$f":"TEXT(SPP[[#This Row],[DATA]],\"mmmm\")","v":"janeiro"},{"$f":"YEAR(SPP[[#This Row],[DATA]])","v":2025}]
["02/01/2025","76","Lazer",462,0,11049.42,11049.42,{"$f":"TEXT(SPP[[#This Row],[DATA]],\"mmmm\")","v":"janeiro"},{"$f":"YEAR(SPP[[#This Row],[DATA]])","v":2025}]
["02/01/2025","80","COMUM 8 VIAGENS",39,0,251.17000000000002,251.17000000000002,{"$f":"TEXT(SPP[[#This Row],[DATA]],\"mmmm\")","v":"janeiro"},{"$f":"YEAR(SPP[[#This Row],[DATA]])","v":2025}]
["02/01/2025","86","Estacionamento",9246,956.21,110326.36,111282.57,{"$f":"TEXT(SPP[[#This Row],[DATA]],\"mmmm\")","v":"janeiro"},{"$f":"YEAR(SPP[[#This Row],[DATA]])","v":2025}]
["02/01/2025","100","BILHETE UNICO MENSAL - CASCO",8096977,1128262822.3299999,152400062.72999999,1280662885.0599999,{"$f":"TEXT(SPP[[#This Row],[DATA]],\"mmmm\")","v":"janeiro"},{"$f":"YEAR(SPP[[#This Row],[DATA]])","v":2025}]
["02/01/2025","110","BUM - ANÔNIMO - CASCO",1291154,594765.78,6109850.2400000002,6704616.0199999996,{"$f":"TEXT(SPP[[#This Row],[DATA]],\"mmmm\")","v":"janeiro"},{"$f":"YEAR(SPP[[#This Row],[DATA]])","v":2025}]
["03/01/2025","51","COMUM 4 VIAGENS",6912,2726.55,24898.84,27625.39,{"$f":"TEXT(SPP[[#This Row],[DATA]],\"mmmm\")","v":"janeiro"},{"$f":"YEAR(SPP[[#This Row],[DATA]])","v":2025}]
["03/01/2025","52","ESTUDANTE",55870,93133.81,358488.59,451622.40000000002,{"$f":"TEXT(SPP[[#This Row],[DATA]],\"mmmm\")","v":"janeiro"},{"$f":"YEAR(SPP[[#This Row],[DATA]])","v":2025}]
["03/01/2025","59","VT",3000324,29149703.68,14531138.49,43680842.170000002,{"$f":"TEXT(SPP[[#This Row],[DATA]],\"mmmm\")","v":"janeiro"},{"$f":"YEAR(SPP[[#This Row],[DATA]])","v":2025}]
["03/01/2025","69","VT 8VG",633,0,4936.18,4936.18,{"$f":"TEXT(SPP[[#This Row],[DATA]],\"mmmm\")","v":"janeiro"},{"$f":"YEAR(SPP[[#This Row],[DATA]])","v":2025}]
["03/01/2025","71","MÃE PAULISTANA",220252,299080.83,1154089.1499999999,1453169.98,{"$f":"TEXT(SPP[[#This Row],[DATA]],\"mmmm\")","v":"janeiro"},{"$f":"YEAR(SPP[[#This Row],[DATA]])","v":2025}]
["03/01/2025","74","PROFESSOR",39778,1990965.27,0,1990965.27,{"$f":"TEXT(SPP[[#This Row],[DATA]],\"mmmm\")","v":"janeiro"},{"$f":"YEAR(SPP[[#This Row],[DATA]])","v":2025}]
["03/01/2025","75","CARTAO FIDELIDADE",140379,0,8982323.8699999992,8982323.8699999992,{"$f":"TEXT(SPP[[#This Row],[DATA]],\"mmmm\")","v":"janeiro"},{"$f":"YEAR(SPP[[#This Row],[DATA]])","v":2025}]
["03/01/2025","76","Lazer",462,0,11049.42,11049.42,{"$f":"TEXT(SPP[[#This Row],[DATA]],\"mmmm\")","v":"janeiro"},{"$f":"YEAR(SPP[[#This Row],[DATA]])","v":2025}]
["03/01/2025","80","COMUM 8 VIAGENS",39,0,251.17000000000002,251.17000000000002,{"$f":"TEXT(SPP[[#This Row],[DATA]],\"mmmm\")","v":"janeiro"},{"$f":"YEAR(SPP[[#This Row],[DATA]])","v":2025}]
["03/01/2025","86","Estacionamento",9246,956.21,110336.37,111292.58,{"$f":"TEXT(SPP[[#This Row],[DATA]],\"mmmm\")","v":"janeiro"},{"$f":"YEAR(SPP[[#This Row],[DATA]])","v":2025}]
["03/01/2025","100","BILHETE UNICO MENSAL - CASCO",8102608,1140037197.8,160024230.71000001,1300061428.51,{"$f":"TEXT(SPP[[#This Row],[DATA]],\"mmmm\")","v":"janeiro"},{"$f":"YEAR(SPP[[#This Row],[DATA]])","v":2025}]
["03/01/2025","110","BUM - ANÔNIMO - CASCO",1291129,594765.78,6109755.1500000004,6704520.9299999997,{"$f":"TEXT(SPP[[#This Row],[DATA]],\"mmmm\")","v":"janeiro"},{"$f":"YEAR(SPP[[#This Row],[DATA]])","v":2025}]
["04/01/2025","51","COMUM 4 VIAGENS",6912,2726.55,24898.84,27625.39,{"$f":"TEXT(SPP[[#This Row],[DATA]],\"mmmm\")","v":"janeiro"},{"$f":"YEAR(SPP[[#This Row],[DATA]])","v":2025}]
["04/01/2025","52","ESTUDANTE",55862,93133.81,358466.46,451600.27,{"$f":"TEXT(SPP[[#This Row],[DATA]],\"mmmm\")","v":"janeiro"},{"$f":"YEAR(SPP[[#This Row],[DATA]])","v":2025}]
["04/01/2025","59","VT",3000293,29149694,14531015.32,43680709.32,{"$f":"TEXT(SPP[[#This Row],[DATA]],\"mmmm\")","v":"janeiro"},{"$f":"YEAR(SPP[[#This Row],[DATA]])","v":2025}]
["04/01/2025","69","VT 8VG",633,0,4936.18,4936.18,{"$f":"TEXT(SPP[[#This Row],[DATA]],\"mmmm\")","v":"janeiro"},{"$f":"YEAR(SPP[[#This Row],[DATA]])","v":2025}]
["04/01/2025","71","MÃE PAULISTANA",220251,299692.09000000003,1157709.24,1457401.33,{"$f":"TEXT(SPP[[#This Row],[DATA]],\"mmmm\")","v":"janeiro"},{"$f":"YEAR(SPP[[#This Row],[DATA]])","v":2025}]
["04/01/2025","74","PROFESSOR",39747,1985682.16,0,1985682.16,{"$f":"TEXT(SPP[[#This Row],[DATA]],\"mmmm\")","v":"janeiro"},{"$f":"YEAR(SPP[[#This Row],[DATA]])","v":2025}]
["04/01/2025","75","CARTAO FIDELIDADE",140480,0,9089884.2699999996,9089884.2699999996,{"$f":"TEXT(SPP[[#This Row],[DATA]],\"mmmm\")","v":"janeiro"},{"$f":"YEAR(SPP[[#This Row],[DATA]])","v":2025}]
["04/01/2025","76","Lazer",462,0,11049.42,11049.42,{"$f":"TEXT(SPP[[#This Row],[DATA]],\"mmmm\")","v":"janeiro"},{"$f":"YEAR(SPP[[#This Row],[DATA]])","v":2025}]
["04/01/2025","80","COMUM 8 VIAGENS",39,0,251.17000000000002,251.17000000000002,{"$f":"TEXT(SPP[[#This Row],[DATA]],\"mmmm\")","v":"janeiro"},{"$f":"YEAR(SPP[[#This Row],[DATA]])","v":2025}]
["04/01/2025","86","Estacionamento",9246,956.21,110336.37,111292.58,{"$f":"TEXT(SPP[[#This Row],[DATA]],\"mmmm\")","v":"janeiro"},{"$f":"YEAR(SPP[[#This Row],[DATA]])","v":2025}]
["04/01/2025","100","BILHETE UNICO MENSAL - CASCO",8105993,1146309779.77,165583457.94,1311893237.71,{"$f":"TEXT(SPP[[#This Row],[DATA]],\"mmmm\")","v":"janeiro"},{"$f":"YEAR(SPP[[#This Row],[DATA]])","v":2025}]
["04/01/2025","110","BUM - ANÔNIMO - CASCO",1291103,594765.78,6109635.8499999996,6704401.6299999999,{"$f":"TEXT(SPP[[#This Row],[DATA]],\"mmmm\")","v":"janeiro"},{"$f":"YEAR(SPP[[#This Row],[DATA]])","v":2025}]
["05/01/2025","51","COMUM 4 VIAGENS",6912,2726.55,24898.84,27625.39,{"$f":"TEXT(SPP[[#This Row],[DATA]],\"mmmm\")","v":"janeiro"},{"$f":"YEAR(SPP[[#This Row],[DATA]])","v":2025}]
["05/01/2025","52","ESTUDANTE",55857,93133.81,358458.01,451591.82,{"$f":"TEXT(SPP[[#This Row],[DATA]],\"mmmm\")","v":"janeiro"},{"$f":"YEAR(SPP[[#This Row],[DATA]])","v":2025}]
["05/01/2025","59","VT",3000277,29149691.120000001,14530889.119999999,43680580.240000002,{"$f":"TEXT(SPP[[#This Row],[DATA]],\"mmmm\")","v":"janeiro"},{"$f":"YEAR(SPP[[#This Row],[DATA]])","v":2025}]
["05/01/2025","69","VT 8VG",633,0,4936.18,4936.18,{"$f":"TEXT(SPP[[#This Row],[DATA]],\"mmmm\")","v":"janeiro"},{"$f":"YEAR(SPP[[#This Row],[DATA]])","v":2025}]
["05/01/2025","71","MÃE PAULISTANA",220241,299694.55,1163690.68,1463385.23,{"$f":"TEXT(SPP[[#This Row],[DATA]],\"mmmm\")","v":"janeiro"},{"$f":"YEAR(SPP[[#This Row],[DATA]])","v":2025}]
["05/01/2025","74","PROFESSOR",39720,1982004.75,0,1982004.75,{"$f":"TEXT(SPP[[#This Row],[DATA]],\"mmmm\")","v":"janeiro"},{"$f":"YEAR(SPP[[#This Row],[DATA]])","v":2025}]
["05/01/2025","75","CARTAO FIDELIDADE",140593,0,9251668.5700000003,9251668.5700000003,{"$f":"TEXT(SPP[[#This Row],[DATA]],\"mmmm\")","v":"janeiro"},{"$f":"YEAR(SPP[[#This Row],[DATA]])","v":2025}]
["05/01/2025","76","Lazer",462,0,11049.42,11049.42,{"$f":"TEXT(SPP[[#This Row],[DATA]],\"mmmm\")","v":"janeiro"},{"$f":"YEAR(SPP[[#This Row],[DATA]])","v":2025}]
["05/01/2025","80","COMUM 8 VIAGENS",39,0,251.17000000000002,251.17000000000002,{"$f":"TEXT(SPP[[#This Row],[DATA]],\"mmmm\")","v":"janeiro"},{"$f":"YEAR(SPP[[#This Row],[DATA]])","v":2025}]
["05/01/2025","86","Estacionamento",9246,956.21,110336.37,111292.58,{"$f":"TEXT(SPP[[#This Row],[DATA]],\"mmmm\")","v":"janeiro"},{"$f":"YEAR(SPP[[#This Row],[DATA]])","v":2025}]
["05/01/2025","100","BILHETE UNICO MENSAL - CASCO",8107550,1148484495.26,170962914.5,1319447409.76,{"$f":"TEXT(SPP[[#This Row],[DATA]],\"mmmm\")","v":"janeiro"},{"$f":"YEAR(SPP[[#This Row],[DATA]])","v":2025}]
["05/01/2025","110","BUM - ANÔNIMO - CASCO",1291091,594765.78,6109603.1900000004,6704368.9699999997,{"$f":"TEXT(SPP[[#This Row],[DATA]],\"mmmm\")","v":"janeiro"},{"$f":"YEAR(SPP[[#This Row],[DATA]])","v":2025}]
["06/01/2025","51","COMUM 4 VIAGENS",6912,2726.55,24898.84,27625.39,{"$f":"TEXT(SPP[[#This Row],[DATA]],\"mmmm\")","v":"janeiro"},{"$f":"YEAR(SPP[[#This Row],[DATA]])","v":2025}]
["06/01/2025","52","ESTUDANTE",55843,93133.81,358350.26,451484.07,{"$f":"TEXT(SPP[[#This Row],[DATA]],\"mmmm\")","v":"janeiro"},{"$f":"YEAR(SPP[[#This Row],[DATA]])","v":2025}]
["06/01/2025","59","VT",3000210,29147496.5,14530407.300000001,43677903.799999997,{"$f":"TEXT(SPP[[#This Row],[DATA]],\"mmmm\")","v":"janeiro"},{"$f":"YEAR(SPP[[#This Row],[DATA]])","v":2025}]
["06/01/2025","69","VT 8VG",633,0,4936.18,4936.18,{"$f":"TEXT(SPP[[#This Row],[DATA]],\"mmmm\")","v":"janeiro"},{"$f":"YEAR(SPP[[#This Row],[DATA]])","v":2025}]
["06/01/2025","71","MÃE PAULISTANA",220337,300485.01,1179377.93,1479862.94,{"$f":"TEXT(SPP[[#This Row],[DATA]],\"mmmm\")","v":"janeiro"},{"$f":"YEAR(SPP[[#This Row],[DATA]])","v":2025}]
["06/01/2025","74","PROFESSOR",39696,1978745.07,0,1978745.07,{"$f":"TEXT(SPP[[#This Row],[DATA]],\"mmmm\")","v":"janeiro"},{"$f":"YEAR(SPP[[#This Row],[DATA]])","v":2025}]
["06/01/2025","75","CARTAO FIDELIDADE",140836,0,9330445.0700000003,9330445.0700000003,{"$f":"TEXT(SPP[[#This Row],[DATA]],\"mmmm\")","v":"janeiro"},{"$f":"YEAR(SPP[[#This Row],[DATA]])","v":2025}]
["06/01/2025","76","Lazer",462,0,11049.42,11049.42,{"$f":"TEXT(SPP[[#This Row],[DATA]],\"mmmm\")","v":"janeiro"},{"$f":"YEAR(SPP[[#This Row],[DATA]])","v":2025}]
["06/01/2025","80","COMUM 8 VIAGENS",39,0,251.17000000000002,251.17000000000002,{"$f":"TEXT(SPP[[#This Row],[DATA]],\"mmmm\")","v":"janeiro"},{"$f":"YEAR(SPP[[#This Row],[DATA]])","v":2025}]
["06/01/2025","86","Estacionamento",9246,956.21,110336.37,111292.58,{"$f":"TEXT(SPP[[#This Row],[DATA]],\"mmmm\")","v":"janeiro"},{"$f":"YEAR(SPP[[#This Row],[DATA]])","v":2025}]
["06/01/2025","100","BILHETE UNICO MENSAL - CASCO",8116310,1153839055.5599999,181139193.55000001,1334978249.1099999,{"$f":"TEXT(SPP[[#This Row],[DATA]],\"mmmm\")","v":"janeiro"},{"$f":"YEAR(SPP[[#This Row],[DATA]])","v":2025}]
["06/01/2025","110","BUM - ANÔNIMO - CASCO",1291047,594765.78,6109431.29,6704197.0700000003,{"$f":"TEXT(SPP[[#This Row],[DATA]],\"mmmm\")","v":"janeiro"},{"$f":"YEAR(SPP[[#This Row],[DATA]])","v":2025}]
["07/01/2025","51","COMUM 4 VIAGENS",6912,2726.55,24898.84,27625.39,{"$f":"TEXT(SPP[[#This Row],[DATA]],\"mmmm\")","v":"janeiro"},{"$f":"YEAR(SPP[[#This Row],[DATA]])","v":2025}]
["07/01/2025","52","ESTUDANTE",55824,93133.81,358357.22000000003,451491.03,{"$f":"TEXT(SPP[[#This Row],[DATA]],\"mmmm\")","v":"janeiro"},{"$f":"YEAR(SPP[[#This Row],[DATA]])","v":2025}]
["07/01/2025","59","VT",3000165,29147382.440000001,14530091.449999999,43677473.890000001,{"$f":"TEXT(SPP[[#This Row],[DATA]],\"mmmm\")","v":"janeiro"},{"$f":"YEAR(SPP[[#This Row],[DATA]])","v":2025}]
["07/01/2025","69","VT 8VG",633,0,4936.18,4936.18,{"$f":"TEXT(SPP[[#This Row],[DATA]],\"mmmm\")","v":"janeiro"},{"$f":"YEAR(SPP[[#This Row],[DATA]])","v":2025}]
["07/01/2025","71","MÃE PAULISTANA",220402,300689.51,1186575.49,1487265,{"$f":"TEXT(SPP[[#This Row],[DATA]],\"mmmm\")","v":"janeiro"},{"$f":"YEAR(SPP[[#This Row],[DATA]])","v":2025}]
["07/01/2025","74","PROFESSOR",39639,1970625.37,0,1970625.37,{"$f":"TEXT(SPP[[#This Row],[DATA]],\"mmmm\")","v":"janeiro"},{"$f":"YEAR(SPP[[#This Row],[DATA]])","v":2025}]
["07/01/2025","75","CARTAO FIDELIDADE",140933,0,9409258.1999999993,9409258.1999999993,{"$f":"TEXT(SPP[[#This Row],[DATA]],\"mmmm\")","v":"janeiro"},{"$f":"YEAR(SPP[[#This Row],[DATA]])","v":2025}]
["07/01/2025","76","Lazer",462,0,11049.42,11049.42,{"$f":"TEXT(SPP[[#This Row],[DATA]],\"mmmm\")","v":"janeiro"},{"$f":"YEAR(SPP[[#This Row],[DATA]])","v":2025}]
["07/01/2025","80","COMUM 8 VIAGENS",38,0,249.3,249.3,{"$f":"TEXT(SPP[[#This Row],[DATA]],\"mmmm\")","v":"janeiro"},{"$f":"YEAR(SPP[[#This Row],[DATA]])","v":2025}]
["07/01/2025","86","Estacionamento",9246,956.21,110336.37,111292.58,{"$f":"TEXT(SPP[[#This Row],[DATA]],\"mmmm\")","v":"janeiro"},{"$f":"YEAR(SPP[[#This Row],[DATA]])","v":2025}]
["07/01/2025","100","BILHETE UNICO MENSAL - CASCO",8122182,1155723760.1199999,185938259.22,1341662019.3399999,{"$f":"TEXT(SPP[[#This Row],[DATA]],\"mmmm\")","v":"janeiro"},{"$f":"YEAR(SPP[[#This Row],[DATA]])","v":2025}]
["07/01/2025","110","BUM - ANÔNIMO - CASCO",1291010,594765.78,6109254.6500000004,6704020.4299999997,{"$f":"TEXT(SPP[[#This Row],[DATA]],\"mmmm\")","v":"janeiro"},{"$f":"YEAR(SPP[[#This Row],[DATA]])","v":2025}]
["08/01/2025","51","COMUM 4 VIAGENS",6911,2722.76,24897.34,27620.100000000002,{"$f":"TEXT(SPP[[#This Row],[DATA]],\"mmmm\")","v":"janeiro"},{"$f":"YEAR(SPP[[#This Row],[DATA]])","v":2025}]
["08/01/2025","52","ESTUDANTE",55819,93133.52,358440.63,451574.15,{"$f":"TEXT(SPP[[#This Row],[DATA]],\"mmmm\")","v":"janeiro"},{"$f":"YEAR(SPP[[#This Row],[DATA]])","v":2025}]
["08/01/2025","59","VT",3000115,29145779.09,14529459.869999999,43675238.960000001,{"$f":"TEXT(SPP[[#This Row],[DATA]],\"mmmm\")","v":"janeiro"},{"$f":"YEAR(SPP[[#This Row],[DATA]])","v":2025}]
["08/01/2025","69","VT 8VG",633,0,4936.18,4936.18,{"$f":"TEXT(SPP[[#This Row],[DATA]],\"mmmm\")","v":"janeiro"},{"$f":"YEAR(SPP[[#This Row],[DATA]])","v":2025}]
["08/01/2025","71","MÃE PAULISTANA",220420,300896.49,1189953.5,1490849.99,{"$f":"TEXT(SPP[[#This Row],[DATA]],\"mmmm\")","v":"janeiro"},{"$f":"YEAR(SPP[[#This Row],[DATA]])","v":2025}]
["08/01/2025","74","PROFESSOR",39588,1963060.73,0,1963060.73,{"$f":"TEXT(SPP[[#This Row],[DATA]],\"mmmm\")","v":"janeiro"},{"$f":"YEAR(SPP[[#This Row],[DATA]])","v":2025}]
["08/01/2025","75","CARTAO FIDELIDADE",141078,0,9427134.5600000005,9427134.5600000005,{"$f":"TEXT(SPP[[#This Row],[DATA]],\"mmmm\")","v":"janeiro"},{"$f":"YEAR(SPP[[#This Row],[DATA]])","v":2025}]
["08/01/2025","76","Lazer",462,0,11049.42,11049.42,{"$f":"TEXT(SPP[[#This Row],[DATA]],\"mmmm\")","v":"janeiro"},{"$f":"YEAR(SPP[[#This Row],[DATA]])","v":2025}]
["08/01/2025","80","COMUM 8 VIAGENS",38,0,249.3,249.3,{"$f":"TEXT(SPP[[#This Row],[DATA]],\"mmmm\")","v":"janeiro"},{"$f":"YEAR(SPP[[#This Row],[DATA]])","v":2025}]
["08/01/2025","86","Estacionamento",9246,956.21,110336.37,111292.58,{"$f":"TEXT(SPP[[#This Row],[DATA]],\"mmmm\")","v":"janeiro"},{"$f":"YEAR(SPP[[#This Row],[DATA]])","v":2025}]
["08/01/2025","100","BILHETE UNICO MENSAL - CASCO",8127352,1153115575.8699999,188488919.16999999,1341604495.04,{"$f":"TEXT(SPP[[#This Row],[DATA]],\"mmmm\")","v":"janeiro"},{"$f":"YEAR(SPP[[#This Row],[DATA]])","v":2025}]
["08/01/2025","110","BUM - ANÔNIMO - CASCO",1290990,594765.78,6109150.71,6703916.4900000002,{"$f":"TEXT(SPP[[#This Row],[DATA]],\"mmmm\")","v":"janeiro"},{"$f":"YEAR(SPP[[#This Row],[DATA]])","v":2025}]
["09/01/2025","51","COMUM 4 VIAGENS",6910,2722.76,24892.27,27615.03,{"$f":"TEXT(SPP[[#This Row],[DATA]],\"mmmm\")","v":"janeiro"},{"$f":"YEAR(SPP[[#This Row],[DATA]])","v":2025}]
["09/01/2025","52","ESTUDANTE",55815,93133.52,358532,451665.52,{"$f":"TEXT(SPP[[#This Row],[DATA]],\"mmmm\")","v":"janeiro"},{"$f":"YEAR(SPP[[#This Row],[DATA]])","v":2025}]
["09/01/2025","59","VT",3000051,29144696.219999999,14529189.26,43673885.479999997,{"$f":"TEXT(SPP[[#This Row],[DATA]],\"mmmm\")","v":"janeiro"},{"$f":"YEAR(SPP[[#This Row],[DATA]])","v":2025}]
["09/01/2025","69","VT 8VG",633,0,4936.18,4936.18,{"$f":"TEXT(SPP[[#This Row],[DATA]],\"mmmm\")","v":"janeiro"},{"$f":"YEAR(SPP[[#This Row],[DATA]])","v":2025}]
["09/01/2025","71","MÃE PAULISTANA",220463,301007.85000000003,1192548.78,1493556.6300000001,{"$f":"TEXT(SPP[[#This Row],[DATA]],\"mmmm\")","v":"janeiro"},{"$f":"YEAR(SPP[[#This Row],[DATA]])","v":2025}]
["09/01/2025","74","PROFESSOR",39545,1955861.54,0,1955861.54,{"$f":"TEXT(SPP[[#This Row],[DATA]],\"mmmm\")","v":"janeiro"},{"$f":"YEAR(SPP[[#This Row],[DATA]])","v":2025}]
["09/01/2025","75","CARTAO FIDELIDADE",141121,0,9419818.7300000004,9419818.7300000004,{"$f":"TEXT(SPP[[#This Row],[DATA]],\"mmmm\")","v":"janeiro"},{"$f":"YEAR(SPP[[#This Row],[DATA]])","v":2025}]
["09/01/2025","76","Lazer",462,0,11049.42,11049.42,{"$f":"TEXT(SPP[[#This Row],[DATA]],\"mmmm\")","v":"janeiro"},{"$f":"YEAR(SPP[[#This Row],[DATA]])","v":2025}]
["09/01/2025","80","COMUM 8 VIAGENS",38,0,249.3,249.3,{"$f":"TEXT(SPP[[#This Row],[DATA]],\"mmmm\")","v":"janeiro"},{"$f":"YEAR(SPP[[#This Row],[DATA]])","v":2025}]
["09/01/2025","86","Estacionamento",9246,956.21,110336.37,111292.58,{"$f":"TEXT(SPP[[#This Row],[DATA]],\"mmmm\")","v":"janeiro"},{"$f":"YEAR(SPP[[#This Row],[DATA]])","v":2025}]
["09/01/2025","100","BILHETE UNICO MENSAL - CASCO",8131496,1148584673.6300001,188650469.84999999,1337235143.48,{"$f":"TEXT(SPP[[#This Row],[DATA]],\"mmmm\")","v":"janeiro"},{"$f":"YEAR(SPP[[#This Row],[DATA]])","v":2025}]
["09/01/2025","110","BUM - ANÔNIMO - CASCO",1290960,594765.78,6109054.8499999996,6703820.6299999999,{"$f":"TEXT(SPP[[#This Row],[DATA]],\"mmmm\")","v":"janeiro"},{"$f":"YEAR(SPP[[#This Row],[DATA]])","v":2025}]
["10/01/2025","51","COMUM 4 VIAGENS",6908,2722.76,24885.170000000002,27607.93,{"$f":"TEXT(SPP[[#This Row],[DATA]],\"mmmm\")","v":"janeiro"},{"$f":"YEAR(SPP[[#This Row],[DATA]])","v":2025}]
["10/01/2025","52","ESTUDANTE",55804,93133.52,358489.8,451623.32,{"$f":"TEXT(SPP[[#This Row],[DATA]],\"mmmm\")","v":"janeiro"},{"$f":"YEAR(SPP[[#This Row],[DATA]])","v":2025}]
["10/01/2025","59","VT",2999832,29131890.699999999,14527932.1,43659822.799999997,{"$f":"TEXT(SPP[[#This Row],[DATA]],\"mmmm\")","v":"janeiro"},{"$f":"YEAR(SPP[[#This Row],[DATA]])","v":2025}]
["10/01/2025","69","VT 8VG",633,0,4936.18,4936.18,{"$f":"TEXT(SPP[[#This Row],[DATA]],\"mmmm\")","v":"janeiro"},{"$f":"YEAR(SPP[[#This Row],[DATA]])","v":2025}]
["10/01/2025","71","MÃE PAULISTANA",220384,300530.86,1186342.49,1486873.35,{"$f":"TEXT(SPP[[#This Row],[DATA]],\"mmmm\")","v":"janeiro"},{"$f":"YEAR(SPP[[#This Row],[DATA]])","v":2025}]
["10/01/2025","74","PROFESSOR",39503,1948721.28,0,1948721.28,{"$f":"TEXT(SPP[[#This Row],[DATA]],\"mmmm\")","v":"janeiro"},{"$f":"YEAR(SPP[[#This Row],[DATA]])","v":2025}]
["10/01/2025","75","CARTAO FIDELIDADE",141117,0,9383478.5,9383478.5,{"$f":"TEXT(SPP[[#This Row],[DATA]],\"mmmm\")","v":"janeiro"},{"$f":"YEAR(SPP[[#This Row],[DATA]])","v":2025}]
["10/01/2025","76","Lazer",460,0,10985.22,10985.22,{"$f":"TEXT(SPP[[#This Row],[DATA]],\"mmmm\")","v":"janeiro"},{"$f":"YEAR(SPP[[#This Row],[DATA]])","v":2025}]
["10/01/2025","80","COMUM 8 VIAGENS",38,0,249.3,249.3,{"$f":"TEXT(SPP[[#This Row],[DATA]],\"mmmm\")","v":"janeiro"},{"$f":"YEAR(SPP[[#This Row],[DATA]])","v":2025}]
["10/01/2025","86","Estacionamento",9246,956.21,110336.37,111292.58,{"$f":"TEXT(SPP[[#This Row],[DATA]],\"mmmm\")","v":"janeiro"},{"$f":"YEAR(SPP[[#This Row],[DATA]])","v":2025}]
["10/01/2025","100","BILHETE UNICO MENSAL - CASCO",8134103,1143158451.7,187064626.88999999,1330223078.5899999,{"$f":"TEXT(SPP[[#This Row],[DATA]],\"mmmm\")","v":"janeiro"},{"$f":"YEAR(SPP[[#This Row],[DATA]])","v":2025}]
["10/01/2025","110","BUM - ANÔNIMO - CASCO",1290860,594765.78,6108355.8099999996,6703121.5899999999,{"$f":"TEXT(SPP[[#This Row],[DATA]],\"mmmm\")","v":"janeiro"},{"$f":"YEAR(SPP[[#This Row],[DATA]])","v":2025}]
["11/01/2025","51","COMUM 4 VIAGENS",6907,2722.76,24876.68,27599.440000000002,{"$f":"TEXT(SPP[[#This Row],[DATA]],\"mmmm\")","v":"janeiro"},{"$f":"YEAR(SPP[[#This Row],[DATA]])","v":2025}]
["11/01/2025","52","ESTUDANTE",55800,93132.62,358448.61,451581.23,{"$f":"TEXT(SPP[[#This Row],[DATA]],\"mmmm\")","v":"janeiro"},{"$f":"YEAR(SPP[[#This Row],[DATA]])","v":2025}]
["11/01/2025","59","VT",2999798,29129812.23,14527742.390000001,43657554.619999997,{"$f":"TEXT(SPP[[#This Row],[DATA]],\"mmmm\")","v":"janeiro"},{"$f":"YEAR(SPP[[#This Row],[DATA]])","v":2025}]
["11/01/2025","69","VT 8VG",633,0,4936.18,4936.18,{"$f":"TEXT(SPP[[#This Row],[DATA]],\"mmmm\")","v":"janeiro"},{"$f":"YEAR(SPP[[#This Row],[DATA]])","v":2025}]
["11/01/2025","71","MÃE PAULISTANA",220370,301135.78000000003,1180918.75,1482054.53,{"$f":"TEXT(SPP[[#This Row],[DATA]],\"mmmm\")","v":"janeiro"},{"$f":"YEAR(SPP[[#This Row],[DATA]])","v":2025}]
["11/01/2025","74","PROFESSOR",39450,1941571.29,0,1941571.29,{"$f":"TEXT(SPP[[#This Row],[DATA]],\"mmmm\")","v":"janeiro"},{"$f":"YEAR(SPP[[#This Row],[DATA]])","v":2025}]
["11/01/2025","75","CARTAO FIDELIDADE",140987,0,9307431.6999999993,9307431.6999999993,{"$f":"TEXT(SPP[[#This Row],[DATA]],\"mmmm\")","v":"janeiro"},{"$f":"YEAR(SPP[[#This Row],[DATA]])","v":2025}]
["11/01/2025","76","Lazer",460,0,10985.22,10985.22,{"$f":"TEXT(SPP[[#This Row],[DATA]],\"mmmm\")","v":"janeiro"},{"$f":"YEAR(SPP[[#This Row],[DATA]])","v":2025}]
["11/01/2025","80","COMUM 8 VIAGENS",38,0,249.3,249.3,{"$f":"TEXT(SPP[[#This Row],[DATA]],\"mmmm\")","v":"janeiro"},{"$f":"YEAR(SPP[[#This Row],[DATA]])","v":2025}]
["11/01/2025","86","Estacionamento",9245,956.21,110333.87,111290.08,{"$f":"TEXT(SPP[[#This Row],[DATA]],\"mmmm\")","v":"janeiro"},{"$f":"YEAR(SPP[[#This Row],[DATA]])","v":2025}]
["11/01/2025","100","BILHETE UNICO MENSAL - CASCO",8136249,1138076202.27,184692275.19,1322768477.46,{"$f":"TEXT(SPP[[#This Row],[DATA]],\"mmmm\")","v":"janeiro"},{"$f":"YEAR(SPP[[#This Row],[DATA]])","v":2025}]
["11/01/2025","110","BUM - ANÔNIMO - CASCO",1290840,594765.78,6108200.6500000004,6702966.4299999997,{"$f":"TEXT(SPP[[#This Row],[DATA]],\"mmmm\")","v":"janeiro"},{"$f":"YEAR(SPP[[#This Row],[DATA]])","v":2025}]
["12/01/2025","51","COMUM 4 VIAGENS",6907,2722.76,24876.68,27599.440000000002,{"$f":"TEXT(SPP[[#This Row],[DATA]],\"mmmm\")","v":"janeiro"},{"$f":"YEAR(SPP[[#This Row],[DATA]])","v":2025}]
["12/01/2025","52","ESTUDANTE",55797,93132.62,358414.18,451546.8,{"$f":"TEXT(SPP[[#This Row],[DATA]],\"mmmm\")","v":"janeiro"},{"$f":"YEAR(SPP[[#This Row],[DATA]])","v":2025}]
["12/01/2025","59","VT",2999787,29129805.109999999,14527711.890000001,43657517,{"$f":"TEXT(SPP[[#This Row],[DATA]],\"mmmm\")","v":"janeiro"},{"$f":"YEAR(SPP[[#This Row],[DATA]])","v":2025}]
["12/01/2025","69","VT 8VG",633,0,4936.18,4936.18,{"$f":"TEXT(SPP[[#This Row],[DATA]],\"mmmm\")","v":"janeiro"},{"$f":"YEAR(SPP[[#This Row],[DATA]])","v":2025}]
["12/01/2025","71","MÃE PAULISTANA",220350,300785.38,1176370.97,1477156.35,{"$f":"TEXT(SPP[[#This Row],[DATA]],\"mmmm\")","v":"janeiro"},{"$f":"YEAR(SPP[[#This Row],[DATA]])","v":2025}]
["12/01/2025","74","PROFESSOR",39424,1937009.69,0,1937009.69,{"$f":"TEXT(SPP[[#This Row],[DATA]],\"mmmm\")","v":"janeiro"},{"$f":"YEAR(SPP[[#This Row],[DATA]])","v":2025}]
["12/01/2025","75","CARTAO FIDELIDADE",140950,0,9287118.8100000005,9287118.8100000005,{"$f":"TEXT(SPP[[#This Row],[DATA]],\"mmmm\")","v":"janeiro"},{"$f":"YEAR(SPP[[#This Row],[DATA]])","v":2025}]
["12/01/2025","76","Lazer",460,0,10985.22,10985.22,{"$f":"TEXT(SPP[[#This Row],[DATA]],\"mmmm\")","v":"janeiro"},{"$f":"YEAR(SPP[[#This Row],[DATA]])","v":2025}]
["12/01/2025","80","COMUM 8 VIAGENS",38,0,249.3,249.3,{"$f":"TEXT(SPP[[#This Row],[DATA]],\"mmmm\")","v":"janeiro"},{"$f":"YEAR(SPP[[#This Row],[DATA]])","v":2025}]
["12/01/2025","86","Estacionamento",9245,956.21,110333.87,111290.08,{"$f":"TEXT(SPP[[#This Row],[DATA]],\"mmmm\")","v":"janeiro"},{"$f":"YEAR(SPP[[#This Row],[DATA]])","v":2025}]
["12/01/2025","100","BILHETE UNICO MENSAL - CASCO",8135662,1135325722.0799999,182832726.50999999,1318158448.5899999,{"$f":"TEXT(SPP[[#This Row],[DATA]],\"mmmm\")","v":"janeiro"},{"$f":"YEAR(SPP[[#This Row],[DATA]])","v":2025}]
["12/01/2025","110","BUM - ANÔNIMO - CASCO",1290833,594765.78,6108170.6600000001,6702936.4400000004,{"$f":"TEXT(SPP[[#This Row],[DATA]],\"mmmm\")","v":"janeiro"},{"$f":"YEAR(SPP[[#This Row],[DATA]])","v":2025}]
["13/01/2025","51","COMUM 4 VIAGENS",6907,2722.76,24876.68,27599.440000000002,{"$f":"TEXT(SPP[[#This Row],[DATA]],\"mmmm\")","v":"janeiro"},{"$f":"YEAR(SPP[[#This Row],[DATA]])","v":2025}]
["13/01/2025","52","ESTUDANTE",55788,93131.62,358342.82,451474.44,{"$f":"TEXT(SPP[[#This Row],[DATA]],\"mmmm\")","v":"janeiro"},{"$f":"YEAR(SPP[[#This Row],[DATA]])","v":2025}]
["13/01/2025","59","VT",2999731,29126525.379999999,14527196.66,43653722.039999999,{"$f":"TEXT(SPP[[#This Row],[DATA]],\"mmmm\")","v":"janeiro"},{"$f":"YEAR(SPP[[#This Row],[DATA]])","v":2025}]
["13/01/2025","69","VT 8VG",633,0,4936.18,4936.18,{"$f":"TEXT(SPP[[#This Row],[DATA]],\"mmmm\")","v":"janeiro"},{"$f":"YEAR(SPP[[#This Row],[DATA]])","v":2025}]
["13/01/2025","71","MÃE PAULISTANA",220408,300484.76,1184563.58,1485048.34,{"$f":"TEXT(SPP[[#This Row],[DATA]],\"mmmm\")","v":"janeiro"},{"$f":"YEAR(SPP[[#This Row],[DATA]])","v":2025}]
["13/01/2025","74","PROFESSOR",39401,1934372.51,0,1934372.51,{"$f":"TEXT(SPP[[#This Row],[DATA]],\"mmmm\")","v":"janeiro"},{"$f":"YEAR(SPP[[#This Row],[DATA]])","v":2025}]
["13/01/2025","75","CARTAO FIDELIDADE",141193,0,9375455.4100000001,9375455.4100000001,{"$f":"TEXT(SPP[[#This Row],[DATA]],\"mmmm\")","v":"janeiro"},{"$f":"YEAR(SPP[[#This Row],[DATA]])","v":2025}]
["13/01/2025","76","Lazer",460,0,10985.22,10985.22,{"$f":"TEXT(SPP[[#This Row],[DATA]],\"mmmm\")","v":"janeiro"},{"$f":"YEAR(SPP[[#This Row],[DATA]])","v":2025}]
["13/01/2025","80","COMUM 8 VIAGENS",38,0,249.3,249.3,{"$f":"TEXT(SPP[[#This Row],[DATA]],\"mmmm\")","v":"janeiro"},{"$f":"YEAR(SPP[[#This Row],[DATA]])","v":2025}]
["13/01/2025","86","Estacionamento",9245,956.21,110335.87,111292.08,{"$f":"TEXT(SPP[[#This Row],[DATA]],\"mmmm\")","v":"janeiro"},{"$f":"YEAR(SPP[[#This Row],[DATA]])","v":2025}]
["13/01/2025","100","BILHETE UNICO MENSAL - CASCO",8142274,1133285358.1700001,187336591.12,1320621949.29,{"$f":"TEXT(SPP[[#This Row],[DATA]],\"mmmm\")","v":"janeiro"},{"$f":"YEAR(SPP[[#This Row],[DATA]])","v":2025}]
["13/01/2025","110","BUM - ANÔNIMO - CASCO",1290793,594765.78,6107907.1600000001,6702672.9400000004,{"$f":"TEXT(SPP[[#This Row],[DATA]],\"mmmm\")","v":"janeiro"},{"$f":"YEAR(SPP[[#This Row],[DATA]])","v":2025}]
["14/01/2025","51","COMUM 4 VIAGENS",6907,2722.76,24876.68,27599.440000000002,{"$f":"TEXT(SPP[[#This Row],[DATA]],\"mmmm\")","v":"janeiro"},{"$f":"YEAR(SPP[[#This Row],[DATA]])","v":2025}]
["14/01/2025","52","ESTUDANTE",55777,93130.27,358384.65,451514.92,{"$f":"TEXT(SPP[[#This Row],[DATA]],\"mmmm\")","v":"janeiro"},{"$f":"YEAR(SPP[[#This Row],[DATA]])","v":2025}]
["14/01/2025","59","VT",2999682,29125698.43,14527008.029999999,43652706.460000001,{"$f":"TEXT(SPP[[#This Row],[DATA]],\"mmmm\")","v":"janeiro"},{"$f":"YEAR(SPP[[#This Row],[DATA]])","v":2025}]
["14/01/2025","69","VT 8VG",633,0,4936.18,4936.18,{"$f":"TEXT(SPP[[#This Row],[DATA]],\"mmmm\")","v":"janeiro"},{"$f":"YEAR(SPP[[#This Row],[DATA]])","v":2025}]
["14/01/2025","71","MÃE PAULISTANA",220453,301591.92,1184937.1299999999,1486529.05,{"$f":"TEXT(SPP[[#This Row],[DATA]],\"mmmm\")","v":"janeiro"},{"$f":"YEAR(SPP[[#This Row],[DATA]])","v":2025}]
["14/01/2025","74","PROFESSOR",39364,1927314.48,0,1927314.48,{"$f":"TEXT(SPP[[#This Row],[DATA]],\"mmmm\")","v":"janeiro"},{"$f":"YEAR(SPP[[#This Row],[DATA]])","v":2025}]
["14/01/2025","75","CARTAO FIDELIDADE",141276,0,9355311.2100000009,9355311.2100000009,{"$f":"TEXT(SPP[[#This Row],[DATA]],\"mmmm\")","v":"janeiro"},{"$f":"YEAR(SPP[[#This Row],[DATA]])","v":2025}]
["14/01/2025","76","Lazer",460,0,10985.22,10985.22,{"$f":"TEXT(SPP[[#This Row],[DATA]],\"mmmm\")","v":"janeiro"},{"$f":"YEAR(SPP[[#This Row],[DATA]])","v":2025}]
["14/01/2025","80","COMUM 8 VIAGENS",38,0,249.3,249.3,{"$f":"TEXT(SPP[[#This Row],[DATA]],\"mmmm\")","v":"janeiro"},{"$f":"YEAR(SPP[[#This Row],[DATA]])","v":2025}]
["14/01/2025","86","Estacionamento",9244,956.21,110332.26000000001,111288.47,{"$f":"TEXT(SPP[[#This Row],[DATA]],\"mmmm\")","v":"janeiro"},{"$f":"YEAR(SPP[[#This Row],[DATA]])","v":2025}]
["14/01/2025","100","BILHETE UNICO MENSAL - CASCO",8146182,1127306042.74,186025635.63999999,1313331678.3800001,{"$f":"TEXT(SPP[[#This Row],[DATA]],\"mmmm\")","v":"janeiro"},{"$f":"YEAR(SPP[[#This Row],[DATA]])","v":2025}]
["14/01/2025","110","BUM - ANÔNIMO - CASCO",1290758,594491.11,6107748.1100000003,6702239.2199999997,{"$f":"TEXT(SPP[[#This Row],[DATA]],\"mmmm\")","v":"janeiro"},{"$f":"YEAR(SPP[[#This Row],[DATA]])","v":2025}]
["15/01/2025","51","COMUM 4 VIAGENS",6907,2722.76,24876.68,27599.440000000002,{"$f":"TEXT(SPP[[#This Row],[DATA]],\"mmmm\")","v":"janeiro"},{"$f":"YEAR(SPP[[#This Row],[DATA]])","v":2025}]
["15/01/2025","52","ESTUDANTE",55768,93129.72,358405.87,451535.59,{"$f":"TEXT(SPP[[#This Row],[DATA]],\"mmmm\")","v":"janeiro"},{"$f":"YEAR(SPP[[#This Row],[DATA]])","v":2025}]
["15/01/2025","59","VT",2999627,29121963.829999998,14526793.689999999,43648757.520000003,{"$f":"TEXT(SPP[[#This Row],[DATA]],\"mmmm\")","v":"janeiro"},{"$f":"YEAR(SPP[[#This Row],[DATA]])","v":2025}]
["15/01/2025","69","VT 8VG",633,0,4936.18,4936.18,{"$f":"TEXT(SPP[[#This Row],[DATA]],\"mmmm\")","v":"janeiro"},{"$f":"YEAR(SPP[[#This Row],[DATA]])","v":2025}]
["15/01/2025","71","MÃE PAULISTANA",220486,301008.52,1184306.78,1485315.3,{"$f":"TEXT(SPP[[#This Row],[DATA]],\"mmmm\")","v":"janeiro"},{"$f":"YEAR(SPP[[#This Row],[DATA]])","v":2025}]
["15/01/2025","74","PROFESSOR",39325,1919759.57,0,1919759.57,{"$f":"TEXT(SPP[[#This Row],[DATA]],\"mmmm\")","v":"janeiro"},{"$f":"YEAR(SPP[[#This Row],[DATA]])","v":2025}]
["15/01/2025","75","CARTAO FIDELIDADE",141299,0,9328619.9900000002,9328619.9900000002,{"$f":"TEXT(SPP[[#This Row],[DATA]],\"mmmm\")","v":"janeiro"},{"$f":"YEAR(SPP[[#This Row],[DATA]])","v":2025}]
["15/01/2025","76","Lazer",459,0,10939.92,10939.92,{"$f":"TEXT(SPP[[#This Row],[DATA]],\"mmmm\")","v":"janeiro"},{"$f":"YEAR(SPP[[#This Row],[DATA]])","v":2025}]
["15/01/2025","80","COMUM 8 VIAGENS",38,0,249.3,249.3,{"$f":"TEXT(SPP[[#This Row],[DATA]],\"mmmm\")","v":"janeiro"},{"$f":"YEAR(SPP[[#This Row],[DATA]])","v":2025}]
["15/01/2025","86","Estacionamento",9244,956.21,110332.27,111288.48,{"$f":"TEXT(SPP[[#This Row],[DATA]],\"mmmm\")","v":"janeiro"},{"$f":"YEAR(SPP[[#This Row],[DATA]])","v":2025}]
["15/01/2025","100","BILHETE UNICO MENSAL - CASCO",8149231,1120657691.1800001,184294503.69,1304952194.8699999,{"$f":"TEXT(SPP[[#This Row],[DATA]],\"mmmm\")","v":"janeiro"},{"$f":"YEAR(SPP[[#This Row],[DATA]])","v":2025}]
["15/01/2025","110","BUM - ANÔNIMO - CASCO",1290732,594491.11,6107566.6299999999,6702057.7400000002,{"$f":"TEXT(SPP[[#This Row],[DATA]],\"mmmm\")","v":"janeiro"},{"$f":"YEAR(SPP[[#This Row],[DATA]])","v":2025}]
["16/01/2025","51","COMUM 4 VIAGENS",6907,2722.76,24876.68,27599.440000000002,{"$f":"TEXT(SPP[[#This Row],[DATA]],\"mmmm\")","v":"janeiro"},{"$f":"YEAR(SPP[[#This Row],[DATA]])","v":2025}]
["16/01/2025","52","ESTUDANTE",55757,93129.72,358362.84,451492.56,{"$f":"TEXT(SPP[[#This Row],[DATA]],\"mmmm\")","v":"janeiro"},{"$f":"YEAR(SPP[[#This Row],[DATA]])","v":2025}]
["16/01/2025","59","VT",2999572,29120160.920000002,14526485.880000001,43646646.799999997,{"$f":"TEXT(SPP[[#This Row],[DATA]],\"mmmm\")","v":"janeiro"},{"$f":"YEAR(SPP[[#This Row],[DATA]])","v":2025}]
["16/01/2025","69","VT 8VG",633,0,4936.18,4936.18,{"$f":"TEXT(SPP[[#This Row],[DATA]],\"mmmm\")","v":"janeiro"},{"$f":"YEAR(SPP[[#This Row],[DATA]])","v":2025}]
["16/01/2025","71","MÃE PAULISTANA",220525,300559.53000000003,1181058.42,1481617.95,{"$f":"TEXT(SPP[[#This Row],[DATA]],\"mmmm\")","v":"janeiro"},{"$f":"YEAR(SPP[[#This Row],[DATA]])","v":2025}]
["16/01/2025","74","PROFESSOR",39274,1911283.76,0,1911283.76,{"$f":"TEXT(SPP[[#This Row],[DATA]],\"mmmm\")","v":"janeiro"},{"$f":"YEAR(SPP[[#This Row],[DATA]])","v":2025}]
["16/01/2025","75","CARTAO FIDELIDADE",141330,0,9295981.5,9295981.5,{"$f":"TEXT(SPP[[#This Row],[DATA]],\"mmmm\")","v":"janeiro"},{"$f":"YEAR(SPP[[#This Row],[DATA]])","v":2025}]
["16/01/2025","76","Lazer",459,0,10939.92,10939.92,{"$f":"TEXT(SPP[[#This Row],[DATA]],\"mmmm\")","v":"janeiro"},{"$f":"YEAR(SPP[[#This Row],[DATA]])","v":2025}]
["16/01/2025","80","COMUM 8 VIAGENS",38,0,249.3,249.3,{"$f":"TEXT(SPP[[#This Row],[DATA]],\"mmmm\")","v":"janeiro"},{"$f":"YEAR(SPP[[#This Row],[DATA]])","v":2025}]
["16/01/2025","86","Estacionamento",9244,956.21,110332.29000000001,111288.5,{"$f":"TEXT(SPP[[#This Row],[DATA]],\"mmmm\")","v":"janeiro"},{"$f":"YEAR(SPP[[#This Row],[DATA]])","v":2025}]
["16/01/2025","100","BILHETE UNICO MENSAL - CASCO",8151930,1113585641.29,181907093.13,1295492734.4200001,{"$f":"TEXT(SPP[[#This Row],[DATA]],\"mmmm\")","v":"janeiro"},{"$f":"YEAR(SPP[[#This Row],[DATA]])","v":2025}]
["16/01/2025","110","BUM - ANÔNIMO - CASCO",1290708,594491.11,6107464.25,6701955.3600000003,{"$f":"TEXT(SPP[[#This Row],[DATA]],\"mmmm\")","v":"janeiro"},{"$f":"YEAR(SPP[[#This Row],[DATA]])","v":2025}]
["17/01/2025","51","COMUM 4 VIAGENS",6905,2719.7400000000002,24873.58,27593.32,{"$f":"TEXT(SPP[[#This Row],[DATA]],\"mmmm\")","v":"janeiro"},{"$f":"YEAR(SPP[[#This Row],[DATA]])","v":2025}]
["17/01/2025","52","ESTUDANTE",55752,93129.72,358373.21,451502.93,{"$f":"TEXT(SPP[[#This Row],[DATA]],\"mmmm\")","v":"janeiro"},{"$f":"YEAR(SPP[[#This Row],[DATA]])","v":2025}]
["17/01/2025","59","VT",2999522,29116049.300000001,14526292.689999999,43642341.990000002,{"$f":"TEXT(SPP[[#This Row],[DATA]],\"mmmm\")","v":"janeiro"},{"$f":"YEAR(SPP[[#This Row],[DATA]])","v":2025}]
["17/01/2025","69","VT 8VG",633,0,4936.18,4936.18,{"$f":"TEXT(SPP[[#This Row],[DATA]],\"mmmm\")","v":"janeiro"},{"$f":"YEAR(SPP[[#This Row],[DATA]])","v":2025}]
["17/01/2025","71","MÃE PAULISTANA",220547,300435.15000000002,1173825.6299999999,1474260.78,{"$f":"TEXT(SPP[[#This Row],[DATA]],\"mmmm\")","v":"janeiro"},{"$f":"YEAR(SPP[[#This Row],[DATA]])","v":2025}]
["17/01/2025","74","PROFESSOR",39240,1903734.75,0,1903734.75,{"$f":"TEXT(SPP[[#This Row],[DATA]],\"mmmm\")","v":"janeiro"},{"$f":"YEAR(SPP[[#This Row],[DATA]])","v":2025}]
["17/01/2025","75","CARTAO FIDELIDADE",141281,0,9253535.6400000006,9253535.6400000006,{"$f":"TEXT(SPP[[#This Row],[DATA]],\"mmmm\")","v":"janeiro"},{"$f":"YEAR(SPP[[#This Row],[DATA]])","v":2025}]
["17/01/2025","76","Lazer",459,0,10939.92,10939.92,{"$f":"TEXT(SPP[[#This Row],[DATA]],\"mmmm\")","v":"janeiro"},{"$f":"YEAR(SPP[[#This Row],[DATA]])","v":2025}]
["17/01/2025","80","COMUM 8 VIAGENS",38,0,249.3,249.3,{"$f":"TEXT(SPP[[#This Row],[DATA]],\"mmmm\")","v":"janeiro"},{"$f":"YEAR(SPP[[#This Row],[DATA]])","v":2025}]
["17/01/2025","86","Estacionamento",9244,956.21,110332.3,111288.51000000001,{"$f":"TEXT(SPP[[#This Row],[DATA]],\"mmmm\")","v":"janeiro"},{"$f":"YEAR(SPP[[#This Row],[DATA]])","v":2025}]
["17/01/2025","100","BILHETE UNICO MENSAL - CASCO",8154188,1106215769.8,178919513.81,1285135283.6099999,{"$f":"TEXT(SPP[[#This Row],[DATA]],\"mmmm\")","v":"janeiro"},{"$f":"YEAR(SPP[[#This Row],[DATA]])","v":2025}]
["17/01/2025","110","BUM - ANÔNIMO - CASCO",1290682,594491.11,6107335.8600000003,6701826.9699999997,{"$f":"TEXT(SPP[[#This Row],[DATA]],\"mmmm\")","v":"janeiro"},{"$f":"YEAR(SPP[[#This Row],[DATA]])","v":2025}]
["18/01/2025","51","COMUM 4 VIAGENS",6905,2719.7400000000002,24873.58,27593.32,{"$f":"TEXT(SPP[[#This Row],[DATA]],\"mmmm\")","v":"janeiro"},{"$f":"YEAR(SPP[[#This Row],[DATA]])","v":2025}]
["18/01/2025","52","ESTUDANTE",55752,93129.72,358464.72000000003,451594.44,{"$f":"TEXT(SPP[[#This Row],[DATA]],\"mmmm\")","v":"janeiro"},{"$f":"YEAR(SPP[[#This Row],[DATA]])","v":2025}]
["18/01/2025","59","VT",2999499,29114030.390000001,14526193.66,43640224.049999997,{"$f":"TEXT(SPP[[#This Row],[DATA]],\"mmmm\")","v":"janeiro"},{"$f":"YEAR(SPP[[#This Row],[DATA]])","v":2025}]
["18/01/2025","69","VT 8VG",633,0,4936.18,4936.18,{"$f":"TEXT(SPP[[#This Row],[DATA]],\"mmmm\")","v":"janeiro"},{"$f":"YEAR(SPP[[#This Row],[DATA]])","v":2025}]
["18/01/2025","71","MÃE PAULISTANA",220530,299999.75,1166142.01,1466141.76,{"$f":"TEXT(SPP[[#This Row],[DATA]],\"mmmm\")","v":"janeiro"},{"$f":"YEAR(SPP[[#This Row],[DATA]])","v":2025}]
["18/01/2025","74","PROFESSOR",39207,1895977.55,0,1895977.55,{"$f":"TEXT(SPP[[#This Row],[DATA]],\"mmmm\")","v":"janeiro"},{"$f":"YEAR(SPP[[#This Row],[DATA]])","v":2025}]
["18/01/2025","75","CARTAO FIDELIDADE",141157,0,9175256.4399999995,9175256.4399999995,{"$f":"TEXT(SPP[[#This Row],[DATA]],\"mmmm\")","v":"janeiro"},{"$f":"YEAR(SPP[[#This Row],[DATA]])","v":2025}]
["18/01/2025","76","Lazer",459,0,10939.92,10939.92,{"$f":"TEXT(SPP[[#This Row],[DATA]],\"mmmm\")","v":"janeiro"},{"$f":"YEAR(SPP[[#This Row],[DATA]])","v":2025}]
["18/01/2025","80","COMUM 8 VIAGENS",38,0,249.3,249.3,{"$f":"TEXT(SPP[[#This Row],[DATA]],\"mmmm\")","v":"janeiro"},{"$f":"YEAR(SPP[[#This Row],[DATA]])","v":2025}]
["18/01/2025","86","Estacionamento",9244,956.21,110332.3,111288.51000000001,{"$f":"TEXT(SPP[[#This Row],[DATA]],\"mmmm\")","v":"janeiro"},{"$f":"YEAR(SPP[[#This Row],[DATA]])","v":2025}]
["18/01/2025","100","BILHETE UNICO MENSAL - CASCO",8154968,1099934637.1400001,175669729.81999999,1275604366.96,{"$f":"TEXT(SPP[[#This Row],[DATA]],\"mmmm\")","v":"janeiro"},{"$f":"YEAR(SPP[[#This Row],[DATA]])","v":2025}]
["18/01/2025","110","BUM - ANÔNIMO - CASCO",1290662,594491.11,6107220.21,6701711.3200000003,{"$f":"TEXT(SPP[[#This Row],[DATA]],\"mmmm\")","v":"janeiro"},{"$f":"YEAR(SPP[[#This Row],[DATA]])","v":2025}]
["19/01/2025","51","COMUM 4 VIAGENS",6905,2719.7400000000002,24873.58,27593.32,{"$f":"TEXT(SPP[[#This Row],[DATA]],\"mmmm\")","v":"janeiro"},{"$f":"YEAR(SPP[[#This Row],[DATA]])","v":2025}]
["19/01/2025","52","ESTUDANTE",55750,93129.72,358463.46,451593.18,{"$f":"TEXT(SPP[[#This Row],[DATA]],\"mmmm\")","v":"janeiro"},{"$f":"YEAR(SPP[[#This Row],[DATA]])","v":2025}]
["19/01/2025","59","VT",2999485,29113522.43,14526137.51,43639659.939999998,{"$f":"TEXT(SPP[[#This Row],[DATA]],\"mmmm\")","v":"janeiro"},{"$f":"YEAR(SPP[[#This Row],[DATA]])","v":2025}]
["19/01/2025","69","VT 8VG",633,0,4936.18,4936.18,{"$f":"TEXT(SPP[[#This Row],[DATA]],\"mmmm\")","v":"janeiro"},{"$f":"YEAR(SPP[[#This Row],[DATA]])","v":2025}]
["19/01/2025","71","MÃE PAULISTANA",220510,299677.03999999998,1161155.92,1460832.96,{"$f":"TEXT(SPP[[#This Row],[DATA]],\"mmmm\")","v":"janeiro"},{"$f":"YEAR(SPP[[#This Row],[DATA]])","v":2025}]
["19/01/2025","74","PROFESSOR",39178,1891200.75,0,1891200.75,{"$f":"TEXT(SPP[[#This Row],[DATA]],\"mmmm\")","v":"janeiro"},{"$f":"YEAR(SPP[[#This Row],[DATA]])","v":2025}]
["19/01/2025","75","CARTAO FIDELIDADE",141109,0,9148063.2400000002,9148063.2400000002,{"$f":"TEXT(SPP[[#This Row],[DATA]],\"mmmm\")","v":"janeiro"},{"$f":"YEAR(SPP[[#This Row],[DATA]])","v":2025}]
["19/01/2025","76","Lazer",459,0,10939.92,10939.92,{"$f":"TEXT(SPP[[#This Row],[DATA]],\"mmmm\")","v":"janeiro"},{"$f":"YEAR(SPP[[#This Row],[DATA]])","v":2025}]
["19/01/2025","80","COMUM 8 VIAGENS",38,0,249.3,249.3,{"$f":"TEXT(SPP[[#This Row],[DATA]],\"mmmm\")","v":"janeiro"},{"$f":"YEAR(SPP[[#This Row],[DATA]])","v":2025}]
["19/01/2025","86","Estacionamento",9244,956.21,110332.3,111288.51000000001,{"$f":"TEXT(SPP[[#This Row],[DATA]],\"mmmm\")","v":"janeiro"},{"$f":"YEAR(SPP[[#This Row],[DATA]])","v":2025}]
["19/01/2025","100","BILHETE UNICO MENSAL - CASCO",8153697,1096619204.74,173603139.59999999,1270222344.3399999,{"$f":"TEXT(SPP[[#This Row],[DATA]],\"mmmm\")","v":"janeiro"},{"$f":"YEAR(SPP[[#This Row],[DATA]])","v":2025}]
["19/01/2025","110","BUM - ANÔNIMO - CASCO",1290657,594491.11,6107202.7999999998,6701693.9100000001,{"$f":"TEXT(SPP[[#This Row],[DATA]],\"mmmm\")","v":"janeiro"},{"$f":"YEAR(SPP[[#This Row],[DATA]])","v":2025}]
["20/01/2025","51","COMUM 4 VIAGENS",6905,2719.7400000000002,24873.58,27593.32,{"$f":"TEXT(SPP[[#This Row],[DATA]],\"mmmm\")","v":"janeiro"},{"$f":"YEAR(SPP[[#This Row],[DATA]])","v":2025}]
["20/01/2025","52","ESTUDANTE",55742,93129.72,358565.88,451695.60000000003,{"$f":"TEXT(SPP[[#This Row],[DATA]],\"mmmm\")","v":"janeiro"},{"$f":"YEAR(SPP[[#This Row],[DATA]])","v":2025}]
["20/01/2025","59","VT",2999429,29110729.190000001,14525838.439999999,43636567.630000003,{"$f":"TEXT(SPP[[#This Row],[DATA]],\"mmmm\")","v":"janeiro"},{"$f":"YEAR(SPP[[#This Row],[DATA]])","v":2025}]
["20/01/2025","69","VT 8VG",633,0,4936.18,4936.18,{"$f":"TEXT(SPP[[#This Row],[DATA]],\"mmmm\")","v":"janeiro"},{"$f":"YEAR(SPP[[#This Row],[DATA]])","v":2025}]
["20/01/2025","71","MÃE PAULISTANA",220573,299434.84000000003,1174982.55,1474417.39,{"$f":"TEXT(SPP[[#This Row],[DATA]],\"mmmm\")","v":"janeiro"},{"$f":"YEAR(SPP[[#This Row],[DATA]])","v":2025}]
["20/01/2025","74","PROFESSOR",39152,1889710.18,0,1889710.18,{"$f":"TEXT(SPP[[#This Row],[DATA]],\"mmmm\")","v":"janeiro"},{"$f":"YEAR(SPP[[#This Row],[DATA]])","v":2025}]
["20/01/2025","75","CARTAO FIDELIDADE",141334,0,9232926.7300000004,9232926.7300000004,{"$f":"TEXT(SPP[[#This Row],[DATA]],\"mmmm\")","v":"janeiro"},{"$f":"YEAR(SPP[[#This Row],[DATA]])","v":2025}]
["20/01/2025","76","Lazer",459,0,10939.92,10939.92,{"$f":"TEXT(SPP[[#This Row],[DATA]],\"mmmm\")","v":"janeiro"},{"$f":"YEAR(SPP[[#This Row],[DATA]])","v":2025}]
["20/01/2025","80","COMUM 8 VIAGENS",38,0,249.3,249.3,{"$f":"TEXT(SPP[[#This Row],[DATA]],\"mmmm\")","v":"janeiro"},{"$f":"YEAR(SPP[[#This Row],[DATA]])","v":2025}]
["20/01/2025","86","Estacionamento",9243,956.21,110309.76000000001,111265.97,{"$f":"TEXT(SPP[[#This Row],[DATA]],\"mmmm\")","v":"janeiro"},{"$f":"YEAR(SPP[[#This Row],[DATA]])","v":2025}]
["20/01/2025","100","BILHETE UNICO MENSAL - CASCO",8160396,1093748433.6700001,178329666.25,1272078099.9200001,{"$f":"TEXT(SPP[[#This Row],[DATA]],\"mmmm\")","v":"janeiro"},{"$f":"YEAR(SPP[[#This Row],[DATA]])","v":2025}]
["20/01/2025","110","BUM - ANÔNIMO - CASCO",1290624,594491.11,6106947.4900000002,6701438.5999999996,{"$f":"TEXT(SPP[[#This Row],[DATA]],\"mmmm\")","v":"janeiro"},{"$f":"YEAR(SPP[[#This Row],[DATA]])","v":2025}]
["21/01/2025","51","COMUM 4 VIAGENS",6905,2719.7400000000002,24873.58,27593.32,{"$f":"TEXT(SPP[[#This Row],[DATA]],\"mmmm\")","v":"janeiro"},{"$f":"YEAR(SPP[[#This Row],[DATA]])","v":2025}]
["21/01/2025","52","ESTUDANTE",55735,93129.72,358614.99,451744.71,{"$f":"TEXT(SPP[[#This Row],[DATA]],\"mmmm\")","v":"janeiro"},{"$f":"YEAR(SPP[[#This Row],[DATA]])","v":2025}]
["21/01/2025","59","VT",2999365,29110103.16,14525542.43,43635645.590000004,{"$f":"TEXT(SPP[[#This Row],[DATA]],\"mmmm\")","v":"janeiro"},{"$f":"YEAR(SPP[[#This Row],[DATA]])","v":2025}]
["21/01/2025","69","VT 8VG",633,0,4936.18,4936.18,{"$f":"TEXT(SPP[[#This Row],[DATA]],\"mmmm\")","v":"janeiro"},{"$f":"YEAR(SPP[[#This Row],[DATA]])","v":2025}]
["21/01/2025","71","MÃE PAULISTANA",220625,299814.46000000002,1179308.8,1479123.26,{"$f":"TEXT(SPP[[#This Row],[DATA]],\"mmmm\")","v":"janeiro"},{"$f":"YEAR(SPP[[#This Row],[DATA]])","v":2025}]
["21/01/2025","74","PROFESSOR",39104,1880658.56,0,1880658.56,{"$f":"TEXT(SPP[[#This Row],[DATA]],\"mmmm\")","v":"janeiro"},{"$f":"YEAR(SPP[[#This Row],[DATA]])","v":2025}]
["21/01/2025","75","CARTAO FIDELIDADE",141396,0,9216827.4700000007,9216827.4700000007,{"$f":"TEXT(SPP[[#This Row],[DATA]],\"mmmm\")","v":"janeiro"},{"$f":"YEAR(SPP[[#This Row],[DATA]])","v":2025}]
["21/01/2025","76","Lazer",459,0,10939.92,10939.92,{"$f":"TEXT(SPP[[#This Row],[DATA]],\"mmmm\")","v":"janeiro"},{"$f":"YEAR(SPP[[#This Row],[DATA]])","v":2025}]
["21/01/2025","80","COMUM 8 VIAGENS",38,0,249.3,249.3,{"$f":"TEXT(SPP[[#This Row],[DATA]],\"mmmm\")","v":"janeiro"},{"$f":"YEAR(SPP[[#This Row],[DATA]])","v":2025}]
["21/01/2025","86","Estacionamento",9243,956.21,110309.77,111265.98,{"$f":"TEXT(SPP[[#This Row],[DATA]],\"mmmm\")","v":"janeiro"},{"$f":"YEAR(SPP[[#This Row],[DATA]])","v":2025}]
["21/01/2025","100","BILHETE UNICO MENSAL - CASCO",8163430,1087067805.5899999,177937304.34999999,1265005109.9400001,{"$f":"TEXT(SPP[[#This Row],[DATA]],\"mmmm\")","v":"janeiro"},{"$f":"YEAR(SPP[[#This Row],[DATA]])","v":2025}]
["21/01/2025","110","BUM - ANÔNIMO - CASCO",1290593,594491.11,6106779.9299999997,6701271.04,{"$f":"TEXT(SPP[[#This Row],[DATA]],\"mmmm\")","v":"janeiro"},{"$f":"YEAR(SPP[[#This Row],[DATA]])","v":2025}]
["22/01/2025","51","COMUM 4 VIAGENS",6905,2719.7400000000002,24873.58,27593.32,{"$f":"TEXT(SPP[[#This Row],[DATA]],\"mmmm\")","v":"janeiro"},{"$f":"YEAR(SPP[[#This Row],[DATA]])","v":2025}]
["22/01/2025","52","ESTUDANTE",55732,93129.72,358598.53,451728.25,{"$f":"TEXT(SPP[[#This Row],[DATA]],\"mmmm\")","v":"janeiro"},{"$f":"YEAR(SPP[[#This Row],[DATA]])","v":2025}]
["22/01/2025","59","VT",2999323,29109516.07,14525285.210000001,43634801.280000001,{"$f":"TEXT(SPP[[#This Row],[DATA]],\"mmmm\")","v":"janeiro"},{"$f":"YEAR(SPP[[#This Row],[DATA]])","v":2025}]
["22/01/2025","69","VT 8VG",633,0,4936.18,4936.18,{"$f":"TEXT(SPP[[#This Row],[DATA]],\"mmmm\")","v":"janeiro"},{"$f":"YEAR(SPP[[#This Row],[DATA]])","v":2025}]
["22/01/2025","71","MÃE PAULISTANA",220658,299331.87,1177103.02,1476434.89,{"$f":"TEXT(SPP[[#This Row],[DATA]],\"mmmm\")","v":"janeiro"},{"$f":"YEAR(SPP[[#This Row],[DATA]])","v":2025}]
["22/01/2025","74","PROFESSOR",39047,1872248.81,0,1872248.81,{"$f":"TEXT(SPP[[#This Row],[DATA]],\"mmmm\")","v":"janeiro"},{"$f":"YEAR(SPP[[#This Row],[DATA]])","v":2025}]
["22/01/2025","75","CARTAO FIDELIDADE",141419,0,9193047.0800000001,9193047.0800000001,{"$f":"TEXT(SPP[[#This Row],[DATA]],\"mmmm\")","v":"janeiro"},{"$f":"YEAR(SPP[[#This Row],[DATA]])","v":2025}]
["22/01/2025","76","Lazer",459,0,10939.92,10939.92,{"$f":"TEXT(SPP[[#This Row],[DATA]],\"mmmm\")","v":"janeiro"},{"$f":"YEAR(SPP[[#This Row],[DATA]])","v":2025}]
["22/01/2025","80","COMUM 8 VIAGENS",38,0,249.3,249.3,{"$f":"TEXT(SPP[[#This Row],[DATA]],\"mmmm\")","v":"janeiro"},{"$f":"YEAR(SPP[[#This Row],[DATA]])","v":2025}]
["22/01/2025","86","Estacionamento",9243,956.21,110309.77,111265.98,{"$f":"TEXT(SPP[[#This Row],[DATA]],\"mmmm\")","v":"janeiro"},{"$f":"YEAR(SPP[[#This Row],[DATA]])","v":2025}]
["22/01/2025","100","BILHETE UNICO MENSAL - CASCO",8165936,1080284490.8299999,176155249.96000001,1256439740.79,{"$f":"TEXT(SPP[[#This Row],[DATA]],\"mmmm\")","v":"janeiro"},{"$f":"YEAR(SPP[[#This Row],[DATA]])","v":2025}]
["22/01/2025","110","BUM - ANÔNIMO - CASCO",1290564,594491.11,6106633.2599999998,6701124.3700000001,{"$f":"TEXT(SPP[[#This Row],[DATA]],\"mmmm\")","v":"janeiro"},{"$f":"YEAR(SPP[[#This Row],[DATA]])","v":2025}]
["23/01/2025","51","COMUM 4 VIAGENS",6905,2719.7400000000002,24873.58,27593.32,{"$f":"TEXT(SPP[[#This Row],[DATA]],\"mmmm\")","v":"janeiro"},{"$f":"YEAR(SPP[[#This Row],[DATA]])","v":2025}]
["23/01/2025","52","ESTUDANTE",55727,93124.87,358591.74,451716.61,{"$f":"TEXT(SPP[[#This Row],[DATA]],\"mmmm\")","v":"janeiro"},{"$f":"YEAR(SPP[[#This Row],[DATA]])","v":2025}]
["23/01/2025","59","VT",2999280,29108811.510000002,14525154.609999999,43633966.119999997,{"$f":"TEXT(SPP[[#This Row],[DATA]],\"mmmm\")","v":"janeiro"},{"$f":"YEAR(SPP[[#This Row],[DATA]])","v":2025}]
["23/01/2025","69","VT 8VG",633,0,4936.18,4936.18,{"$f":"TEXT(SPP[[#This Row],[DATA]],\"mmmm\")","v":"janeiro"},{"$f":"YEAR(SPP[[#This Row],[DATA]])","v":2025}]
["23/01/2025","71","MÃE PAULISTANA",220682,299220.42,1173780.74,1473001.16,{"$f":"TEXT(SPP[[#This Row],[DATA]],\"mmmm\")","v":"janeiro"},{"$f":"YEAR(SPP[[#This Row],[DATA]])","v":2025}]
["23/01/2025","74","PROFESSOR",38993,1862722.81,0,1862722.81,{"$f":"TEXT(SPP[[#This Row],[DATA]],\"mmmm\")","v":"janeiro"},{"$f":"YEAR(SPP[[#This Row],[DATA]])","v":2025}]
["23/01/2025","75","CARTAO FIDELIDADE",141390,0,9148693.2899999991,9148693.2899999991,{"$f":"TEXT(SPP[[#This Row],[DATA]],\"mmmm\")","v":"janeiro"},{"$f":"YEAR(SPP[[#This Row],[DATA]])","v":2025}]
["23/01/2025","76","Lazer",459,0,10939.92,10939.92,{"$f":"TEXT(SPP[[#This Row],[DATA]],\"mmmm\")","v":"janeiro"},{"$f":"YEAR(SPP[[#This Row],[DATA]])","v":2025}]
["23/01/2025","80","COMUM 8 VIAGENS",38,0,249.3,249.3,{"$f":"TEXT(SPP[[#This Row],[DATA]],\"mmmm\")","v":"janeiro"},{"$f":"YEAR(SPP[[#This Row],[DATA]])","v":2025}]
["23/01/2025","86","Estacionamento",9243,956.21,110309.77,111265.98,{"$f":"TEXT(SPP[[#This Row],[DATA]],\"mmmm\")","v":"janeiro"},{"$f":"YEAR(SPP[[#This Row],[DATA]])","v":2025}]
["23/01/2025","100","BILHETE UNICO MENSAL - CASCO",8168068,1074119582.9100001,173220102.62,1247339685.53,{"$f":"TEXT(SPP[[#This Row],[DATA]],\"mmmm\")","v":"janeiro"},{"$f":"YEAR(SPP[[#This Row],[DATA]])","v":2025}]
["23/01/2025","110","BUM - ANÔNIMO - CASCO",1290546,594491.11,6106524.2999999998,6701015.4100000001,{"$f":"TEXT(SPP[[#This Row],[DATA]],\"mmmm\")","v":"janeiro"},{"$f":"YEAR(SPP[[#This Row],[DATA]])","v":2025}]
["24/01/2025","51","COMUM 4 VIAGENS",6905,2719.7400000000002,24873.58,27593.32,{"$f":"TEXT(SPP[[#This Row],[DATA]],\"mmmm\")","v":"janeiro"},{"$f":"YEAR(SPP[[#This Row],[DATA]])","v":2025}]
["24/01/2025","52","ESTUDANTE",55721,93124.87,358667.45,451792.32,{"$f":"TEXT(SPP[[#This Row],[DATA]],\"mmmm\")","v":"janeiro"},{"$f":"YEAR(SPP[[#This Row],[DATA]])","v":2025}]
["24/01/2025","59","VT",2999244,29108757.390000001,14524870.17,43633627.560000002,{"$f":"TEXT(SPP[[#This Row],[DATA]],\"mmmm\")","v":"janeiro"},{"$f":"YEAR(SPP[[#This Row],[DATA]])","v":2025}]
["24/01/2025","69","VT 8VG",633,0,4936.18,4936.18,{"$f":"TEXT(SPP[[#This Row],[DATA]],\"mmmm\")","v":"janeiro"},{"$f":"YEAR(SPP[[#This Row],[DATA]])","v":2025}]
["24/01/2025","71","MÃE PAULISTANA",220700,299240.36,1166260.08,1465500.44,{"$f":"TEXT(SPP[[#This Row],[DATA]],\"mmmm\")","v":"janeiro"},{"$f":"YEAR(SPP[[#This Row],[DATA]])","v":2025}]
["24/01/2025","74","PROFESSOR",38954,1853552.57,0,1853552.57,{"$f":"TEXT(SPP[[#This Row],[DATA]],\"mmmm\")","v":"janeiro"},{"$f":"YEAR(SPP[[#This Row],[DATA]])","v":2025}]
["24/01/2025","75","CARTAO FIDELIDADE",141305,0,9082564.9399999995,9082564.9399999995,{"$f":"TEXT(SPP[[#This Row],[DATA]],\"mmmm\")","v":"janeiro"},{"$f":"YEAR(SPP[[#This Row],[DATA]])","v":2025}]
["24/01/2025","76","Lazer",459,0,10939.92,10939.92,{"$f":"TEXT(SPP[[#This Row],[DATA]],\"mmmm\")","v":"janeiro"},{"$f":"YEAR(SPP[[#This Row],[DATA]])","v":2025}]
["24/01/2025","80","COMUM 8 VIAGENS",38,0,249.3,249.3,{"$f":"TEXT(SPP[[#This Row],[DATA]],\"mmmm\")","v":"janeiro"},{"$f":"YEAR(SPP[[#This Row],[DATA]])","v":2025}]
["24/01/2025","86","Estacionamento",9243,956.21,110309.82,111266.03,{"$f":"TEXT(SPP[[#This Row],[DATA]],\"mmmm\")","v":"janeiro"},{"$f":"YEAR(SPP[[#This Row],[DATA]])","v":2025}]
["24/01/2025","100","BILHETE UNICO MENSAL - CASCO",8169180,1068685490.91,169256949.75,1237942440.6600001,{"$f":"TEXT(SPP[[#This Row],[DATA]],\"mmmm\")","v":"janeiro"},{"$f":"YEAR(SPP[[#This Row],[DATA]])","v":2025}]
["24/01/2025","110","BUM - ANÔNIMO - CASCO",1290526,594491.11,6106425.7999999998,6700916.9100000001,{"$f":"TEXT(SPP[[#This Row],[DATA]],\"mmmm\")","v":"janeiro"},{"$f":"YEAR(SPP[[#This Row],[DATA]])","v":2025}]
["25/01/2025","51","COMUM 4 VIAGENS",6905,2719.7400000000002,24873.58,27593.32,{"$f":"TEXT(SPP[[#This Row],[DATA]],\"mmmm\")","v":"janeiro"},{"$f":"YEAR(SPP[[#This Row],[DATA]])","v":2025}]
["25/01/2025","52","ESTUDANTE",55718,93124.87,358675.87,451800.74,{"$f":"TEXT(SPP[[#This Row],[DATA]],\"mmmm\")","v":"janeiro"},{"$f":"YEAR(SPP[[#This Row],[DATA]])","v":2025}]
["25/01/2025","59","VT",2999225,29107525.48,14524782.949999999,43632308.43,{"$f":"TEXT(SPP[[#This Row],[DATA]],\"mmmm\")","v":"janeiro"},{"$f":"YEAR(SPP[[#This Row],[DATA]])","v":2025}]
["25/01/2025","69","VT 8VG",633,0,4936.18,4936.18,{"$f":"TEXT(SPP[[#This Row],[DATA]],\"mmmm\")","v":"janeiro"},{"$f":"YEAR(SPP[[#This Row],[DATA]])","v":2025}]
["25/01/2025","71","MÃE PAULISTANA",220689,299002.66000000003,1159617.83,1458620.49,{"$f":"TEXT(SPP[[#This Row],[DATA]],\"mmmm\")","v":"janeiro"},{"$f":"YEAR(SPP[[#This Row],[DATA]])","v":2025}]
["25/01/2025","74","PROFESSOR",38908,1843234.27,0,1843234.27,{"$f":"TEXT(SPP[[#This Row],[DATA]],\"mmmm\")","v":"janeiro"},{"$f":"YEAR(SPP[[#This Row],[DATA]])","v":2025}]
["25/01/2025","75","CARTAO FIDELIDADE",141181,0,8997187.0099999998,8997187.0099999998,{"$f":"TEXT(SPP[[#This Row],[DATA]],\"mmmm\")","v":"janeiro"},{"$f":"YEAR(SPP[[#This Row],[DATA]])","v":2025}]
["25/01/2025","76","Lazer",459,0,10939.92,10939.92,{"$f":"TEXT(SPP[[#This Row],[DATA]],\"mmmm\")","v":"janeiro"},{"$f":"YEAR(SPP[[#This Row],[DATA]])","v":2025}]
["25/01/2025","80","COMUM 8 VIAGENS",38,0,249.3,249.3,{"$f":"TEXT(SPP[[#This Row],[DATA]],\"mmmm\")","v":"janeiro"},{"$f":"YEAR(SPP[[#This Row],[DATA]])","v":2025}]
["25/01/2025","86","Estacionamento",9243,956.21,110309.82,111266.03,{"$f":"TEXT(SPP[[#This Row],[DATA]],\"mmmm\")","v":"janeiro"},{"$f":"YEAR(SPP[[#This Row],[DATA]])","v":2025}]
["25/01/2025","100","BILHETE UNICO MENSAL - CASCO",8168156,1065391426.11,165890627.72,1231282053.8299999,{"$f":"TEXT(SPP[[#This Row],[DATA]],\"mmmm\")","v":"janeiro"},{"$f":"YEAR(SPP[[#This Row],[DATA]])","v":2025}]
["25/01/2025","110","BUM - ANÔNIMO - CASCO",1290523,594491.11,6106412.2599999998,6700903.3700000001,{"$f":"TEXT(SPP[[#This Row],[DATA]],\"mmmm\")","v":"janeiro"},{"$f":"YEAR(SPP[[#This Row],[DATA]])","v":2025}]
["26/01/2025","51","COMUM 4 VIAGENS",6905,2719.7400000000002,24873.58,27593.32,{"$f":"TEXT(SPP[[#This Row],[DATA]],\"mmmm\")","v":"janeiro"},{"$f":"YEAR(SPP[[#This Row],[DATA]])","v":2025}]
["26/01/2025","52","ESTUDANTE",55714,93124.87,358691.66000000003,451816.53,{"$f":"TEXT(SPP[[#This Row],[DATA]],\"mmmm\")","v":"janeiro"},{"$f":"YEAR(SPP[[#This Row],[DATA]])","v":2025}]
["26/01/2025","59","VT",2999211,29107522.949999999,14524736.08,43632259.030000001,{"$f":"TEXT(SPP[[#This Row],[DATA]],\"mmmm\")","v":"janeiro"},{"$f":"YEAR(SPP[[#This Row],[DATA]])","v":2025}]
["26/01/2025","69","VT 8VG",633,0,4936.18,4936.18,{"$f":"TEXT(SPP[[#This Row],[DATA]],\"mmmm\")","v":"janeiro"},{"$f":"YEAR(SPP[[#This Row],[DATA]])","v":2025}]
["26/01/2025","71","MÃE PAULISTANA",220700,299724.58,1160301.83,1460026.41,{"$f":"TEXT(SPP[[#This Row],[DATA]],\"mmmm\")","v":"janeiro"},{"$f":"YEAR(SPP[[#This Row],[DATA]])","v":2025}]
["26/01/2025","74","PROFESSOR",38894,1839486.57,0,1839486.57,{"$f":"TEXT(SPP[[#This Row],[DATA]],\"mmmm\")","v":"janeiro"},{"$f":"YEAR(SPP[[#This Row],[DATA]])","v":2025}]
["26/01/2025","75","CARTAO FIDELIDADE",141139,0,8976297.2100000009,8976297.2100000009,{"$f":"TEXT(SPP[[#This Row],[DATA]],\"mmmm\")","v":"janeiro"},{"$f":"YEAR(SPP[[#This Row],[DATA]])","v":2025}]
["26/01/2025","76","Lazer",459,0,10939.92,10939.92,{"$f":"TEXT(SPP[[#This Row],[DATA]],\"mmmm\")","v":"janeiro"},{"$f":"YEAR(SPP[[#This Row],[DATA]])","v":2025}]
["26/01/2025","80","COMUM 8 VIAGENS",38,0,249.3,249.3,{"$f":"TEXT(SPP[[#This Row],[DATA]],\"mmmm\")","v":"janeiro"},{"$f":"YEAR(SPP[[#This Row],[DATA]])","v":2025}]
["26/01/2025","86","Estacionamento",9244,956.21,110380.06,111336.27,{"$f":"TEXT(SPP[[#This Row],[DATA]],\"mmmm\")","v":"janeiro"},{"$f":"YEAR(SPP[[#This Row],[DATA]])","v":2025}]
["26/01/2025","100","BILHETE UNICO MENSAL - CASCO",8168967,1065102380.84,165715639.16999999,1230818020.01,{"$f":"TEXT(SPP[[#This Row],[DATA]],\"mmmm\")","v":"janeiro"},{"$f":"YEAR(SPP[[#This Row],[DATA]])","v":2025}]
["26/01/2025","110","BUM - ANÔNIMO - CASCO",1290518,594491.11,6106390.8600000003,6700881.9699999997,{"$f":"TEXT(SPP[[#This Row],[DATA]],\"mmmm\")","v":"janeiro"},{"$f":"YEAR(SPP[[#This Row],[DATA]])","v":2025}]
["27/01/2025","51","COMUM 4 VIAGENS",6905,2719.7400000000002,24873.58,27593.32,{"$f":"TEXT(SPP[[#This Row],[DATA]],\"mmmm\")","v":"janeiro"},{"$f":"YEAR(SPP[[#This Row],[DATA]])","v":2025}]
["27/01/2025","52","ESTUDANTE",55700,93124.87,358602.71,451727.58,{"$f":"TEXT(SPP[[#This Row],[DATA]],\"mmmm\")","v":"janeiro"},{"$f":"YEAR(SPP[[#This Row],[DATA]])","v":2025}]
["27/01/2025","59","VT",2999154,29105929.420000002,14524517.699999999,43630447.119999997,{"$f":"TEXT(SPP[[#This Row],[DATA]],\"mmmm\")","v":"janeiro"},{"$f":"YEAR(SPP[[#This Row],[DATA]])","v":2025}]
["27/01/2025","69","VT 8VG",633,0,4936.18,4936.18,{"$f":"TEXT(SPP[[#This Row],[DATA]],\"mmmm\")","v":"janeiro"},{"$f":"YEAR(SPP[[#This Row],[DATA]])","v":2025}]
["27/01/2025","71","MÃE PAULISTANA",220768,299433.08,1171291.68,1470724.76,{"$f":"TEXT(SPP[[#This Row],[DATA]],\"mmmm\")","v":"janeiro"},{"$f":"YEAR(SPP[[#This Row],[DATA]])","v":2025}]
["27/01/2025","74","PROFESSOR",38913,1842143.3900000001,0,1842143.3900000001,{"$f":"TEXT(SPP[[#This Row],[DATA]],\"mmmm\")","v":"janeiro"},{"$f":"YEAR(SPP[[#This Row],[DATA]])","v":2025}]
["27/01/2025","75","CARTAO FIDELIDADE",141356,0,9068477.9100000001,9068477.9100000001,{"$f":"TEXT(SPP[[#This Row],[DATA]],\"mmmm\")","v":"janeiro"},{"$f":"YEAR(SPP[[#This Row],[DATA]])","v":2025}]
["27/01/2025","76","Lazer",459,0,10939.92,10939.92,{"$f":"TEXT(SPP[[#This Row],[DATA]],\"mmmm\")","v":"janeiro"},{"$f":"YEAR(SPP[[#This Row],[DATA]])","v":2025}]
["27/01/2025","80","COMUM 8 VIAGENS",38,0,249.3,249.3,{"$f":"TEXT(SPP[[#This Row],[DATA]],\"mmmm\")","v":"janeiro"},{"$f":"YEAR(SPP[[#This Row],[DATA]])","v":2025}]
["27/01/2025","86","Estacionamento",9244,956.21,110380.06,111336.27,{"$f":"TEXT(SPP[[#This Row],[DATA]],\"mmmm\")","v":"janeiro"},{"$f":"YEAR(SPP[[#This Row],[DATA]])","v":2025}]
["27/01/2025","100","BILHETE UNICO MENSAL - CASCO",8175278,1066660229.3099999,170388584.68000001,1237048813.99,{"$f":"TEXT(SPP[[#This Row],[DATA]],\"mmmm\")","v":"janeiro"},{"$f":"YEAR(SPP[[#This Row],[DATA]])","v":2025}]
["27/01/2025","110","BUM - ANÔNIMO - CASCO",1290498,594491.11,6106280.5800000001,6700771.6900000004,{"$f":"TEXT(SPP[[#This Row],[DATA]],\"mmmm\")","v":"janeiro"},{"$f":"YEAR(SPP[[#This Row],[DATA]])","v":2025}]
["28/01/2025","51","COMUM 4 VIAGENS",6904,2719.7400000000002,24872.23,27591.97,{"$f":"TEXT(SPP[[#This Row],[DATA]],\"mmmm\")","v":"janeiro"},{"$f":"YEAR(SPP[[#This Row],[DATA]])","v":2025}]
["28/01/2025","52","ESTUDANTE",55694,93092.17,358670.09,451762.26,{"$f":"TEXT(SPP[[#This Row],[DATA]],\"mmmm\")","v":"janeiro"},{"$f":"YEAR(SPP[[#This Row],[DATA]])","v":2025}]
["28/01/2025","59","VT",2999103,29099686.399999999,14524230.050000001,43623916.450000003,{"$f":"TEXT(SPP[[#This Row],[DATA]],\"mmmm\")","v":"janeiro"},{"$f":"YEAR(SPP[[#This Row],[DATA]])","v":2025}]
["28/01/2025","69","VT 8VG",633,0,4936.18,4936.18,{"$f":"TEXT(SPP[[#This Row],[DATA]],\"mmmm\")","v":"janeiro"},{"$f":"YEAR(SPP[[#This Row],[DATA]])","v":2025}]
["28/01/2025","71","MÃE PAULISTANA",220830,299115.64,1171785.1100000001,1470900.75,{"$f":"TEXT(SPP[[#This Row],[DATA]],\"mmmm\")","v":"janeiro"},{"$f":"YEAR(SPP[[#This Row],[DATA]])","v":2025}]
["28/01/2025","74","PROFESSOR",38853,1833547.85,0,1833547.85,{"$f":"TEXT(SPP[[#This Row],[DATA]],\"mmmm\")","v":"janeiro"},{"$f":"YEAR(SPP[[#This Row],[DATA]])","v":2025}]
["28/01/2025","75","CARTAO FIDELIDADE",141418,0,9061646.1500000004,9061646.1500000004,{"$f":"TEXT(SPP[[#This Row],[DATA]],\"mmmm\")","v":"janeiro"},{"$f":"YEAR(SPP[[#This Row],[DATA]])","v":2025}]
["28/01/2025","76","Lazer",459,0,10939.92,10939.92,{"$f":"TEXT(SPP[[#This Row],[DATA]],\"mmmm\")","v":"janeiro"},{"$f":"YEAR(SPP[[#This Row],[DATA]])","v":2025}]
["28/01/2025","80","COMUM 8 VIAGENS",38,0,249.3,249.3,{"$f":"TEXT(SPP[[#This Row],[DATA]],\"mmmm\")","v":"janeiro"},{"$f":"YEAR(SPP[[#This Row],[DATA]])","v":2025}]
["28/01/2025","86","Estacionamento",9244,956.21,110380.11,111336.32000000001,{"$f":"TEXT(SPP[[#This Row],[DATA]],\"mmmm\")","v":"janeiro"},{"$f":"YEAR(SPP[[#This Row],[DATA]])","v":2025}]
["28/01/2025","100","BILHETE UNICO MENSAL - CASCO",8177933,1068646316.04,168976490.44999999,1237622806.49,{"$f":"TEXT(SPP[[#This Row],[DATA]],\"mmmm\")","v":"janeiro"},{"$f":"YEAR(SPP[[#This Row],[DATA]])","v":2025}]
["28/01/2025","110","BUM - ANÔNIMO - CASCO",1290469,594491.11,6106074.3700000001,6700565.4800000004,{"$f":"TEXT(SPP[[#This Row],[DATA]],\"mmmm\")","v":"janeiro"},{"$f":"YEAR(SPP[[#This Row],[DATA]])","v":2025}]
["29/01/2025","51","COMUM 4 VIAGENS",6904,2719.7400000000002,24872.23,27591.97,{"$f":"TEXT(SPP[[#This Row],[DATA]],\"mmmm\")","v":"janeiro"},{"$f":"YEAR(SPP[[#This Row],[DATA]])","v":2025}]
["29/01/2025","52","ESTUDANTE",55687,93092.17,358681.15,451773.32,{"$f":"TEXT(SPP[[#This Row],[DATA]],\"mmmm\")","v":"janeiro"},{"$f":"YEAR(SPP[[#This Row],[DATA]])","v":2025}]
["29/01/2025","59","VT",2999063,29099125.41,14523977.08,43623102.490000002,{"$f":"TEXT(SPP[[#This Row],[DATA]],\"mmmm\")","v":"janeiro"},{"$f":"YEAR(SPP[[#This Row],[DATA]])","v":2025}]
["29/01/2025","69","VT 8VG",633,0,4936.18,4936.18,{"$f":"TEXT(SPP[[#This Row],[DATA]],\"mmmm\")","v":"janeiro"},{"$f":"YEAR(SPP[[#This Row],[DATA]])","v":2025}]
["29/01/2025","71","MÃE PAULISTANA",220872,298884.88,1167804.19,1466689.07,{"$f":"TEXT(SPP[[#This Row],[DATA]],\"mmmm\")","v":"janeiro"},{"$f":"YEAR(SPP[[#This Row],[DATA]])","v":2025}]
["29/01/2025","74","PROFESSOR",38821,1825471.42,0,1825471.42,{"$f":"TEXT(SPP[[#This Row],[DATA]],\"mmmm\")","v":"janeiro"},{"$f":"YEAR(SPP[[#This Row],[DATA]])","v":2025}]
["29/01/2025","75","CARTAO FIDELIDADE",141375,0,9014473.6899999995,9014473.6899999995,{"$f":"TEXT(SPP[[#This Row],[DATA]],\"mmmm\")","v":"janeiro"},{"$f":"YEAR(SPP[[#This Row],[DATA]])","v":2025}]
["29/01/2025","76","Lazer",459,0,10939.92,10939.92,{"$f":"TEXT(SPP[[#This Row],[DATA]],\"mmmm\")","v":"janeiro"},{"$f":"YEAR(SPP[[#This Row],[DATA]])","v":2025}]
["29/01/2025","80","COMUM 8 VIAGENS",38,0,249.3,249.3,{"$f":"TEXT(SPP[[#This Row],[DATA]],\"mmmm\")","v":"janeiro"},{"$f":"YEAR(SPP[[#This Row],[DATA]])","v":2025}]
["29/01/2025","86","Estacionamento",9244,956.21,110380.11,111336.32000000001,{"$f":"TEXT(SPP[[#This Row],[DATA]],\"mmmm\")","v":"janeiro"},{"$f":"YEAR(SPP[[#This Row],[DATA]])","v":2025}]
["29/01/2025","100","BILHETE UNICO MENSAL - CASCO",8179835,1071967208.15,166619680.63999999,1238586888.79,{"$f":"TEXT(SPP[[#This Row],[DATA]],\"mmmm\")","v":"janeiro"},{"$f":"YEAR(SPP[[#This Row],[DATA]])","v":2025}]
["29/01/2025","110","BUM - ANÔNIMO - CASCO",1290451,594491.11,6105974.9000000004,6700466.0099999998,{"$f":"TEXT(SPP[[#This Row],[DATA]],\"mmmm\")","v":"janeiro"},{"$f":"YEAR(SPP[[#This Row],[DATA]])","v":2025}]
["30/01/2025","51","COMUM 4 VIAGENS",6904,2719.7400000000002,24872.23,27591.97,{"$f":"TEXT(SPP[[#This Row],[DATA]],\"mmmm\")","v":"janeiro"},{"$f":"YEAR(SPP[[#This Row],[DATA]])","v":2025}]
["30/01/2025","52","ESTUDANTE",55680,92708.05,358728.38,451436.43,{"$f":"TEXT(SPP[[#This Row],[DATA]],\"mmmm\")","v":"janeiro"},{"$f":"YEAR(SPP[[#This Row],[DATA]])","v":2025}]
["30/01/2025","59","VT",2999019,29099109.399999999,14523704.59,43622813.990000002,{"$f":"TEXT(SPP[[#This Row],[DATA]],\"mmmm\")","v":"janeiro"},{"$f":"YEAR(SPP[[#This Row],[DATA]])","v":2025}]
["30/01/2025","69","VT 8VG",633,0,4936.18,4936.18,{"$f":"TEXT(SPP[[#This Row],[DATA]],\"mmmm\")","v":"janeiro"},{"$f":"YEAR(SPP[[#This Row],[DATA]])","v":2025}]
["30/01/2025","71","MÃE PAULISTANA",220919,298782.66000000003,1164954.52,1463737.18,{"$f":"TEXT(SPP[[#This Row],[DATA]],\"mmmm\")","v":"janeiro"},{"$f":"YEAR(SPP[[#This Row],[DATA]])","v":2025}]
["30/01/2025","74","PROFESSOR",38763,1818078.18,0,1818078.18,{"$f":"TEXT(SPP[[#This Row],[DATA]],\"mmmm\")","v":"janeiro"},{"$f":"YEAR(SPP[[#This Row],[DATA]])","v":2025}]
["30/01/2025","75","CARTAO FIDELIDADE",141341,0,8978876.75,8978876.75,{"$f":"TEXT(SPP[[#This Row],[DATA]],\"mmmm\")","v":"janeiro"},{"$f":"YEAR(SPP[[#This Row],[DATA]])","v":2025}]
["30/01/2025","76","Lazer",458,0,10890.02,10890.02,{"$f":"TEXT(SPP[[#This Row],[DATA]],\"mmmm\")","v":"janeiro"},{"$f":"YEAR(SPP[[#This Row],[DATA]])","v":2025}]
["30/01/2025","80","COMUM 8 VIAGENS",38,0,249.3,249.3,{"$f":"TEXT(SPP[[#This Row],[DATA]],\"mmmm\")","v":"janeiro"},{"$f":"YEAR(SPP[[#This Row],[DATA]])","v":2025}]
["30/01/2025","86","Estacionamento",9244,956.21,110400.13,111356.34,{"$f":"TEXT(SPP[[#This Row],[DATA]],\"mmmm\")","v":"janeiro"},{"$f":"YEAR(SPP[[#This Row],[DATA]])","v":2025}]
["30/01/2025","100","BILHETE UNICO MENSAL - CASCO",8181989,1077672916.7,164736498.09,1242409414.79,{"$f":"TEXT(SPP[[#This Row],[DATA]],\"mmmm\")","v":"janeiro"},{"$f":"YEAR(SPP[[#This Row],[DATA]])","v":2025}]
["30/01/2025","110","BUM - ANÔNIMO - CASCO",1290435,594491.11,6105929.4000000004,6700420.5099999998,{"$f":"TEXT(SPP[[#This Row],[DATA]],\"mmmm\")","v":"janeiro"},{"$f":"YEAR(SPP[[#This Row],[DATA]])","v":2025}]
["31/01/2025","51","COMUM 4 VIAGENS",6904,2719.7400000000002,24872.23,27591.97,{"$f":"TEXT(SPP[[#This Row],[DATA]],\"mmmm\")","v":"janeiro"},{"$f":"YEAR(SPP[[#This Row],[DATA]])","v":2025}]
["31/01/2025","52","ESTUDANTE",55671,92708.05,358641.26,451349.31,{"$f":"TEXT(SPP[[#This Row],[DATA]],\"mmmm\")","v":"janeiro"},{"$f":"YEAR(SPP[[#This Row],[DATA]])","v":2025}]
["31/01/2025","59","VT",2998991,29098920.719999999,14523531.77,43622452.490000002,{"$f":"TEXT(SPP[[#This Row],[DATA]],\"mmmm\")","v":"janeiro"},{"$f":"YEAR(SPP[[#This Row],[DATA]])","v":2025}]
["31/01/2025","69","VT 8VG",633,0,4936.18,4936.18,{"$f":"TEXT(SPP[[#This Row],[DATA]],\"mmmm\")","v":"janeiro"},{"$f":"YEAR(SPP[[#This Row],[DATA]])","v":2025}]
["31/01/2025","71","MÃE PAULISTANA",220945,299384.62,1165276.8899999999,1464661.51,{"$f":"TEXT(SPP[[#This Row],[DATA]],\"mmmm\")","v":"janeiro"},{"$f":"YEAR(SPP[[#This Row],[DATA]])","v":2025}]
["31/01/2025","74","PROFESSOR",38744,1812772.53,0,1812772.53,{"$f":"TEXT(SPP[[#This Row],[DATA]],\"mmmm\")","v":"janeiro"},{"$f":"YEAR(SPP[[#This Row],[DATA]])","v":2025}]
["31/01/2025","75","CARTAO FIDELIDADE",141307,0,8955410.6999999993,8955410.6999999993,{"$f":"TEXT(SPP[[#This Row],[DATA]],\"mmmm\")","v":"janeiro"},{"$f":"YEAR(SPP[[#This Row],[DATA]])","v":2025}]
["31/01/2025","76","Lazer",458,0,10890.02,10890.02,{"$f":"TEXT(SPP[[#This Row],[DATA]],\"mmmm\")","v":"janeiro"},{"$f":"YEAR(SPP[[#This Row],[DATA]])","v":2025}]
["31/01/2025","80","COMUM 8 VIAGENS",38,0,249.3,249.3,{"$f":"TEXT(SPP[[#This Row],[DATA]],\"mmmm\")","v":"janeiro"},{"$f":"YEAR(SPP[[#This Row],[DATA]])","v":2025}]
["31/01/2025","86","Estacionamento",9244,956.21,110400.15000000001,111356.36,{"$f":"TEXT(SPP[[#This Row],[DATA]],\"mmmm\")","v":"janeiro"},{"$f":"YEAR(SPP[[#This Row],[DATA]])","v":2025}]
["31/01/2025","100","BILHETE UNICO MENSAL - CASCO",8184352,1084837007.6900001,164980748.02000001,1249817755.71,{"$f":"TEXT(SPP[[#This Row],[DATA]],\"mmmm\")","v":"janeiro"},{"$f":"YEAR(SPP[[#This Row],[DATA]])","v":2025}]
["31/01/2025","110","BUM - ANÔNIMO - CASCO",1290414,594491.11,6105845.0700000003,6700336.1799999997,{"$f":"TEXT(SPP[[#This Row],[DATA]],\"mmmm\")","v":"janeiro"},{"$f":"YEAR(SPP[[#This Row],[DATA]])","v":2025}]
["01/02/2025","51","COMUM 4 VIAGENS",6903,2719.7400000000002,24871.08,27590.82,{"$f":"TEXT(SPP[[#This Row],[DATA]],\"mmmm\")","v":"fevereiro"},{"$f":"YEAR(SPP[[#This Row],[DATA]])","v":2025}]
["01/02/2025","52","ESTUDANTE",55670,92708.05,358632.66000000003,451340.71,{"$f":"TEXT(SPP[[#This Row],[DATA]],\"mmmm\")","v":"fevereiro"},{"$f":"YEAR(SPP[[#This Row],[DATA]])","v":2025}]
["01/02/2025","59","VT",2998965,29098898.559999999,14523442.789999999,43622341.350000001,{"$f":"TEXT(SPP[[#This Row],[DATA]],\"mmmm\")","v":"fevereiro"},{"$f":"YEAR(SPP[[#This Row],[DATA]])","v":2025}]
["01/02/2025","69","VT 8VG",633,0,4936.18,4936.18,{"$f":"TEXT(SPP[[#This Row],[DATA]],\"mmmm\")","v":"fevereiro"},{"$f":"YEAR(SPP[[#This Row],[DATA]])","v":2025}]
["01/02/2025","71","MÃE PAULISTANA",220949,299544.82,1161583.3700000001,1461128.19,{"$f":"TEXT(SPP[[#This Row],[DATA]],\"mmmm\")","v":"fevereiro"},{"$f":"YEAR(SPP[[#This Row],[DATA]])","v":2025}]
["01/02/2025","74","PROFESSOR",38719,1804387.73,0,1804387.73,{"$f":"TEXT(SPP[[#This Row],[DATA]],\"mmmm\")","v":"fevereiro"},{"$f":"YEAR(SPP[[#This Row],[DATA]])","v":2025}]
["01/02/2025","75","CARTAO FIDELIDADE",141131,0,8877100.4499999993,8877100.4499999993,{"$f":"TEXT(SPP[[#This Row],[DATA]],\"mmmm\")","v":"fevereiro"},{"$f":"YEAR(SPP[[#This Row],[DATA]])","v":2025}]
["01/02/2025","76","Lazer",458,0,10890.02,10890.02,{"$f":"TEXT(SPP[[#This Row],[DATA]],\"mmmm\")","v":"fevereiro"},{"$f":"YEAR(SPP[[#This Row],[DATA]])","v":2025}]
["01/02/2025","80","COMUM 8 VIAGENS",38,0,249.3,249.3,{"$f":"TEXT(SPP[[#This Row],[DATA]],\"mmmm\")","v":"fevereiro"},{"$f":"YEAR(SPP[[#This Row],[DATA]])","v":2025}]
["01/02/2025","86","Estacionamento",9244,956.21,110400.15000000001,111356.36,{"$f":"TEXT(SPP[[#This Row],[DATA]],\"mmmm\")","v":"fevereiro"},{"$f":"YEAR(SPP[[#This Row],[DATA]])","v":2025}]
["01/02/2025","100","BILHETE UNICO MENSAL - CASCO",8184831,1090116808.6900001,164447217.12,1254564025.8099999,{"$f":"TEXT(SPP[[#This Row],[DATA]],\"mmmm\")","v":"fevereiro"},{"$f":"YEAR(SPP[[#This Row],[DATA]])","v":2025}]
["01/02/2025","110","BUM - ANÔNIMO - CASCO",1290402,594491.11,6105787.1100000003,6700278.2199999997,{"$f":"TEXT(SPP[[#This Row],[DATA]],\"mmmm\")","v":"fevereiro"},{"$f":"YEAR(SPP[[#This Row],[DATA]])","v":2025}]
["02/02/2025","51","COMUM 4 VIAGENS",6903,2719.7400000000002,24871.08,27590.82,{"$f":"TEXT(SPP[[#This Row],[DATA]],\"mmmm\")","v":"fevereiro"},{"$f":"YEAR(SPP[[#This Row],[DATA]])","v":2025}]
["02/02/2025","52","ESTUDANTE",55664,92708.05,358643.82,451351.87,{"$f":"TEXT(SPP[[#This Row],[DATA]],\"mmmm\")","v":"fevereiro"},{"$f":"YEAR(SPP[[#This Row],[DATA]])","v":2025}]
["02/02/2025","59","VT",2998950,29098885.800000001,14523392.130000001,43622277.93,{"$f":"TEXT(SPP[[#This Row],[DATA]],\"mmmm\")","v":"fevereiro"},{"$f":"YEAR(SPP[[#This Row],[DATA]])","v":2025}]
["02/02/2025","69","VT 8VG",633,0,4936.18,4936.18,{"$f":"TEXT(SPP[[#This Row],[DATA]],\"mmmm\")","v":"fevereiro"},{"$f":"YEAR(SPP[[#This Row],[DATA]])","v":2025}]
["02/02/2025","71","MÃE PAULISTANA",220936,299300.14,1160061.22,1459361.36,{"$f":"TEXT(SPP[[#This Row],[DATA]],\"mmmm\")","v":"fevereiro"},{"$f":"YEAR(SPP[[#This Row],[DATA]])","v":2025}]
["02/02/2025","74","PROFESSOR",38705,1801827.84,0,1801827.84,{"$f":"TEXT(SPP[[#This Row],[DATA]],\"mmmm\")","v":"fevereiro"},{"$f":"YEAR(SPP[[#This Row],[DATA]])","v":2025}]
["02/02/2025","75","CARTAO FIDELIDADE",141092,0,8858747.9600000009,8858747.9600000009,{"$f":"TEXT(SPP[[#This Row],[DATA]],\"mmmm\")","v":"fevereiro"},{"$f":"YEAR(SPP[[#This Row],[DATA]])","v":2025}]
["02/02/2025","76","Lazer",458,0,10890.02,10890.02,{"$f":"TEXT(SPP[[#This Row],[DATA]],\"mmmm\")","v":"fevereiro"},{"$f":"YEAR(SPP[[#This Row],[DATA]])","v":2025}]
["02/02/2025","80","COMUM 8 VIAGENS",38,0,249.3,249.3,{"$f":"TEXT(SPP[[#This Row],[DATA]],\"mmmm\")","v":"fevereiro"},{"$f":"YEAR(SPP[[#This Row],[DATA]])","v":2025}]
["02/02/2025","86","Estacionamento",9244,956.21,110400.15000000001,111356.36,{"$f":"TEXT(SPP[[#This Row],[DATA]],\"mmmm\")","v":"fevereiro"},{"$f":"YEAR(SPP[[#This Row],[DATA]])","v":2025}]
["02/02/2025","100","BILHETE UNICO MENSAL - CASCO",8183605,1091722869.6700001,163780345.84,1255503215.51,{"$f":"TEXT(SPP[[#This Row],[DATA]],\"mmmm\")","v":"fevereiro"},{"$f":"YEAR(SPP[[#This Row],[DATA]])","v":2025}]
["02/02/2025","110","BUM - ANÔNIMO - CASCO",1290389,594491.11,6105700.3499999996,6700191.46,{"$f":"TEXT(SPP[[#This Row],[DATA]],\"mmmm\")","v":"fevereiro"},{"$f":"YEAR(SPP[[#This Row],[DATA]])","v":2025}]
["03/02/2025","51","COMUM 4 VIAGENS",6903,2719.7400000000002,24871.08,27590.82,{"$f":"TEXT(SPP[[#This Row],[DATA]],\"mmmm\")","v":"fevereiro"},{"$f":"YEAR(SPP[[#This Row],[DATA]])","v":2025}]
["03/02/2025","52","ESTUDANTE",55657,92708.05,358693.32,451401.37,{"$f":"TEXT(SPP[[#This Row],[DATA]],\"mmmm\")","v":"fevereiro"},{"$f":"YEAR(SPP[[#This Row],[DATA]])","v":2025}]
["03/02/2025","59","VT",2998913,29098855.280000001,14523258.26,43622113.539999999,{"$f":"TEXT(SPP[[#This Row],[DATA]],\"mmmm\")","v":"fevereiro"},{"$f":"YEAR(SPP[[#This Row],[DATA]])","v":2025}]
["03/02/2025","69","VT 8VG",633,0,4936.18,4936.18,{"$f":"TEXT(SPP[[#This Row],[DATA]],\"mmmm\")","v":"fevereiro"},{"$f":"YEAR(SPP[[#This Row],[DATA]])","v":2025}]
["03/02/2025","71","MÃE PAULISTANA",221057,299260.46000000002,1183291.0900000001,1482551.55,{"$f":"TEXT(SPP[[#This Row],[DATA]],\"mmmm\")","v":"fevereiro"},{"$f":"YEAR(SPP[[#This Row],[DATA]])","v":2025}]
["03/02/2025","74","PROFESSOR",38771,1830046.05,0,1830046.05,{"$f":"TEXT(SPP[[#This Row],[DATA]],\"mmmm\")","v":"fevereiro"},{"$f":"YEAR(SPP[[#This Row],[DATA]])","v":2025}]
["03/02/2025","75","CARTAO FIDELIDADE",141421,0,8998534.0800000001,8998534.0800000001,{"$f":"TEXT(SPP[[#This Row],[DATA]],\"mmmm\")","v":"fevereiro"},{"$f":"YEAR(SPP[[#This Row],[DATA]])","v":2025}]
["03/02/2025","76","Lazer",458,0,10890.02,10890.02,{"$f":"TEXT(SPP[[#This Row],[DATA]],\"mmmm\")","v":"fevereiro"},{"$f":"YEAR(SPP[[#This Row],[DATA]])","v":2025}]
["03/02/2025","80","COMUM 8 VIAGENS",38,0,249.3,249.3,{"$f":"TEXT(SPP[[#This Row],[DATA]],\"mmmm\")","v":"fevereiro"},{"$f":"YEAR(SPP[[#This Row],[DATA]])","v":2025}]
["03/02/2025","86","Estacionamento",9244,956.21,110400.15000000001,111356.36,{"$f":"TEXT(SPP[[#This Row],[DATA]],\"mmmm\")","v":"fevereiro"},{"$f":"YEAR(SPP[[#This Row],[DATA]])","v":2025}]
["03/02/2025","100","BILHETE UNICO MENSAL - CASCO",8193774,1096251207.3800001,175496429.37,1271747636.75,{"$f":"TEXT(SPP[[#This Row],[DATA]],\"mmmm\")","v":"fevereiro"},{"$f":"YEAR(SPP[[#This Row],[DATA]])","v":2025}]
["03/02/2025","110","BUM - ANÔNIMO - CASCO",1290370,594491.11,6105640.3200000003,6700131.4299999997,{"$f":"TEXT(SPP[[#This Row],[DATA]],\"mmmm\")","v":"fevereiro"},{"$f":"YEAR(SPP[[#This Row],[DATA]])","v":2025}]
["04/02/2025","51","COMUM 4 VIAGENS",6903,2719.7400000000002,24871.08,27590.82,{"$f":"TEXT(SPP[[#This Row],[DATA]],\"mmmm\")","v":"fevereiro"},{"$f":"YEAR(SPP[[#This Row],[DATA]])","v":2025}]
["04/02/2025","52","ESTUDANTE",55650,92708.05,358643.31,451351.36,{"$f":"TEXT(SPP[[#This Row],[DATA]],\"mmmm\")","v":"fevereiro"},{"$f":"YEAR(SPP[[#This Row],[DATA]])","v":2025}]
["04/02/2025","59","VT",2998851,29089645.989999998,14522638.050000001,43612284.039999999,{"$f":"TEXT(SPP[[#This Row],[DATA]],\"mmmm\")","v":"fevereiro"},{"$f":"YEAR(SPP[[#This Row],[DATA]])","v":2025}]
["04/02/2025","69","VT 8VG",633,0,4936.18,4936.18,{"$f":"TEXT(SPP[[#This Row],[DATA]],\"mmmm\")","v":"fevereiro"},{"$f":"YEAR(SPP[[#This Row],[DATA]])","v":2025}]
["04/02/2025","71","MÃE PAULISTANA",221091,299721.93,1182557.02,1482278.95,{"$f":"TEXT(SPP[[#This Row],[DATA]],\"mmmm\")","v":"fevereiro"},{"$f":"YEAR(SPP[[#This Row],[DATA]])","v":2025}]
["04/02/2025","74","PROFESSOR",38765,1840407.43,0,1840407.43,{"$f":"TEXT(SPP[[#This Row],[DATA]],\"mmmm\")","v":"fevereiro"},{"$f":"YEAR(SPP[[#This Row],[DATA]])","v":2025}]
["04/02/2025","75","CARTAO FIDELIDADE",141495,0,9009878.6300000008,9009878.6300000008,{"$f":"TEXT(SPP[[#This Row],[DATA]],\"mmmm\")","v":"fevereiro"},{"$f":"YEAR(SPP[[#This Row],[DATA]])","v":2025}]
["04/02/2025","76","Lazer",458,0,10890.02,10890.02,{"$f":"TEXT(SPP[[#This Row],[DATA]],\"mmmm\")","v":"fevereiro"},{"$f":"YEAR(SPP[[#This Row],[DATA]])","v":2025}]
["04/02/2025","80","COMUM 8 VIAGENS",38,0,249.3,249.3,{"$f":"TEXT(SPP[[#This Row],[DATA]],\"mmmm\")","v":"fevereiro"},{"$f":"YEAR(SPP[[#This Row],[DATA]])","v":2025}]
["04/02/2025","86","Estacionamento",9244,956.21,110400.15000000001,111356.36,{"$f":"TEXT(SPP[[#This Row],[DATA]],\"mmmm\")","v":"fevereiro"},{"$f":"YEAR(SPP[[#This Row],[DATA]])","v":2025}]
["04/02/2025","100","BILHETE UNICO MENSAL - CASCO",8196701,1100454992.5599999,176639832.94999999,1277094825.51,{"$f":"TEXT(SPP[[#This Row],[DATA]],\"mmmm\")","v":"fevereiro"},{"$f":"YEAR(SPP[[#This Row],[DATA]])","v":2025}]
["04/02/2025","110","BUM - ANÔNIMO - CASCO",1290345,594491.11,6105530.7800000003,6700021.8899999997,{"$f":"TEXT(SPP[[#This Row],[DATA]],\"mmmm\")","v":"fevereiro"},{"$f":"YEAR(SPP[[#This Row],[DATA]])","v":2025}]
["05/02/2025","51","COMUM 4 VIAGENS",6903,2719.7400000000002,24871.08,27590.82,{"$f":"TEXT(SPP[[#This Row],[DATA]],\"mmmm\")","v":"fevereiro"},{"$f":"YEAR(SPP[[#This Row],[DATA]])","v":2025}]
["05/02/2025","52","ESTUDANTE",55642,92707.16,358609.37,451316.53,{"$f":"TEXT(SPP[[#This Row],[DATA]],\"mmmm\")","v":"fevereiro"},{"$f":"YEAR(SPP[[#This Row],[DATA]])","v":2025}]
["05/02/2025","59","VT",2998796,29084094.210000001,14522119.18,43606213.390000001,{"$f":"TEXT(SPP[[#This Row],[DATA]],\"mmmm\")","v":"fevereiro"},{"$f":"YEAR(SPP[[#This Row],[DATA]])","v":2025}]
["05/02/2025","69","VT 8VG",633,0,4936.18,4936.18,{"$f":"TEXT(SPP[[#This Row],[DATA]],\"mmmm\")","v":"fevereiro"},{"$f":"YEAR(SPP[[#This Row],[DATA]])","v":2025}]
["05/02/2025","71","MÃE PAULISTANA",221132,300609.38,1182257.44,1482866.82,{"$f":"TEXT(SPP[[#This Row],[DATA]],\"mmmm\")","v":"fevereiro"},{"$f":"YEAR(SPP[[#This Row],[DATA]])","v":2025}]
["05/02/2025","74","PROFESSOR",38750,1851865.44,0,1851865.44,{"$f":"TEXT(SPP[[#This Row],[DATA]],\"mmmm\")","v":"fevereiro"},{"$f":"YEAR(SPP[[#This Row],[DATA]])","v":2025}]
["05/02/2025","75","CARTAO FIDELIDADE",141567,0,9020171.1500000004,9020171.1500000004,{"$f":"TEXT(SPP[[#This Row],[DATA]],\"mmmm\")","v":"fevereiro"},{"$f":"YEAR(SPP[[#This Row],[DATA]])","v":2025}]
["05/02/2025","76","Lazer",458,0,10890.02,10890.02,{"$f":"TEXT(SPP[[#This Row],[DATA]],\"mmmm\")","v":"fevereiro"},{"$f":"YEAR(SPP[[#This Row],[DATA]])","v":2025}]
["05/02/2025","80","COMUM 8 VIAGENS",38,0,249.3,249.3,{"$f":"TEXT(SPP[[#This Row],[DATA]],\"mmmm\")","v":"fevereiro"},{"$f":"YEAR(SPP[[#This Row],[DATA]])","v":2025}]
["05/02/2025","86","Estacionamento",9244,956.21,110400.16,111356.37,{"$f":"TEXT(SPP[[#This Row],[DATA]],\"mmmm\")","v":"fevereiro"},{"$f":"YEAR(SPP[[#This Row],[DATA]])","v":2025}]
["05/02/2025","100","BILHETE UNICO MENSAL - CASCO",8200543,1100441745.3099999,177836899.36000001,1278278644.6700001,{"$f":"TEXT(SPP[[#This Row],[DATA]],\"mmmm\")","v":"fevereiro"},{"$f":"YEAR(SPP[[#This Row],[DATA]])","v":2025}]
["05/02/2025","110","BUM - ANÔNIMO - CASCO",1290325,594491.11,6105404.5999999996,6699895.71,{"$f":"TEXT(SPP[[#This Row],[DATA]],\"mmmm\")","v":"fevereiro"},{"$f":"YEAR(SPP[[#This Row],[DATA]])","v":2025}]
["06/02/2025","51","COMUM 4 VIAGENS",6903,2719.7400000000002,24871.08,27590.82,{"$f":"TEXT(SPP[[#This Row],[DATA]],\"mmmm\")","v":"fevereiro"},{"$f":"YEAR(SPP[[#This Row],[DATA]])","v":2025}]
["06/02/2025","52","ESTUDANTE",55634,92706.26,358626.24,451332.5,{"$f":"TEXT(SPP[[#This Row],[DATA]],\"mmmm\")","v":"fevereiro"},{"$f":"YEAR(SPP[[#This Row],[DATA]])","v":2025}]
["06/02/2025","59","VT",2998768,29084019.879999999,14522035.52,43606055.399999999,{"$f":"TEXT(SPP[[#This Row],[DATA]],\"mmmm\")","v":"fevereiro"},{"$f":"YEAR(SPP[[#This Row],[DATA]])","v":2025}]
["06/02/2025","69","VT 8VG",633,0,4936.18,4936.18,{"$f":"TEXT(SPP[[#This Row],[DATA]],\"mmmm\")","v":"fevereiro"},{"$f":"YEAR(SPP[[#This Row],[DATA]])","v":2025}]
["06/02/2025","71","MÃE PAULISTANA",221183,300776.24,1185350.28,1486126.52,{"$f":"TEXT(SPP[[#This Row],[DATA]],\"mmmm\")","v":"fevereiro"},{"$f":"YEAR(SPP[[#This Row],[DATA]])","v":2025}]
["06/02/2025","74","PROFESSOR",38768,1862090.78,0,1862090.78,{"$f":"TEXT(SPP[[#This Row],[DATA]],\"mmmm\")","v":"fevereiro"},{"$f":"YEAR(SPP[[#This Row],[DATA]])","v":2025}]
["06/02/2025","75","CARTAO FIDELIDADE",141583,0,9020445.7599999998,9020445.7599999998,{"$f":"TEXT(SPP[[#This Row],[DATA]],\"mmmm\")","v":"fevereiro"},{"$f":"YEAR(SPP[[#This Row],[DATA]])","v":2025}]
["06/02/2025","76","Lazer",458,0,10890.02,10890.02,{"$f":"TEXT(SPP[[#This Row],[DATA]],\"mmmm\")","v":"fevereiro"},{"$f":"YEAR(SPP[[#This Row],[DATA]])","v":2025}]
["06/02/2025","80","COMUM 8 VIAGENS",38,0,249.3,249.3,{"$f":"TEXT(SPP[[#This Row],[DATA]],\"mmmm\")","v":"fevereiro"},{"$f":"YEAR(SPP[[#This Row],[DATA]])","v":2025}]
["06/02/2025","86","Estacionamento",9244,956.21,110400.16,111356.37,{"$f":"TEXT(SPP[[#This Row],[DATA]],\"mmmm\")","v":"fevereiro"},{"$f":"YEAR(SPP[[#This Row],[DATA]])","v":2025}]
["06/02/2025","100","BILHETE UNICO MENSAL - CASCO",8203395,1098293608.53,178562690.09999999,1276856298.6300001,{"$f":"TEXT(SPP[[#This Row],[DATA]],\"mmmm\")","v":"fevereiro"},{"$f":"YEAR(SPP[[#This Row],[DATA]])","v":2025}]
["06/02/2025","110","BUM - ANÔNIMO - CASCO",1290303,594491.11,6105270.1699999999,6699761.2800000003,{"$f":"TEXT(SPP[[#This Row],[DATA]],\"mmmm\")","v":"fevereiro"},{"$f":"YEAR(SPP[[#This Row],[DATA]])","v":2025}]
["07/02/2025","51","COMUM 4 VIAGENS",6903,2719.7400000000002,24871.08,27590.82,{"$f":"TEXT(SPP[[#This Row],[DATA]],\"mmmm\")","v":"fevereiro"},{"$f":"YEAR(SPP[[#This Row],[DATA]])","v":2025}]
["07/02/2025","52","ESTUDANTE",55628,92706.26,358671.27,451377.53,{"$f":"TEXT(SPP[[#This Row],[DATA]],\"mmmm\")","v":"fevereiro"},{"$f":"YEAR(SPP[[#This Row],[DATA]])","v":2025}]
["07/02/2025","59","VT",2998731,29083851.57,14521825.640000001,43605677.210000001,{"$f":"TEXT(SPP[[#This Row],[DATA]],\"mmmm\")","v":"fevereiro"},{"$f":"YEAR(SPP[[#This Row],[DATA]])","v":2025}]
["07/02/2025","69","VT 8VG",633,0,4936.18,4936.18,{"$f":"TEXT(SPP[[#This Row],[DATA]],\"mmmm\")","v":"fevereiro"},{"$f":"YEAR(SPP[[#This Row],[DATA]])","v":2025}]
["07/02/2025","71","MÃE PAULISTANA",221218,300848.58,1183865.43,1484714.01,{"$f":"TEXT(SPP[[#This Row],[DATA]],\"mmmm\")","v":"fevereiro"},{"$f":"YEAR(SPP[[#This Row],[DATA]])","v":2025}]
["07/02/2025","74","PROFESSOR",38801,1876028.15,0,1876028.15,{"$f":"TEXT(SPP[[#This Row],[DATA]],\"mmmm\")","v":"fevereiro"},{"$f":"YEAR(SPP[[#This Row],[DATA]])","v":2025}]
["07/02/2025","75","CARTAO FIDELIDADE",141600,0,9018987.3900000006,9018987.3900000006,{"$f":"TEXT(SPP[[#This Row],[DATA]],\"mmmm\")","v":"fevereiro"},{"$f":"YEAR(SPP[[#This Row],[DATA]])","v":2025}]
["07/02/2025","76","Lazer",458,0,10890.02,10890.02,{"$f":"TEXT(SPP[[#This Row],[DATA]],\"mmmm\")","v":"fevereiro"},{"$f":"YEAR(SPP[[#This Row],[DATA]])","v":2025}]
["07/02/2025","80","COMUM 8 VIAGENS",38,0,249.3,249.3,{"$f":"TEXT(SPP[[#This Row],[DATA]],\"mmmm\")","v":"fevereiro"},{"$f":"YEAR(SPP[[#This Row],[DATA]])","v":2025}]
["07/02/2025","86","Estacionamento",9245,956.21,110425.16,111381.37,{"$f":"TEXT(SPP[[#This Row],[DATA]],\"mmmm\")","v":"fevereiro"},{"$f":"YEAR(SPP[[#This Row],[DATA]])","v":2025}]
["07/02/2025","100","BILHETE UNICO MENSAL - CASCO",8205699,1094200272.52,178877558.13999999,1273077830.6600001,{"$f":"TEXT(SPP[[#This Row],[DATA]],\"mmmm\")","v":"fevereiro"},{"$f":"YEAR(SPP[[#This Row],[DATA]])","v":2025}]
["07/02/2025","110","BUM - ANÔNIMO - CASCO",1290283,594491.11,6105223.5999999996,6699714.71,{"$f":"TEXT(SPP[[#This Row],[DATA]],\"mmmm\")","v":"fevereiro"},{"$f":"YEAR(SPP[[#This Row],[DATA]])","v":2025}]
["08/02/2025","51","COMUM 4 VIAGENS",6903,2719.7400000000002,24871.08,27590.82,{"$f":"TEXT(SPP[[#This Row],[DATA]],\"mmmm\")","v":"fevereiro"},{"$f":"YEAR(SPP[[#This Row],[DATA]])","v":2025}]
["08/02/2025","52","ESTUDANTE",55620,92706.26,358688.88,451395.14,{"$f":"TEXT(SPP[[#This Row],[DATA]],\"mmmm\")","v":"fevereiro"},{"$f":"YEAR(SPP[[#This Row],[DATA]])","v":2025}]
["08/02/2025","59","VT",2998702,29082052.050000001,14521680.289999999,43603732.340000004,{"$f":"TEXT(SPP[[#This Row],[DATA]],\"mmmm\")","v":"fevereiro"},{"$f":"YEAR(SPP[[#This Row],[DATA]])","v":2025}]
["08/02/2025","69","VT 8VG",633,0,4936.18,4936.18,{"$f":"TEXT(SPP[[#This Row],[DATA]],\"mmmm\")","v":"fevereiro"},{"$f":"YEAR(SPP[[#This Row],[DATA]])","v":2025}]
["08/02/2025","71","MÃE PAULISTANA",221207,301594.53999999998,1179286.4099999999,1480880.95,{"$f":"TEXT(SPP[[#This Row],[DATA]],\"mmmm\")","v":"fevereiro"},{"$f":"YEAR(SPP[[#This Row],[DATA]])","v":2025}]
["08/02/2025","74","PROFESSOR",38769,1867973.11,0,1867973.11,{"$f":"TEXT(SPP[[#This Row],[DATA]],\"mmmm\")","v":"fevereiro"},{"$f":"YEAR(SPP[[#This Row],[DATA]])","v":2025}]
["08/02/2025","75","CARTAO FIDELIDADE",141475,0,8938371.4600000009,8938371.4600000009,{"$f":"TEXT(SPP[[#This Row],[DATA]],\"mmmm\")","v":"fevereiro"},{"$f":"YEAR(SPP[[#This Row],[DATA]])","v":2025}]
["08/02/2025","76","Lazer",458,0,10890.02,10890.02,{"$f":"TEXT(SPP[[#This Row],[DATA]],\"mmmm\")","v":"fevereiro"},{"$f":"YEAR(SPP[[#This Row],[DATA]])","v":2025}]
["08/02/2025","80","COMUM 8 VIAGENS",38,0,249.3,249.3,{"$f":"TEXT(SPP[[#This Row],[DATA]],\"mmmm\")","v":"fevereiro"},{"$f":"YEAR(SPP[[#This Row],[DATA]])","v":2025}]
["08/02/2025","86","Estacionamento",9245,956.21,110425.16,111381.37,{"$f":"TEXT(SPP[[#This Row],[DATA]],\"mmmm\")","v":"fevereiro"},{"$f":"YEAR(SPP[[#This Row],[DATA]])","v":2025}]
["08/02/2025","100","BILHETE UNICO MENSAL - CASCO",8205975,1089514823.3099999,177295315.30000001,1266810138.6099999,{"$f":"TEXT(SPP[[#This Row],[DATA]],\"mmmm\")","v":"fevereiro"},{"$f":"YEAR(SPP[[#This Row],[DATA]])","v":2025}]
["08/02/2025","110","BUM - ANÔNIMO - CASCO",1290271,594491.11,6105150.5300000003,6699641.6399999997,{"$f":"TEXT(SPP[[#This Row],[DATA]],\"mmmm\")","v":"fevereiro"},{"$f":"YEAR(SPP[[#This Row],[DATA]])","v":2025}]
["09/02/2025","51","COMUM 4 VIAGENS",6903,2719.7400000000002,24871.08,27590.82,{"$f":"TEXT(SPP[[#This Row],[DATA]],\"mmmm\")","v":"fevereiro"},{"$f":"YEAR(SPP[[#This Row],[DATA]])","v":2025}]
["09/02/2025","52","ESTUDANTE",55616,92706.26,358700.03,451406.29000000004,{"$f":"TEXT(SPP[[#This Row],[DATA]],\"mmmm\")","v":"fevereiro"},{"$f":"YEAR(SPP[[#This Row],[DATA]])","v":2025}]
["09/02/2025","59","VT",2998687,29079542.18,14521591,43601133.18,{"$f":"TEXT(SPP[[#This Row],[DATA]],\"mmmm\")","v":"fevereiro"},{"$f":"YEAR(SPP[[#This Row],[DATA]])","v":2025}]
["09/02/2025","69","VT 8VG",633,0,4936.18,4936.18,{"$f":"TEXT(SPP[[#This Row],[DATA]],\"mmmm\")","v":"fevereiro"},{"$f":"YEAR(SPP[[#This Row],[DATA]])","v":2025}]
["09/02/2025","71","MÃE PAULISTANA",221172,301660.94,1176103.08,1477764.02,{"$f":"TEXT(SPP[[#This Row],[DATA]],\"mmmm\")","v":"fevereiro"},{"$f":"YEAR(SPP[[#This Row],[DATA]])","v":2025}]
["09/02/2025","74","PROFESSOR",38755,1866746.95,0,1866746.95,{"$f":"TEXT(SPP[[#This Row],[DATA]],\"mmmm\")","v":"fevereiro"},{"$f":"YEAR(SPP[[#This Row],[DATA]])","v":2025}]
["09/02/2025","75","CARTAO FIDELIDADE",141417,0,8913698.6600000001,8913698.6600000001,{"$f":"TEXT(SPP[[#This Row],[DATA]],\"mmmm\")","v":"fevereiro"},{"$f":"YEAR(SPP[[#This Row],[DATA]])","v":2025}]
["09/02/2025","76","Lazer",458,0,10890.02,10890.02,{"$f":"TEXT(SPP[[#This Row],[DATA]],\"mmmm\")","v":"fevereiro"},{"$f":"YEAR(SPP[[#This Row],[DATA]])","v":2025}]
["09/02/2025","80","COMUM 8 VIAGENS",38,0,249.3,249.3,{"$f":"TEXT(SPP[[#This Row],[DATA]],\"mmmm\")","v":"fevereiro"},{"$f":"YEAR(SPP[[#This Row],[DATA]])","v":2025}]
["09/02/2025","86","Estacionamento",9245,956.21,110425.16,111381.37,{"$f":"TEXT(SPP[[#This Row],[DATA]],\"mmmm\")","v":"fevereiro"},{"$f":"YEAR(SPP[[#This Row],[DATA]])","v":2025}]
["09/02/2025","100","BILHETE UNICO MENSAL - CASCO",8204713,1086922240.05,175893888.16999999,1262816128.22,{"$f":"TEXT(SPP[[#This Row],[DATA]],\"mmmm\")","v":"fevereiro"},{"$f":"YEAR(SPP[[#This Row],[DATA]])","v":2025}]
["09/02/2025","110","BUM - ANÔNIMO - CASCO",1290258,594491.11,6105043.0800000001,6699534.1900000004,{"$f":"TEXT(SPP[[#This Row],[DATA]],\"mmmm\")","v":"fevereiro"},{"$f":"YEAR(SPP[[#This Row],[DATA]])","v":2025}]

{"sheet":"SPP por data e Tipo de cartão","index":3,"n_rows":35,"n_cols":27,"rows_kept":35,"cut":false,"hidden":true,"merged":[]}
["TIPO","DESCRIÇÃO","Qtde Cartões c/ Saldo","Carteira Especial","Carteira Comum","31/12/2024","Saldo Médio p/cartão",null,"Participação","%",null,null,null,null,null,null,null,null,null,null,null,null,null,null,null,null,"A_2024"]
[51,"Comum (4 Viagens) Cartão Base",{"$f":"SUMIFS('Dados SPP'!D:D,'Dados SPP'!$A:$A,$F$1,'Dados SPP'!$B:$B,$A2)","v":6912},{"$f":"SUMIFS('Dados SPP'!E:E,'Dados SPP'!$A:$A,$F$1,'Dados SPP'!$B:$B,$A2)","v":2726.55},{"$f":"SUMIFS('Dados SPP'!F:F,'Dados SPP'!$A:$A,$F$1,'Dados SPP'!$B:$B,$A2)","v":24898.84},{"$f":"SUMIFS('Dados SPP'!G:G,'Dados SPP'!$A:$A,$F$1,'Dados SPP'!$B:$B,$A2)","v":27625.39},{"$f":"IFERROR('SPP por data e Tipo de cartão'!$F2/'SPP por data e Tipo de cartão'!$C2,\"\")","v":3.9967288773148146},null," SPTRANS",{"$f":"#REF!*'SPP por data e Tipo de cartão'!$F$24","v":{"$error":"#REF!"}}]
[52,"Estudante",{"$f":"SUMIFS('Dados SPP'!D:D,'Dados SPP'!$A:$A,$F$1,'Dados SPP'!$B:$B,$A3)","v":55892},{"$f":"SUMIFS('Dados SPP'!E:E,'Dados SPP'!$A:$A,$F$1,'Dados SPP'!$B:$B,$A3)","v":93133.81},{"$f":"SUMIFS('Dados SPP'!F:F,'Dados SPP'!$A:$A,$F$1,'Dados SPP'!$B:$B,$A3)","v":358532.81},{"$f":"SUMIFS('Dados SPP'!G:G,'Dados SPP'!$A:$A,$F$1,'Dados SPP'!$B:$B,$A3)","v":451666.62},{"$f":"IFERROR('SPP por data e Tipo de cartão'!$F3/'SPP por data e Tipo de cartão'!$C3,\"\")","v":8.0810602590710658},null," METRÔ",{"$f":"#REF!*'SPP por data e Tipo de cartão'!$F$24","v":{"$error":"#REF!"}}]
[53,"Idoso",{"$f":"SUMIFS('Dados SPP'!D:D,'Dados SPP'!$A:$A,$F$1,'Dados SPP'!$B:$B,$A4)","v":0},{"$f":"SUMIFS('Dados SPP'!E:E,'Dados SPP'!$A:$A,$F$1,'Dados SPP'!$B:$B,$A4)","v":0},{"$f":"SUMIFS('Dados SPP'!F:F,'Dados SPP'!$A:$A,$F$1,'Dados SPP'!$B:$B,$A4)","v":0},{"$f":"SUMIFS('Dados SPP'!G:G,'Dados SPP'!$A:$A,$F$1,'Dados SPP'!$B:$B,$A4)","v":0},{"$f":"IFERROR('SPP por data e Tipo de cartão'!$F4/'SPP por data e Tipo de cartão'!$C4,\"\")","v":""},null," CPTM",{"$f":"#REF!*'SPP por data e Tipo de cartão'!$F$24","v":{"$error":"#REF!"}}]
[59,"Vale Transporte",{"$f":"SUMIFS('Dados SPP'!D:D,'Dados SPP'!$A:$A,$F$1,'Dados SPP'!$B:$B,$A5)","v":3000437},{"$f":"SUMIFS('Dados SPP'!E:E,'Dados SPP'!$A:$A,$F$1,'Dados SPP'!$B:$B,$A5)","v":29164443.23},{"$f":"SUMIFS('Dados SPP'!F:F,'Dados SPP'!$A:$A,$F$1,'Dados SPP'!$B:$B,$A5)","v":14531652.07},{"$f":"SUMIFS('Dados SPP'!G:G,'Dados SPP'!$A:$A,$F$1,'Dados SPP'!$B:$B,$A5)","v":43696095.299999997},{"$f":"IFERROR('SPP por data e Tipo de cartão'!$F5/'SPP por data e Tipo de cartão'!$C5,\"\")","v":14.563243720831331},null," VIA QUATRO",{"$f":"#REF!*'SPP por data e Tipo de cartão'!$F$24","v":{"$error":"#REF!"}}]
[67,"Estudante Provisório",{"$f":"SUMIFS('Dados SPP'!D:D,'Dados SPP'!$A:$A,$F$1,'Dados SPP'!$B:$B,$A6)","v":0},{"$f":"SUMIFS('Dados SPP'!E:E,'Dados SPP'!$A:$A,$F$1,'Dados SPP'!$B:$B,$A6)","v":0},{"$f":"SUMIFS('Dados SPP'!F:F,'Dados SPP'!$A:$A,$F$1,'Dados SPP'!$B:$B,$A6)","v":0},{"$f":"SUMIFS('Dados SPP'!G:G,'Dados SPP'!$A:$A,$F$1,'Dados SPP'!$B:$B,$A6)","v":0},{"$f":"IFERROR('SPP por data e Tipo de cartão'!$F6/'SPP por data e Tipo de cartão'!$C6,\"\")","v":""},null,"VIA MOBILIDADE",{"$f":"#REF!*'SPP por data e Tipo de cartão'!$F$24","v":{"$error":"#REF!"}}]
[68,"Estudante (8 Viagens)",{"$f":"SUMIFS('Dados SPP'!D:D,'Dados SPP'!$A:$A,$F$1,'Dados SPP'!$B:$B,$A7)","v":0},{"$f":"SUMIFS('Dados SPP'!E:E,'Dados SPP'!$A:$A,$F$1,'Dados SPP'!$B:$B,$A7)","v":0},{"$f":"SUMIFS('Dados SPP'!F:F,'Dados SPP'!$A:$A,$F$1,'Dados SPP'!$B:$B,$A7)","v":0},{"$f":"SUMIFS('Dados SPP'!G:G,'Dados SPP'!$A:$A,$F$1,'Dados SPP'!$B:$B,$A7)","v":0},{"$f":"IFERROR('SPP por data e Tipo de cartão'!$F7/'SPP por data e Tipo de cartão'!$C7,\"\")","v":""}]
[69,"Vale Transporte (8 Viagens)",{"$f":"SUMIFS('Dados SPP'!D:D,'Dados SPP'!$A:$A,$F$1,'Dados SPP'!$B:$B,$A8)","v":633},{"$f":"SUMIFS('Dados SPP'!E:E,'Dados SPP'!$A:$A,$F$1,'Dados SPP'!$B:$B,$A8)","v":0},{"$f":"SUMIFS('Dados SPP'!F:F,'Dados SPP'!$A:$A,$F$1,'Dados SPP'!$B:$B,$A8)","v":4936.18},{"$f":"SUMIFS('Dados SPP'!G:G,'Dados SPP'!$A:$A,$F$1,'Dados SPP'!$B:$B,$A8)","v":4936.18},{"$f":"IFERROR('SPP por data e Tipo de cartão'!$F8/'SPP por data e Tipo de cartão'!$C8,\"\")","v":7.798072669826225}]
[71,"Mãe Paulistana",{"$f":"SUMIFS('Dados SPP'!D:D,'Dados SPP'!$A:$A,$F$1,'Dados SPP'!$B:$B,$A9)","v":220158},{"$f":"SUMIFS('Dados SPP'!E:E,'Dados SPP'!$A:$A,$F$1,'Dados SPP'!$B:$B,$A9)","v":297556.8},{"$f":"SUMIFS('Dados SPP'!F:F,'Dados SPP'!$A:$A,$F$1,'Dados SPP'!$B:$B,$A9)","v":1137640.99},{"$f":"SUMIFS('Dados SPP'!G:G,'Dados SPP'!$A:$A,$F$1,'Dados SPP'!$B:$B,$A9)","v":1435197.79},{"$f":"IFERROR('SPP por data e Tipo de cartão'!$F9/'SPP por data e Tipo de cartão'!$C9,\"\")","v":6.5189445307461007}]
[74,"Professor",{"$f":"SUMIFS('Dados SPP'!D:D,'Dados SPP'!$A:$A,$F$1,'Dados SPP'!$B:$B,$A10)","v":39839},{"$f":"SUMIFS('Dados SPP'!E:E,'Dados SPP'!$A:$A,$F$1,'Dados SPP'!$B:$B,$A10)","v":1997897.08},{"$f":"SUMIFS('Dados SPP'!F:F,'Dados SPP'!$A:$A,$F$1,'Dados SPP'!$B:$B,$A10)","v":0},{"$f":"SUMIFS('Dados SPP'!G:G,'Dados SPP'!$A:$A,$F$1,'Dados SPP'!$B:$B,$A10)","v":1997897.08},{"$f":"IFERROR('SPP por data e Tipo de cartão'!$F10/'SPP por data e Tipo de cartão'!$C10,\"\")","v":50.149277843319361},null,null,null,null,null,null,null,null,"SPT1177303"]
[75,"Fidelidade",{"$f":"SUMIFS('Dados SPP'!D:D,'Dados SPP'!$A:$A,$F$1,'Dados SPP'!$B:$B,$A11)","v":139959},{"$f":"SUMIFS('Dados SPP'!E:E,'Dados SPP'!$A:$A,$F$1,'Dados SPP'!$B:$B,$A11)","v":0},{"$f":"SUMIFS('Dados SPP'!F:F,'Dados SPP'!$A:$A,$F$1,'Dados SPP'!$B:$B,$A11)","v":8531611},{"$f":"SUMIFS('Dados SPP'!G:G,'Dados SPP'!$A:$A,$F$1,'Dados SPP'!$B:$B,$A11)","v":8531611},{"$f":"IFERROR('SPP por data e Tipo de cartão'!$F11/'SPP por data e Tipo de cartão'!$C11,\"\")","v":60.957930536800063},null,null,null,null,null,null,null,null,171321]
[76,"Lazer",{"$f":"SUMIFS('Dados SPP'!D:D,'Dados SPP'!$A:$A,$F$1,'Dados SPP'!$B:$B,$A12)","v":462},{"$f":"SUMIFS('Dados SPP'!E:E,'Dados SPP'!$A:$A,$F$1,'Dados SPP'!$B:$B,$A12)","v":0},{"$f":"SUMIFS('Dados SPP'!F:F,'Dados SPP'!$A:$A,$F$1,'Dados SPP'!$B:$B,$A12)","v":11049.42},{"$f":"SUMIFS('Dados SPP'!G:G,'Dados SPP'!$A:$A,$F$1,'Dados SPP'!$B:$B,$A12)","v":11049.42},{"$f":"IFERROR('SPP por data e Tipo de cartão'!$F12/'SPP por data e Tipo de cartão'!$C12,\"\")","v":23.916493506493506},null,null,null,null,null,null,null,null,"DWH"]
[80,"COMUM 8 VIAGENS",{"$f":"SUMIFS('Dados SPP'!D:D,'Dados SPP'!$A:$A,$F$1,'Dados SPP'!$B:$B,$A13)","v":39},{"$f":"SUMIFS('Dados SPP'!E:E,'Dados SPP'!$A:$A,$F$1,'Dados SPP'!$B:$B,$A13)","v":0},{"$f":"SUMIFS('Dados SPP'!F:F,'Dados SPP'!$A:$A,$F$1,'Dados SPP'!$B:$B,$A13)","v":251.17000000000002},{"$f":"SUMIFS('Dados SPP'!G:G,'Dados SPP'!$A:$A,$F$1,'Dados SPP'!$B:$B,$A13)","v":251.17000000000002},{"$f":"IFERROR('SPP por data e Tipo de cartão'!$F13/'SPP por data e Tipo de cartão'!$C13,\"\")","v":6.4402564102564108},null,null,null,null,null,null,null,null,"2005-01-01"]
[81,"VT Empresarial",{"$f":"SUMIFS('Dados SPP'!D:D,'Dados SPP'!$A:$A,$F$1,'Dados SPP'!$B:$B,$A14)","v":0},{"$f":"SUMIFS('Dados SPP'!E:E,'Dados SPP'!$A:$A,$F$1,'Dados SPP'!$B:$B,$A14)","v":0},{"$f":"SUMIFS('Dados SPP'!F:F,'Dados SPP'!$A:$A,$F$1,'Dados SPP'!$B:$B,$A14)","v":0},{"$f":"SUMIFS('Dados SPP'!G:G,'Dados SPP'!$A:$A,$F$1,'Dados SPP'!$B:$B,$A14)","v":0},{"$f":"IFERROR('SPP por data e Tipo de cartão'!$F14/'SPP por data e Tipo de cartão'!$C14,\"\")","v":""},null,null,null,null,null,null,null,null,{"$f":"TODAY()-1","v":"2025-02-20"}]
[86,"Estacionamento",{"$f":"SUMIFS('Dados SPP'!D:D,'Dados SPP'!$A:$A,$F$1,'Dados SPP'!$B:$B,$A15)","v":9246},{"$f":"SUMIFS('Dados SPP'!E:E,'Dados SPP'!$A:$A,$F$1,'Dados SPP'!$B:$B,$A15)","v":956.21},{"$f":"SUMIFS('Dados SPP'!F:F,'Dados SPP'!$A:$A,$F$1,'Dados SPP'!$B:$B,$A15)","v":110326.33},{"$f":"SUMIFS('Dados SPP'!G:G,'Dados SPP'!$A:$A,$F$1,'Dados SPP'!$B:$B,$A15)","v":111282.54000000001},{"$f":"IFERROR('SPP por data e Tipo de cartão'!$F15/'SPP por data e Tipo de cartão'!$C15,\"\")","v":12.035749513303051}]
[93,"Bilhete USP",{"$f":"SUMIFS('Dados SPP'!D:D,'Dados SPP'!$A:$A,$F$1,'Dados SPP'!$B:$B,$A16)","v":0},{"$f":"SUMIFS('Dados SPP'!E:E,'Dados SPP'!$A:$A,$F$1,'Dados SPP'!$B:$B,$A16)","v":0},{"$f":"SUMIFS('Dados SPP'!F:F,'Dados SPP'!$A:$A,$F$1,'Dados SPP'!$B:$B,$A16)","v":0},{"$f":"SUMIFS('Dados SPP'!G:G,'Dados SPP'!$A:$A,$F$1,'Dados SPP'!$B:$B,$A16)","v":0},{"$f":"IFERROR('SPP por data e Tipo de cartão'!$F16/'SPP por data e Tipo de cartão'!$C16,\"\")","v":""}]
[97,"Bilhete USP - Provisório",{"$f":"SUMIFS('Dados SPP'!D:D,'Dados SPP'!$A:$A,$F$1,'Dados SPP'!$B:$B,$A17)","v":0},{"$f":"SUMIFS('Dados SPP'!E:E,'Dados SPP'!$A:$A,$F$1,'Dados SPP'!$B:$B,$A17)","v":0},{"$f":"SUMIFS('Dados SPP'!F:F,'Dados SPP'!$A:$A,$F$1,'Dados SPP'!$B:$B,$A17)","v":0},{"$f":"SUMIFS('Dados SPP'!G:G,'Dados SPP'!$A:$A,$F$1,'Dados SPP'!$B:$B,$A17)","v":0},{"$f":"IFERROR('SPP por data e Tipo de cartão'!$F17/'SPP por data e Tipo de cartão'!$C17,\"\")","v":""}]
[100,"Bilhete Único",{"$f":"SUMIFS('Dados SPP'!D:D,'Dados SPP'!$A:$A,$F$1,'Dados SPP'!$B:$B,$A18)","v":8091703},{"$f":"SUMIFS('Dados SPP'!E:E,'Dados SPP'!$A:$A,$F$1,'Dados SPP'!$B:$B,$A18)","v":1116633818.54},{"$f":"SUMIFS('Dados SPP'!F:F,'Dados SPP'!$A:$A,$F$1,'Dados SPP'!$B:$B,$A18)","v":145400472.38},{"$f":"SUMIFS('Dados SPP'!G:G,'Dados SPP'!$A:$A,$F$1,'Dados SPP'!$B:$B,$A18)","v":1262034290.9200001},{"$f":"IFERROR('SPP por data e Tipo de cartão'!$F18/'SPP por data e Tipo de cartão'!$C18,\"\")","v":155.96646230342364}]
[110,"BUM - Anônimo - Casco",{"$f":"SUMIFS('Dados SPP'!D:D,'Dados SPP'!$A:$A,$F$1,'Dados SPP'!$B:$B,$A19)","v":1291193},{"$f":"SUMIFS('Dados SPP'!E:E,'Dados SPP'!$A:$A,$F$1,'Dados SPP'!$B:$B,$A19)","v":594765.78},{"$f":"SUMIFS('Dados SPP'!F:F,'Dados SPP'!$A:$A,$F$1,'Dados SPP'!$B:$B,$A19)","v":6110069.0599999996},{"$f":"SUMIFS('Dados SPP'!G:G,'Dados SPP'!$A:$A,$F$1,'Dados SPP'!$B:$B,$A19)","v":6704834.8399999999},{"$f":"IFERROR('SPP por data e Tipo de cartão'!$F19/'SPP por data e Tipo de cartão'!$C19,\"\")","v":5.1927441056449348}]
[120,"Corporativo - 4k",{"$f":"SUMIFS('Dados SPP'!D:D,'Dados SPP'!$A:$A,$F$1,'Dados SPP'!$B:$B,$A20)","v":0},{"$f":"SUMIFS('Dados SPP'!E:E,'Dados SPP'!$A:$A,$F$1,'Dados SPP'!$B:$B,$A20)","v":0},{"$f":"SUMIFS('Dados SPP'!F:F,'Dados SPP'!$A:$A,$F$1,'Dados SPP'!$B:$B,$A20)","v":0},{"$f":"SUMIFS('Dados SPP'!G:G,'Dados SPP'!$A:$A,$F$1,'Dados SPP'!$B:$B,$A20)","v":0},{"$f":"IFERROR('SPP por data e Tipo de cartão'!$F20/'SPP por data e Tipo de cartão'!$C20,\"\")","v":""}]
[]
["saldo em poder do público por data>",null,{"$f":"SUM(C2:C21)","v":12856473},{"$f":"SUM(D2:D21)","v":1148785298},{"$f":"SUM(E2:E21)","v":176221440.25},{"$f":"SUM(F2:F21)","v":1325006738.25}]
["saldo disponivel do VT por data>",null,null,null,null,{"$f":"SUMIFS('Dados Saldo disponivel do VT'!$E:$E,'Dados Saldo disponivel do VT'!$B:$B,$F$1)","v":762822686.40999997}]
["Total do saldo em poder do público por data",null,null,null,null,{"$f":"SUM(F22:F23)","v":2087829424.6599998},{"$f":"SUM(Tabela2[%])","v":{"$error":"#REF!"}}]
[]
["SPP Atualizado até",null,{"$f":"'Dados SPP'!K1","v":"09/02/2025"}]
["SDVT atualizado até",null,{"$f":"TEXT('Dados Saldo disponivel do VT'!M1,\"dd/mm/aaaa\")","v":"10/02/2025"},null,{"$f":"D18+F23","v":1879456504.9499998},"...Saldo VT"]
[]
[]
[null,null,null,null,null,null,null,null,null,null,null,null,null,"SPT1177303"]
[null,null,null,null,null,null,null,null,null,null,null,null,null,171321]
[null,null,null,null,null,null,null,null,null,null,null,null,null,"DWH"]
[null,null,null,null,null,null,null,null,null,null,null,null,null,"2019-01-01"]
[null,null,null,null,null,null,null,null,null,null,null,{"$f":"TODAY()","v":"2025-02-21"},null,{"$f":"TODAY()","v":"2025-02-21"}]
[null,null,null,null,null,null,null,null,null,null,null,{"$f":"TODAY()-2","v":"2025-02-19"},null,{"$f":"TODAY()-2","v":"2025-02-19"}]

{"sheet":"login","index":4,"n_rows":4,"n_cols":2,"rows_kept":4,"cut":false,"hidden":true,"merged":[]}
["Usuario","SPT1177303"]
["Pront",171321]
["Banco","dwh"]
["data fim",{"$f":"TODAY()-1","v":"2025-02-20"}]

{"sheet":"Análise do SPP","index":5,"n_rows":0,"n_cols":0,"rows_kept":0,"cut":false,"hidden":true,"merged":[]}

{"sheet":"Análise do Saldo do VT","index":6,"n_rows":0,"n_cols":0,"rows_kept":0,"cut":false,"hidden":true,"merged":[]}

{"sheet":"Planilha1","index":7,"n_rows":37,"n_cols":19,"rows_kept":37,"cut":false,"hidden":true,"merged":[]}
[null,null,null,null,"São Paulo Transporte S/A - SPTrans"]
[null,null,null,null,"Assessoria de Controle de Arrecadação (DG/SAC/ACA)"]
[null,null,null,null,"VENDAS DE CRÉDITOS ELETRÔNICOS"]
[null,2006,2007,2008,2009,2010,2011,2012,2013,2014,2015,2016,2017,2018,2019,2020,2021,2022,2023]
["janeiro",99742089.609999999,207047405.72414631,248208725.2692683,303434666.59541464,332688445.82878047,411903529.78073168,462420448.63341463,480428398.8549757,498112260.39700001,513706838.29000002,514354028.24000001,499794780.35999995,561685875.2299999,621209516.04000008,661556886.21682942,417934416.34341466,486606099.14780498,554977215.03320003]
["fevereiro",98776161.169024378,205123237.83878049,254074735.03463417,314776564.9290244,380638383.5529269,462181142.5221464,493137959.84487802,479097635.64829266,510088821.59139997,526539648.13,529291003.36999995,487494897.74299991,538222894.70000005,605481466.05000007,663825958.75487816,465970531.32951224,524458002.07682925,573211657.57610011]
["março",155928840.67146343,243237070.03585365,289728666.29782927,381022867.16012192,461798723.26268291,478794125.4038049,530347998.83029276,528886260.75121957,512116681.36999995,597662544.07999992,558229983.54000008,542564586.58999991,579449361.93000007,645089908.39999998,520955306.68170726,421531404.18756098,616746300.88121951,618782843.19019997]
["abril",137938943.92549318,237454098.34829268,325288774.21278048,345369844.29382926,415471250.48185366,469789484.85536587,514312432.24878049,544519067.21512198,513768881.20999998,547790970.43400002,526078249.00299996,512610914.18000001,564469007.61000001,675434282.90999997,261345881.62024394,389821586.7234146,577842017.05439019,576826382.48630011]
["maio",165105470.72170728,248952514.92263412,322182715.58570731,357105686.08400005,433912228.14246345,512484402.65329272,530809630.0552367,562885564.38902426,507814278.52399999,550142785.81633329,536868046.92000002,565956228.49000001,589344567.29999995,663760622.88999999,267950483.21048781,459584382.50536597,636317242.89292669,629117034.11459994]
["junho",160930014.63078049,237786615.51492679,334575330.18251222,359189487.15073168,419107805.78341466,476061603.68780494,494907503.3505854,491172979.26302433,471672819.64657146,546126781.3033334,516584785.93600005,525876779.16000003,551818278.59000003,609965634.62,326309953.40257835,471682907.51170737,588977417.25756109,594051487.10000002]
["julho",162650422.80219513,245222300.16682929,335170246.76882929,353929967.62273169,419290304.78243899,473241988.22853661,513935470.05129266,516744844.1732927,500485524.77999997,532056832.07000005,523750724.41000009,555180726.72300005,582406963.8599999,639161873.03999996,381494455.18623698,482404348.28804868,606008255.18951237,614696670.17878056]
["agosto",186478673.2982927,267777240.93356097,344112837.11292684,362213082.24564981,454403789.06448787,523038692.69731706,538352796.29707325,532602356.6971463,525282407.86199999,541524316.75000012,532645680.88000005,564209235.27999985,593234226.50999999,659122705.31999993,397243026.71634144,511879345.68317074,640058587.08000016,0]
["setembro",178573088.86148781,246074297.2489756,362684444.23317069,367904683.18221951,434848593.42463416,496422688.51487809,506931865.55182934,534072095.56682938,544895612.11479986,524661033.87299997,502031381.86000001,533348634.22300005,572512727.92999983,668544788.04999995,421582462.14829272,501618190.60707325,602025953.96170735,0]
["outubro",194083953.56707317,280273830.30878049,359368363.05365849,366287909.0109756,430005850.64073169,496271777.05880475,539348463.15097558,541841778.49414635,524211027.14999998,517484919.28000003,506168355.13600004,537391023.44299996,595671113.09000015,673118533.68000007,435888677.78463423,514028063.04975611,610872138.81999993,0]
["novembro",220472377.3952195,254851791.45756096,335488733.27487803,360806046.46539026,433918757.47275603,495372253.26253659,475545143.49397564,506074422.04966664,495527995.61000001,500893918.37200004,503595101.92300004,515586218.92999995,547098532.71000004,635145664.51999986,451410770.27146339,544113151.11658537,608452690.87559998,0]
["dezembro",179027704.65195122,237763619.58907318,333216776.63882923,373000228.90882921,436536375.98951221,472152889.66414636,449405238.4626829,475382989.26999998,489265658.12,476273796.67000002,490176699.61300004,522690892.22000003,549088516.55999994,641233135.21000016,455491436.28512204,553145455.60024381,586513871.97389996,0]
[null,1939707741.3046882,2911564022.0894146,3844100347.6650243,4245041033.6489177,5052620508.4266815,5767714578.3293648,6049454949.9710169,6193708392.3727388,6093241968.3757706,6374864385.0686665,6239774040.8309994,6362704917.342,6825002066.0200005,7737268130.7299995,5245055298.2788153,5733713782.9458542,7084878577.2114506,3546966619.5004001]
[]
["Média/mês",{"$f":"AVERAGE(B5:B16)","v":161642311.77539068},242630335.17411789,320341695.63875204,{"$f":"AVERAGE(E5:E16)","v":353753419.47074312},421051709.03555697,480642881.52744722,504121245.83091807,516142366.03106165,507770164.03131419,531238698.75572222,519981170.06924993,530225409.77850002,568750172.16833341,644772344.22749996,437087941.52323461,477809481.9121545,{"$f":"AVERAGE(R5:R16)","v":590406548.10095417},{"$f":"AVERAGE(S5:S16)","v":346805274.13993174}]
[]
[]
[]
[]
[]
[]
[]
[]
[]
[]
[]
[]
[]
[]
[]
[]
[null,null,null,null,null,null,null,null,null,null,"a","a","a","a"]
[null,null,null,null,null,null,null,null,null,null,"A7","A7","A7","A7"]