Workbook

Sheet Janeiro
B3: CEJUSC - PMSP
B4: 46023
B7: Sessões de Mediação realizadas
B8: Total de | C8: Tipo | D8: Acordos | E8: Sem Acordo | G8: Total de conciliações Frutíferas: | I8: 0
B9: Sessões | C9: Família | D9: 0 | E9: 0 | G9: índice de Acordos em família: | I9: =_xlfn.PERCENTOF(D9,D12) -> #DIV/0! | J9: =D9+E9 -> 0
B10: Realizadas | C10: Cível | D10: 0 | E10: 0 | G10: Índice de Acordos em Cível: | I10: =_xlfn.PERCENTOF(D10,D12) -> #DIV/0! | J10: =D10+E10 -> 0
B11: no CEJUSC | J11: =D11+E11 -> 0
B12: =SUM(D12+E12) -> 0 | C12: TOTAL | D12: =SUM(D9+D10) -> 0 | E12: =SUM(E9+E10) -> 0 | G12: Índice Total de Acordos: | I12: =_xlfn.PERCENTOF(D9,D10) -> #DIV/0!
B14: Sessões de Mediação- Não realizadas
B15: Total de sessões não realizadas | C15: Não realizada pela ausência do Requerente | E15: Não realizada pela ausência do Requerido | G15: Não realizada pela ausência de ambos | H15: Não Realizada por falta de documentos
B16: =SUM(D12+E12) -> 0 | C16: 0 | E16: 0 | G16: 0 | H16: 0
B17: =C17+E17+G17+H17 -> #DIV/0! | C17: =C16/B16 -> #DIV/0! | E17: =E16/B16 -> #DIV/0! | G17: =G16/B16 -> #DIV/0! | H17: =H16/B16 -> #DIV/0!
B20: Encaminhamentos à equipamentos de atendimento à Violência Doméstica: | I20: 0
B22: Panorama Geral
B23: Data | C23: Agendadas | D23: Realizadas | F23: Não realizadas | H23: Reagendadas
B24: 45658 | C24: 0 | D24: 0 | F24: 0 | H24: 0
B25: 45659 | C25: 0 | D25: 0 | F25: 0 | H25: 0
B26: 45660
B27: 45661
B28: 45662 | C28: 0 | D28: 0 | F28: 0 | H28: 0
B29: 45663 | C29: 0 | D29: 0 | F29: 0 | H29: 0
B30: 45664 | C30: 0 | D30: 0 | F30: 0 | H30: 0
B31: 45665 | C31: 0 | D31: 0 | F31: 0 | H31: 0
B32: 45666 | C32: 0 | D32: 0 | F32: 0 | H32: 0
B33: 45667
B34: 45668
B35: 45669 | C35: 0 | D35: 0 | F35: 0 | H35: 0
B36: 45670 | C36: 0 | D36: 0 | F36: 0 | H36: 0
B37: 45671 | C37: 0 | D37: 0 | F37: 0 | H37: 0
B38: 45672 | C38: 0 | D38: 0 | F38: 0 | H38: 0
B39: 45673 | C39: 0 | D39: 0 | F39: 0 | H39: 0
B40: 45674
B41: 45675
B42: 45676 | C42: 0 | D42: 0 | F42: 0 | H42: 0
B43: 45677 | C43: 0 | D43: 0 | F43: 0 | H43: 0
B44: 45678 | C44: 0 | D44: 0 | F44: 0 | H44: 0
B45: 45679 | C45: 0 | D45: 0 | F45: 0 | H45: 0
B46: 45680 | C46: 0 | D46: 0 | F46: 0 | H46: 0
B47: 45681
B48: 45682
...

Sheet Fevereiro
B3: CEJUSC - PMSP
B4: 46054
B7: Sessões de Mediação realizadas
B8: Total de | C8: Tipo | D8: Acordos | E8: Sem Acordo | G8: Total de Acordos Frutíferos: | I8: =D12 -> 23
B9: Sessões | C9: Família | D9: 22 | E9: 0 | G9: Índice de Acordos em Família: | I9: =_xlfn.PERCENTOF(D9,D12) -> 0.95652174 | J9: =D9+E9 -> 22
B10: Realizadas | C10: Cível | D10: 1 | E10: 0 | G10: Índice de Acordos em Cível: | I10: =_xlfn.PERCENTOF(D10,D12) -> 0.043478261 | J10: =D10+E10 -> 1
B11: no CEJUSC | J11: =D11+E11 -> 0
B12: =SUM(D12:E12:E11) -> 23 | C12: TOTAL | D12: =SUM(D9+D10) -> 23 | E12: =SUM(E9+E10) -> 0 | G12: Índice Total de Acordos: | I12: =I9+I10 -> 1
B14: Sessões de Mediação- Não realizadas
B15: Total de sessões não realizadas | C15: Não realizada pela ausência do Requerente | E15: Não realizada pela ausência do Requerido | G15: Não realizada pela ausência de ambos | H15: Canceladas
B16: =SUM(C16+E16+G16+H16) -> 12 | C16: 1 | E16: 4 | G16: 4 | H16: 3
B17: =C17+E17+G17+H17 -> 1 | C17: =C16/B16 -> 0.083333333 | E17: =E16/B16 -> 0.33333333 | G17: =G16/B16 -> 0.33333333 | H17: =H16/B16 -> 0.25
B20: Encaminhamentos à equipamentos de atendimento à Violência Doméstica: | H20: 0
B22: Panorama Geral
B23: Data | C23: Agendadas | D23: Realizadas | F23: Não realizadas | H23: Reagendadas
B24: 45689
B25: 45690 | C25: 5 | D25: 4 | F25: 1 | H25: 0
B26: 45691 | C26: 3 | D26: 2 | F26: 0 | H26: 1
B27: 45692 | C27: 2 | D27: 2 | F27: 0 | H27: 0
B28: 45693 | C28: 2 | D28: 1 | F28: 0 | H28: 1
B29: 45694 | C29: 1 | D29: 1 | F29: 0 | H29: 0
B30: 45695
B31: 45696
B32: 45697 | C32: 2 | D32: 1 | F32: 1 | H32: 0
B33: 45698 | C33: 0 | D33: 0 | F33: 0 | H33: 0
B34: 45699 | C34: 0 | D34: 0 | F34: 0 | H34: 0
B35: 45700 | C35: 0 | D35: 0 | F35: 0 | H35: 0
B36: 45701 | C36: 0 | D36: 0 | F36: 0 | H36: 0
B37: 45702
B38: 45703
B39: 45704
B40: 45705
B41: 45706 | C41: 0 | D41: 0 | F41: 0 | H41: 0
B42: 45707 | C42: 3 | D42: 3 | F42: 0 | H42: 0
B43: 45708 | C43: 3 | D43: 0 | F43: 0 | H43: 3
B44: 45709
B45: 45710
B46: 45711 | C46: 6 | D46: 1 | F46: 3 | H46: 2
B47: 45712 | C47: 5 | D47: 4 | F47: 1 | H47: 0
B48: 45713 | C48: 5 | D48: 1 | F48: 2 | H48: 2
...

Sheet Março
B3: CEJUSC - PMSP
B4: 46082
B7: Sessões de Mediação realizadas
B8: Total de | C8: Tipo | D8: Acordos | E8: Sem Acordo | G8: Total de Acordos Frutíferos: | I8: =D12 -> 32
B9: Sessões | C9: Família | D9: 30 | E9: 4 | G9: Índice de Acordos em Família: | I9: =D9/J9 -> 0.88235294 | J9: =D9+E9 -> 34
B10: Realizadas | C10: Cível | D10: 2 | E10: 3 | G10: Índice de Acordos em Cível: | I10: =D10/J10 -> 0.4 | J10: =D10+E10 -> 5
B11: no CEJUSC | J11: =D11+E11 -> 0
B12: =SUM(D12:E12:E11) -> 39 | C12: TOTAL | D12: 32 | E12: 7 | G12: Índice Total de Acordos: | I12: =D12/SUM(D12:E12) -> 0.82051282
B14: Sessões de Mediação- Não realizadas
B15: Total de sessões não realizadas | C15: Não realizada pela ausência do Requerente | E15: Não realizada pela ausência do Requerido | G15: Não realizada pela ausência de ambos | H15: Canceladas
B16: 23 | C16: 0 | E16: 12 | G16: 9 | H16: 2
B17: =C17+E17+G17+H17 -> 1 | C17: =C16/B16 -> 0 | E17: =E16/B16 -> 0.52173913 | G17: =G16/B16 -> 0.39130435 | H17: =H16/B16 -> 0.086956522
B20: Encaminhamentos à equipamentos de atendimento à Violência Doméstica: | I20: 0
B22: Panorama Geral
B23: Data | C23: Agendadas | D23: Realizadas | F23: Não realizadas | H23: Reagendadas
B24: 45717
B25: 45718 | C25: 5 | D25: 3 | F25: 2 | H25: 0
B26: 45719 | C26: 5 | D26: 2 | F26: 3 | H26: 0
B27: 45720 | C27: 5 | D27: 4 | F27: 0 | H27: 1
B28: 45721 | C28: 4 | D28: 2 | F28: 1 | H28: 1
B29: 45722 | C29: 3 | D29: 1 | F29: 2 | H29: 0
B30: 45723
B31: 45724
B32: 45725 | C32: 3 | D32: 2 | F32: 1 | H32: 0
B33: 45726 | C33: 3 | D33: 2 | F33: 0 | H33: 1
B34: 45727 | C34: 2 | D34: 0 | F34: 2 | H34: 0
B35: 45728 | C35: 2 | D35: 1 | F35: 1 | H35: 0
B36: 45729 | C36: 1 | D36: 1 | F36: 0 | H36: 0
B37: 45730
B38: 45731
B39: 45732 | C39: 0 | D39: 0 | F39: 0 | H39: 0
B40: 45733 | C40: 0 | D40: 0 | F40: 0 | H40: 0
B41: 45734 | C41: 1 | D41: 1 | F41: 0 | H41: 0
B42: 45735 | C42: 2 | D42: 1 | F42: 1 | H42: 0
B43: 45736 | C43: 7 | D43: 6 | F43: 1 | H43: 0
B44: 45737
B45: 45738
B46: 45739 | C46: 5 | D46: 3 | F46: 1 | H46: 1
B47: 45740 | C47: 3 | D47: 1 | F47: 2 | H47: 0
B48: 45741 | C48: 4 | D48: 2 | F48: 1 | H48: 1
...

Sheet Abril
B3: CEJUSC - PMSP
B4: 46113
B7: Sessões de Mediação realizadas
B8: Total de | C8: Tipo | D8: Acordos | E8: Sem Acordo | G8: Total de Acordos Frutíferos: | I8: =D12 -> 19
B9: Sessões | C9: Família | D9: 18 | E9: 3 | G9: Índice de Acordos em Família: | I9: =D9/J9 -> 0.85714286 | J9: =D9+E9 -> 21
B10: Realizadas | C10: Cível | D10: 1 | E10: 3 | G10: Índice de Acordos em Cível: | I10: =D10/J10 -> 0.25 | J10: =D10+E10 -> 4
B11: no CEJUSC | J11: =D11+E11 -> 0
B12: =SUM(D12:E12:E11) -> 25 | C12: TOTAL | D12: 19 | E12: 6 | G12: Índice Total de Acordos: | I12: =D12/SUM(D12:E12) -> 0.76
B14: Sessões de Mediação- Não realizadas
B15: Total de sessões não realizadas | C15: Não realizada pela ausência do Requerente | E15: Não realizada pela ausência do Requerido | G15: Não realizada pela ausência de ambos | H15: Canceladas
B16: 15 | C16: 2 | E16: 8 | G16: 4 | H16: 1
B17: =C17+E17+G17+H17 -> 1 | C17: =C16/B16 -> 0.13333333 | E17: =E16/B16 -> 0.53333333 | G17: =G16/B16 -> 0.26666667 | H17: =H16/B16 -> 0.066666667
B20: Encaminhamentos à equipamentos de atendimento à Violência Doméstica: | I20: =H20/C55 -> 0
B22: Panorama Geral
B23: Data | C23: Agendadas | D23: Realizadas | F23: Não realizadas | H23: Reagendadas
B24: 45748 | C24: 5 | D24: 5 | F24: 0 | H24: 0
B25: 45749 | C25: 0 | D25: 0 | F25: 0 | H25: 0
B26: 45750
B27: 45751
B28: 45752
B29: 45753 | C29: 2 | D29: 1 | F29: 1 | H29: 0
B30: 45754 | C30: 3 | D30: 2 | F30: 1 | H30: 0
B31: 45755 | C31: 2 | D31: 0 | F31: 2 | H31: 0
B32: 45756 | C32: 4 | D32: 4 | F32: 0 | H32: 0
B33: 45757 | C33: 4 | D33: 1 | F33: 3 | H33: 0
B34: 45758
B35: 45759
B36: 45760 | C36: 3 | D36: 0 | F36: 3 | H36: 0
B37: 45761 | C37: 0 | D37: 0 | F37: 0 | H37: 0
B38: 45762 | C38: 3 | D38: 1 | F38: 2 | H38: 0
B39: 45763 | C39: 2 | D39: 2 | F39: 0 | H39: 0
B40: 45764 | C40: 2 | D40: 1 | F40: 0 | H40: 1
B41: 45765
B42: 45766
B43: 45767
B44: 45768
B45: 45769 | C45: 3 | D45: 2 | F45: 1 | H45: 0
B46: 45770 | C46: 2 | D46: 0 | F46: 1 | H46: 1
B47: 45771 | C47: 1 | D47: 0 | F47: 0 | H47: 1
B48: 45772
...

Sheet Maio
B3: CEJUSC - PMSP
B4: Maio/2026
B7: Sessões de Mediação realizadas
B8: Total de | C8: Tipo | D8: Acordos | E8: Sem Acordo | G8: Total de Acordos Frutíferos: | I8: =D12 -> 25
B9: Sessões | C9: Família | D9: 21 | E9: 1 | G9: Índice de Acordos em Família: | I9: =D9/J9 -> 0.95454545 | J9: =D9+E9 -> 22
B10: Realizadas | C10: Cível | D10: 4 | E10: 5 | G10: Índice de Acordos em Cível: | I10: =D10/J10 -> 0.44444444 | J10: =D10+E10 -> 9
B11: no CEJUSC | J11: =D11+E11 -> 0
B12: =SUM(D12:E12:E11) -> 31 | C12: TOTAL | D12: =SUM(D9:D11) -> 25 | E12: =SUM(E9:E11) -> 6 | G12: Índice Total de Acordos: | I12: =D12/SUM(D12:E12) -> 0.80645161
B14: Sessões de Mediação- Não realizadas
B15: Total de sessões não realizadas | C15: Não realizada pela ausência do Requerente | E15: Não realizada pela ausência do Requerido | G15: Não realizada pela ausência de ambos | H15: Canceladas
B16: 30 | C16: 5 | E16: 17 | G16: 8 | H16: 0
B17: =C17+E17+G17+H17 -> 1 | C17: =C16/B16 -> 0.16666667 | E17: =E16/B16 -> 0.56666667 | G17: =G16/B16 -> 0.26666667 | H17: =H16/B16 -> 0
B20: Encaminhamentos à equipamentos de atendimento à Violência Doméstica: | I20: 0
B22: Panorama Geral
B23: Data | C23: Agendadas | D23: Realizadas | F23: Não realizadas | H23: Reagendadas
B24: 46143
B25: 46144
B26: 46145
B27: 46146 | C27: 4 | D27: 2 | F27: 2 | H27: 0
B28: 46147 | C28: 4 | D28: 1 | F28: 2 | H28: 1
B29: 46148 | C29: 1 | D29: 0 | F29: 1 | H29: 0
B30: 46149 | C30: 2 | D30: 1 | F30: 1 | H30: 0
B31: 46150 | C31: 1 | D31: 0 | F31: 0 | H31: 1
B32: 46151
B33: 46152
B34: 46153 | C34: 4 | D34: 2 | F34: 2 | H34: 0
B35: 46154 | C35: 3 | D35: 0 | F35: 3 | H35: 0
B36: 46155 | C36: 3 | D36: 1 | F36: 2 | H36: 0
B37: 46156 | C37: 3 | D37: 1 | F37: 2 | H37: 0
B38: 46157 | C38: 2 | D38: 1 | F38: 0 | H38: 1
B39: 46158
B40: 46159
B41: 46160 | C41: 4 | D41: 1 | F41: 3 | H41: 0
B42: 46161 | C42: 4 | D42: 3 | F42: 0 | H42: 1
B43: 46162 | C43: 3 | D43: 3 | F43: 0 | H43: 0 | J43: 0
B44: 46163 | C44: 4 | D44: 4 | F44: 0 | H44: 0
B45: 46164 | C45: 4 | D45: 1 | F45: 3 | H45: 0
B46: 46165
B47: 46166
B48: 46167 | C48: 4 | D48: 2 | F48: 2 | H48: 0
...

Sheet Junho
B3: CEJUSC - PMSP
B4: 46174
B7: Sessões de Mediação realizadas
B8: Total de | C8: Tipo | D8: Acordos | E8: Sem Acordo | G8: Total de Acordos Frutíferos: | I8: =D12 -> 22
B9: Sessões | C9: Família | D9: 20 | E9: 1 | G9: Índice de Acordos em Família: | I9: =D9/J9 -> 0.95238095 | J9: =D9+E9 -> 21
B10: Realizadas | C10: Cível | D10: 2 | E10: 13 | G10: Índice de Acordos em Cível: | I10: =D10/J10 -> 0.13333333 | J10: =D10+E10 -> 15
B11: no CEJUSC | J11: =D11+E11 -> 0
B12: =SUM(D12:E12:E11) -> 36 | C12: TOTAL | D12: =SUM(D9:D11) -> 22 | E12: =SUM(E9:E11) -> 14 | G12: Índice Total de Acordos: | I12: =D12/SUM(D12:E12) -> 0.61111111
B14: Sessões de Mediação- Não realizadas
B15: Total de sessões não realizadas | C15: Não realizada pela ausência do Requerente | E15: Não realizada pela ausência do Requerido | G15: Não realizada pela ausência de ambos | H15: Canceladas
B16: =F55 -> 22 | C16: 2 | E16: 12 | G16: 6 | H16: 2
B17: =C17+E17+G17+H17 -> 1 | C17: =C16/B16 -> 0.090909091 | E17: =E16/B16 -> 0.54545455 | G17: =G16/B16 -> 0.27272727 | H17: =H16/B16 -> 0.090909091
B20: Encaminhamentos à equipamentos de atendimento à Violência Doméstica: | I20: =H20/B12 -> 0
B22: Panorama Geral
B23: Data | C23: Agendadas | D23: Realizadas | F23: Não realizadas | H23: Reagendadas
B24: 46174 | C24: 5 | D24: 3 | F24: 2 | H24: 0
B25: 46175 | C25: 4 | D25: 3 | F25: 1 | H25: 0
B26: 46176 | C26: 6 | D26: 3 | F26: 3 | H26: 0
B27: 46177
B28: 46178
B29: 46179
B30: 46180
B31: 46181 | C31: 4 | D31: 2 | F31: 1 | H31: 1
B32: 46182 | C32: 3 | D32: 2 | F32: 1 | H32: 0
B33: 46183 | C33: 4 | D33: 2 | F33: 2 | H33: 0
B34: 46184 | C34: 3 | D34: 2 | F34: 1 | H34: 0
B35: 46185 | C35: 4 | D35: 2 | F35: 2 | H35: 0
B36: 46186
B37: 46187
B38: 46188 | C38: 4 | D38: 2 | F38: 1 | H38: 1
B39: 46189 | C39: 5 | D39: 2 | F39: 3 | H39: 0
B40: 46190 | C40: 3 | D40: 2 | F40: 1 | H40: 0
B41: 46191 | C41: 3 | D41: 2 | F41: 0 | H41: 1
B42: 46192 | C42: 0 | D42: 0 | F42: 0 | H42: 0
B43: 46193
B44: 46194
B45: 46195 | C45: 3 | D45: 3 | F45: 0 | H45: 0
B46: 46196 | C46: 3 | D46: 2 | F46: 1 | H46: 0
B47: 46197 | C47: 0 | D47: 0 | F47: 0 | H47: 0
B48: 46198 | C48: 4 | D48: 1 | F48: 1 | H48: 2
...

Sheet Julho
B3: CEJUSC - PMSP
B4: 46204
B7: Sessões de Mediação realizadas
B8: Total de | C8: Tipo | D8: Acordos | E8: Sem Acordo | G8: Total de Acordos Frutíferos: | I8: =D12 -> 22
B9: Sessões | C9: Família | D9: 17 | E9: 1 | G9: Índice de Acordos em Família: | I9: =D9/J9 -> 0.94444444 | J9: =D9+E9 -> 18
B10: Realizadas | C10: Cível | D10: 5 | E10: 15 | G10: Índice de Acordos em Cível: | I10: =D10/J10 -> 0.25 | J10: =D10+E10 -> 20
B11: no CEJUSC | J11: =D11+E11 -> 0
B12: =SUM(D12:E12:E11) -> 38 | C12: TOTAL | D12: =SUM(D9:D11) -> 22 | E12: =SUM(E9:E11) -> 16 | G12: Índice Total de Acordos: | I12: =D12/SUM(D12:E12) -> 0.57894737
B14: Sessões de Mediação- Não realizadas
B15: Total de sessões não realizadas | C15: Não realizada pela ausência do Requerente | E15: Não realizada pela ausência do Requerido | G15: Não realizada pela ausência de ambos | H15: Canceladas
B16: 21 | C16: 5 | E16: 9 | G16: 4 | H16: 3
B17: =C17+E17+G17+H17 -> 1 | C17: =C16/B16 -> 0.23809524 | E17: =E16/B16 -> 0.42857143 | G17: =G16/B16 -> 0.19047619 | H17: =H16/B16 -> 0.14285714
B20: Encaminhamentos à equipamentos de atendimento à Violência Doméstica: | I20: 0
B22: Panorama Geral
B23: Data | C23: Agendadas | D23: Realizadas | F23: Não realizadas | H23: Reagendadas
B24: 46204 | C24: 3 | D24: 2 | F24: 1 | H24: 0
B25: 46205 | C25: 3 | D25: 2 | F25: 0 | H25: 1
B26: 46206 | C26: 1 | D26: 1 | F26: 0 | H26: 0
B27: 46207
B28: 46208
B29: 46209 | C29: 3 | D29: 3 | F29: 0 | H29: 0
B30: 46210 | C30: 4 | D30: 3 | F30: 0 | H30: 1
B31: 46211 | C31: 2 | D31: 2 | F31: 0 | H31: 0
B32: 46212
B33: 46213
B34: 46214
B35: 46215
B36: 46216 | C36: 4 | D36: 2 | F36: 2 | H36: 0
B37: 46217 | C37: 3 | D37: 1 | F37: 1 | H37: 1
B38: 46218 | C38: 6 | D38: 3 | F38: 2 | H38: 1
B39: 46219 | C39: 4 | D39: 1 | F39: 2 | H39: 1
B40: 46220 | C40: 3 | D40: 1 | F40: 1 | H40: 1
B41: 46221
B42: 46222
B43: 46223 | C43: 5 | D43: 3 | F43: 1 | H43: 1
B44: 46224 | C44: 4 | D44: 2 | F44: 0 | H44: 2
B45: 46225 | C45: 5 | D45: 4 | F45: 1 | H45: 0
B46: 46226 | C46: 5 | D46: 1 | F46: 3 | H46: 1
B47: 46227 | C47: 5 | D47: 3 | F47: 2 | H47: 0
B48: 46228
...

Sheet Agosto
B3: CEJUSC - PMSP
B4: AGOSTO/2026
B7: Sessões de Mediação realizadas
B8: Total de | C8: Tipo | D8: Acordos | E8: Sem Acordo | G8: Total de Acordos Frutíferos: | I8: =D12 -> 28
B9: Sessões | C9: Família | D9: 26 | E9: 1 | G9: Índice de Acordos em Família: | I9: =D9/J9 -> 0.96296296 | J9: =D9+E9 -> 27
B10: Realizadas | C10: Cível | D10: 2 | E10: 6 | G10: Índice de Acordos em Cível: | I10: =D10/J10 -> 0.25 | J10: =D10+E10 -> 8
B11: no CEJUSC | J11: =D11+E11 -> 0
B12: =SUM(D12:E12) -> 35 | C12: TOTAL | D12: =SUM(D9:D11) -> 28 | E12: =SUM(E9:E11) -> 7 | G12: Índice Total de Acordos: | I12: =D12/SUM(D12:E12) -> 0.8
B14: Sessões de Mediação- Não realizadas
B15: Total de sessões não realizadas | C15: Não realizada pela ausência do Requerente | E15: Não realizada pela ausência do Requerido | G15: Não realizada pela ausência de ambos | H15: Canceladas
B16: 24 | C16: 4 | E16: 11 | G16: 9 | H16: 0
B17: =C17+E17+G17+H17 -> 1 | C17: =C16/B16 -> 0.16666667 | E17: =E16/B16 -> 0.45833333 | G17: =G16/B16 -> 0.375 | H17: =H16/B16 -> 0
B20: Encaminhamentos à equipamentos de atendimento à Violência Doméstica: | H20: 0
B22: Panorama Geral
B23: Data | C23: Agendadas | D23: Realizadas | F23: Não realizadas | H23: Reagendadas
B24: 45870
B25: 45871
B26: 45872 | C26: 4 | D26: 3 | F26: 1 | H26: 0
B27: 45873 | C27: 5 | D27: 2 | F27: 2 | H27: 1
B28: 45874 | C28: 4 | D28: 3 | F28: 1 | H28: 0
B29: 45875 | C29: 1 | D29: 0 | F29: 0 | H29: 1
B30: 45876 | C30: 6 | D30: 2 | F30: 3 | H30: 1
B31: 45877
B32: 45878
B33: 45879 | C33: 3 | D33: 1 | F33: 2 | H33: 0
B34: 45880 | C34: 1 | D34: 0 | F34: 1 | H34: 0
B35: 45881 | C35: 2 | D35: 2 | F35: 0 | H35: 0
B36: 45882 | C36: 2 | D36: 2 | F36: 0 | H36: 0
B37: 45883 | C37: 2 | D37: 1 | F37: 1 | H37: 0
B38: 45884
B39: 45885
B40: 45886 | C40: 3 | D40: 1 | F40: 2 | H40: 0
B41: 45887 | C41: 2 | D41: 0 | F41: 2 | H41: 0
B42: 45888 | C42: 1 | D42: 1 | F42: 0 | H42: 0
B43: 45889 | C43: 1 | D43: 0 | F43: 0 | H43: 1
B44: 45890 | C44: 4 | D44: 3 | F44: 1 | H44: 0
B45: 45891
B46: 45892
B47: 45893 | C47: 4 | D47: 2 | F47: 1 | H47: 1
B48: 45894 | C48: 5 | D48: 3 | F48: 1 | H48: 1
...

Sheet Setembro
B3: CEJUSC - PMSP
B4: SETEMBRO/2026
B7: Sessões de Mediação realizadas
B8: Total de | C8: Tipo | D8: Acordos | E8: Sem Acordo | G8: Total de Acordos Frutíferos: | I8: =D12 -> 27
B9: Sessões | C9: Família | D9: 21 | E9: 1 | G9: Índice de Acordos em Família: | I9: =D9/J9 -> 0.95454545 | J9: =D9+E9 -> 22
B10: Realizadas | C10: Cível | D10: 6 | E10: 8 | G10: Índice de Acordos em Cível: | I10: =D10/J10 -> 0.42857143 | J10: =D10+E10 -> 14
B11: no CEJUSC | J11: =D11+E11 -> 0
B12: =SUM(D12:E12:E11) -> 36 | C12: TOTAL | D12: =SUM(D9:D11) -> 27 | E12: =SUM(E9:E11) -> 9 | G12: Índice Total de Acordos: | I12: =D12/SUM(D12:E12) -> 0.75
B14: Sessões de Mediação- Não realizadas
B15: Total de sessões não realizadas | C15: Não realizada pela ausência do Requerente | E15: Não realizada pela ausência do Requerido | G15: Não realizada pela ausência de ambos | H15: Canceladas
B16: =F55 -> 23 | C16: 4 | E16: 11 | G16: 8 | H16: 0
B17: =C17+E17+G17+H17 -> 1 | C17: =C16/B16 -> 0.17391304 | E17: =E16/B16 -> 0.47826087 | G17: =G16/B16 -> 0.34782609 | H17: =H16/B16 -> 0
B20: Encaminhamentos à equipamentos de atendimento à Violência Doméstica: | H20: 0
B22: Panorama Geral
B23: Data | C23: Agendadas | D23: Realizadas | F23: Não realizadas | H23: Reagendadas
B24: =DATE(2026,9,ROW()-23) -> 46266 | C24: 4 | D24: 0 | F24: 4 | H24: 0
B25: =DATE(2026,9,ROW()-23) -> 46267 | C25: 3 | D25: 3 | F25: 0 | H25: 0
B26: =DATE(2026,9,ROW()-23) -> 46268 | C26: 4 | D26: 2 | F26: 2 | H26: 0
B27: =DATE(2026,9,ROW()-23) -> 46269 | C27: 4 | D27: 1 | F27: 3 | H27: 0
B28: =DATE(2026,9,ROW()-23) -> 46270 | C28: 0 | D28: 0 | F28: 0 | H28: 0
B29: =DATE(2026,9,ROW()-23) -> 46271 | C29: 0 | D29: 0 | F29: 0 | H29: 0
B30: =DATE(2026,9,ROW()-23) -> 46272 | C30: 0 | D30: 0 | F30: 0 | H30: 0
B31: =DATE(2026,9,ROW()-23) -> 46273 | C31: 2 | D31: 2 | F31: 0 | H31: 0
B32: =DATE(2026,9,ROW()-23) -> 46274 | C32: 3 | D32: 3 | F32: 0 | H32: 0
B33: =DATE(2026,9,ROW()-23) -> 46275 | C33: 5 | D33: 4 | F33: 1 | H33: 0
B34: =DATE(2026,9,ROW()-23) -> 46276 | C34: 2 | D34: 2 | F34: 0 | H34: 0
B35: =DATE(2026,9,ROW()-23) -> 46277 | C35: 0 | D35: 0 | F35: 0 | H35: 0
... B53: =DATE(2026,9,ROW()-23) -> 46295 | C53: 5 | D53: 3 | F53: 2 | H53: 0
B55: Total do Mês | C55: =SUM(C24:C54) -> 65 | D55: =SUM(D24:D54) -> 36 | F55: =SUM(F24:F54) -> 23 | H55: =SUM(H24:H54) -> 6
B59: Agendamentos/ Convites Realizados | F59: Inclusos no SAJ
F60: Cível | H60: Família
B61: CEJUSC | D61: 0
B62: Defensoria | D62: 0
B64: Total | C64: =SUM(C61:C63) -> 0 | D64: =SUM(D61:D63) -> 0 | F64: =SUM(F61:F63) -> 0 | H64: =SUM(H61:H63) -> 0

Sheet Outubro
B3: CEJUSC - PMSP
B4: OUTUBRO/2026
B7: Sessões de Mediação realizadas
B8: Total de | C8: Tipo | D8: Acordos | E8: Sem Acordo | G8: Total de Acordos Frutíferos: | I8: =D12 -> 0
B9: Sessões | C9: Família | G9: Índice de Acordos em Família: | I9: =D9/J9 -> #DIV/0! | J9: =D9+E9 -> 0
B10: Realizadas | C10: Cível | G10: Índice de Acordos em Cível: | I10: =D10/J10 -> #DIV/0! | J10: =D10+E10 -> 0
B11: no CEJUSC | J11: =D11+E11 -> 0
B12: =SUM(D12:E12:E11) -> 0 | C12: TOTAL | D12: =SUM(D9:D11) -> 0 | G12: Índice Total de Acordos: | I12: =D12/SUM(D12:E12) -> #DIV/0!
B14: Sessões de Mediação- Não realizadas
B15: Total de sessões não realizadas | C15: Não realizada pela ausência do Requerente | E15: Não realizada pela ausência do Requerido | G15: Não realizada pela ausência de ambos | H15: Canceladas
B17: =C17+E17+G17+H17 -> #DIV/0! | C17: =C16/B16 -> #DIV/0! | E17: =E16/B16 -> #DIV/0! | G17: =G16/B16 -> #DIV/0! | H17: =H16/B16 -> #DIV/0! | L17: =75-83 -> -8
B20: Encaminhamentos à equipamentos de atendimento à Violência Doméstica: | I20: 0
B22: Panorama Geral
B23: Data | C23: Agendadas | D23: Realizadas | F23: Não realizadas | H23: Reagendadas
B24: 45931
B25: 45932
B26: 45933
B27: 45934
B28: 45935
B29: 45936
B30: 45937
B31: 45938
B32: 45939
B33: 45940
B34: 45941
B35: 45942
... B54: 45961
B55: Total do Mês | C55: =SUM(C24:C54) -> 0 | D55: =SUM(D24:D54) -> 0 | F55: =SUM(F24:F54) -> 0 | H55: =SUM(H24:H54) -> 0
B59: Agendamentos/ Convites Realizados | F59: Inclusos no SAJ
F60: Cível | H60: Família
B61: CEJUSC | D61: 0
B62: Defensoria | D62: 0
B64: Total | C64: =SUM(C61:C63) -> 0 | D64: =SUM(D61:D63) -> 0 | F64: =SUM(F61:F63) -> 0 | H64: =SUM(H61:H63) -> 0

Sheet Novembro
B3: CEJUSC - PMSP
B4: NOVEMBRO/2026
B7: Sessões de Mediação realizadas
B8: Total de | C8: Tipo | D8: Acordos | E8: Sem Acordo | G8: Total de Acordos Frutíferos: | I8: =D12 -> 0
B9: Sessões | C9: Família | G9: Índice de Acordos em Família: | I9: =D9/J9 -> #DIV/0! | J9: =D9+E9 -> 0
B10: Realizadas | C10: Cível | G10: Índice de Acordos em Cível: | I10: =D10/J10 -> #DIV/0! | J10: =D10+E10 -> 0
B11: no CEJUSC | J11: =D11+E11 -> 0
B12: =SUM(D12:E12:E11) -> 0 | C12: TOTAL | D12: =SUM(D9:D11) -> 0 | E12: =SUM(E9:E11) -> 0 | G12: Índice Total de Acordos: | I12: =D12/SUM(D12:E12) -> #DIV/0!
B14: Sessões de Mediação- Não realizadas
B15: Total de sessões não realizadas | C15: Não realizada pela ausência do Requerente | E15: Não realizada pela ausência do Requerido | G15: Não realizada pela ausência de ambos | H15: Canceladas
H16: 0
B17: =C17+E17+G17+H17 -> #DIV/0! | C17: =C16/B16 -> #DIV/0! | E17: =E16/B16 -> #DIV/0! | G17: =G16/B16 -> #DIV/0! | H17: =H16/B16 -> #DIV/0!
B20: Encaminhamentos à equipamentos de atendimento à Violência Doméstica: | I20: =H20/B12 -> #DIV/0!
B22: Panorama Geral
B23: Data | C23: Agendadas | D23: Realizadas | F23: Não realizadas | H23: Reagendadas
B24: 45962
B25: 45963
B26: 45964
B27: 45965
B28: 45966
B29: 45967
B30: 45968
B31: 45969
B32: 45970
B33: 45971
B34: 45972
B35: 45973
... B53: 45991
B55: Total do Mês | C55: =SUM(C24:C54) -> 0 | D55: =SUM(D24:D54) -> 0 | F55: =SUM(F24:F54) -> 0 | H55: =SUM(H24:H54) -> 0
B59: Agendamentos/ Convites Realizados | F59: Inclusos no SAJ
F60: Cível | H60: Família
B61: CEJUSC | D61: 0
B62: Defensoria | D62: 0
B64: Total | C64: =SUM(C61:C63) -> 0 | D64: =SUM(D61:D63) -> 0 | F64: =SUM(F61:F63) -> 0 | H64: =SUM(H61:H63) -> 0

Sheet Dezembro
B3: CEJUSC - PMSP
B4: DEZEMBRO/2026
B7: Sessões de Mediação realizadas
B8: Total de | C8: Tipo | D8: Acordos | E8: Sem Acordo | G8: Total de Acordos Frutíferos:
B9: Sessões | C9: Família | G9: Índice de Acordos em Família: | I9: =D9/J9 -> #DIV/0! | J9: =D9+E9 -> 0
B10: Realizadas | C10: Cível | G10: Índice de Acordos em Cível: | I10: =D10/J10 -> #DIV/0! | J10: =D10+E10 -> 0
B11: no CEJUSC | J11: =D11+E11 -> 0
B12: =SUM(D12:E12:E11) -> 0 | C12: TOTAL | G12: Índice Total de Acordos: | I12: =D12/SUM(D12:E12) -> #DIV/0!
B14: Sessões de Mediação- Não realizadas
B15: Total de sessões não realizadas | C15: Não realizada pela ausência do Requerente | E15: Não realizada pela ausência do Requerido | G15: Não realizada pela ausência de ambos | H15: Canceladas
C16: 0
B17: =C17+E17+G17+H17 -> #DIV/0! | C17: =C16/B16 -> #DIV/0! | E17: =E16/B16 -> #DIV/0! | G17: =G16/B16 -> #DIV/0! | H17: =H16/B16 -> #DIV/0!
B20: Encaminhamentos à equipamentos de atendimento à Violência Doméstica: | I20: =H20/B16 -> #DIV/0!
B22: Panorama Geral
B23: Data | C23: Agendadas | D23: Realizadas | F23: Não realizadas | H23: Reagendadas
B55: Total do Mês | C55: =SUM(C24:C54) -> 0 | D55: =SUM(D24:D54) -> 0 | F55: =SUM(F25:F54) -> 0 | H55: =SUM(H24:H54) -> 0
B59: Agendamentos/ Convites Realizados | F59: Inclusos no SAJ
F60: Cível | H60: Família
B61: CEJUSC | D61: 0
B62: Defensoria | D62: 0
B64: Total | C64: =SUM(C61:C63) -> 0 | D64: =SUM(D61:D63) -> 0 | F64: =SUM(F61:F63) -> 0 | H64: =SUM(H61:H63) -> 0

Sheet 2026
B3: CEJUSC - PMSP
B4: 2025
B7: Sessões de Mediação realizadas
B8: Total de | C8: Tipo | D8: Acordos | E8: Sem Acordo | G8: Total de conciliações Frutíferas:
B9: Sessões | C9: Família | D9: =Janeiro!D9+Fevereiro!D9+Março!D9+Abril!D9+Maio!D9+Junho!D9+Julho!D9+Agosto!D9+Setembro!D9+Outubro!D9+Novembro!D9+Dezembro!D9 -> 175 | E9: =Janeiro!E9+Fevereiro!E9+Março!E9+Abril!E9+Maio!E9+Junho!E9+Julho!E9+Agosto!E9+Setembro!E9+Outubro!E9+Novembro!E9+Dezembro!E9 -> 12 | G9: índice de Acordos em família: | I9: =D9/J9 -> 0.93582888 | J9: =D9+E9 -> 187
B10: Realizadas | C10: Cível | D10: =Janeiro!D10+Fevereiro!D10+Março!D10+Abril!D10+Maio!D10+Junho!D10+Julho!D10+Agosto!D10+Setembro!D10+Outubro!D10+Novembro!D10+Dezembro!D10 -> 23 | E10: =Janeiro!E10+Fevereiro!E10+Março!E10+Abril!E10+Maio!E10+Junho!E10+Julho!E10+Agosto!E10+Setembro!E10+Outubro!E10+Novembro!E10+Dezembro!E10 -> 53 | G10: Índice de Acordos em Cível: | I10: =D10/J10 -> 0.30263158 | J10: =D10+E10 -> 76
B11: no CEJUSC | J11: =D11+E11 -> 0
B12: =D38 -> 263 | C12: TOTAL | D12: =SUM(D9:D11) -> 198 | E12: =SUM(E9:E11) -> 65 | G12: Índice Total de Acordos: | I12: =D12/SUM(D12:E12) -> 0.75285171
B14: Sessões de Mediação- Não realizadas
B15: Total de sessões não realizadas | C15: Não realizada pela ausência do Requerente | E15: Não realizada pela ausência do Requerido | G15: Não realizada pela ausência de ambos | H15: Não Realizada por falta de documentos
B16: =F38 -> 153 | C16: =Janeiro!C16+Fevereiro!C16+Março!C16+Abril!C16+Maio!C16+Junho!C16+Julho!C16+Agosto!C16+Setembro!C16+Outubro!C16+Novembro!C16+Dezembro!C16 -> 23 | E16: =Janeiro!E16+Fevereiro!E16+Março!E16+Abril!E16+Maio!E16+Junho!E16+Julho!E16+Agosto!E16+Setembro!G16+Outubro!E16+Novembro!E16+Dezembro!E16 -> 81 | G16: =Janeiro!G16+Fevereiro!G16+Março!G16+Abril!G16+Maio!G16+Junho!G16+Julho!G16+Agosto!G16+Setembro!H16+Outubro!G16+Novembro!G16+Dezembro!G16 -> 44 | H16: =Janeiro!H16+Fevereiro!H16+Março!H16+Abril!H16+Maio!H16+Junho!H16+Julho!H16+Agosto!H16+Setembro!#REF!+Outubro!H16+Novembro!H16+Dezembro!H16 -> #REF!
B17: =SUM(C17:I17) -> #REF! | C17: =C16/B16 -> 0.1503268 | E17: =E16/B16 -> 0.52941176 | G17: =G16/B16 -> 0.2875817 | H17: =H16/B16 -> #REF!
B20: Encaminhamentos à equipamentos de atendimento à Violência Doméstica: | H20: =Janeiro!H20+Fevereiro!#REF!+Março!H20+Abril!H20+Maio!H20+Junho!H20+Julho!H20+Agosto!#REF!+Setembro!#REF!+Outubro!H20+Novembro!H20+Dezembro!H20 -> #REF! | I20: =H20/SUM(D12:F12) -> #REF!
B22: Panorama Geral
B23: Data | C23: Agendadas | D23: Realizadas | F23: Não realizadas | H23: Reagendadas
B25: Janeiro | C25: =Janeiro!C55 -> 1 | D25: =Janeiro!D55 -> 0 | F25: =Janeiro!F55 -> 0 | H25: =Janeiro!H55 -> 0
B26: Fevereiro | C26: =Fevereiro!C55 -> 49 | D26: =Fevereiro!D55 -> 23 | F26: =Fevereiro!F55 -> 12 | H26: =Fevereiro!H55 -> 14
B27: Março | C27: =Março!C55 -> 70 | D27: =Março!D55 -> 39 | F27: =Março!F55 -> 23 | H27: =Março!H55 -> 8
B28: Abril | C28: =Abril!C55 -> 44 | D28: =Abril!D55 -> 25 | F28: =Abril!F55 -> 15 | H28: =Abril!H55 -> 4
B29: Maio | C29: =Maio!C55 -> 68 | D29: =Maio!D55 -> 31 | F29: =Maio!F55 -> 30 | H29: =Maio!H55 -> 7
B30: Junho | C30: =Junho!C55 -> 68 | D30: =Junho!D55 -> 36 | F30: =Junho!F55 -> 22 | H30: =Junho!H55 -> 10
B31: Julho | C31: =Julho!C55 -> 72 | D31: =Julho!D55 -> 38 | F31: =Julho!F55 -> 21 | H31: =Julho!H55 -> 13
B32: Agosto | C32: =Agosto!C55 -> 68 | D32: =Agosto!D55 -> 35 | E32: =Agosto!E56 -> 0 | F32: =Agosto!F55 -> 24 | G32: =Agosto!G56 -> 0 | H32: =Agosto!H55 -> 9 | I32: =Agosto!I56 -> 0
B33: Setembro | C33: =Setembro!C55 -> 65 | D33: =Setembro!D55 -> 36 | F33: =Setembro!H55 -> 6 | H33: =Setembro!#REF! -> #REF!
B34: Outubro | C34: =Outubro!C55 -> 0 | D34: =Outubro!D55 -> 0 | E34: =Outubro!E55 -> 0 | F34: =Outubro!F55 -> 0 | G34: =Outubro!G55 -> 0 | H34: =Outubro!H55 -> 0 | I34: =Outubro!I55 -> 0
B35: Novembro | C35: =Novembro!C55 -> 0 | D35: =Novembro!D55 -> 0 | E35: =Novembro!E55 -> 0 | F35: =Novembro!F55 -> 0 | G35: =Novembro!G55 -> 0 | H35: =Novembro!H55 -> 0 | I35: =Novembro!I55 -> 0
B36: Dezembro | C36: =Dezembro!C55 -> 0 | D36: =Dezembro!D55 -> 0 | E36: =Dezembro!E55 -> 0 | F36: =Dezembro!F55 -> 0 | G36: =Dezembro!G55 -> 0 | H36: =Dezembro!H55 -> 0 | I36: =Dezembro!I55 -> 0
B38: Total do Mês | C38: =SUM(C24:C37) -> 505 | D38: =SUM(D24:D37) -> 263 | F38: =SUM(F24:F37) -> 153 | H38: =SUM(H24:H37) -> #REF!
B44: Agendamentos/ Convites Realizados | F44: Inclusos no SAJ
F45: Civel | H45: Família
B46: CEJUSC | C46: =Janeiro!C63+Fevereiro!C62+Março!C63+Abril!C63+Maio!C63+Junho!C63+Julho!C61+Agosto!C62+Setembro!C59+Outubro!C61+Novembro!C61+Dezembro!C61 -> 0 | D46: 0 | F46: =Janeiro!F61+Fevereiro!F61+Março!F61+Abril!F61+Maio!F61+Junho!F61+Julho!F61+Agosto!F61+Setembro!F61+Outubro!F61+Novembro!F61+Dezembro!F61 -> 0 | H46: =Janeiro!H61+Fevereiro!H61+Março!H61+Abril!H61+Maio!H61+Junho!H61+Julho!H61+Agosto!H61+Setembro!H61+Outubro!H61+Novembro!H61+Dezembro!H61 -> 0
B47: Defensoria | C47: =Janeiro!C64+Fevereiro!C63+Março!C64+Abril!C64+Maio!C64+Junho!C64+Julho!C62+Agosto!C63+Setembro!C60+Outubro!C62+Novembro!C62+Dezembro!C62 -> 0 | D47: 0 | F47: =Janeiro!F62+Fevereiro!F62+Março!F62+Abril!F62+Maio!F62+Junho!F62+Julho!F62+Agosto!F62+Setembro!F62+Outubro!F62+Novembro!F62+Dezembro!F62 -> 0 | H47: =Janeiro!H62+Fevereiro!H62+Março!H62+Abril!H62+Maio!H62+Junho!H62+Julho!H62+Agosto!H62+Setembro!H62+Outubro!H62+Novembro!H62+Dezembro!H62 -> 0
B49: Total | C49: =SUM(C46:C48) -> 0 | D49: =SUM(D46:D48) -> 0 | F49: =SUM(F46:F48) -> 0 | H49: =SUM(H46:H48) -> 0
